{"text_format":"1","workbook":"xlsx","n_sheets":76,"sheets":["Versiebeheer","Inleiding","Inhoudstabel","Dashboard","Dashboard_tabel4fig","Parameters","Scenario_tabel4fig","Scenario's","CO2-plafond","Input->","INV","EIG","Resultaat-->","Detailresultaten_maatregelen","Detailresultaten_sector","Fig_Overzicht CO2 totaal","Pivot_detailmaatregelen","Fig_Bijdrage in te behalen red","Tabel4overzichtsector","Tabel_Overzicht CO2 per sector","Tabel_Overzicht red per sector","Tabel_Red per sector en maatreg","BAU-->","BAU_TOTAAL","BAU_RES","BAU_TER","BAU_IND","BAU_MOB","BAU_LBO","BAU_ENE","Maatregelenfiches-->","Selectiecriteria","BLANCO_1","BLANCO_2","BLANCO_3","RES_EE_SLOOP","RES_ISO_DAK","RES_ISO_MUUR","RES_ISO_VL","RES_ISO_BG","RES_HER_WP","RES_HER_ZB","RES_HER_WPB","RES_EE_ELE","TER_EE_ISO","TER_HER_WP","TER_HER_ZB","TER_HER_WPB","TER_EE_ELE","OV_LED_EE","IND_HER_WP","IND_HER_ZB","IND_EE_EEA","MOB_MS_voet","MOB_MS_EFiets","MOB_MS_OV","MOB_BS_EV","MOB_BS_H2","LEN_PV","LEN_Wind","LB_HER_WP","LB_HER_PocV","LB_HER_BMK","LB_EE_ENS","Algemene aannames -->","AA_Energieprijs&Discontovoet","AA_Data_all_DOEL","AA_Data_all_REF","AA_RES_HH evo","AA_MOB_vkm_REF","AA_MOB_ECF_2030","AA_MOB_ECF_MTR","AA_LEN_PV","AA_LEN_EA_VL","AA_LEN_PROD","dropdowns"],"not_rendered":{"charts":6,"images":6,"macros":1,"external_links":0,"defined_names":151,"comments":10,"pivot_tables":4},"unopened":[],"bounds":{"document_bytes":16777216,"sheet_cells":100000,"rows_first":2000,"rows_last":500,"rows_between":2000,"halvings":0,"cell_chars":16384,"cell_head_chars":4096},"cells_cut":0,"cells_raw":0,"read":"whole","date_system":"1900"}

{"sheet":"Versiebeheer","index":0,"n_rows":24,"n_cols":4,"rows_kept":24,"cut":false,"hidden":false,"merged":[]}
["Versie","Datum","Wijziging","Locatie"]
["1.0","2019-10-23"]
["1.1","2020-04-30","Formule aangepast obv dubbele rendementtelling in F25 & G25","RES_HER_ZB"]
["1.1","2020-04-30","Formule aangepast obv dubbele rendementtelling in F25 & G25","RES_HER_WPB"]
["1.1","2020-04-30","Formule aangepast met nieuwe CAPEX eenheidsprijs","RES_ISO_DAK"]
["1.1","2020-04-30","Bronvermelding in F105 aangepast","RES_ISO_MUUR"]
["1.1","2020-04-30","Grootorde eenheidsprijs aangepast in F63","OV_LED_EE"]
["1.2","2020-09-04","Update data inventaristool 2011-2017 in overeenstemming met open data o.b.v. inventaristool","AA_Data_all_DOEL (Access-db)"]
["1.2","2020-09-04","Update data inventaristool 2011-2017 in overeenstemming met open data o.b.v. inventaristool","AA_Data_all_REF (Access-db)"]
["1.2","2020-09-04","Update energieconsumptiefactoren wegtransport 2017 in overeenstemming met inventaristool","AA_MOB_ECF_2030 (Access-db)"]
["1.2","2020-09-04","Update energieconsumptiefactoren wegtransport 2017 in overeenstemming met inventaristool","AA_MOB_ECF_MTR (Access-db)"]
["1.2","2020-09-04","Update productie groene energie 2016 en 2017 in overeenstemming met inventaristool","AA_LEN_PROD (Access-db)"]
["1.3","2021-03-01","Formule aangepast berekening CO2-reductie warmtepompboiler huishoudens (scenario 2) in G26","RES_HER_WPB"]
["1.4",44364,"Update data inventaristool 2011-2017 in overeenstemming met open data o.b.v. inventaristool","AA_Data_all_DOEL (Access-db)"]
["1.4",44364,"Update data inventaristool 2011-2017 in overeenstemming met open data o.b.v. inventaristool","AA_Data_all_REF (Access-db)"]
["1.4",44364,"Update energieconsumptiefactoren wegtransport 2017 in overeenstemming met inventaristool","AA_MOB_ECF_2030 (Access-db)"]
["1.4",44364,"Update energieconsumptiefactoren wegtransport 2017 in overeenstemming met inventaristool","AA_MOB_ECF_MTR (Access-db)"]
["1.4",44364,"Update productie groene energie 2016 en 2017 in overeenstemming met inventaristool","AA_LEN_PROD (Access-db)"]
["1.5",44813,"Update data inventaristool 2011-2017 in overeenstemming met open data o.b.v. inventaristool","AA_Data_all_DOEL (Access-db)"]
["1.5",44813,"Update data inventaristool 2011-2017 in overeenstemming met open data o.b.v. inventaristool","AA_Data_all_REF (Access-db)"]
["1.5",44813,"Update energieconsumptiefactoren wegtransport 2017 in overeenstemming met inventaristool","AA_MOB_ECF_2030 (Access-db)"]
["1.5",44813,"Update energieconsumptiefactoren wegtransport 2017 in overeenstemming met inventaristool","AA_MOB_ECF_MTR (Access-db)"]
["1.5",44813,"Update productie groene energie 2016 en 2017 in overeenstemming met inventaristool","AA_LEN_PROD (Access-db)"]
["1.6",44964,"aanpassing formule berekening totale MWh en CO2 in rekenblad \"EIG\", incl. sector \"niet toegekend\"","EIG"]

{"sheet":"Inleiding","index":1,"n_rows":114,"n_cols":7,"rows_kept":114,"cut":false,"hidden":false,"merged":[]}
[]
[null,{"$f":"CONCATENATE(\"Maatregelentool \",INDEX(Versiebeheer!A1:A31,COUNTA(Versiebeheer!A1:A31)))","v":"Maatregelentool 1.6"}]
[null,{"$f":"CONCATENATE(\"versie: \",TEXT(INDEX(Versiebeheer!B1:B31,COUNTA(Versiebeheer!A1:A31)),\"dd/mm\"),\"/\",YEAR(INDEX(Versiebeheer!B1:B31,COUNTA(Versiebeheer!A1:A31))))","v":"versie: 07/02/2023"},null,null,null,null,"contact: jan.breijne@vlaanderen.be"]
[]
[null,"Het Burgemeestersconvenant werd in 2008 gelanceerd door de Europese Commissie met als doel het samenbrengen en ondersteunen van burgemeesters die zich wilden engageren tot de Europese klimaat- en energiedoelstellingen. "]
[null,"Ondertekenaars van het Burgemeestersconvenant engageren zich ondermeer om de CO2-uitstoot op hun grondgebied te reduceren met 40% tegen 2030."]
[null,"Departement Omgeving ondersteunt de steden en gemeenten bij de invulling van de rapporteringsvereisten van het Burgemeestersconvenant door informatie en tools ter beschikking te stellen via: http://www.burgemeestersconvenant.be/home."]
[null,"Met deze maatregelentool wil Departement Omgeving de steden en gemeenten ondersteunen bij de opmaak van hun duurzaam energie- en klimaatactieplan (SECAP)."]
[null,"De CO2-inventarissen die Departement Omgeving al sinds 2013 ter beschikking stelt via haar website (http://www.burgemeestersconvenant.be/co2-inventarissen), worden automatisch meegenomen in deze maatregelentool."]
[null,"De tool werd uitgebreid getest door een 10-tal grote/kleine gemeenten, intercommunales en provincies. Bij de ontwikkeling van de tool werd rekening gehouden met de feedback uit de testfase."]
[]
[]
[]
[]
[]
[]
[]
[]
[]
[]
[]
[]
[]
[]
[]
[]
[]
[null,"In de tool worden 30 maatregelen beschreven die het energieverbruik kunnen reduceren of vergroenen op het grondgebied van een stad of gemeente."]
[null,"Met deze tool kan een stad of gemeente de impact doorrekenen van een selectie van maatregelen (scenario's) op de CO2-uitstoot. De tool maakt het mogelijk om twee scenario's met elkaar te vergelijken."]
[null,{"$f":"\"Een stad of gemeente heeft de keuze om de impact van de maatregelen door te rekenen ten opzichte van de situatie in \" & P_Maatregelen_Jaar_Inventaris & \" (volgens de inventaris van Dept. Omgeving of een eigen inventaris) of ten opzichte van een BAU-scenario 2030.\"","v":"Een stad of gemeente heeft de keuze om de impact van de maatregelen door te rekenen ten opzichte van de situatie in 2017 (volgens de inventaris van Dept. Omgeving of een eigen inventaris) of ten opzichte van een BAU-scenario 2030."}]
[null,{"$f":"\"Het BAU-scenario geeft de evolutie in CO2-uitstoot van een stad of gemeente tussen \" & P_Maatregelen_Jaar_Inventaris & \" en 2030, gegeven autonome evoluties en beslist klimaat- en energiebeleid op federaal / Vlaams niveau.\"","v":"Het BAU-scenario geeft de evolutie in CO2-uitstoot van een stad of gemeente tussen 2017 en 2030, gegeven autonome evoluties en beslist klimaat- en energiebeleid op federaal / Vlaams niveau."}]
[null,"De scenario's worden vergeleken met een CO2-emissieplafond voor 2030."]
[null,"Voor de bepaling van het CO2-emissieplafond voor 2030 kan een stad of gemeente uitgaan van de inventaris van Dept. Omgeving of een eigen inventaris. "]
[]
[null,"Installatie tool"]
[]
[null,"- Maak een folder \"Burgemeestersconvenant\" direct op de C-schijf  en bewaar maatregelentool_data.accdb in deze folder. Deze stap is enkel nodig bij eerste gebruik van de tool."]
[null,"- In geval van foutmelding: controleer of de tool correct gekoppeld is met de achterliggende Access databank."]
[null,null,"Ga in de maatregelentool (.xlsm) in menubalk naar: Gegevens/ Bestaande verbindingen (in het vak \"Gegevens ophalen en transformeren\")."]
[null,null,"Klik met de rechter muisknop op een bestaande connectie (bv. ‘AA_Data_all_REFDOEL’) en klik op commando \"Eigenschappen van verbinding bewerken\"."]
[null,null,"Ga naar tabblad \"definitie\"."]
[null,null,"Vervang in de box \"verbindingsreeks\" alle tekst door volgende tekst: DSN=MS Access Database;DBQ=C:\\Burgemeestersconvenant\\Maatregelentool_data.accdb;DriverId=25;FIL=MS Access;MaxBufferSize=2048;PageTimeout=5;"]
[null,null,"De locatie in het vet moet overeenkomen met de locatie waar maatregelentool_data.accdb bewaard werd."]
[null,null,"Herhaal dit voor elk van de 9 connecties die beginnen met AA_ (dus NIET de query)."]
[null,null,"Klik op OK."]
[null,null,"Sluit het venster \"Bestaande verbindingen\" door op het kruisje x rechts bovenaan te klikken."]
[null,null,"Bewaar de maatregelentool (xlsm)."]
[]
[null,"Tips bij gebruik tool"]
[]
[null,"- Enkel het Dashboard en het rekenblad Scenario's moeten ingevuld worden om concrete resultaten in de grafieken en tabellen van deze tool te bekomen."]
[null,"- Klik altijd op de knop \"alles vernieuwen\" (cf. menubalk: Gegevens) voordat je de resultaten in de grafieken en tabellen raadpleegt. Zo ben je zeker dat alle aanpassingen in de rekenbladen Dashboard en Scenario's ook meegenomen worden in de resultaten."]
[null,"- Alle aannames, berekeningen en achterliggende datasets kunnen overschreven worden. Wij raden echter aan om wijzigingen te beperken tot de parameters die opgelijst staan in het Dashboard, het rekenblad Scenario's en de maatregelenfiches."]
[null,"- In deze tool werden een aantal rekenbladen verborgen. Deze rekenbladen bevatten datasets en berekeningen die geen input van de gebruiker vereisen. "]
[null,"- Verborgen rekenbladen kunnen zichtbaar gemaakt worden door op een rekenblad te gaan staan en via de rechtermuisknop de optie \"zichtbaar maken\" te selecteren. "]
[null,"  Om de rekenbladen opnieuw te verbergen, volg je dezelfde stappen maar kies je voor de optie \"verbergen\"."]
[null,"- Via het groeperen van kolommen en rijen kan je zelf kiezen welke informatie je wil tonen op het scherm. Door op de \"+\" of \"-\" knop te klikken die boven een kolom of langs een rij staat, wordt resp. meer of minder informatie zichtbaar op het scherm."]
[null,"- Via \"koppelingen\" kan de gebruiker tussen (zichtbare) rekenbladen navigeren. Een koppeling is herkenbaar als onderstreept tekstdeel (cf. inhoudstafel of naar scenario's >> rechts bovenaan Dashboard)."]
[null,"- De handleiding zit geïntegreerd in de tool. Voor elke groep van rekenbladen (input, resultaat, BAU, maatregelenfiches, algemene aannames) wordt in een overzicht (naam rekenblad ->) extra toelichting gegeven over de inhoud en het gebruik van deze rekenbladen."]
[null,"  De extra toelichting in de rekenbladen zelf kan ondersteuning bieden bij het invullen van bepaalde cellen of de interpretatie van de resultaten. "]
[null,"  Via de \"+\"-knop boven de kolomhoofdingen (uiterst rechts op het scherm) kan deze extra toelichting geraadpleegd worden. "]
[null,"  De gebruiker kan onmiddellijk naar de overeenkomstige rij in de toelichting gaan om bijkomende verduidelijking bij deze velden te krijgen."]
[]
[null,"Randvoorwaarden voor interpretatie resultaten"]
[]
[null,"- In deze tool ligt de focus op technische maatregelen (vraagreductie, efficiëntieverbetering, elektrificatie en hernieuwbare energieproductie) waarmee de CO2-uitstoot op het grondgebied van een gemeente of stad kan gereduceerd wordt."]
[null,"  Deze 30 maatregelen werden geselecteerd in samenspraak met Departement Omgeving en vertegenwoordigers uit lokale en bovenlokale besturen."]
[null,"  Bij de selectie werd o.a. rekening gehouden met het CO2-reductiepotentieel van de maatregelen en de slagkracht (autonomie) van de gemeente om de maatregel te realiseren."]
[null,"  Deze selectie van maatregelen is geen unieke oplossing voor elke stad of gemeente maar geeft wel een eerste indicatie van de inspanningen die nodig zijn om de CO2-uitstoot tegen 2030 te reduceren op het schaalniveau van een gemeente of stad."]
[null,"- We rekenen met weloverwogen gemiddeldes voor de inschatting van het bijkomend potentieel van maatregelen. Deze eerder generieke benadering kan afwijken van de specifieke situatie in een gemeente."]
[null,"  Gemeentespecifieke gegevens over het potentieel van de maatregelen kunnen de resultaten verfijnen."]
[null,"- Bij de doorrekening van het potentieel wordt rekening gehouden met de optelbaarheid van individuele maatregelen zodat (bv. Isolatie dak, isolatie muur, isolatie vloer, betere beglazing)"]
[null,"- We maken een inschatting van de maatschappelijke kost van elke maatregel. Deze inschatting rekent met een maatschappelijke rentevoet van 4% en houdt geen rekening met BTW, taksen en subsidies. "]
[null,"  De maatschappelijke kost kan bijgevolg afwijken van de effectieve kostprijs voor de individuele burger, ondernemer of investeerder."]
[null,"-  Indirecte effecten, macro-economische effecten of externe kosten/baten die voortkomen uit een maatregel worden niet meegenomen."]
[null,"-  Impact op de (transport, energie, …) infrastructuur van een pakket van maatregelen wordt niet expliciet in rekening gebracht bij de doorrekening van de scenario's."]
[null,"   Bv. bij vergaande elektrificatie is een netto-toename van duurzame elektriciteitsproductie belangrijk of bij vergaande modal shift naar de fiets is beschikbaarheid van een veilig en uitgebreid fietsnetwerk belangrijk. "]
[null,"   Bij versnelde introductie van grote hoeveelheden zonne- of windenergie op het elektriciteitsnet is het belangrijk dat er op elk moment voldoende baseload aanwezig is om aan de elektriciteitsvraag te voldoen en het elektriciteitsnet deze hoeveelheden aankan."]
[]
[null,"Architectuur van tool"]
[]
[]
[]
[]
[]
[]
[]
[]
[]
[]
[]
[]
[]
[]
[]
[]
[]
[]
[]
[]
[]
[]
[]
[]
[]
[]
[]
[]
[]
[]
[]
[]
[]
[null,null,null,null,"Noot: indien gewenst kan de gebruiker de gegevens in de groen gemarkeerde rekenbladen overschrijven met gemeentespecifieke gegevens"]

{"sheet":"Inhoudstabel","index":2,"n_rows":53,"n_cols":18,"rows_kept":53,"cut":false,"hidden":false,"merged":[]}
[]
[]
[null,null,"Inhoudstabel",null,null,null,null,null,"Extra toelichting"]
[]
[null,null,null,null,null,null,null,null,"De rekenbladen Dashboard en Scenario's zijn de enige rekenbladen die moeten ingevuld worden om resultaten te kunnen tonen."]
[null,null,"Dashboard",null,null,null,null,null,"In rekenblad Dashboard selecteert de gebruiker basisparameters zoals naam gemeente, doelstelling 2030, referentie impact maatregelen, discontovoet."]
[null,null,"Scenario's",null,null,null,null,null,"In rekenblad Scenario's stelt de gebruiker 2 pakketten van maatregelen samen (scenario's) waarmee de CO2-uitstoot op het grondgebied van de geselecteerde stad of gemeente kan gereduceerd worden. "]
[]
[null,null,"Input",null,null,null,null,null,"De input rekenbladen worden (grotendeels automatisch) ingevuld op basis van de selecties die de gebruiker maakt in het dashboard."]
[null,null,null,"CO2-plafond",null,null,"Verborgen",null,"Het CO2-emissieplafond wordt  automatisch berekend op basis van inventaris Dept. Omgeving of eigen inventaris voor het geselecteerd referentiejaar."]
[null,null,null,"Inventaris dep. Omgeving (INV)",null,null,"Verborgen",null,"In rekenblad INV wordt de inventaris van Dept. Omgeving voor het jaar 2017 automatisch ingelezen voor de gemeente die geselecteerd wordt in het dashboard."]
[null,null,null,"Eigen inventaris (EIG)",null,null,null,null,"De gebruiker moet rekenblad EIG voorzien van data voor het jaar 2017 indien in het dashboard gekozen wordt om impact maatregelen door te rekenen ten opzichte van eigen inventaris ."]
[]
[null,null,"Resultaten",null,null,null,null,null,"De resultaten rekenbladen geven de impact op de CO2-uitstoot voor de twee maatregelenpakketten (scenario's) in twee grafieken en drie tabellen."]
[null,null,null,"Fig_Overzicht CO2 totaal",null,null,null,null,"Grafische voorstelling van CO2-emissieplafond, te behalen CO2-reductie en totale CO2-emissies voor scenario 1 en scenario 2. "]
[null,null,null,"Fig_Bijdrage in te behalen red",null,null,null,null,"Grafische voorstelling van de absolute bijdrage van sectoren en individuele maatregelen in de te behalen CO2-reductie. In deze grafiek is eigen selectie van sectoren en maatregelen mogelijk."]
[null,null,null,"Tabel_Overzicht CO2 per sector",null,null,null,null,"Tabel met vergelijking totale CO2-uitstoot tussen de twee scenario's voor alle sectoren. Dit is een vooraf gedefinieerde tabel die bij voorkeur niet aangepast wordt."]
[null,null,null,"Tabel_Overzicht red per sector",null,null,null,null,"Tabel met vergelijking CO2-reductie tussen de twee scenario's voor alle sectoren. Dit is een vooraf gedefinieerde tabel die bij voorkeur niet aangepast wordt."]
[null,null,null,"Tabel_Red per sector en maatreg",null,null,null,null,"Tabel met vergelijking CO2-reductie tussen de twee scenario's voor alle sectoren en maatregelen, incl. % bijdrage in gerealiseerde reductie. In deze tabel is eigen selectie van sectoren en maatregelen mogelijk."]
[]
[null,null,"BAU",null,null,null,null,null,"De BAU rekenbladen geven per sector een overzicht van het energieverbruik, de energieproductie en gerelateerde CO2-emissies in 2030 t.o.v. 2017."]
[null,null,null,"BAU_RES","BAU_MOB",null,"Verborgen",null,"De rekenbladen geven voor elke sector (residentieel, tertiair, industrie, transport, landbouw en lokale energieproductie) een overzicht van aannames en doorrekeningen."]
[null,null,null,"BAU_TER","BAU_LBO",null,"Verborgen",null,"Deze rekenbladen kunnen als gegeven beschouwd worden. Indien gewenst, kunnen de aannames met gemeentespecifieke data overschreven worden.",null,null,null,null,null,null,null,null,"(cf. cellen)"]
[null,null,null,"BAU_IND","BAU_ENE",null,"Verborgen"]
[]
[null,null,"Maatregelenfiches",null,null,null,null,null,"De maatregelenfiches geven een gedetailleerde beschrijving van elke maatregel die in het rekenblad scenario's kan geselecteerd worden."]
[null,null,null,"RES_ISO_DAK","TER_HER_ZB","MOB_BS_H2",null,null,"Naast een beschrijving van de maatregel wordt in de fiches ook een overzicht gegeven van:\n"]
[null,null,null,"RES_ISO_MUUR","TER_HER_WPB","LEN_PV",null,null,"- relatie met andere maatregelen"]
[null,null,null,"RES_ISO_VL","TER_EE_ELE","LEN_Wind",null,null,"- betekenis van maatregel op lange termijn voor energie-/klimaattransitie"]
[null,null,null,"RES_ISO_BG","OV_LED_EE","LB_HER_WP",null,null,"- aannames die gemaakt zijn bij de doorrekening van de impact van de maatregel"]
[null,null,null,"RES_HER_WP","IND_HER_WP","LB_HER_PocV",null,null,"- berekening van het bijkomend potentieel van de maatregel en de gerealiseerde CO2-reductie, voor een gekozen ambitieniveau van dit bijkomend potentieel."]
[null,null,null,"RES_HER_ZB","IND_HER_ZB","LB_HER_BMK",null,null,"- kenmerken/parameters van de maatregel en de referentiesituatie"]
[null,null,null,"RES_HER_WPB","IND_EE_EEA","LB_EE_ENS",null,null,"- referenties"]
[null,null,null,"RES_EE_ELE","MOB_MS_voet","BLANCO_1",null,null,"Deze rekenbladen kunnen als gegeven beschouwd worden. Indien gewenst, kunnen de aannames met gemeentespecifieke data overschreven worden.",null,null,null,null,null,null,null,null,"(cf. cellen)"]
[null,null,null,"RES_EE_SLOOP","MOB_MS_EFiets","BLANCO_2",null,null,"Er zijn 3 blanco maatregelenfiches (BLANCO) voorzien voor het uitwerken van 'niet-voor-gedefinieerde' lokale maatregelen. "]
[null,null,null,"TER_EE_ISO","MOB_MS_OV","BLANCO_3",null,null,"De blanco maatregelen worden enkel meegenomen in rekenblad Scenario's indien een CO2-reductie wordt ingevuld in het betreffende rekenblad."]
[null,null,null,"TER_HER_WP","MOB_BS_EV","Selectiecriteria",null,null,"De gebruiker kan de selectiecriteria raadplegen voor bijkomende ondersteuning bij de selectie van maatregelen en vastleggen van ambitieniveaus voor de scenario's."]
[]
[null,null,"Algemene aannames",null,null,null,null,null,"De rekenbladen met algemene aannames brengen alle datasets samen die nodig zijn om de berekeningen uit te voeren."]
[null,null,null,"Energieprijs en discontovoet",null,null,null,null,"- graaddagen, prijzen elektriciteit, prijzen brandstoffen, levensduur en kostprijs installaties, emissiefactoren, conversiefactoren brandstoffen, discontovoeten"]
[null,null,null,"Inventaris Dept. Omgeving voor referentiejaar doelstelling",null,null,"Verborgen",null,"- automatisch gevuld met inventaris Dept. Omgeving indien in dashboard gekozen wordt voor berekening doelstellingen obv inventaris Dept. Omgeving en dit voor het geselecteerde referentiejaar"]
[null,null,null,"Huidig verbruik en CO2-uitstoot",null,null,"Verborgen",null,"- huidig energieverbruik en gerelateerde CO2-uitstoot voor gemeente geselecteerd in dashboard, per sector en energiedrager uit inventaris Dept. Omgeving voor 2017"]
[null,null,null,"Evolutie aantal huishoudens",null,null,"Verborgen",null,"- aantal huishoudens voor gemeente geselecteerd in dashboard in 2017 en 2030"]
[null,null,null,"Aantal voertuig, bus- en tramkilometers",null,null,"Verborgen",null,"- aantal voertuigkilometers per wegtype, aantal bus- en tramkilometers voor geselecteerde gemeente uit inventaris Dept. Omgeving voor 2017"]
[null,null,null,"Energieconsumptiefactoren transport",null,null,"Verborgen",null,"- energieconsumptiefactoren per voertuigtype, wegtype en brandstoftechnologie in 2017 en 2030"]
[null,null,null,"Potentieel zonnekaart ",null,null,"Verborgen",null,"- potentieel zonnekaart VEA (https://www.energiesparen.be/zonnekaart)"]
[null,null,null,"REV2030 scenario uit Hernieuwbare Energie Atlas Vlaanderen",null,null,"Verborgen",null,"- bijkomend potentieel aan hernieuwbare energieproductie (in MWh) voor geselecteerde gemeente uit Hernieuwbare EnergieAtlas voor Vlaanderen (REV2030 scenario)"]
[null,null,null,"Huidige productie groene stroom",null,null,"Verborgen",null,"- lokale energieproductie (in MWh) voor PV, wind en waterkracht voor geselecteerde gemeente uit inventaris Dept. Omgeving voor 2017"]
[null,null,null,null,null,null,null,null,"Indien gewenst kunnen aannames in dataset \"AA_Energieprijs&discontovoet\" overschreven worden. "]
[null,null,null,null,null,null,null,null,"De andere datasets worden als gegeven beschouwd. Indien gebruiker deze aannames aanpast, kunnen we werking tool niet garanderen."]
[]
[null,null,null,null,null,null,null,null,"Opm: de koppeling naar de betreffende rekenbladen die in de inhoudstafel voorzien is, werkt niet als de rekenbladen verborgen zijn."]
[null,null,null,null,null,null,null,null,"De verborgen rekenbladen kunnen opnieuw zichtbaar gemaakt worden. De gebruiker gaat in een rekenblad staan, klikt op rechter muisknop en selecteert vervolgens  \"zichtbaar maken\" ."]

{"sheet":"Dashboard","index":3,"n_rows":32,"n_cols":21,"rows_kept":32,"cut":false,"hidden":false,"merged":[]}
[]
[]
[null,null,null,null,null,null,null,"Naar Scenario's >>"]
[]
[null,null,"Dashboard - selectie parameters",null,null,null,null,null,null,null,"Extra toelichting"]
[]
[null,null,"Vul onderstaande parameters in of selecteer de optie die van toepassing is.",null,null,null,null,null,null,null,"In het dashboard kiest de gebruiker de aannames op basis waarvan de berekeningen in de maatregelentool gebeuren."]
[null,null,null,"Selectiemenu"]
[null,null,"Gemeente","VITO",null,null,null,null,null,null,"Gemeente: de inventaris van Dept. Omgeving voor het jaar 2017 wordt automatisch ingelezen in rekenblad INV en het BAU-scenario wordt opgemaakt in de BAU-rekenbladen voor de geselecteerde gemeente."]
[null,null,null,"Selectiemenu"]
[null,null,"CO2-uitstoot","Zonder snelwegen",null,null,null,null,null,null,"CO2-uitstoot: CO2-uitstoot van de snelwegen wordt wel/niet meegenomen in de inventarissen van Dept. Omgeving en bij de opmaak van het BAU-scenario. Deze correctie gebeurt automatisch na selectie."]
[null,null,null,null,null,null,null,null,null,null,"Indien een gemeente kiest om het CO2-plafond en impact van maatregelen door te rekenen op basis van een eigen inventaris, moet de gemeente zelf de correctie voor snelwegen doorvoeren in haar cijfers."]
[null,null,"Definitie CO2-plafond","Selectiemenu"]
[null,null,"CO2-plafond wordt gedefinieerd o.b.v.","Inventaris Dept. Omgeving",null,null,null,null,null,null,"Definitie CO2-plafond: voor 2030 wordt de max. CO2-uitstoot berekend ten opzichte van een inventaris van Dept. Omgeving of een eigen inventaris."]
[null,null,null,"Selectiemenu",null,null,null,null,null,null,"De max. CO2-uitstoot voor 2030 wordt berekend (in rekenblad CO2-plafond) door de vooropgestelde CO2-reductie (cel D20) in mindering te brengen van de CO2-uitstoot voor het referentiejaar dat de gebruiker selecteert (cel D16)."]
[null,null,"Met als referentiejaar",2012,null,null,null,null,null,null,"Bijvoorbeeld:"]
[null,null,{"$f":"IF($D$14=\"\",\"\",IF(P_Doel_Referentie=\"doel_INV\",\"\",\"CO2-emissies in referentiejaar (in ton)\"))","v":""},null,null,null,null,null,null,null,"gebruiker kiest voor Inventaris Dept. Omgeving voor het referentiejaar 2011 en reductie van 40%"]
[null,null,null,null,null,null,null,null,null,null,"CO2-plafond= totale CO2-uitstoot uit inventaris Dept. Omgeving voor het jaar 2011 (automatisch ingelezen in rekenblad AA_Data_all_DOEL) x (1-0,4)"]
[null,null,"Vermindering van de CO2-uitstoot t.o.v. ","Invullen",null,null,null,null,null,null,"gebruiker kiest voor eigen inventaris voor het referentiejaar 2007 en reductie van 40%"]
[null,null,"het geselecteerde referentiejaar voor 2030 van:",40,"%",null,null,null,null,null,"CO2-plafond= totale CO2-uitstoot voor het jaar 2007 (ingegeven in cel D17) x (1-0,4)"]
[]
[null,null,"Definitie te behalen reductie",null,null,null,null,null,null,null,"Definitie te behalen reductie: opdat de CO2-uitstoot in 2030 het max. CO2-plafond niet zou overschrijden, moeten er bijkomende maatregelen ingezet worden."]
[null,null,"Impact van maatregelen voor het behalen ","Selectiemenu",null,null,null,null,null,null,"Voor de bepaling van de bijkomende reductie die met deze maatregelen moet gerealiseerd worden, kan de gebruiker kiezen tussen drie referentiepunten:"]
[null,null,"van het CO2-plafond in 2030 wordt berekend t.o.v.:","Business-as-usual-scenario 2030 (BAU)",null,null,null,null,null,null,"- inventaris Dept. Omgeving (INV) 2017: te behalen reductie is het verschil tussen het CO2-plafond voor 2030 en totale CO2-uitstoot voor 2017 in rekenblad INV."]
[null,null,null,{"$f":"IF(P_Maatregelen_Referentie=\"EIG\",\"Gelieve de gegevens aan te vullen in TAB: EIG\",\" \")","v":" "},null,null,{"$f":"IF(P_Maatregelen_Referentie=\"EIG\",\"Gelieve de gegevens aan te vullen in TAB: \",\" \")","v":" "},null,null,null,"- BAU 2030: te behalen reductie is het verschil tussen het CO2-plafond voor 2030 en totale CO2-uitstoot voor 2030 in rekenblad BAU_TOTAAL. "]
[null,null,"Voor bijkomende ondersteuning bij keuze tussen BAU of INV cf. ","BAU_TOTAAL",null,null,null,null,null,null,"  Het BAU-scenario wordt automatisch berekend in de BAU-rekenbladen door inventaris Dept. Omgeving voor 2017 te corrigeren voor impact autonome evolutie (bv. bevolkingsgroei, economische groei) en beslist beleid op federaal/Vlaams niveau tussen 2017 en 2030."]
[null,null,null,null,null,null,null,null,null,null,"- eigen inventaris (EIG) 2017: te behalen reductie is verschil tussen het CO2-plafond en totale CO2-uitstoot voor 2017 zoals door de gebruiker ingevuld in rekenblad EIG."]
[null,null,null,null,null,null,null,null,null,null,"In elk van deze opties wordt bijgevolg rekening gehouden met de evolutie van de CO2-uitstoot tussen het referentiejaar voor de definitie van het CO2-plafond en het jaar 2017. "]
[null,null,"Algemene parameters","Invullen"]
[null,null,"Discontovoet",4,"%",null,null,null,null,null,"Discontovoet: in de maatregelenfiches wordt voor de omrekening van de investeringskost naar een jaarlijkse kapitaalkost (annuïteit) uitgegaan van een maatschappelijke discontovoet van 4%."]
[null,null,null,null,null,null,null,null,null,null,"Indien gewenst, kan de gebruiker deze aanname van 4% overschrijven. Voor meer informatie over discontovoet cf."]
[null,null,"Klik op \"Alles vernieuwen\" in menubalk (Gegevens)",null,null,null,null,"Naar Scenario's >>",null,null,null,null,null,null,null,null,null,null,null,null,"Maatregelenfiches"]

{"sheet":"Dashboard_tabel4fig","index":4,"n_rows":6,"n_cols":13,"rows_kept":6,"cut":false,"hidden":true,"merged":[]}
["Scenario","Situatie","Jaar","Maatregel","Type","CO2","Gedefinieerd plafond","Reductie","Label plafond","Label reductie","Plafond","Gedefinieerd plafond_waarde","Reductie_waarde"]
["Scenario 2","Scenario 2",2030,"Totaal","totale emissie",{"$f":"SUMIFS(tblResultaatSector[ton CO2],tblResultaatSector[Situatie],tblFigDashboard[[#This Row],[Situatie]],tblResultaatSector[Jaar],tblFigDashboard[[#This Row],[Jaar]],tblResultaatSector[Maatregel],tblFigDashboard[[#This Row],[Maatregel]],tblResultaatSector[Type],tblFigDashboard[[#This Row],[Type]])","v":152957.25854287113},{"$f":"IF($F$6=0,NA(),tblFigDashboard[[#This Row],[Gedefinieerd plafond_waarde]]/$F$6)","v":0.43422622259556848},{"$f":"IF($F$6=0,NA(),tblFigDashboard[[#This Row],[Reductie_waarde]]/$F$6)","v":0.50676105394768245},{"$f":"IF(tblFigDashboard[[#This Row],[CO2]]=0,\"\",CONCATENATE(\"Totale emissie scenario 2: \n \",TEXT(tblFigDashboard[[#This Row],[CO2]],\"# ##0\"),\" ton CO2\"))","v":"Totale emissie scenario 2: \n 152 957 ton CO2"},{"$f":"IF(tblFigDashboard[[#This Row],[CO2]]=0,\"\",CONCATENATE(\"Reductie: \n\",TEXT(tblFigDashboard[[#This Row],[Reductie_waarde]],\"# ##0\"),\" ton CO2\"))","v":"Reductie: \n178 508 ton CO2"},{"$f":"$G$5","v":0.6},{"$f":"IF(P_Check_Input=FALSE,NA(),tblFigDashboard[[#This Row],[CO2]])","v":152957.25854287113},{"$f":"IF(P_Check_Input=FALSE,NA(),$F$4-tblFigDashboard[[#This Row],[CO2]])","v":178507.83189648067}]
["Scenario 1","Scenario 1",2030,"Totaal","totale emissie",{"$f":"SUMIFS(tblResultaatSector[ton CO2],tblResultaatSector[Situatie],tblFigDashboard[[#This Row],[Situatie]],tblResultaatSector[Jaar],tblFigDashboard[[#This Row],[Jaar]],tblResultaatSector[Maatregel],tblFigDashboard[[#This Row],[Maatregel]],tblResultaatSector[Type],tblFigDashboard[[#This Row],[Type]])","v":262392.8394559836},{"$f":"IF($F$6=0,NA(),tblFigDashboard[[#This Row],[Gedefinieerd plafond_waarde]]/$F$6)","v":0.7448999321674068},{"$f":"IF($F$6=0,NA(),tblFigDashboard[[#This Row],[Reductie_waarde]]/$F$6)","v":0.19608734437584424},{"$f":"IF(tblFigDashboard[[#This Row],[CO2]]=0,\"\",CONCATENATE(\"Totale emissie scenario 1: \n \",TEXT(tblFigDashboard[[#This Row],[CO2]],\"# ##0\"),\" ton CO2\"))","v":"Totale emissie scenario 1: \n 262 393 ton CO2"},{"$f":"IF(tblFigDashboard[[#This Row],[CO2]]=0,\"\",CONCATENATE(\"Reductie: \n\",TEXT(tblFigDashboard[[#This Row],[Reductie_waarde]],\"# ##0\"),\" ton CO2\"))","v":"Reductie: \n69 072 ton CO2"},0.6,{"$f":"IF(P_Check_Input=FALSE,NA(),tblFigDashboard[[#This Row],[CO2]])","v":262392.8394559836},{"$f":"IF(P_Check_Input=FALSE,NA(),$F$4-tblFigDashboard[[#This Row],[CO2]])","v":69072.250983368198}]
[{"$f":"IF(tblFigDashboard[[#This Row],[CO2]]=0,\"Referentie voor \ndoorrekenen impact \nmaatregelen\",CONCATENATE(\"Referentie voor \ndoorrekenen impact \nmaatregelen: \n\",\nP_Maatregelen_Referentie,\" \",tblFigDashboard[[#This Row],[Jaar]]))","v":"Referentie voor \ndoorrekenen impact \nmaatregelen: \nBAU 2030"},"Referentiesituatie",{"$f":"P_Maatregelen_Jaar","v":2030},"Totaal","totale emissie",{"$f":"SUMIFS(tblResultaatSector[ton CO2],tblResultaatSector[Situatie],tblFigDashboard[[#This Row],[Situatie]],tblResultaatSector[Jaar],tblFigDashboard[[#This Row],[Jaar]],tblResultaatSector[Maatregel],tblFigDashboard[[#This Row],[Maatregel]],tblResultaatSector[Type],tblFigDashboard[[#This Row],[Type]])","v":331465.0904393518},{"$f":"IF($F$4=0,NA(),tblFigDashboard[[#This Row],[Gedefinieerd plafond_waarde]]/$F$6)","v":0.6},{"$f":"IF($F$6=0,NA(),tblFigDashboard[[#This Row],[Reductie_waarde]]/$F$6)","v":0.34098727654325101},null,{"$f":"IF(tblFigDashboard[[#This Row],[CO2]]=0,\"\",IF(tblFigDashboard[[#This Row],[Reductie_waarde]]>0,CONCATENATE(\"Te behalen reductie: \n\",TEXT(tblFigDashboard[[#This Row],[Reductie_waarde]],\"# ##0\"),\" ton CO2\"),\"CO2-plafond voor 2030 \nreeds behaald\"))","v":"Te behalen reductie: \n120 114 ton CO2"},0.6,{"$f":"IF(ISBLANK(D_Maatregelen_Referentie),NA(),IF(tblFigDashboard[[#This Row],[CO2]]=0,0,IF(tblFigDashboard[[#This Row],[CO2]]>=$F$5,$F$5,tblFigDashboard[[#This Row],[CO2]])))","v":211351.48074924041},{"$f":"IF(ISBLANK(D_Maatregelen_Referentie),NA(),IF(tblFigDashboard[[#This Row],[CO2]]>tblFigDashboard[[#This Row],[Gedefinieerd plafond_waarde]],tblFigDashboard[[#This Row],[CO2]]-tblFigDashboard[[#This Row],[Gedefinieerd plafond_waarde]],0))","v":120113.60969011139}]
["Gedefinieerd\nCO2-plafond 2030","CO2-plafond 2030",2030,"Totaal","totale emissie",{"$f":"SUMIFS(tblResultaatSector[ton CO2],tblResultaatSector[Situatie],tblFigDashboard[[#This Row],[Situatie]],tblResultaatSector[Jaar],tblFigDashboard[[#This Row],[Jaar]],tblResultaatSector[Maatregel],tblFigDashboard[[#This Row],[Maatregel]],tblResultaatSector[Type],tblFigDashboard[[#This Row],[Type]])","v":211351.48074924041},{"$f":"IF($F$6=0,NA(),tblFigDashboard[[#This Row],[Gedefinieerd plafond_waarde]]/$F$6)","v":0.6},{"$f":"IF($F$6=0,NA(),tblFigDashboard[[#This Row],[Reductie_waarde]]/$F$6)","v":0},{"$f":"IF(tblFigDashboard[[#This Row],[CO2]]=0,\"\",CONCATENATE(\"Gedefinieerd plafond: \n \",TEXT(tblFigDashboard[[#This Row],[Gedefinieerd plafond_waarde]],\"# ##0\"),\" ton CO2\"))","v":"Gedefinieerd plafond: \n 211 351 ton CO2"},null,0.6,{"$f":"IF(P_Doel_Reductie=0,NA(),$F$5)","v":211351.48074924041},{"$f":"IF(P_Doel_Reductie=0,NA(),tblFigDashboard[[#This Row],[CO2]]-tblFigDashboard[[#This Row],[Gedefinieerd plafond_waarde]])","v":0}]
[{"$f":"IF(tblFigDashboard[[#This Row],[Jaar]]=0,\"Referentie voor \ndefinitie CO2-plafond\",CONCATENATE(\"Referentie voor \ndefinitie CO2-plafond: \njaar \",tblFigDashboard[[#This Row],[Jaar]]))","v":"Referentie voor \ndefinitie CO2-plafond: \njaar 2012"},"Doelstellingsreferentie",{"$f":"D_Doel_Jaar","v":2012},"Totaal","totale emissie",{"$f":"SUMIFS(tblResultaatSector[ton CO2],tblResultaatSector[Situatie],tblFigDashboard[[#This Row],[Situatie]],tblResultaatSector[Jaar],tblFigDashboard[[#This Row],[Jaar]],tblResultaatSector[Maatregel],tblFigDashboard[[#This Row],[Maatregel]],tblResultaatSector[Type],tblFigDashboard[[#This Row],[Type]])","v":352252.46791540069},{"$f":"IF($F$6=0,NA(),tblFigDashboard[[#This Row],[Gedefinieerd plafond_waarde]]/$F$6)","v":0.6},{"$f":"IF($F$6=0,NA(),tblFigDashboard[[#This Row],[Reductie_waarde]]/$F$6)","v":0.4},null,{"$f":"IF(tblFigDashboard[[#This Row],[Jaar]]=0,\"\",IF(OR(P_Doel_Reductie=0,tblFigDashboard[[#This Row],[Reductie_waarde]]=0),\"\",CONCATENATE(\"Vermindering\nCO2-uitstoot:\n-\",P_Doel_Reductie,\"%\")))","v":"Vermindering\nCO2-uitstoot:\n-40%"},0.6,{"$f":"$F$5","v":211351.48074924041},{"$f":"tblFigDashboard[[#This Row],[CO2]]-tblFigDashboard[[#This Row],[Gedefinieerd plafond_waarde]]","v":140900.98716616028}]

{"sheet":"Parameters","index":5,"n_rows":20,"n_cols":5,"rows_kept":20,"cut":false,"hidden":true,"merged":[]}
[]
[]
[null,null,"Parameters"]
[]
[null,null,"Algemene instellingen"]
[null,null,null,"P_Snelwegen",{"$f":"IF(D_Snelwegen=\"Met snelwegen\",1,0)","v":0}]
[null,null,null,"P_Discontovoet",{"$f":"D_Discontovoet/100","v":0.04}]
[]
[null,null,"Definitie doelstelling"]
[null,null,null,"P_Doel_Referentie",{"$f":"VLOOKUP(D_Doel_Referentie,tblTargetRef[],2,FALSE)","v":"doel_INV"}]
[null,null,null,"P_Doel_ReferentieUitstoot",{"$f":"D_Doel_ReferentieUitstoot","v":0}]
[null,null,null,"P_Doel_Jaar",{"$f":"D_Doel_Jaar","v":2012}]
[null,null,null,"P_Doel_Reductie",{"$f":"D_Doel_Reductie","v":40}]
[]
[null,null,"Definitie maatregelen"]
[null,null,null,"P_Maatregelen_Jaar_Inventaris",{"$f":"MAX(lstDoel_Jaar_MEI)","v":2017}]
[null,null,null,"P_Maatregelen_Jaar",{"$f":"IF(P_Maatregelen_Referentie=\"BAU\",2030,P_Maatregelen_Jaar_Inventaris)","v":2030}]
[null,null,null,"P_Maatregelen_Referentie",{"$f":"VLOOKUP(IF(D_Maatregelen_Referentie=0,\"\",D_Maatregelen_Referentie),tblRefMaatregelen[],2,FALSE)","v":"BAU"}]
[]
[null,null,"P_Check_Input",null,{"$f":"NOT(OR(ISBLANK(D_gemeente),ISBLANK(D_Snelwegen),ISBLANK(D_Doel_Referentie),ISBLANK(D_Doel_Jaar),ISBLANK(D_Doel_Reductie),ISBLANK(D_Maatregelen_Referentie),ISBLANK(D_Discontovoet)))","v":true}]

{"sheet":"Scenario_tabel4fig","index":6,"n_rows":5,"n_cols":7,"rows_kept":5,"cut":false,"hidden":true,"merged":[]}
["Scenario","Situatie","Jaar","Type","Ref","CO2","Relatief tov ref"]
["Scenario 1","Scenario 1",2030,"totale emissie",0,{"$f":"SUMIFS(tblResultaatSector[ton CO2],tblResultaatSector[Situatie],\"Referentiesituatie\",tblResultaatSector[Jaar],P_Maatregelen_Jaar,tblResultaatSector[Maatregel],\"Totaal\",tblResultaatSector[Type],\"Totale emissie\")-SUMIFS(tblResultaatMaatregelen[Reductie],tblResultaatMaatregelen[Scenario],tblFigScenarios[[#This Row],[Situatie]],tblResultaatMaatregelen[X-as],\"Maatregelen\")","v":262392.8394559836},{"$f":"IF(P_Check_Input=FALSE,NA(),IF(tblFigScenarios[[#This Row],[Type]]=\"reductie\",1-tblFigScenarios[[#This Row],[CO2]]/SUMPRODUCT([Ref],[CO2]),tblFigScenarios[[#This Row],[CO2]]/SUMPRODUCT([Ref],[CO2])))","v":0.79161530738632535}]
["Scenario 2","Scenario 2",2030,"totale emissie",0,{"$f":"SUMIFS(tblResultaatSector[ton CO2],tblResultaatSector[Situatie],\"Referentiesituatie\",tblResultaatSector[Jaar],P_Maatregelen_Jaar,tblResultaatSector[Maatregel],\"Totaal\",tblResultaatSector[Type],\"Totale emissie\")-SUMIFS(tblResultaatMaatregelen[Reductie],tblResultaatMaatregelen[Scenario],tblFigScenarios[[#This Row],[Situatie]],tblResultaatMaatregelen[X-as],\"Maatregelen\")","v":152957.25854287116},{"$f":"IF(P_Check_Input=FALSE,NA(),IF(tblFigScenarios[[#This Row],[Type]]=\"reductie\",1-tblFigScenarios[[#This Row],[CO2]]/SUMPRODUCT([Ref],[CO2]),tblFigScenarios[[#This Row],[CO2]]/SUMPRODUCT([Ref],[CO2])))","v":0.46145812320726959}]
[{"$f":"CONCATENATE(P_Maatregelen_Referentie,\" - \",P_Maatregelen_Jaar)","v":"BAU - 2030"},"Referentiesituatie",{"$f":"P_Maatregelen_Jaar","v":2030},"totale emissie",1,{"$f":"SUMIFS(tblResultaatSector[ton CO2],tblResultaatSector[Situatie],tblFigScenarios[[#This Row],[Situatie]],tblResultaatSector[Jaar],tblFigScenarios[[#This Row],[Jaar]])","v":331465.0904393518},{"$f":"IF(P_Check_Input=FALSE,NA(),IF(tblFigScenarios[[#This Row],[Type]]=\"reductie\",1-tblFigScenarios[[#This Row],[CO2]]/SUMPRODUCT([Ref],[CO2]),tblFigScenarios[[#This Row],[CO2]]/SUMPRODUCT([Ref],[CO2])))","v":1}]
["CO2-plafond 2030","CO2-plafond 2030",2030,"totale emissie",0,{"$f":"SUMIFS(tblResultaatSector[ton CO2],tblResultaatSector[Situatie],tblFigScenarios[[#This Row],[Situatie]],tblResultaatSector[Jaar],tblFigScenarios[[#This Row],[Jaar]])","v":211351.48074924041},{"$f":"IF(P_Check_Input=FALSE,NA(),IF(tblFigScenarios[[#This Row],[Type]]=\"reductie\",1-tblFigScenarios[[#This Row],[CO2]]/SUMPRODUCT([Ref],[CO2]),tblFigScenarios[[#This Row],[CO2]]/SUMPRODUCT([Ref],[CO2])))","v":0.63762817516950976}]

{"sheet":"Scenario's","index":7,"n_rows":43,"n_cols":21,"rows_kept":43,"cut":false,"hidden":false,"merged":[]}
[]
[]
[null,null,"<< Naar Dashboard",null,null,null,null,null,null,null,null,null,null,null,null,null,null,"Naar Resultaat >>"]
[]
[null,null,"Scenario's - selectie maatregelenpakketten",null,null,null,null,null,null,null,null,{"$f":"CONCATENATE(\"Maatregelen worden berekend t.o.v. \",P_Maatregelen_Referentie,\" \",IF(P_Maatregelen_Referentie=\"BAU\",P_Maatregelen_Jaar,\"voor het jaar \"&P_Maatregelen_Jaar))","v":"Maatregelen worden berekend t.o.v. BAU 2030"},null,null,null,null,null,null,null,null,"Extra toelichting"]
[null,null,"Geef voor elk scenario het ambitieniveau per maatregel aan in kolom I en kolom M (opties: niet, laag, medium, hoog). "]
[null,null,"Voor bijkomende ondersteuning bij selectie maatregelen en ambitieniveau cf. ",null,null,"Selectiecriteria"]
[null,null,null,null,null,null,null,null,null,null,null,null,null,null,null,null,null,null,null,null,"In het rekenblad Scenario's selecteert de gebruiker voor elke maatregel het gewenste ambitieniveau in kolom I en kolom M (opties: niet, laag, medium, hoog)."]
[null,null,"Nr.","Sector","Korte omschrijving maatregel","Maatregelcode","Bijkomend"," Potentieel (2030)","Scenario 1","%","Ambitie1","Eenheid_ambitie1","Scenario 2","%.","Ambitie2","Eenheid ambitie2",null,"Indicatie impact scenario's ",null,null,"Het ambitieniveau \"niet\" wil zeggen dat 0% van het theoretisch potentieel wordt doorgerekend."]
[null,null,1,"Huishoudens","Isolatiemaatregel gericht op dak","RES_ISO_DAK",{"$f":"RES_ISO_DAK!F44","v":19972.338838799995},"bestaande woningen komen in aanmerking","Laag",{"$f":"RES_ISO_DAK!$F$55","v":0.4},{"$f":"IF(Tbl_scenario[[#This Row],[%]]<1%,0,ROUNDUP(RES_ISO_DAK!F56/100,0)*100)","v":8000},"woningen","Hoog",{"$f":"RES_ISO_DAK!$G$55","v":0.8},{"$f":"IF(Tbl_scenario[[#This Row],[%.]]<1%,0,ROUNDUP(RES_ISO_DAK!G56/100,0)*100)","v":16000},{"$f":"Tbl_scenario[[#This Row],[Eenheid_ambitie1]]","v":"woningen"},null,"t.o.v. CO2-plafond 2030"]
[null,null,2,"Huishoudens","Isolatiemaatregel gericht op buitenmuren","RES_ISO_MUUR",{"$f":"RES_ISO_MUUR!F44","v":32403.997439999996},"bestaande woningen komen in aanmerking","Laag",{"$f":"RES_ISO_MUUR!$F$55","v":0.4},{"$f":"IF(Tbl_scenario[[#This Row],[%]]<1%,0,ROUNDUP(RES_ISO_MUUR!F56/100,0)*100)","v":13000},"woningen","Hoog",{"$f":"RES_ISO_MUUR!$G$55","v":0.8},{"$f":"IF(Tbl_scenario[[#This Row],[%.]]<1%,0,ROUNDUP(RES_ISO_MUUR!G56/100,0)*100)","v":26000},{"$f":"Tbl_scenario[[#This Row],[Eenheid_ambitie1]]","v":"woningen"},null,null,null,null,"In de maatregelentool zitten een aantal hulpmiddeltjes die de gebruiker kunnen helpen bij de selectie van het ambitieniveau:"]
[null,null,3,"Huishoudens","Isolatiemaatregel gericht op vloeren","RES_ISO_VL",{"$f":"RES_ISO_VL!F46","v":32741.539079999995},"bestaande woningen komen in aanmerking","Laag",{"$f":"RES_ISO_VL!$F$57","v":0.4},{"$f":"IF(Tbl_scenario[[#This Row],[%]]<1%,0,ROUNDUP(RES_ISO_VL!F58/100,0)*100)","v":13100},"woningen","Hoog",{"$f":"RES_ISO_VL!$G$57","v":0.8},{"$f":"IF(Tbl_scenario[[#This Row],[%.]]<1%,0,ROUNDUP(RES_ISO_VL!G58/100,0)*100)","v":26200},{"$f":"Tbl_scenario[[#This Row],[Eenheid_ambitie1]]","v":"woningen"},null,null,null,null,"1. Kolom G: door de theoretische potentiëlen te vergelijken tussen maatregelen, krijgt de gebruiker een indicatie van de bijdrage die de verschillende maatregelen kunnen leveren."]
[null,null,4,"Huishoudens","Isolatiemaatregel gericht op ramen en beglazing","RES_ISO_BG",{"$f":"RES_ISO_BG!F47","v":19206.119315999997},"bestaande woningen komen in aanmerking","Laag",{"$f":"RES_ISO_BG!$F$58","v":0.4},{"$f":"IF(Tbl_scenario[[#This Row],[%]]<1%,0,ROUNDUP(RES_ISO_BG!F59/100,0)*100)","v":7700},"woningen","Hoog",{"$f":"RES_ISO_BG!$G$58","v":0.8},{"$f":"IF(Tbl_scenario[[#This Row],[%.]]<1%,0,ROUNDUP(RES_ISO_BG!G59/100,0)*100)","v":15400},{"$f":"Tbl_scenario[[#This Row],[Eenheid_ambitie1]]","v":"woningen"},null,null,null,null,"Het ambitieniveau wordt doorgerekend als een procentueel aandeel van het theoretisch potentieel (kolom G) in resp. kolom K en kolom O. "]
[null,null,5,"Huishoudens","Warmtepomp","RES_HER_WP",{"$f":"RES_HER_WP!F42","v":9390.7443255171074},"bestaande woningen komen in aanmerking","Laag",{"$f":"RES_HER_WP!$F$52","v":0.2},{"$f":"IF(Tbl_scenario[[#This Row],[%]]<1%,0,ROUNDUP(RES_HER_WP!F53/100,0)*100)","v":1900},"woningen","Hoog",{"$f":"RES_HER_WP!$G$52","v":0.75},{"$f":"IF(Tbl_scenario[[#This Row],[%.]]<1%,0,ROUNDUP(RES_HER_WP!G53/100,0)*100)","v":7100},{"$f":"Tbl_scenario[[#This Row],[Eenheid_ambitie1]]","v":"woningen"},null,null,null,null,"Via de \"+\"-knoppen boven de kolomhoofdingen kunnen de resultaten van deze potentieelberekeningen geraadpleegd worden."]
[null,null,6,"Huishoudens","Zonneboiler","RES_HER_ZB",{"$f":"RES_HER_ZB!F37","v":13366.648944},"bestaande woningen komen in aanmerking","Laag",{"$f":"RES_HER_ZB!$F$46","v":0.30000000000000004},{"$f":"IF(Tbl_scenario[[#This Row],[%]]<1%,0,ROUNDUP(RES_HER_ZB!F47/100,0)*100)","v":4100},"woningen","Hoog",{"$f":"RES_HER_ZB!$G$46","v":0.7},{"$f":"IF(Tbl_scenario[[#This Row],[%.]]<1%,0,ROUNDUP(RES_HER_ZB!G47/100,0)*100)","v":9400},{"$f":"Tbl_scenario[[#This Row],[Eenheid_ambitie1]]","v":"woningen"}]
[null,null,7,"Huishoudens","Warmtepompboiler","RES_HER_WPB",{"$f":"RES_HER_WPB!F36","v":33754.163999999997},"bestaande woningen komen in aanmerking","Laag",{"$f":"RES_HER_WPB!F45","v":0.15000000000000002},{"$f":"IF(Tbl_scenario[[#This Row],[%]]<1%,0,ROUNDUP(RES_HER_WPB!F46/100,0)*100)","v":5100},"woningen","Hoog",{"$f":"RES_HER_WPB!G45","v":0.35},{"$f":"IF(Tbl_scenario[[#This Row],[%.]]<1%,0,ROUNDUP(RES_HER_WPB!G46/100,0)*100)","v":11900},{"$f":"Tbl_scenario[[#This Row],[Eenheid_ambitie1]]","v":"woningen"},null,null,null,null,"2. Figuur in kolom R: indicatie bijdrage maatregel tot realisatie CO2-plafond 2030."]
[null,null,8,"Huishoudens","Elektriciteitsgebruik: verhogen efficiëntie","RES_EE_ELE",{"$f":"RES_EE_ELE!F33","v":36039.811310929166},"MWh elektriciteitsgebruik","Laag",{"$f":"RES_EE_ELE!F42","v":0.1},{"$f":"IF(Tbl_scenario[[#This Row],[%]]<1%,0,ROUNDUP(RES_EE_ELE!F43/10,0)*10)","v":3610},"MWh ele. gebruik","Hoog",{"$f":"RES_EE_ELE!G42","v":0.5},{"$f":"IF(Tbl_scenario[[#This Row],[%.]]<1%,0,ROUNDUP(RES_EE_ELE!G43/10,0)*10)","v":18020},{"$f":"Tbl_scenario[[#This Row],[Eenheid_ambitie1]]","v":"MWh ele. gebruik"},null,null,null,null,"Als de gebruiker het ambitieniveau van een maatregel verandert, verschuift het \"scenario\"-balkje in de figuur in kolom R."]
[null,null,9,"Huishoudens","Stimuleren sloop energieverslindende woningen","RES_EE_SLOOP",{"$f":"RES_EE_SLOOP!F42","v":2025.2498399999997},"bestaande woningen komen in aanmerking","Laag",{"$f":"RES_EE_SLOOP!F52","v":0.5},{"$f":"IF(Tbl_scenario[[#This Row],[%]]<1%,0,ROUNDUP(RES_EE_SLOOP!F53/10,0)*10)","v":1020},"woningen","Hoog",{"$f":"RES_EE_SLOOP!G52","v":0.9},{"$f":"IF(Tbl_scenario[[#This Row],[%.]]<1%,0,ROUNDUP(RES_EE_SLOOP!G53/10,0)*10)","v":1830},{"$f":"Tbl_scenario[[#This Row],[Eenheid_ambitie1]]","v":"woningen"},null,null,null,null,"De mate waarin het balkje verschuift, geeft een indicatie van de bijdrage van de maatregel tot de te behalen reductie."]
[null,null,10,"Tertiair","Verhoogde isolatiegraad","TER_EE_ISO",{"$f":"TER_EE_ISO!F37","v":69382.23939069279},"MWh warmtegebruik","Laag",{"$f":"TER_EE_ISO!F46","v":0.30000000000000004},{"$f":"IF(Tbl_scenario[[#This Row],[%]]<1%,0,ROUNDUP(TER_EE_ISO!F47/100,0)*100)","v":20900},"MWh","Hoog",{"$f":"TER_EE_ISO!G46","v":0.7},{"$f":"IF(Tbl_scenario[[#This Row],[%.]]<1%,0,ROUNDUP(TER_EE_ISO!G47/100,0)*100)","v":48600},{"$f":"Tbl_scenario[[#This Row],[Eenheid_ambitie1]]","v":"MWh"},null,null,null,null,"Afhankelijk van de selectie in het Dashboard (cel D24), wordt de impact van de geselecteerde maatregelen doorgerekend ten opzichte van: "]
[null,null,11,"Tertiair","Warmtepomp","TER_HER_WP",{"$f":"TER_HER_WP!F40","v":86727.799238365988},"MWh warmtegebruik","Laag",{"$f":"TER_HER_WP!$F$49","v":0.15000000000000002},{"$f":"IF(Tbl_scenario[[#This Row],[%]]<1%,0,ROUNDUP(TER_HER_WP!F50/1000,0)*1000)","v":14000},"MWh","Hoog",{"$f":"TER_HER_WP!$G$49","v":0.35},{"$f":"IF(Tbl_scenario[[#This Row],[%.]]<1%,0,ROUNDUP(TER_HER_WP!G50/1000,0)*1000)","v":31000},{"$f":"Tbl_scenario[[#This Row],[Eenheid_ambitie1]]","v":"MWh"},null,null,null,null,"--> BAU-scenario 2030"]
[null,null,12,"Tertiair","Zonneboiler","TER_HER_ZB",{"$f":"TER_HER_ZB!F44","v":24091.055343990553},"MWh warmtegebruik","Laag",{"$f":"TER_HER_ZB!F53","v":0.15000000000000002},{"$f":"IF(Tbl_scenario[[#This Row],[%]]<1%,0,ROUNDUP(TER_HER_ZB!F54/1000,0)*1000)","v":4000},"MWh","Hoog",{"$f":"TER_HER_ZB!G53","v":0.35},{"$f":"IF(Tbl_scenario[[#This Row],[%.]]<1%,0,ROUNDUP(TER_HER_ZB!G54/1000,0)*1000)","v":9000},{"$f":"Tbl_scenario[[#This Row],[Eenheid_ambitie1]]","v":"MWh"},null,null,null,null,"--> inventaris van Dept. Omgeving voor het jaar 2017 (INV) "]
[null,null,13,"Tertiair","Warmtepompboiler","TER_HER_WPB",{"$f":"TER_HER_WPB!F42","v":45773.005153582046},"MWh warmtegebruik","Laag",{"$f":"TER_HER_WPB!F51","v":0.15000000000000002},{"$f":"IF(Tbl_scenario[[#This Row],[%]]<1%,0,ROUNDUP(TER_HER_WPB!F52/1000,0)*1000)","v":7000},"MWh","Hoog",{"$f":"TER_HER_WPB!G51","v":0.35},{"$f":"IF(Tbl_scenario[[#This Row],[%.]]<1%,0,ROUNDUP(TER_HER_WPB!G52/1000,0)*1000)","v":17000},{"$f":"Tbl_scenario[[#This Row],[Eenheid_ambitie1]]","v":"MWh"},null,null,null,null,"--> eigen inventaris voor het jaar 2017 (EIG)"]
[null,null,14,"Tertiair","Ele. gebruik: verhogen efficiëntie (LED, relighting, koeling, etc.)","TER_EE_ELE",{"$f":"TER_EE_ELE!F35","v":47507.239616538238},"MWh elektriciteitsgebruik","Laag",{"$f":"TER_EE_ELE!F44","v":0.30000000000000004},{"$f":"IF(Tbl_scenario[[#This Row],[%]]<1%,0,ROUNDUP(TER_EE_ELE!F45/100,0)*100)","v":14300},"MWh ele. gebruik","Hoog",{"$f":"TER_EE_ELE!G44","v":0.7},{"$f":"IF(Tbl_scenario[[#This Row],[%.]]<1%,0,ROUNDUP(TER_EE_ELE!G45/100,0)*100)","v":33300},{"$f":"Tbl_scenario[[#This Row],[Eenheid_ambitie1]]","v":"MWh ele. gebruik"},null,null,null,null,"Des te kleiner de afstand tussen het \"scenario\"-balkje en het \"CO2-plafond 2030\"-balkje, des te kleiner de \"kloof\" of de CO2-reductie die nog gerealiseerd moet worden."]
[null,null,15,"Openbare verlichting","LED: verhogen energie-efficiëntie","OV_LED_EE",{"$f":"OV_LED_EE!F33","v":4046.0373990000003},"MWh elektriciteitsgebruik","Laag",{"$f":"OV_LED_EE!F42","v":0.30000000000000004},{"$f":"IF(Tbl_scenario[[#This Row],[%]]<1%,0,ROUNDUP(OV_LED_EE!F43/10,0)*10)","v":1220},"MWh ele. gebruik","Hoog",{"$f":"OV_LED_EE!G42","v":0.7},{"$f":"IF(Tbl_scenario[[#This Row],[%.]]<1%,0,ROUNDUP(OV_LED_EE!G43/10,0)*10)","v":2840},{"$f":"Tbl_scenario[[#This Row],[Eenheid_ambitie1]]","v":"MWh ele. gebruik"}]
[null,null,16,"Industrie (niet-ETS)","Warmtepomp","IND_HER_WP",{"$f":"IND_HER_WP!F36","v":19615.626580857417},"MWh warmtegebruik","Laag",{"$f":"IND_HER_WP!$F$45","v":0.15000000000000002},{"$f":"IF(Tbl_scenario[[#This Row],[%]]<1%,0,ROUNDUP(IND_HER_WP!F46/100,0)*100)","v":3000},"MWh ","Hoog",{"$f":"IND_HER_WP!$G$45","v":0.35},{"$f":"IF(Tbl_scenario[[#This Row],[%.]]<1%,0,ROUNDUP(IND_HER_WP!G46/100,0)*100)","v":6900},{"$f":"Tbl_scenario[[#This Row],[Eenheid_ambitie1]]","v":"MWh "},null,null,null,null,"3. Maatregelenfiches: door op de koppeling in kolom F te klikken, ga je rechtstreeks naar de betreffende maatregelenfiche."]
[null,null,17,"Industrie (niet-ETS)","Zonneboiler","IND_HER_ZB",{"$f":"IND_HER_ZB!F39","v":3432.7346516500479},"MWh warmtegebruik","Laag",{"$f":"IND_HER_ZB!F48","v":0.15000000000000002},{"$f":"IF(Tbl_scenario[[#This Row],[%]]<1%,0,ROUNDUP(IND_HER_ZB!F49/100,0)*100)","v":600},"MWh","Hoog",{"$f":"IND_HER_ZB!G48","v":0.35},{"$f":"IF(Tbl_scenario[[#This Row],[%.]]<1%,0,ROUNDUP(IND_HER_ZB!G49/100,0)*100)","v":1300},{"$f":"Tbl_scenario[[#This Row],[Eenheid_ambitie1]]","v":"MWh"},null,null,null,null,"In de maatregelenfiches vindt de gebruiker de achterliggende aannames en berekeningen van het theoretisch potentieel en de ambitieniveaus terug."]
[null,null,18,"Industrie (niet-ETS)","Ele. gebruik: verhogen efficiëntie elektrische aandrijfsystemen","IND_EE_EEA",{"$f":"IND_EE_EEA!F35","v":8934.4390207689121},"MWh elektriciteitsgebruik","Laag",{"$f":"IND_EE_EEA!F44","v":7.4999999999999997E-2},{"$f":"IF(Tbl_scenario[[#This Row],[%]]<1%,0,ROUNDUP(IND_EE_EEA!F45/100,0)*100)","v":700},"MWh ele. gebruik","Hoog",{"$f":"IND_EE_EEA!G44","v":0.375},{"$f":"IF(Tbl_scenario[[#This Row],[%.]]<1%,0,ROUNDUP(IND_EE_EEA!G45/100,0)*100)","v":3400},{"$f":"Tbl_scenario[[#This Row],[Eenheid_ambitie1]]","v":"MWh ele. gebruik"},null,null,null,null,"De maatregelenfiches kunnen als gegeven beschouwd worden. Indien gewenst, kunnen aannames met gemeentespecifieke data overschreven worden."]
[null,null,19,"Particulier en commercieel vervoer","Modal Shift_Voet + Fiets","MOB_MS_voet",{"$f":"MOB_MS_voet!F39/1000","v":77160.286387763248},"voertuigkilometers (x1000)","Laag",{"$f":"MOB_MS_voet!$F$48","v":0.15},{"$f":"IF(Tbl_scenario[[#This Row],[%]]<1%,0,ROUNDUP(MOB_MS_voet!F49/1000000,0)*1000)","v":12000},"voertuigkm (x1000)","Hoog",{"$f":"MOB_MS_voet!$G$48","v":0.75},{"$f":"IF(Tbl_scenario[[#This Row],[%.]]<1%,0,ROUNDUP(MOB_MS_voet!G49/1000000,0)*1000)","v":58000},{"$f":"Tbl_scenario[[#This Row],[Eenheid_ambitie1]]","v":"voertuigkm (x1000)"}]
[null,null,20,"Particulier en commercieel vervoer","Modal Shift_Elektrische Fiets","MOB_MS_EFiets",{"$f":"MOB_MS_EFiets!F40/1000","v":64300.238656469373},"voertuigkilometers (x1000)","Laag",{"$f":"MOB_MS_EFiets!F49","v":0.15},{"$f":"IF(Tbl_scenario[[#This Row],[%]]<1%,0,ROUNDUP(MOB_MS_EFiets!F50/1000000,0)*1000)","v":10000},"voertuigkm (x1000)","Hoog",{"$f":"MOB_MS_EFiets!G49","v":0.75},{"$f":"IF(Tbl_scenario[[#This Row],[%.]]<1%,0,ROUNDUP(MOB_MS_EFiets!G50/1000000,0)*1000)","v":49000},{"$f":"Tbl_scenario[[#This Row],[Eenheid_ambitie1]]","v":"voertuigkm (x1000)"},null,null,null,null,"4. Rekenblad Selectiecriteria: evaluatie maatregelen op basis van een aantal (kwalitatieve) criteria."]
[null,null,21,"Particulier en commercieel vervoer","Modal Shift_Openbaar vervoer","MOB_MS_OV",{"$f":"MOB_MS_OV!F40/1000","v":97736.362757833456},"voertuigkilometers (x1000)","Laag",{"$f":"MOB_MS_OV!F49","v":0.15},{"$f":"IF(Tbl_scenario[[#This Row],[%]]<1%,0,ROUNDUP(MOB_MS_OV!F50/1000000,0)*1000)","v":15000},"voertuigkm (x1000)","Hoog",{"$f":"MOB_MS_OV!G49","v":0.75},{"$f":"IF(Tbl_scenario[[#This Row],[%.]]<1%,0,ROUNDUP(MOB_MS_OV!G50/1000000,0)*1000)","v":74000},{"$f":"Tbl_scenario[[#This Row],[Eenheid_ambitie1]]","v":"voertuigkm (x1000)"},null,null,null,null,"Het rekenblad geeft een overzicht van alle maatregelen en evalueert de maatregelen aan de hand van volgende criteria:"]
[null,null,22,"Particulier en commercieel vervoer","Brandstofshift_Elektrische voertuigen","MOB_BS_EV",{"$f":"MOB_BS_EV!F37","v":39641.087836299906},"wagens","Laag",{"$f":"MOB_BS_EV!$F$46","v":0.05},{"$f":"IF(Tbl_scenario[[#This Row],[%]]<1%,0,ROUNDUP(MOB_BS_EV!F47/100,0)*100)","v":2000},"wagens","Hoog",{"$f":"MOB_BS_EV!$G$46","v":0.25},{"$f":"IF(Tbl_scenario[[#This Row],[%.]]<1%,0,ROUNDUP(MOB_BS_EV!G47/100,0)*100)","v":10000},{"$f":"Tbl_scenario[[#This Row],[Eenheid_ambitie1]]","v":"wagens"},null,null,null,null,"- direct CO2-reductiepotentieel "]
[null,null,23,"Particulier en commercieel vervoer","Brandstofshift_Waterstof","MOB_BS_H2",{"$f":"MOB_BS_H2!F38","v":40523.232176757127},"wagens","Laag",{"$f":"MOB_BS_H2!$F$47","v":1.2500000000000001E-2},{"$f":"IF(Tbl_scenario[[#This Row],[%]]<1%,0,ROUNDUP(MOB_BS_H2!F48/100,0)*100)","v":600},"wagens","Hoog",{"$f":"MOB_BS_H2!$G$47","v":6.25E-2},{"$f":"IF(Tbl_scenario[[#This Row],[%.]]<1%,0,ROUNDUP(MOB_BS_H2!G48/100,0)*100)","v":2600},{"$f":"Tbl_scenario[[#This Row],[Eenheid_ambitie1]]","v":"wagens"},null,null,null,null,"- kosteneffectiviteit (euro per ton CO2-reductie)"]
[null,null,24,"Lokale energieproductie","Elektriciteit_PV","LEN_PV",{"$f":"LEN_PV!F37","v":187974.80813283409},"MWh elektriciteitsproductie","Laag",{"$f":"LEN_PV!$F$46","v":7.4999999999999997E-2},{"$f":"IF(Tbl_scenario[[#This Row],[%]]<1%,0,ROUNDUP(LEN_PV!F47/1000,0)*1000)","v":15000},"MWh ele. productie","Hoog",{"$f":"LEN_PV!$G$46","v":0.375},{"$f":"IF(Tbl_scenario[[#This Row],[%.]]<1%,0,ROUNDUP(LEN_PV!G47/1000,0)*1000)","v":71000},{"$f":"Tbl_scenario[[#This Row],[Eenheid_ambitie1]]","v":"MWh ele. productie"},null,null,null,null,"- slagkracht/autonomie lokale overheid om maatregel te implementeren en ambitieniveau te realiseren"]
[null,null,25,"Lokale energieproductie","Elektriciteit_Wind","LEN_Wind",{"$f":"LEN_Wind!F36","v":145.48678458536585},"MW geïnstalleerd vermogen","Laag",{"$f":"LEN_Wind!$F$45","v":0.05},{"$f":"IF(Tbl_scenario[[#This Row],[%]]<1%,0,ROUNDUP(LEN_Wind!F46/1,0)*1)","v":8},"MW","Hoog",{"$f":"LEN_Wind!$G$45","v":0.25},{"$f":"IF(Tbl_scenario[[#This Row],[%.]]<1%,0,ROUNDUP(LEN_Wind!G46/10,0)*10)","v":40},{"$f":"Tbl_scenario[[#This Row],[Eenheid_ambitie1]]","v":"MW"},null,null,null,null,"- type maatregel (vraagreductie, efficiëntieverbetering, hernieuwbare energieproductie, elektrificatie)"]
[null,null,26,"Landbouw","Warmtepomp","LB_HER_WP",{"$f":"LB_HER_WP!F36","v":2672.4979466026161},"MWh warmteproductie","Laag",{"$f":"LB_HER_WP!F45","v":0.15000000000000002},{"$f":"IF(Tbl_scenario[[#This Row],[%]]<1%,0,ROUNDUP(LB_HER_WP!F46/100,0)*100)","v":500},"MWh","Hoog",{"$f":"LB_HER_WP!G45","v":0.35},{"$f":"IF(Tbl_scenario[[#This Row],[%.]]<1%,0,ROUNDUP(LB_HER_WP!G46/100,0)*100)","v":1000},{"$f":"Tbl_scenario[[#This Row],[Eenheid_ambitie1]]","v":"MWh"},null,null,null,null,"De gebruiker kan ambitieniveaus definiëren en prioriteiten stellen tussen maatregelen in functie van één of meerdere criteria."]
[null,null,27,"Landbouw","Hernieuwbare energie_Pocketvergisters","LB_HER_PocV",{"$f":"LB_HER_PocV!F37","v":19.7866},"MWh warmteproductie","Laag",{"$f":"LB_HER_PocV!$F$46","v":0.625},{"$f":"IF(Tbl_scenario[[#This Row],[%]]<1%,0,ROUNDUP(LB_HER_PocV!F47/10,0)*10)","v":20},"MWh","Hoog",{"$f":"LB_HER_PocV!$G$46","v":1},{"$f":"IF(Tbl_scenario[[#This Row],[%.]]<1%,0,ROUNDUP(LB_HER_PocV!G47/10,0)*10)","v":20},{"$f":"Tbl_scenario[[#This Row],[Eenheid_ambitie1]]","v":"MWh"},null,null,null,null,"Bv. meest kosteneffectieve maatregelen (i.e. laagste kost per ton CO2-reductie) of maatregelen met kosteneffectiviteit <=0 krijgen ambitieniveau \"hoog\""]
[null,null,28,"Landbouw","Hernieuwbare energie_Biomassaketels","LB_HER_BMK",{"$f":"LB_HER_BMK!F35","v":2904.8890723941477},"MWh warmteproductie","Laag",{"$f":"LB_HER_BMK!F44","v":0.05},{"$f":"IF(Tbl_scenario[[#This Row],[%]]<1%,0,ROUNDUP(LB_HER_BMK!F45/100,0)*100)","v":200},"MWh","Hoog",{"$f":"LB_HER_BMK!G44","v":0.25},{"$f":"IF(Tbl_scenario[[#This Row],[%.]]<1%,0,ROUNDUP(LB_HER_BMK!G45/100,0)*100)","v":800},{"$f":"Tbl_scenario[[#This Row],[Eenheid_ambitie1]]","v":"MWh"},null,null,null,null,"Bv. indien maatregelen die inspelen op vraagreductie prioriteit krijgen, kan voor deze maatregelen \"ambitieniveau \"hoog\" gekozen worden."]
[null,null,29,"Landbouw","Energieschermen","LB_EE_ENS",{"$f":"LB_EE_ENS!F36","v":534.49958932052323},"MWh warmteproductie","Laag",{"$f":"LB_EE_ENS!F45","v":0.1},{"$f":"IF(Tbl_scenario[[#This Row],[%]]<1%,0,ROUNDUP(LB_EE_ENS!F46/10,0)*10)","v":60},"MWh","Hoog",{"$f":"LB_EE_ENS!G45","v":0.5},{"$f":"IF(Tbl_scenario[[#This Row],[%.]]<1%,0,ROUNDUP(LB_EE_ENS!G46/10,0)*10)","v":270},{"$f":"Tbl_scenario[[#This Row],[Eenheid_ambitie1]]","v":"MWh"}]
[null,null,30,{"$f":"BLANCO_1!D9","v":"Huishoudens"},"Blanco","BLANCO_1",null,null,"Niet",null,{"$f":"IF(Tbl_scenario[[#This Row],[Scenario 1]]=\"Ja\",IF(ISBLANK(BLANCO_1_REDCO2_1),\"Factsheet invullen\",BLANCO_1_REDCO2_1),\"\")","v":""},{"$f":"IF(Tbl_scenario[[#This Row],[Scenario 1]]=\"Ja\",IF(ISBLANK(BLANCO_1_REDCO2_1),\"\",\"ton CO2 reductie\"),\"\")","v":""},"Niet",null,{"$f":"IF(Tbl_scenario[[#This Row],[Scenario 2]]=\"Ja\",IF(ISBLANK(BLANCO_1_REDCO2_2),\"Factsheet invullen\",BLANCO_1_REDCO2_2),\"\")","v":""},{"$f":"IF(Tbl_scenario[[#This Row],[Scenario 2]]=\"Ja\",IF(ISBLANK(BLANCO_1_REDCO2_2),\"\",\"ton CO2 reductie\"),\"\")","v":""},null,null,null,null,"Er zijn 3 blanco maatregelenfiches (cf. rij 39 - 41)  voor het uitwerken van \"niet-voor-gedefinieerde\" lokale maatregelen. "]
[null,null,31,{"$f":"BLANCO_2!D9","v":"Huishoudens"},"Blanco","BLANCO_2",null,null,"Niet",null,{"$f":"IF(Tbl_scenario[[#This Row],[Scenario 1]]=\"Ja\",IF(ISBLANK(BLANCO_2_REDCO2_1),\"Factsheet invullen\",BLANCO_2_REDCO2_1),\"\")","v":""},{"$f":"IF(Tbl_scenario[[#This Row],[Scenario 1]]=\"Ja\",IF(ISBLANK(BLANCO_2_REDCO2_1),\"\",\"ton CO2 reductie\"),\"\")","v":""},"Niet",null,{"$f":"IF(Tbl_scenario[[#This Row],[Scenario 2]]=\"Ja\",IF(ISBLANK(BLANCO_2_REDCO2_2),\"Factsheet invullen\",BLANCO_2_REDCO2_2),\"\")","v":""},{"$f":"IF(Tbl_scenario[[#This Row],[Scenario 2]]=\"Ja\",IF(ISBLANK(BLANCO_2_REDCO2_2),\"\",\"ton CO2 reductie\"),\"\")","v":""},null,null,null,null,"De gebruiker moet in deze blanco fiches de sector selecteren en ton CO2-reductie invullen opdat ze meegenomen worden in de doorrekeningen van de scenario's."]
[null,null,32,{"$f":"BLANCO_3!D9","v":"Huishoudens"},"Blanco","BLANCO_3",null,null,"Niet",null,{"$f":"IF(Tbl_scenario[[#This Row],[Scenario 1]]=\"Ja\",IF(ISBLANK(BLANCO_3_REDCO2_1),\"Factsheet invullen\",BLANCO_3_REDCO2_1),\"\")","v":""},{"$f":"IF(Tbl_scenario[[#This Row],[Scenario 1]]=\"Ja\",IF(ISBLANK(BLANCO_3_REDCO2_1),\"\",\"ton CO2 reductie\"),\"\")","v":""},"Niet",null,{"$f":"IF(Tbl_scenario[[#This Row],[Scenario 2]]=\"Ja\",IF(ISBLANK(BLANCO_3_REDCO2_2),\"Factsheet invullen\",BLANCO_3_REDCO2_2),\"\")","v":""},{"$f":"IF(Tbl_scenario[[#This Row],[Scenario 2]]=\"Ja\",IF(ISBLANK(BLANCO_3_REDCO2_2),\"\",\"ton CO2 reductie\"),\"\")","v":""}]
[]
[null,null,"Klik op \"Alles vernieuwen\" in menubalk (Gegevens).",null,null,null,null,null,null,null,null,null,null,null,null,null,null,"Naar Resultaat >>",null,null,"Als de scenario's gedefinieerd zijn, moet de gebruiker via \"Alles Vernieuwen\" (cf. menubalk Gegevens) de gekoppelde rekenbladen vernieuwen."]

{"sheet":"CO2-plafond","index":8,"n_rows":16,"n_cols":10,"rows_kept":16,"cut":false,"hidden":true,"merged":[]}
[null,"<< Naar Dashboard",null,null,null,null,null,null,null,"Berekeningen + celverwijzing binnen hetzelfde rekenblad"]
[null,null,null,null,null,null,null,null,null,"Verwijzing ander rekenblad"]
[null,null,null,null,null,null,null,null,null,"Vaste parameters uit externe gegevensbronnen, literatuur"]
[null,null,"Definitie CO2-plafond"]
[]
[null,null,"Parameters uit dashboard"]
[null,null,null,"Gemeente:",{"$f":"D_gemeente","v":"VITO"}]
[]
[null,null,null,"Referentie:",{"$f":"P_Doel_Referentie","v":"doel_INV"}]
[null,null,null,"Referentiejaar:",{"$f":"P_Doel_Jaar","v":2012}]
[null,null,null,"Reductie:",{"$f":"P_Doel_Reductie%","v":0.4}]
[]
[null,null,"Berekeningen"]
[null,null,null,"Referentieuitstoot",{"$f":"IF(P_Doel_Referentie=\"doel_INV\",SUM(tbl_AA_Data_all_DOEL[value_final]),IF(P_Doel_Referentie=\"doel_EIG\",P_Doel_Referentieuitstoot,NA()))","v":352252.46791540069}]
[null,null,null,"Reductie (%):",{"$f":"-ABS(P_Doel_Reductie%)","v":-0.4}]
[null,null,null,"CO2-plafond 2030",{"$f":"E14*(1+E15)","v":211351.48074924041}]

{"sheet":"Input->","index":9,"n_rows":17,"n_cols":14,"rows_kept":17,"cut":false,"hidden":false,"merged":[]}
[]
[null,null,"<< naar Dashboard",null,null,null,null,null,null,null,null,null,null,"naar Resultaat >>"]
[]
[null,null,"INPUT"]
[]
[null,null,"Handleiding"]
[]
[]
[null,null,null,"De input rekenbladen worden (grotendeels automatisch) gevuld met gegevens op basis van selecties die de gebruiker maakt in het Dashboard. "]
[null,null,null,"Let wel: indien de parameters in het dashboard aangepast worden, moeten de rekenbladen vernieuwd worden via  \"Alles vernieuwen\" (cf. menubalk Gegevens)."]
[]
[null,null,null,"In rekenblad CO2-plafond (verborgen) wordt de max. CO2-uitstoot voor 2030 automatisch berekend vertrekkende van de totale CO2-uitstoot uit een inventaris van Dept. Omgeving of een eigen inventaris."]
[null,null,null,"Het CO2-plafond wordt berekend ten opzichte van  het referentiejaar en voor het reductiepercentage dat geselecteerd/ingevuld wordt in het Dashboard."]
[]
[null,null,null,"In rekenblad INV (verborgen) wordt de inventaris van Dept. Omgeving voor het jaar 2017 automatisch ingelezen voor de gemeente die geselecteerd wordt in het Dashboard."]
[]
[null,null,null,"De gebruiker moet rekenblad EIG voorzien van eigen gegevens voor het jaar 2017 indien in het Dashboard gekozen wordt om impact maatregelen door te rekenen ten opzichte van eigen inventaris 2017 (EIG)."]

{"sheet":"INV","index":10,"n_rows":39,"n_cols":19,"rows_kept":39,"cut":false,"hidden":true,"merged":[[27,2,29,2],[27,3,27,17],[28,3,29,3],[28,4,29,4],[28,5,28,12],[28,13,28,17],[12,2,14,2],[12,3,12,17],[13,3,14,3],[13,4,14,4],[13,5,13,12],[13,13,13,17]]}
[]
[]
[null,null,"<< Naar Dashboard",null,null,null,null,null,null,null,null,null,null,"Berekeningen + celverwijzing binnen hetzelfde rekenblad"]
[null,null,null,null,null,null,null,null,null,null,null,null,null,"Verwijzing ander rekenblad"]
[null,null,"INV: inventaris Dept. Omgeving"]
[]
[null,null,"Gemeente:",{"$f":"D_gemeente","v":"VITO"}]
[null,null,"Referentiejaar:",{"$f":"P_Maatregelen_Jaar_Inventaris","v":2017}]
[]
[]
[null,null,"1. Energieverbruik en CO2-uitstoot"]
[]
[null,null,"(in MWh)","FINAAL ENERGIEVERBRUIK "]
[null,null,null,"Elektriciteit","Warmte/ Koude","Fossiele brandstoffen",null,null,null,null,null,null,null,"Hernieuwbare energie"]
[null,null,null,null,null,"Aardgas","Vloeibaar gas","Stookolie","Diesel","Benzine","Bruinkool","Steenkool","Andere fossiele brandstoffen","Plantaardige oliën","Bio-brandstof ","Overige biomassa","Zonne-/ thermische energie","Geo-thermische energie","Totaal"]
[null,null,"huishoudens",{"$f":"SUMIFS(tbl_AA_Data_all_REF[value_final],tbl_AA_Data_all_REF[sector],$C16,tbl_AA_Data_all_REF[energiedrager],D$14,tbl_AA_Data_all_REF[parameter],\"MWh\")","v":127526.537307762},{"$f":"SUMIFS(tbl_AA_Data_all_REF[value_final],tbl_AA_Data_all_REF[sector],$C16,tbl_AA_Data_all_REF[energiedrager],E$14,tbl_AA_Data_all_REF[parameter],\"MWh\")","v":0},{"$f":"SUMIFS(tbl_AA_Data_all_REF[value_final],tbl_AA_Data_all_REF[sector],$C16,tbl_AA_Data_all_REF[energiedrager],F$15,tbl_AA_Data_all_REF[parameter],\"MWh\")","v":306032.476479401},{"$f":"SUMIFS(tbl_AA_Data_all_REF[value_final],tbl_AA_Data_all_REF[sector],$C16,tbl_AA_Data_all_REF[energiedrager],G$15,tbl_AA_Data_all_REF[parameter],\"MWh\")","v":22233.353669345001},{"$f":"SUMIFS(tbl_AA_Data_all_REF[value_final],tbl_AA_Data_all_REF[sector],$C16,tbl_AA_Data_all_REF[energiedrager],H$15,tbl_AA_Data_all_REF[parameter],\"MWh\")","v":47771.738900874101},{"$f":"SUMIFS(tbl_AA_Data_all_REF[value_final],tbl_AA_Data_all_REF[sector],$C16,tbl_AA_Data_all_REF[energiedrager],I$15,tbl_AA_Data_all_REF[parameter],\"MWh\")","v":0},{"$f":"SUMIFS(tbl_AA_Data_all_REF[value_final],tbl_AA_Data_all_REF[sector],$C16,tbl_AA_Data_all_REF[energiedrager],J$15,tbl_AA_Data_all_REF[parameter],\"MWh\")","v":0},{"$f":"SUMIFS(tbl_AA_Data_all_REF[value_final],tbl_AA_Data_all_REF[sector],$C16,tbl_AA_Data_all_REF[energiedrager],K$15,tbl_AA_Data_all_REF[parameter],\"MWh\")","v":0},{"$f":"SUMIFS(tbl_AA_Data_all_REF[value_final],tbl_AA_Data_all_REF[sector],$C16,tbl_AA_Data_all_REF[energiedrager],L$15,tbl_AA_Data_all_REF[parameter],\"MWh\")","v":0},{"$f":"SUMIFS(tbl_AA_Data_all_REF[value_final],tbl_AA_Data_all_REF[sector],$C16,tbl_AA_Data_all_REF[energiedrager],M$15,tbl_AA_Data_all_REF[parameter],\"MWh\")","v":0},{"$f":"SUMIFS(tbl_AA_Data_all_REF[value_final],tbl_AA_Data_all_REF[sector],$C16,tbl_AA_Data_all_REF[energiedrager],N$15,tbl_AA_Data_all_REF[parameter],\"MWh\")","v":0},{"$f":"SUMIFS(tbl_AA_Data_all_REF[value_final],tbl_AA_Data_all_REF[sector],$C16,tbl_AA_Data_all_REF[energiedrager],O$15,tbl_AA_Data_all_REF[parameter],\"MWh\")","v":0},{"$f":"SUMIFS(tbl_AA_Data_all_REF[value_final],tbl_AA_Data_all_REF[sector],$C16,tbl_AA_Data_all_REF[energiedrager],P$15,tbl_AA_Data_all_REF[parameter],\"MWh\")","v":37071.393579026102},{"$f":"SUMIFS(tbl_AA_Data_all_REF[value_final],tbl_AA_Data_all_REF[sector],$C16,tbl_AA_Data_all_REF[energiedrager],Q$15,tbl_AA_Data_all_REF[parameter],\"MWh\")","v":1543.51949468311},{"$f":"SUMIFS(tbl_AA_Data_all_REF[value_final],tbl_AA_Data_all_REF[sector],$C16,tbl_AA_Data_all_REF[energiedrager],R$15,tbl_AA_Data_all_REF[parameter],\"MWh\")","v":2833.6350537672702},{"$f":"SUM(D16:R16)","v":545012.6544848585}]
[null,null,"tertiair",{"$f":"SUMIFS(tbl_AA_Data_all_REF[value_final],tbl_AA_Data_all_REF[sector],$C17,tbl_AA_Data_all_REF[energiedrager],D$14,tbl_AA_Data_all_REF[parameter],\"MWh\")","v":203063.715031},{"$f":"SUMIFS(tbl_AA_Data_all_REF[value_final],tbl_AA_Data_all_REF[sector],$C17,tbl_AA_Data_all_REF[energiedrager],E$14,tbl_AA_Data_all_REF[parameter],\"MWh\")","v":2948.7857142857101},{"$f":"SUMIFS(tbl_AA_Data_all_REF[value_final],tbl_AA_Data_all_REF[sector],$C17,tbl_AA_Data_all_REF[energiedrager],F$15,tbl_AA_Data_all_REF[parameter],\"MWh\")","v":206863.29540823301},{"$f":"SUMIFS(tbl_AA_Data_all_REF[value_final],tbl_AA_Data_all_REF[sector],$C17,tbl_AA_Data_all_REF[energiedrager],G$15,tbl_AA_Data_all_REF[parameter],\"MWh\")","v":2810.9554106997398},{"$f":"SUMIFS(tbl_AA_Data_all_REF[value_final],tbl_AA_Data_all_REF[sector],$C17,tbl_AA_Data_all_REF[energiedrager],H$15,tbl_AA_Data_all_REF[parameter],\"MWh\")","v":22454.524020404901},{"$f":"SUMIFS(tbl_AA_Data_all_REF[value_final],tbl_AA_Data_all_REF[sector],$C17,tbl_AA_Data_all_REF[energiedrager],I$15,tbl_AA_Data_all_REF[parameter],\"MWh\")","v":0},{"$f":"SUMIFS(tbl_AA_Data_all_REF[value_final],tbl_AA_Data_all_REF[sector],$C17,tbl_AA_Data_all_REF[energiedrager],J$15,tbl_AA_Data_all_REF[parameter],\"MWh\")","v":0},{"$f":"SUMIFS(tbl_AA_Data_all_REF[value_final],tbl_AA_Data_all_REF[sector],$C17,tbl_AA_Data_all_REF[energiedrager],K$15,tbl_AA_Data_all_REF[parameter],\"MWh\")","v":0},{"$f":"SUMIFS(tbl_AA_Data_all_REF[value_final],tbl_AA_Data_all_REF[sector],$C17,tbl_AA_Data_all_REF[energiedrager],L$15,tbl_AA_Data_all_REF[parameter],\"MWh\")","v":0.288711636060209},{"$f":"SUMIFS(tbl_AA_Data_all_REF[value_final],tbl_AA_Data_all_REF[sector],$C17,tbl_AA_Data_all_REF[energiedrager],M$15,tbl_AA_Data_all_REF[parameter],\"MWh\")","v":0},{"$f":"SUMIFS(tbl_AA_Data_all_REF[value_final],tbl_AA_Data_all_REF[sector],$C17,tbl_AA_Data_all_REF[energiedrager],N$15,tbl_AA_Data_all_REF[parameter],\"MWh\")","v":0},{"$f":"SUMIFS(tbl_AA_Data_all_REF[value_final],tbl_AA_Data_all_REF[sector],$C17,tbl_AA_Data_all_REF[energiedrager],O$15,tbl_AA_Data_all_REF[parameter],\"MWh\")","v":0},{"$f":"SUMIFS(tbl_AA_Data_all_REF[value_final],tbl_AA_Data_all_REF[sector],$C17,tbl_AA_Data_all_REF[energiedrager],P$15,tbl_AA_Data_all_REF[parameter],\"MWh\")","v":7957.0281815387498},{"$f":"SUMIFS(tbl_AA_Data_all_REF[value_final],tbl_AA_Data_all_REF[sector],$C17,tbl_AA_Data_all_REF[energiedrager],Q$15,tbl_AA_Data_all_REF[parameter],\"MWh\")","v":39.178086126729198},{"$f":"SUMIFS(tbl_AA_Data_all_REF[value_final],tbl_AA_Data_all_REF[sector],$C17,tbl_AA_Data_all_REF[energiedrager],R$15,tbl_AA_Data_all_REF[parameter],\"MWh\")","v":735.54793629093001},{"$f":"SUM(D17:R17)","v":446873.31850021583}]
[null,null,"openbare verlichting",{"$f":"SUMIFS(tbl_AA_Data_all_REF[value_final],tbl_AA_Data_all_REF[sector],$C18,tbl_AA_Data_all_REF[energiedrager],D$14,tbl_AA_Data_all_REF[parameter],\"MWh\")","v":5050.3500000000004},{"$f":"SUMIFS(tbl_AA_Data_all_REF[value_final],tbl_AA_Data_all_REF[sector],$C18,tbl_AA_Data_all_REF[energiedrager],E$14,tbl_AA_Data_all_REF[parameter],\"MWh\")","v":0},{"$f":"SUMIFS(tbl_AA_Data_all_REF[value_final],tbl_AA_Data_all_REF[sector],$C18,tbl_AA_Data_all_REF[energiedrager],F$15,tbl_AA_Data_all_REF[parameter],\"MWh\")","v":0},{"$f":"SUMIFS(tbl_AA_Data_all_REF[value_final],tbl_AA_Data_all_REF[sector],$C18,tbl_AA_Data_all_REF[energiedrager],G$15,tbl_AA_Data_all_REF[parameter],\"MWh\")","v":0},{"$f":"SUMIFS(tbl_AA_Data_all_REF[value_final],tbl_AA_Data_all_REF[sector],$C18,tbl_AA_Data_all_REF[energiedrager],H$15,tbl_AA_Data_all_REF[parameter],\"MWh\")","v":0},{"$f":"SUMIFS(tbl_AA_Data_all_REF[value_final],tbl_AA_Data_all_REF[sector],$C18,tbl_AA_Data_all_REF[energiedrager],I$15,tbl_AA_Data_all_REF[parameter],\"MWh\")","v":0},{"$f":"SUMIFS(tbl_AA_Data_all_REF[value_final],tbl_AA_Data_all_REF[sector],$C18,tbl_AA_Data_all_REF[energiedrager],J$15,tbl_AA_Data_all_REF[parameter],\"MWh\")","v":0},{"$f":"SUMIFS(tbl_AA_Data_all_REF[value_final],tbl_AA_Data_all_REF[sector],$C18,tbl_AA_Data_all_REF[energiedrager],K$15,tbl_AA_Data_all_REF[parameter],\"MWh\")","v":0},{"$f":"SUMIFS(tbl_AA_Data_all_REF[value_final],tbl_AA_Data_all_REF[sector],$C18,tbl_AA_Data_all_REF[energiedrager],L$15,tbl_AA_Data_all_REF[parameter],\"MWh\")","v":0},{"$f":"SUMIFS(tbl_AA_Data_all_REF[value_final],tbl_AA_Data_all_REF[sector],$C18,tbl_AA_Data_all_REF[energiedrager],M$15,tbl_AA_Data_all_REF[parameter],\"MWh\")","v":0},{"$f":"SUMIFS(tbl_AA_Data_all_REF[value_final],tbl_AA_Data_all_REF[sector],$C18,tbl_AA_Data_all_REF[energiedrager],N$15,tbl_AA_Data_all_REF[parameter],\"MWh\")","v":0},{"$f":"SUMIFS(tbl_AA_Data_all_REF[value_final],tbl_AA_Data_all_REF[sector],$C18,tbl_AA_Data_all_REF[energiedrager],O$15,tbl_AA_Data_all_REF[parameter],\"MWh\")","v":0},{"$f":"SUMIFS(tbl_AA_Data_all_REF[value_final],tbl_AA_Data_all_REF[sector],$C18,tbl_AA_Data_all_REF[energiedrager],P$15,tbl_AA_Data_all_REF[parameter],\"MWh\")","v":0},{"$f":"SUMIFS(tbl_AA_Data_all_REF[value_final],tbl_AA_Data_all_REF[sector],$C18,tbl_AA_Data_all_REF[energiedrager],Q$15,tbl_AA_Data_all_REF[parameter],\"MWh\")","v":0},{"$f":"SUMIFS(tbl_AA_Data_all_REF[value_final],tbl_AA_Data_all_REF[sector],$C18,tbl_AA_Data_all_REF[energiedrager],R$15,tbl_AA_Data_all_REF[parameter],\"MWh\")","v":0},{"$f":"SUM(D18:R18)","v":5050.3500000000004}]
[null,null,"landbouw",{"$f":"SUMIFS(tbl_AA_Data_all_REF[value_final],tbl_AA_Data_all_REF[sector],$C19,tbl_AA_Data_all_REF[energiedrager],D$14,tbl_AA_Data_all_REF[parameter],\"MWh\")","v":1577.6787409999999},{"$f":"SUMIFS(tbl_AA_Data_all_REF[value_final],tbl_AA_Data_all_REF[sector],$C19,tbl_AA_Data_all_REF[energiedrager],E$14,tbl_AA_Data_all_REF[parameter],\"MWh\")","v":0},{"$f":"SUMIFS(tbl_AA_Data_all_REF[value_final],tbl_AA_Data_all_REF[sector],$C19,tbl_AA_Data_all_REF[energiedrager],F$15,tbl_AA_Data_all_REF[parameter],\"MWh\")","v":1215.8444056000001},{"$f":"SUMIFS(tbl_AA_Data_all_REF[value_final],tbl_AA_Data_all_REF[sector],$C19,tbl_AA_Data_all_REF[energiedrager],G$15,tbl_AA_Data_all_REF[parameter],\"MWh\")","v":49.238833252343902},{"$f":"SUMIFS(tbl_AA_Data_all_REF[value_final],tbl_AA_Data_all_REF[sector],$C19,tbl_AA_Data_all_REF[energiedrager],H$15,tbl_AA_Data_all_REF[parameter],\"MWh\")","v":5575.6914412303204},{"$f":"SUMIFS(tbl_AA_Data_all_REF[value_final],tbl_AA_Data_all_REF[sector],$C19,tbl_AA_Data_all_REF[energiedrager],I$15,tbl_AA_Data_all_REF[parameter],\"MWh\")","v":0},{"$f":"SUMIFS(tbl_AA_Data_all_REF[value_final],tbl_AA_Data_all_REF[sector],$C19,tbl_AA_Data_all_REF[energiedrager],J$15,tbl_AA_Data_all_REF[parameter],\"MWh\")","v":0},{"$f":"SUMIFS(tbl_AA_Data_all_REF[value_final],tbl_AA_Data_all_REF[sector],$C19,tbl_AA_Data_all_REF[energiedrager],K$15,tbl_AA_Data_all_REF[parameter],\"MWh\")","v":0},{"$f":"SUMIFS(tbl_AA_Data_all_REF[value_final],tbl_AA_Data_all_REF[sector],$C19,tbl_AA_Data_all_REF[energiedrager],L$15,tbl_AA_Data_all_REF[parameter],\"MWh\")","v":434.66143425168201},{"$f":"SUMIFS(tbl_AA_Data_all_REF[value_final],tbl_AA_Data_all_REF[sector],$C19,tbl_AA_Data_all_REF[energiedrager],M$15,tbl_AA_Data_all_REF[parameter],\"MWh\")","v":0},{"$f":"SUMIFS(tbl_AA_Data_all_REF[value_final],tbl_AA_Data_all_REF[sector],$C19,tbl_AA_Data_all_REF[energiedrager],N$15,tbl_AA_Data_all_REF[parameter],\"MWh\")","v":0},{"$f":"SUMIFS(tbl_AA_Data_all_REF[value_final],tbl_AA_Data_all_REF[sector],$C19,tbl_AA_Data_all_REF[energiedrager],O$15,tbl_AA_Data_all_REF[parameter],\"MWh\")","v":0},{"$f":"SUMIFS(tbl_AA_Data_all_REF[value_final],tbl_AA_Data_all_REF[sector],$C19,tbl_AA_Data_all_REF[energiedrager],P$15,tbl_AA_Data_all_REF[parameter],\"MWh\")","v":0},{"$f":"SUMIFS(tbl_AA_Data_all_REF[value_final],tbl_AA_Data_all_REF[sector],$C19,tbl_AA_Data_all_REF[energiedrager],Q$15,tbl_AA_Data_all_REF[parameter],\"MWh\")","v":0},{"$f":"SUMIFS(tbl_AA_Data_all_REF[value_final],tbl_AA_Data_all_REF[sector],$C19,tbl_AA_Data_all_REF[energiedrager],R$15,tbl_AA_Data_all_REF[parameter],\"MWh\")","v":0},8853.1148553343464]
[null,null,"industrie (niet-ETS)",{"$f":"SUMIFS(tbl_AA_Data_all_REF[value_final],tbl_AA_Data_all_REF[sector],$C20,tbl_AA_Data_all_REF[energiedrager],D$14,tbl_AA_Data_all_REF[parameter],\"MWh\")","v":54306.759841999999},{"$f":"SUMIFS(tbl_AA_Data_all_REF[value_final],tbl_AA_Data_all_REF[sector],$C20,tbl_AA_Data_all_REF[energiedrager],E$14,tbl_AA_Data_all_REF[parameter],\"MWh\")","v":321.42857142857099},{"$f":"SUMIFS(tbl_AA_Data_all_REF[value_final],tbl_AA_Data_all_REF[sector],$C20,tbl_AA_Data_all_REF[energiedrager],F$15,tbl_AA_Data_all_REF[parameter],\"MWh\")","v":73917.279179770805},{"$f":"SUMIFS(tbl_AA_Data_all_REF[value_final],tbl_AA_Data_all_REF[sector],$C20,tbl_AA_Data_all_REF[energiedrager],G$15,tbl_AA_Data_all_REF[parameter],\"MWh\")","v":7698.60656769244},{"$f":"SUMIFS(tbl_AA_Data_all_REF[value_final],tbl_AA_Data_all_REF[sector],$C20,tbl_AA_Data_all_REF[energiedrager],H$15,tbl_AA_Data_all_REF[parameter],\"MWh\")","v":26458.876770011},{"$f":"SUMIFS(tbl_AA_Data_all_REF[value_final],tbl_AA_Data_all_REF[sector],$C20,tbl_AA_Data_all_REF[energiedrager],I$15,tbl_AA_Data_all_REF[parameter],\"MWh\")","v":0},{"$f":"SUMIFS(tbl_AA_Data_all_REF[value_final],tbl_AA_Data_all_REF[sector],$C20,tbl_AA_Data_all_REF[energiedrager],J$15,tbl_AA_Data_all_REF[parameter],\"MWh\")","v":0},{"$f":"SUMIFS(tbl_AA_Data_all_REF[value_final],tbl_AA_Data_all_REF[sector],$C20,tbl_AA_Data_all_REF[energiedrager],K$15,tbl_AA_Data_all_REF[parameter],\"MWh\")","v":0},{"$f":"SUMIFS(tbl_AA_Data_all_REF[value_final],tbl_AA_Data_all_REF[sector],$C20,tbl_AA_Data_all_REF[energiedrager],L$15,tbl_AA_Data_all_REF[parameter],\"MWh\")","v":210.359564591218},{"$f":"SUMIFS(tbl_AA_Data_all_REF[value_final],tbl_AA_Data_all_REF[sector],$C20,tbl_AA_Data_all_REF[energiedrager],M$15,tbl_AA_Data_all_REF[parameter],\"MWh\")","v":0},{"$f":"SUMIFS(tbl_AA_Data_all_REF[value_final],tbl_AA_Data_all_REF[sector],$C20,tbl_AA_Data_all_REF[energiedrager],N$15,tbl_AA_Data_all_REF[parameter],\"MWh\")","v":0},{"$f":"SUMIFS(tbl_AA_Data_all_REF[value_final],tbl_AA_Data_all_REF[sector],$C20,tbl_AA_Data_all_REF[energiedrager],O$15,tbl_AA_Data_all_REF[parameter],\"MWh\")","v":0},{"$f":"SUMIFS(tbl_AA_Data_all_REF[value_final],tbl_AA_Data_all_REF[sector],$C20,tbl_AA_Data_all_REF[energiedrager],P$15,tbl_AA_Data_all_REF[parameter],\"MWh\")","v":4975.3114207490698},{"$f":"SUMIFS(tbl_AA_Data_all_REF[value_final],tbl_AA_Data_all_REF[sector],$C20,tbl_AA_Data_all_REF[energiedrager],Q$15,tbl_AA_Data_all_REF[parameter],\"MWh\")","v":0},{"$f":"SUMIFS(tbl_AA_Data_all_REF[value_final],tbl_AA_Data_all_REF[sector],$C20,tbl_AA_Data_all_REF[energiedrager],R$15,tbl_AA_Data_all_REF[parameter],\"MWh\")","v":0},167888.62191624311]
[null,null,"particulier en commercieel vervoer",{"$f":"SUMIFS(tbl_AA_Data_all_REF[value_final],tbl_AA_Data_all_REF[sector],$C21,tbl_AA_Data_all_REF[energiedrager],D$14,tbl_AA_Data_all_REF[parameter],\"MWh\")","v":268.2514698486109},{"$f":"SUMIFS(tbl_AA_Data_all_REF[value_final],tbl_AA_Data_all_REF[sector],$C21,tbl_AA_Data_all_REF[energiedrager],E$14,tbl_AA_Data_all_REF[parameter],\"MWh\")","v":0},{"$f":"SUMIFS(tbl_AA_Data_all_REF[value_final],tbl_AA_Data_all_REF[sector],$C21,tbl_AA_Data_all_REF[energiedrager],F$15,tbl_AA_Data_all_REF[parameter],\"MWh\")","v":1089.0229576043771},{"$f":"SUMIFS(tbl_AA_Data_all_REF[value_final],tbl_AA_Data_all_REF[sector],$C21,tbl_AA_Data_all_REF[energiedrager],G$15,tbl_AA_Data_all_REF[parameter],\"MWh\")","v":837.32532823752808},{"$f":"SUMIFS(tbl_AA_Data_all_REF[value_final],tbl_AA_Data_all_REF[sector],$C21,tbl_AA_Data_all_REF[energiedrager],H$15,tbl_AA_Data_all_REF[parameter],\"MWh\")","v":0},{"$f":"SUMIFS(tbl_AA_Data_all_REF[value_final],tbl_AA_Data_all_REF[sector],$C21,tbl_AA_Data_all_REF[energiedrager],I$15,tbl_AA_Data_all_REF[parameter],\"MWh\")","v":296952.92095125193},{"$f":"SUMIFS(tbl_AA_Data_all_REF[value_final],tbl_AA_Data_all_REF[sector],$C21,tbl_AA_Data_all_REF[energiedrager],J$15,tbl_AA_Data_all_REF[parameter],\"MWh\")","v":81055.481859310399},{"$f":"SUMIFS(tbl_AA_Data_all_REF[value_final],tbl_AA_Data_all_REF[sector],$C21,tbl_AA_Data_all_REF[energiedrager],K$15,tbl_AA_Data_all_REF[parameter],\"MWh\")","v":0},{"$f":"SUMIFS(tbl_AA_Data_all_REF[value_final],tbl_AA_Data_all_REF[sector],$C21,tbl_AA_Data_all_REF[energiedrager],L$15,tbl_AA_Data_all_REF[parameter],\"MWh\")","v":0},{"$f":"SUMIFS(tbl_AA_Data_all_REF[value_final],tbl_AA_Data_all_REF[sector],$C21,tbl_AA_Data_all_REF[energiedrager],M$15,tbl_AA_Data_all_REF[parameter],\"MWh\")","v":0},{"$f":"SUMIFS(tbl_AA_Data_all_REF[value_final],tbl_AA_Data_all_REF[sector],$C21,tbl_AA_Data_all_REF[energiedrager],N$15,tbl_AA_Data_all_REF[parameter],\"MWh\")","v":0},{"$f":"SUMIFS(tbl_AA_Data_all_REF[value_final],tbl_AA_Data_all_REF[sector],$C21,tbl_AA_Data_all_REF[energiedrager],O$15,tbl_AA_Data_all_REF[parameter],\"MWh\")","v":22450.566167676341},{"$f":"SUMIFS(tbl_AA_Data_all_REF[value_final],tbl_AA_Data_all_REF[sector],$C21,tbl_AA_Data_all_REF[energiedrager],P$15,tbl_AA_Data_all_REF[parameter],\"MWh\")","v":0},{"$f":"SUMIFS(tbl_AA_Data_all_REF[value_final],tbl_AA_Data_all_REF[sector],$C21,tbl_AA_Data_all_REF[energiedrager],Q$15,tbl_AA_Data_all_REF[parameter],\"MWh\")","v":0},{"$f":"SUMIFS(tbl_AA_Data_all_REF[value_final],tbl_AA_Data_all_REF[sector],$C21,tbl_AA_Data_all_REF[energiedrager],R$15,tbl_AA_Data_all_REF[parameter],\"MWh\")","v":0},402653.56873392919]
[null,null,"openbaar vervoer",{"$f":"SUMIFS(tbl_AA_Data_all_REF[value_final],tbl_AA_Data_all_REF[sector],$C22,tbl_AA_Data_all_REF[energiedrager],D$14,tbl_AA_Data_all_REF[parameter],\"MWh\")","v":0},{"$f":"SUMIFS(tbl_AA_Data_all_REF[value_final],tbl_AA_Data_all_REF[sector],$C22,tbl_AA_Data_all_REF[energiedrager],E$14,tbl_AA_Data_all_REF[parameter],\"MWh\")","v":0},{"$f":"SUMIFS(tbl_AA_Data_all_REF[value_final],tbl_AA_Data_all_REF[sector],$C22,tbl_AA_Data_all_REF[energiedrager],F$15,tbl_AA_Data_all_REF[parameter],\"MWh\")","v":0},{"$f":"SUMIFS(tbl_AA_Data_all_REF[value_final],tbl_AA_Data_all_REF[sector],$C22,tbl_AA_Data_all_REF[energiedrager],G$15,tbl_AA_Data_all_REF[parameter],\"MWh\")","v":0},{"$f":"SUMIFS(tbl_AA_Data_all_REF[value_final],tbl_AA_Data_all_REF[sector],$C22,tbl_AA_Data_all_REF[energiedrager],H$15,tbl_AA_Data_all_REF[parameter],\"MWh\")","v":0},{"$f":"SUMIFS(tbl_AA_Data_all_REF[value_final],tbl_AA_Data_all_REF[sector],$C22,tbl_AA_Data_all_REF[energiedrager],I$15,tbl_AA_Data_all_REF[parameter],\"MWh\")","v":15542.8725799151},{"$f":"SUMIFS(tbl_AA_Data_all_REF[value_final],tbl_AA_Data_all_REF[sector],$C22,tbl_AA_Data_all_REF[energiedrager],J$15,tbl_AA_Data_all_REF[parameter],\"MWh\")","v":0},{"$f":"SUMIFS(tbl_AA_Data_all_REF[value_final],tbl_AA_Data_all_REF[sector],$C22,tbl_AA_Data_all_REF[energiedrager],K$15,tbl_AA_Data_all_REF[parameter],\"MWh\")","v":0},{"$f":"SUMIFS(tbl_AA_Data_all_REF[value_final],tbl_AA_Data_all_REF[sector],$C22,tbl_AA_Data_all_REF[energiedrager],L$15,tbl_AA_Data_all_REF[parameter],\"MWh\")","v":0},{"$f":"SUMIFS(tbl_AA_Data_all_REF[value_final],tbl_AA_Data_all_REF[sector],$C22,tbl_AA_Data_all_REF[energiedrager],M$15,tbl_AA_Data_all_REF[parameter],\"MWh\")","v":0},{"$f":"SUMIFS(tbl_AA_Data_all_REF[value_final],tbl_AA_Data_all_REF[sector],$C22,tbl_AA_Data_all_REF[energiedrager],N$15,tbl_AA_Data_all_REF[parameter],\"MWh\")","v":0},{"$f":"SUMIFS(tbl_AA_Data_all_REF[value_final],tbl_AA_Data_all_REF[sector],$C22,tbl_AA_Data_all_REF[energiedrager],O$15,tbl_AA_Data_all_REF[parameter],\"MWh\")","v":863.87457771605796},{"$f":"SUMIFS(tbl_AA_Data_all_REF[value_final],tbl_AA_Data_all_REF[sector],$C22,tbl_AA_Data_all_REF[energiedrager],P$15,tbl_AA_Data_all_REF[parameter],\"MWh\")","v":0},{"$f":"SUMIFS(tbl_AA_Data_all_REF[value_final],tbl_AA_Data_all_REF[sector],$C22,tbl_AA_Data_all_REF[energiedrager],Q$15,tbl_AA_Data_all_REF[parameter],\"MWh\")","v":0},{"$f":"SUMIFS(tbl_AA_Data_all_REF[value_final],tbl_AA_Data_all_REF[sector],$C22,tbl_AA_Data_all_REF[energiedrager],R$15,tbl_AA_Data_all_REF[parameter],\"MWh\")","v":0},16406.747157631158]
[null,null,"niet toegekend",{"$f":"SUMIFS(tbl_AA_Data_all_REF[value_final],tbl_AA_Data_all_REF[sector],$C23,tbl_AA_Data_all_REF[energiedrager],D$14,tbl_AA_Data_all_REF[parameter],\"MWh\")","v":9036.4562999999998},{"$f":"SUMIFS(tbl_AA_Data_all_REF[value_final],tbl_AA_Data_all_REF[sector],$C23,tbl_AA_Data_all_REF[energiedrager],E$14,tbl_AA_Data_all_REF[parameter],\"MWh\")","v":0},{"$f":"SUMIFS(tbl_AA_Data_all_REF[value_final],tbl_AA_Data_all_REF[sector],$C23,tbl_AA_Data_all_REF[energiedrager],F$15,tbl_AA_Data_all_REF[parameter],\"MWh\")","v":20316.052577999999},{"$f":"SUMIFS(tbl_AA_Data_all_REF[value_final],tbl_AA_Data_all_REF[sector],$C23,tbl_AA_Data_all_REF[energiedrager],G$15,tbl_AA_Data_all_REF[parameter],\"MWh\")","v":0},{"$f":"SUMIFS(tbl_AA_Data_all_REF[value_final],tbl_AA_Data_all_REF[sector],$C23,tbl_AA_Data_all_REF[energiedrager],H$15,tbl_AA_Data_all_REF[parameter],\"MWh\")","v":0},{"$f":"SUMIFS(tbl_AA_Data_all_REF[value_final],tbl_AA_Data_all_REF[sector],$C23,tbl_AA_Data_all_REF[energiedrager],I$15,tbl_AA_Data_all_REF[parameter],\"MWh\")","v":0},{"$f":"SUMIFS(tbl_AA_Data_all_REF[value_final],tbl_AA_Data_all_REF[sector],$C23,tbl_AA_Data_all_REF[energiedrager],J$15,tbl_AA_Data_all_REF[parameter],\"MWh\")","v":0},{"$f":"SUMIFS(tbl_AA_Data_all_REF[value_final],tbl_AA_Data_all_REF[sector],$C23,tbl_AA_Data_all_REF[energiedrager],K$15,tbl_AA_Data_all_REF[parameter],\"MWh\")","v":0},{"$f":"SUMIFS(tbl_AA_Data_all_REF[value_final],tbl_AA_Data_all_REF[sector],$C23,tbl_AA_Data_all_REF[energiedrager],L$15,tbl_AA_Data_all_REF[parameter],\"MWh\")","v":0},{"$f":"SUMIFS(tbl_AA_Data_all_REF[value_final],tbl_AA_Data_all_REF[sector],$C23,tbl_AA_Data_all_REF[energiedrager],M$15,tbl_AA_Data_all_REF[parameter],\"MWh\")","v":0},{"$f":"SUMIFS(tbl_AA_Data_all_REF[value_final],tbl_AA_Data_all_REF[sector],$C23,tbl_AA_Data_all_REF[energiedrager],N$15,tbl_AA_Data_all_REF[parameter],\"MWh\")","v":0},{"$f":"SUMIFS(tbl_AA_Data_all_REF[value_final],tbl_AA_Data_all_REF[sector],$C23,tbl_AA_Data_all_REF[energiedrager],O$15,tbl_AA_Data_all_REF[parameter],\"MWh\")","v":0},{"$f":"SUMIFS(tbl_AA_Data_all_REF[value_final],tbl_AA_Data_all_REF[sector],$C23,tbl_AA_Data_all_REF[energiedrager],P$15,tbl_AA_Data_all_REF[parameter],\"MWh\")","v":0},{"$f":"SUMIFS(tbl_AA_Data_all_REF[value_final],tbl_AA_Data_all_REF[sector],$C23,tbl_AA_Data_all_REF[energiedrager],Q$15,tbl_AA_Data_all_REF[parameter],\"MWh\")","v":0},{"$f":"SUMIFS(tbl_AA_Data_all_REF[value_final],tbl_AA_Data_all_REF[sector],$C23,tbl_AA_Data_all_REF[energiedrager],R$15,tbl_AA_Data_all_REF[parameter],\"MWh\")","v":0},29352.508878000001]
[null,null,"totaal",{"$f":"SUM(D16:D23)","v":400829.74869161064},{"$f":"SUM(E16:E23)","v":3270.2142857142812},609433.97100860917,33629.47980922705,102260.83113252032,312495.79353116703,81055.481859310399,0,645.30971047896026,0,0,23314.4407453924,50003.733181313924,1582.6975808098391,3569.1829900582002,1622090.8845262125]
[]
[null,null,"emissiefactoren (ton CO2 per MWh)",{"$f":"IFERROR(D39/D24,0)","v":0.19750015989190264},{"$f":"IFERROR(E39/E24,0)","v":0.23764705882352966},{"$f":"'AA_Energieprijs&Discontovoet'!F98","v":0.20200000000000001},{"$f":"'AA_Energieprijs&Discontovoet'!F99","v":0.22700000000000001},{"$f":"'AA_Energieprijs&Discontovoet'!F100","v":0.26700000000000002},{"$f":"'AA_Energieprijs&Discontovoet'!F101","v":0.26700000000000002},{"$f":"'AA_Energieprijs&Discontovoet'!F102","v":0.249},{"$f":"'AA_Energieprijs&Discontovoet'!F103","v":0.35099999999999998},{"$f":"'AA_Energieprijs&Discontovoet'!F104","v":0.35399999999999998},{"$f":"'AA_Energieprijs&Discontovoet'!F105","v":0.26400000000000001},{"$f":"'AA_Energieprijs&Discontovoet'!F106","v":0},{"$f":"'AA_Energieprijs&Discontovoet'!F107","v":0},{"$f":"'AA_Energieprijs&Discontovoet'!F108","v":0},{"$f":"'AA_Energieprijs&Discontovoet'!F109","v":0},{"$f":"'AA_Energieprijs&Discontovoet'!F110","v":0}]
[]
[null,null,"(in ton)","CO2-emissies"]
[null,null,null,"Elektriciteit","Warmte/ Koude","Fossiele brandstoffen",null,null,null,null,null,null,null,"Hernieuwbare energie"]
[null,null,null,null,null,"Aardgas","Vloeibaar gas","Stookolie","Diesel","Benzine","Bruinkool","Steenkool","Andere fossiele brandstoffen","Plantaardige oliën","Bio-brandstof ","Overige biomassa","Zonne-/ thermische energie","Geo-thermische energie","Totaal"]
[null,null,"huishoudens",{"$f":"SUMIFS(tbl_AA_Data_all_REF[value_final],tbl_AA_Data_all_REF[sector],$C31,tbl_AA_Data_all_REF[energiedrager],D$29,tbl_AA_Data_all_REF[parameter],\"CO2\")","v":25186.511508743701},{"$f":"SUMIFS(tbl_AA_Data_all_REF[value_final],tbl_AA_Data_all_REF[sector],$C31,tbl_AA_Data_all_REF[energiedrager],E$29,tbl_AA_Data_all_REF[parameter],\"CO2\")","v":0},{"$f":"SUMIFS(tbl_AA_Data_all_REF[value_final],tbl_AA_Data_all_REF[sector],$C31,tbl_AA_Data_all_REF[energiedrager],F$30,tbl_AA_Data_all_REF[parameter],\"CO2\")","v":61818.560248839},{"$f":"SUMIFS(tbl_AA_Data_all_REF[value_final],tbl_AA_Data_all_REF[sector],$C31,tbl_AA_Data_all_REF[energiedrager],G$30,tbl_AA_Data_all_REF[parameter],\"CO2\")","v":5046.9712829413102},{"$f":"SUMIFS(tbl_AA_Data_all_REF[value_final],tbl_AA_Data_all_REF[sector],$C31,tbl_AA_Data_all_REF[energiedrager],H$30,tbl_AA_Data_all_REF[parameter],\"CO2\")","v":12755.054286533399},{"$f":"SUMIFS(tbl_AA_Data_all_REF[value_final],tbl_AA_Data_all_REF[sector],$C31,tbl_AA_Data_all_REF[energiedrager],I$30,tbl_AA_Data_all_REF[parameter],\"CO2\")","v":0},{"$f":"SUMIFS(tbl_AA_Data_all_REF[value_final],tbl_AA_Data_all_REF[sector],$C31,tbl_AA_Data_all_REF[energiedrager],J$30,tbl_AA_Data_all_REF[parameter],\"CO2\")","v":0},{"$f":"SUMIFS(tbl_AA_Data_all_REF[value_final],tbl_AA_Data_all_REF[sector],$C31,tbl_AA_Data_all_REF[energiedrager],K$30,tbl_AA_Data_all_REF[parameter],\"CO2\")","v":0},{"$f":"SUMIFS(tbl_AA_Data_all_REF[value_final],tbl_AA_Data_all_REF[sector],$C31,tbl_AA_Data_all_REF[energiedrager],L$30,tbl_AA_Data_all_REF[parameter],\"CO2\")","v":0},{"$f":"SUMIFS(tbl_AA_Data_all_REF[value_final],tbl_AA_Data_all_REF[sector],$C31,tbl_AA_Data_all_REF[energiedrager],M$30,tbl_AA_Data_all_REF[parameter],\"CO2\")","v":0},{"$f":"SUMIFS(tbl_AA_Data_all_REF[value_final],tbl_AA_Data_all_REF[sector],$C31,tbl_AA_Data_all_REF[energiedrager],N$30,tbl_AA_Data_all_REF[parameter],\"CO2\")","v":0},{"$f":"SUMIFS(tbl_AA_Data_all_REF[value_final],tbl_AA_Data_all_REF[sector],$C31,tbl_AA_Data_all_REF[energiedrager],O$30,tbl_AA_Data_all_REF[parameter],\"CO2\")","v":0},{"$f":"SUMIFS(tbl_AA_Data_all_REF[value_final],tbl_AA_Data_all_REF[sector],$C31,tbl_AA_Data_all_REF[energiedrager],P$30,tbl_AA_Data_all_REF[parameter],\"CO2\")","v":0},{"$f":"SUMIFS(tbl_AA_Data_all_REF[value_final],tbl_AA_Data_all_REF[sector],$C31,tbl_AA_Data_all_REF[energiedrager],Q$30,tbl_AA_Data_all_REF[parameter],\"CO2\")","v":0},{"$f":"SUMIFS(tbl_AA_Data_all_REF[value_final],tbl_AA_Data_all_REF[sector],$C31,tbl_AA_Data_all_REF[energiedrager],R$30,tbl_AA_Data_all_REF[parameter],\"CO2\")","v":0},{"$f":"SUM(D31:R31)","v":104807.0973270574}]
[null,null,"tertiair",{"$f":"SUMIFS(tbl_AA_Data_all_REF[value_final],tbl_AA_Data_all_REF[sector],$C32,tbl_AA_Data_all_REF[energiedrager],D$29,tbl_AA_Data_all_REF[parameter],\"CO2\")","v":40105.116186866202},{"$f":"SUMIFS(tbl_AA_Data_all_REF[value_final],tbl_AA_Data_all_REF[sector],$C32,tbl_AA_Data_all_REF[energiedrager],E$29,tbl_AA_Data_all_REF[parameter],\"CO2\")","v":700.77025210084003},{"$f":"SUMIFS(tbl_AA_Data_all_REF[value_final],tbl_AA_Data_all_REF[sector],$C32,tbl_AA_Data_all_REF[energiedrager],F$30,tbl_AA_Data_all_REF[parameter],\"CO2\")","v":41786.385672463002},{"$f":"SUMIFS(tbl_AA_Data_all_REF[value_final],tbl_AA_Data_all_REF[sector],$C32,tbl_AA_Data_all_REF[energiedrager],G$30,tbl_AA_Data_all_REF[parameter],\"CO2\")","v":638.08687822884099},{"$f":"SUMIFS(tbl_AA_Data_all_REF[value_final],tbl_AA_Data_all_REF[sector],$C32,tbl_AA_Data_all_REF[energiedrager],H$30,tbl_AA_Data_all_REF[parameter],\"CO2\")","v":5995.3579134481097},{"$f":"SUMIFS(tbl_AA_Data_all_REF[value_final],tbl_AA_Data_all_REF[sector],$C32,tbl_AA_Data_all_REF[energiedrager],I$30,tbl_AA_Data_all_REF[parameter],\"CO2\")","v":0},{"$f":"SUMIFS(tbl_AA_Data_all_REF[value_final],tbl_AA_Data_all_REF[sector],$C32,tbl_AA_Data_all_REF[energiedrager],J$30,tbl_AA_Data_all_REF[parameter],\"CO2\")","v":0},{"$f":"SUMIFS(tbl_AA_Data_all_REF[value_final],tbl_AA_Data_all_REF[sector],$C32,tbl_AA_Data_all_REF[energiedrager],K$30,tbl_AA_Data_all_REF[parameter],\"CO2\")","v":0},{"$f":"SUMIFS(tbl_AA_Data_all_REF[value_final],tbl_AA_Data_all_REF[sector],$C32,tbl_AA_Data_all_REF[energiedrager],L$30,tbl_AA_Data_all_REF[parameter],\"CO2\")","v":0.102203919165314},{"$f":"SUMIFS(tbl_AA_Data_all_REF[value_final],tbl_AA_Data_all_REF[sector],$C32,tbl_AA_Data_all_REF[energiedrager],M$30,tbl_AA_Data_all_REF[parameter],\"CO2\")","v":0},{"$f":"SUMIFS(tbl_AA_Data_all_REF[value_final],tbl_AA_Data_all_REF[sector],$C32,tbl_AA_Data_all_REF[energiedrager],N$30,tbl_AA_Data_all_REF[parameter],\"CO2\")","v":0},{"$f":"SUMIFS(tbl_AA_Data_all_REF[value_final],tbl_AA_Data_all_REF[sector],$C32,tbl_AA_Data_all_REF[energiedrager],O$30,tbl_AA_Data_all_REF[parameter],\"CO2\")","v":0},{"$f":"SUMIFS(tbl_AA_Data_all_REF[value_final],tbl_AA_Data_all_REF[sector],$C32,tbl_AA_Data_all_REF[energiedrager],P$30,tbl_AA_Data_all_REF[parameter],\"CO2\")","v":0},{"$f":"SUMIFS(tbl_AA_Data_all_REF[value_final],tbl_AA_Data_all_REF[sector],$C32,tbl_AA_Data_all_REF[energiedrager],Q$30,tbl_AA_Data_all_REF[parameter],\"CO2\")","v":0},{"$f":"SUMIFS(tbl_AA_Data_all_REF[value_final],tbl_AA_Data_all_REF[sector],$C32,tbl_AA_Data_all_REF[energiedrager],R$30,tbl_AA_Data_all_REF[parameter],\"CO2\")","v":0},89225.819107026153]
[null,null,"openbare verlichting",{"$f":"SUMIFS(tbl_AA_Data_all_REF[value_final],tbl_AA_Data_all_REF[sector],$C33,tbl_AA_Data_all_REF[energiedrager],D$29,tbl_AA_Data_all_REF[parameter],\"CO2\")","v":997.44493251006998},{"$f":"SUMIFS(tbl_AA_Data_all_REF[value_final],tbl_AA_Data_all_REF[sector],$C33,tbl_AA_Data_all_REF[energiedrager],E$29,tbl_AA_Data_all_REF[parameter],\"CO2\")","v":0},{"$f":"SUMIFS(tbl_AA_Data_all_REF[value_final],tbl_AA_Data_all_REF[sector],$C33,tbl_AA_Data_all_REF[energiedrager],F$30,tbl_AA_Data_all_REF[parameter],\"CO2\")","v":0},{"$f":"SUMIFS(tbl_AA_Data_all_REF[value_final],tbl_AA_Data_all_REF[sector],$C33,tbl_AA_Data_all_REF[energiedrager],G$30,tbl_AA_Data_all_REF[parameter],\"CO2\")","v":0},{"$f":"SUMIFS(tbl_AA_Data_all_REF[value_final],tbl_AA_Data_all_REF[sector],$C33,tbl_AA_Data_all_REF[energiedrager],H$30,tbl_AA_Data_all_REF[parameter],\"CO2\")","v":0},{"$f":"SUMIFS(tbl_AA_Data_all_REF[value_final],tbl_AA_Data_all_REF[sector],$C33,tbl_AA_Data_all_REF[energiedrager],I$30,tbl_AA_Data_all_REF[parameter],\"CO2\")","v":0},{"$f":"SUMIFS(tbl_AA_Data_all_REF[value_final],tbl_AA_Data_all_REF[sector],$C33,tbl_AA_Data_all_REF[energiedrager],J$30,tbl_AA_Data_all_REF[parameter],\"CO2\")","v":0},{"$f":"SUMIFS(tbl_AA_Data_all_REF[value_final],tbl_AA_Data_all_REF[sector],$C33,tbl_AA_Data_all_REF[energiedrager],K$30,tbl_AA_Data_all_REF[parameter],\"CO2\")","v":0},{"$f":"SUMIFS(tbl_AA_Data_all_REF[value_final],tbl_AA_Data_all_REF[sector],$C33,tbl_AA_Data_all_REF[energiedrager],L$30,tbl_AA_Data_all_REF[parameter],\"CO2\")","v":0},{"$f":"SUMIFS(tbl_AA_Data_all_REF[value_final],tbl_AA_Data_all_REF[sector],$C33,tbl_AA_Data_all_REF[energiedrager],M$30,tbl_AA_Data_all_REF[parameter],\"CO2\")","v":0},{"$f":"SUMIFS(tbl_AA_Data_all_REF[value_final],tbl_AA_Data_all_REF[sector],$C33,tbl_AA_Data_all_REF[energiedrager],N$30,tbl_AA_Data_all_REF[parameter],\"CO2\")","v":0},{"$f":"SUMIFS(tbl_AA_Data_all_REF[value_final],tbl_AA_Data_all_REF[sector],$C33,tbl_AA_Data_all_REF[energiedrager],O$30,tbl_AA_Data_all_REF[parameter],\"CO2\")","v":0},{"$f":"SUMIFS(tbl_AA_Data_all_REF[value_final],tbl_AA_Data_all_REF[sector],$C33,tbl_AA_Data_all_REF[energiedrager],P$30,tbl_AA_Data_all_REF[parameter],\"CO2\")","v":0},{"$f":"SUMIFS(tbl_AA_Data_all_REF[value_final],tbl_AA_Data_all_REF[sector],$C33,tbl_AA_Data_all_REF[energiedrager],Q$30,tbl_AA_Data_all_REF[parameter],\"CO2\")","v":0},{"$f":"SUMIFS(tbl_AA_Data_all_REF[value_final],tbl_AA_Data_all_REF[sector],$C33,tbl_AA_Data_all_REF[energiedrager],R$30,tbl_AA_Data_all_REF[parameter],\"CO2\")","v":0},997.44493251006998]
[null,null,"landbouw",{"$f":"SUMIFS(tbl_AA_Data_all_REF[value_final],tbl_AA_Data_all_REF[sector],$C34,tbl_AA_Data_all_REF[energiedrager],D$29,tbl_AA_Data_all_REF[parameter],\"CO2\")","v":311.59180360555501},{"$f":"SUMIFS(tbl_AA_Data_all_REF[value_final],tbl_AA_Data_all_REF[sector],$C34,tbl_AA_Data_all_REF[energiedrager],E$29,tbl_AA_Data_all_REF[parameter],\"CO2\")","v":0},{"$f":"SUMIFS(tbl_AA_Data_all_REF[value_final],tbl_AA_Data_all_REF[sector],$C34,tbl_AA_Data_all_REF[energiedrager],F$30,tbl_AA_Data_all_REF[parameter],\"CO2\")","v":245.6005699312},{"$f":"SUMIFS(tbl_AA_Data_all_REF[value_final],tbl_AA_Data_all_REF[sector],$C34,tbl_AA_Data_all_REF[energiedrager],G$30,tbl_AA_Data_all_REF[parameter],\"CO2\")","v":11.1772151482821},{"$f":"SUMIFS(tbl_AA_Data_all_REF[value_final],tbl_AA_Data_all_REF[sector],$C34,tbl_AA_Data_all_REF[energiedrager],H$30,tbl_AA_Data_all_REF[parameter],\"CO2\")","v":1488.7096148085},{"$f":"SUMIFS(tbl_AA_Data_all_REF[value_final],tbl_AA_Data_all_REF[sector],$C34,tbl_AA_Data_all_REF[energiedrager],I$30,tbl_AA_Data_all_REF[parameter],\"CO2\")","v":0},{"$f":"SUMIFS(tbl_AA_Data_all_REF[value_final],tbl_AA_Data_all_REF[sector],$C34,tbl_AA_Data_all_REF[energiedrager],J$30,tbl_AA_Data_all_REF[parameter],\"CO2\")","v":0},{"$f":"SUMIFS(tbl_AA_Data_all_REF[value_final],tbl_AA_Data_all_REF[sector],$C34,tbl_AA_Data_all_REF[energiedrager],K$30,tbl_AA_Data_all_REF[parameter],\"CO2\")","v":0},{"$f":"SUMIFS(tbl_AA_Data_all_REF[value_final],tbl_AA_Data_all_REF[sector],$C34,tbl_AA_Data_all_REF[energiedrager],L$30,tbl_AA_Data_all_REF[parameter],\"CO2\")","v":153.87014772509499},{"$f":"SUMIFS(tbl_AA_Data_all_REF[value_final],tbl_AA_Data_all_REF[sector],$C34,tbl_AA_Data_all_REF[energiedrager],M$30,tbl_AA_Data_all_REF[parameter],\"CO2\")","v":0},{"$f":"SUMIFS(tbl_AA_Data_all_REF[value_final],tbl_AA_Data_all_REF[sector],$C34,tbl_AA_Data_all_REF[energiedrager],N$30,tbl_AA_Data_all_REF[parameter],\"CO2\")","v":0},{"$f":"SUMIFS(tbl_AA_Data_all_REF[value_final],tbl_AA_Data_all_REF[sector],$C34,tbl_AA_Data_all_REF[energiedrager],O$30,tbl_AA_Data_all_REF[parameter],\"CO2\")","v":0},{"$f":"SUMIFS(tbl_AA_Data_all_REF[value_final],tbl_AA_Data_all_REF[sector],$C34,tbl_AA_Data_all_REF[energiedrager],P$30,tbl_AA_Data_all_REF[parameter],\"CO2\")","v":0},{"$f":"SUMIFS(tbl_AA_Data_all_REF[value_final],tbl_AA_Data_all_REF[sector],$C34,tbl_AA_Data_all_REF[energiedrager],Q$30,tbl_AA_Data_all_REF[parameter],\"CO2\")","v":0},{"$f":"SUMIFS(tbl_AA_Data_all_REF[value_final],tbl_AA_Data_all_REF[sector],$C34,tbl_AA_Data_all_REF[energiedrager],R$30,tbl_AA_Data_all_REF[parameter],\"CO2\")","v":0},2210.9493512186323]
[null,null,"industrie (niet-ETS)",{"$f":"SUMIFS(tbl_AA_Data_all_REF[value_final],tbl_AA_Data_all_REF[sector],$C35,tbl_AA_Data_all_REF[energiedrager],D$29,tbl_AA_Data_all_REF[parameter],\"CO2\")","v":10725.5937520062},{"$f":"SUMIFS(tbl_AA_Data_all_REF[value_final],tbl_AA_Data_all_REF[sector],$C35,tbl_AA_Data_all_REF[energiedrager],E$29,tbl_AA_Data_all_REF[parameter],\"CO2\")","v":76.386554621848802},{"$f":"SUMIFS(tbl_AA_Data_all_REF[value_final],tbl_AA_Data_all_REF[sector],$C35,tbl_AA_Data_all_REF[energiedrager],F$30,tbl_AA_Data_all_REF[parameter],\"CO2\")","v":14931.290394313701},{"$f":"SUMIFS(tbl_AA_Data_all_REF[value_final],tbl_AA_Data_all_REF[sector],$C35,tbl_AA_Data_all_REF[energiedrager],G$30,tbl_AA_Data_all_REF[parameter],\"CO2\")","v":1747.5836908661799},{"$f":"SUMIFS(tbl_AA_Data_all_REF[value_final],tbl_AA_Data_all_REF[sector],$C35,tbl_AA_Data_all_REF[energiedrager],H$30,tbl_AA_Data_all_REF[parameter],\"CO2\")","v":7064.5200975929301},{"$f":"SUMIFS(tbl_AA_Data_all_REF[value_final],tbl_AA_Data_all_REF[sector],$C35,tbl_AA_Data_all_REF[energiedrager],I$30,tbl_AA_Data_all_REF[parameter],\"CO2\")","v":0},{"$f":"SUMIFS(tbl_AA_Data_all_REF[value_final],tbl_AA_Data_all_REF[sector],$C35,tbl_AA_Data_all_REF[energiedrager],J$30,tbl_AA_Data_all_REF[parameter],\"CO2\")","v":0},{"$f":"SUMIFS(tbl_AA_Data_all_REF[value_final],tbl_AA_Data_all_REF[sector],$C35,tbl_AA_Data_all_REF[energiedrager],K$30,tbl_AA_Data_all_REF[parameter],\"CO2\")","v":0},{"$f":"SUMIFS(tbl_AA_Data_all_REF[value_final],tbl_AA_Data_all_REF[sector],$C35,tbl_AA_Data_all_REF[energiedrager],L$30,tbl_AA_Data_all_REF[parameter],\"CO2\")","v":74.467285865291203},{"$f":"SUMIFS(tbl_AA_Data_all_REF[value_final],tbl_AA_Data_all_REF[sector],$C35,tbl_AA_Data_all_REF[energiedrager],M$30,tbl_AA_Data_all_REF[parameter],\"CO2\")","v":0},{"$f":"SUMIFS(tbl_AA_Data_all_REF[value_final],tbl_AA_Data_all_REF[sector],$C35,tbl_AA_Data_all_REF[energiedrager],N$30,tbl_AA_Data_all_REF[parameter],\"CO2\")","v":0},{"$f":"SUMIFS(tbl_AA_Data_all_REF[value_final],tbl_AA_Data_all_REF[sector],$C35,tbl_AA_Data_all_REF[energiedrager],O$30,tbl_AA_Data_all_REF[parameter],\"CO2\")","v":0},{"$f":"SUMIFS(tbl_AA_Data_all_REF[value_final],tbl_AA_Data_all_REF[sector],$C35,tbl_AA_Data_all_REF[energiedrager],P$30,tbl_AA_Data_all_REF[parameter],\"CO2\")","v":0},{"$f":"SUMIFS(tbl_AA_Data_all_REF[value_final],tbl_AA_Data_all_REF[sector],$C35,tbl_AA_Data_all_REF[energiedrager],Q$30,tbl_AA_Data_all_REF[parameter],\"CO2\")","v":0},{"$f":"SUMIFS(tbl_AA_Data_all_REF[value_final],tbl_AA_Data_all_REF[sector],$C35,tbl_AA_Data_all_REF[energiedrager],R$30,tbl_AA_Data_all_REF[parameter],\"CO2\")","v":0},34619.841775266155]
[null,null,"particulier en commercieel vervoer",{"$f":"SUMIFS(tbl_AA_Data_all_REF[value_final],tbl_AA_Data_all_REF[sector],$C36,tbl_AA_Data_all_REF[energiedrager],D$29,tbl_AA_Data_all_REF[parameter],\"CO2\")","v":52.979708186338499},{"$f":"SUMIFS(tbl_AA_Data_all_REF[value_final],tbl_AA_Data_all_REF[sector],$C36,tbl_AA_Data_all_REF[energiedrager],E$29,tbl_AA_Data_all_REF[parameter],\"CO2\")","v":0},{"$f":"SUMIFS(tbl_AA_Data_all_REF[value_final],tbl_AA_Data_all_REF[sector],$C36,tbl_AA_Data_all_REF[energiedrager],F$30,tbl_AA_Data_all_REF[parameter],\"CO2\")","v":219.98263743608442},{"$f":"SUMIFS(tbl_AA_Data_all_REF[value_final],tbl_AA_Data_all_REF[sector],$C36,tbl_AA_Data_all_REF[energiedrager],G$30,tbl_AA_Data_all_REF[parameter],\"CO2\")","v":190.07284950991848},{"$f":"SUMIFS(tbl_AA_Data_all_REF[value_final],tbl_AA_Data_all_REF[sector],$C36,tbl_AA_Data_all_REF[energiedrager],H$30,tbl_AA_Data_all_REF[parameter],\"CO2\")","v":0},{"$f":"SUMIFS(tbl_AA_Data_all_REF[value_final],tbl_AA_Data_all_REF[sector],$C36,tbl_AA_Data_all_REF[energiedrager],I$30,tbl_AA_Data_all_REF[parameter],\"CO2\")","v":79286.429893984197},{"$f":"SUMIFS(tbl_AA_Data_all_REF[value_final],tbl_AA_Data_all_REF[sector],$C36,tbl_AA_Data_all_REF[energiedrager],J$30,tbl_AA_Data_all_REF[parameter],\"CO2\")","v":20182.814982968259},{"$f":"SUMIFS(tbl_AA_Data_all_REF[value_final],tbl_AA_Data_all_REF[sector],$C36,tbl_AA_Data_all_REF[energiedrager],K$30,tbl_AA_Data_all_REF[parameter],\"CO2\")","v":0},{"$f":"SUMIFS(tbl_AA_Data_all_REF[value_final],tbl_AA_Data_all_REF[sector],$C36,tbl_AA_Data_all_REF[energiedrager],L$30,tbl_AA_Data_all_REF[parameter],\"CO2\")","v":0},{"$f":"SUMIFS(tbl_AA_Data_all_REF[value_final],tbl_AA_Data_all_REF[sector],$C36,tbl_AA_Data_all_REF[energiedrager],M$30,tbl_AA_Data_all_REF[parameter],\"CO2\")","v":0},{"$f":"SUMIFS(tbl_AA_Data_all_REF[value_final],tbl_AA_Data_all_REF[sector],$C36,tbl_AA_Data_all_REF[energiedrager],N$30,tbl_AA_Data_all_REF[parameter],\"CO2\")","v":0},{"$f":"SUMIFS(tbl_AA_Data_all_REF[value_final],tbl_AA_Data_all_REF[sector],$C36,tbl_AA_Data_all_REF[energiedrager],O$30,tbl_AA_Data_all_REF[parameter],\"CO2\")","v":0},{"$f":"SUMIFS(tbl_AA_Data_all_REF[value_final],tbl_AA_Data_all_REF[sector],$C36,tbl_AA_Data_all_REF[energiedrager],P$30,tbl_AA_Data_all_REF[parameter],\"CO2\")","v":0},{"$f":"SUMIFS(tbl_AA_Data_all_REF[value_final],tbl_AA_Data_all_REF[sector],$C36,tbl_AA_Data_all_REF[energiedrager],Q$30,tbl_AA_Data_all_REF[parameter],\"CO2\")","v":0},{"$f":"SUMIFS(tbl_AA_Data_all_REF[value_final],tbl_AA_Data_all_REF[sector],$C36,tbl_AA_Data_all_REF[energiedrager],R$30,tbl_AA_Data_all_REF[parameter],\"CO2\")","v":0},99932.280072084803]
[null,null,"openbaar vervoer",{"$f":"SUMIFS(tbl_AA_Data_all_REF[value_final],tbl_AA_Data_all_REF[sector],$C37,tbl_AA_Data_all_REF[energiedrager],D$29,tbl_AA_Data_all_REF[parameter],\"CO2\")","v":0},{"$f":"SUMIFS(tbl_AA_Data_all_REF[value_final],tbl_AA_Data_all_REF[sector],$C37,tbl_AA_Data_all_REF[energiedrager],E$29,tbl_AA_Data_all_REF[parameter],\"CO2\")","v":0},{"$f":"SUMIFS(tbl_AA_Data_all_REF[value_final],tbl_AA_Data_all_REF[sector],$C37,tbl_AA_Data_all_REF[energiedrager],F$30,tbl_AA_Data_all_REF[parameter],\"CO2\")","v":0},{"$f":"SUMIFS(tbl_AA_Data_all_REF[value_final],tbl_AA_Data_all_REF[sector],$C37,tbl_AA_Data_all_REF[energiedrager],G$30,tbl_AA_Data_all_REF[parameter],\"CO2\")","v":0},{"$f":"SUMIFS(tbl_AA_Data_all_REF[value_final],tbl_AA_Data_all_REF[sector],$C37,tbl_AA_Data_all_REF[energiedrager],H$30,tbl_AA_Data_all_REF[parameter],\"CO2\")","v":0},{"$f":"SUMIFS(tbl_AA_Data_all_REF[value_final],tbl_AA_Data_all_REF[sector],$C37,tbl_AA_Data_all_REF[energiedrager],I$30,tbl_AA_Data_all_REF[parameter],\"CO2\")","v":4149.9469788373299},{"$f":"SUMIFS(tbl_AA_Data_all_REF[value_final],tbl_AA_Data_all_REF[sector],$C37,tbl_AA_Data_all_REF[energiedrager],J$30,tbl_AA_Data_all_REF[parameter],\"CO2\")","v":0},{"$f":"SUMIFS(tbl_AA_Data_all_REF[value_final],tbl_AA_Data_all_REF[sector],$C37,tbl_AA_Data_all_REF[energiedrager],K$30,tbl_AA_Data_all_REF[parameter],\"CO2\")","v":0},{"$f":"SUMIFS(tbl_AA_Data_all_REF[value_final],tbl_AA_Data_all_REF[sector],$C37,tbl_AA_Data_all_REF[energiedrager],L$30,tbl_AA_Data_all_REF[parameter],\"CO2\")","v":0},{"$f":"SUMIFS(tbl_AA_Data_all_REF[value_final],tbl_AA_Data_all_REF[sector],$C37,tbl_AA_Data_all_REF[energiedrager],M$30,tbl_AA_Data_all_REF[parameter],\"CO2\")","v":0},{"$f":"SUMIFS(tbl_AA_Data_all_REF[value_final],tbl_AA_Data_all_REF[sector],$C37,tbl_AA_Data_all_REF[energiedrager],N$30,tbl_AA_Data_all_REF[parameter],\"CO2\")","v":0},{"$f":"SUMIFS(tbl_AA_Data_all_REF[value_final],tbl_AA_Data_all_REF[sector],$C37,tbl_AA_Data_all_REF[energiedrager],O$30,tbl_AA_Data_all_REF[parameter],\"CO2\")","v":0},{"$f":"SUMIFS(tbl_AA_Data_all_REF[value_final],tbl_AA_Data_all_REF[sector],$C37,tbl_AA_Data_all_REF[energiedrager],P$30,tbl_AA_Data_all_REF[parameter],\"CO2\")","v":0},{"$f":"SUMIFS(tbl_AA_Data_all_REF[value_final],tbl_AA_Data_all_REF[sector],$C37,tbl_AA_Data_all_REF[energiedrager],Q$30,tbl_AA_Data_all_REF[parameter],\"CO2\")","v":0},{"$f":"SUMIFS(tbl_AA_Data_all_REF[value_final],tbl_AA_Data_all_REF[sector],$C37,tbl_AA_Data_all_REF[energiedrager],R$30,tbl_AA_Data_all_REF[parameter],\"CO2\")","v":0},4149.9469788373299]
[null,null,"niet toegekend",{"$f":"SUMIFS(tbl_AA_Data_all_REF[value_final],tbl_AA_Data_all_REF[sector],$C38,tbl_AA_Data_all_REF[energiedrager],D$29,tbl_AA_Data_all_REF[parameter],\"CO2\")","v":1784.7015641061901},{"$f":"SUMIFS(tbl_AA_Data_all_REF[value_final],tbl_AA_Data_all_REF[sector],$C38,tbl_AA_Data_all_REF[energiedrager],E$29,tbl_AA_Data_all_REF[parameter],\"CO2\")","v":0},{"$f":"SUMIFS(tbl_AA_Data_all_REF[value_final],tbl_AA_Data_all_REF[sector],$C38,tbl_AA_Data_all_REF[energiedrager],F$30,tbl_AA_Data_all_REF[parameter],\"CO2\")","v":4103.8426207559996},{"$f":"SUMIFS(tbl_AA_Data_all_REF[value_final],tbl_AA_Data_all_REF[sector],$C38,tbl_AA_Data_all_REF[energiedrager],G$30,tbl_AA_Data_all_REF[parameter],\"CO2\")","v":0},{"$f":"SUMIFS(tbl_AA_Data_all_REF[value_final],tbl_AA_Data_all_REF[sector],$C38,tbl_AA_Data_all_REF[energiedrager],H$30,tbl_AA_Data_all_REF[parameter],\"CO2\")","v":0},{"$f":"SUMIFS(tbl_AA_Data_all_REF[value_final],tbl_AA_Data_all_REF[sector],$C38,tbl_AA_Data_all_REF[energiedrager],I$30,tbl_AA_Data_all_REF[parameter],\"CO2\")","v":0},{"$f":"SUMIFS(tbl_AA_Data_all_REF[value_final],tbl_AA_Data_all_REF[sector],$C38,tbl_AA_Data_all_REF[energiedrager],J$30,tbl_AA_Data_all_REF[parameter],\"CO2\")","v":0},{"$f":"SUMIFS(tbl_AA_Data_all_REF[value_final],tbl_AA_Data_all_REF[sector],$C38,tbl_AA_Data_all_REF[energiedrager],K$30,tbl_AA_Data_all_REF[parameter],\"CO2\")","v":0},{"$f":"SUMIFS(tbl_AA_Data_all_REF[value_final],tbl_AA_Data_all_REF[sector],$C38,tbl_AA_Data_all_REF[energiedrager],L$30,tbl_AA_Data_all_REF[parameter],\"CO2\")","v":0},{"$f":"SUMIFS(tbl_AA_Data_all_REF[value_final],tbl_AA_Data_all_REF[sector],$C38,tbl_AA_Data_all_REF[energiedrager],M$30,tbl_AA_Data_all_REF[parameter],\"CO2\")","v":0},{"$f":"SUMIFS(tbl_AA_Data_all_REF[value_final],tbl_AA_Data_all_REF[sector],$C38,tbl_AA_Data_all_REF[energiedrager],N$30,tbl_AA_Data_all_REF[parameter],\"CO2\")","v":0},{"$f":"SUMIFS(tbl_AA_Data_all_REF[value_final],tbl_AA_Data_all_REF[sector],$C38,tbl_AA_Data_all_REF[energiedrager],O$30,tbl_AA_Data_all_REF[parameter],\"CO2\")","v":0},{"$f":"SUMIFS(tbl_AA_Data_all_REF[value_final],tbl_AA_Data_all_REF[sector],$C38,tbl_AA_Data_all_REF[energiedrager],P$30,tbl_AA_Data_all_REF[parameter],\"CO2\")","v":0},{"$f":"SUMIFS(tbl_AA_Data_all_REF[value_final],tbl_AA_Data_all_REF[sector],$C38,tbl_AA_Data_all_REF[energiedrager],Q$30,tbl_AA_Data_all_REF[parameter],\"CO2\")","v":0},{"$f":"SUMIFS(tbl_AA_Data_all_REF[value_final],tbl_AA_Data_all_REF[sector],$C38,tbl_AA_Data_all_REF[energiedrager],R$30,tbl_AA_Data_all_REF[parameter],\"CO2\")","v":0},5888.5441848621895]
[null,null,"totaal",{"$f":"SUM(D31:D38)","v":79163.939456024251},{"$f":"SUM(E31:E38)","v":777.15680672268877},123105.66214373898,7633.8919166945316,27303.64191238294,83436.376872821522,20182.814982968259,0,228.43963750955152,0,0,0,0,0,0,341831.92372886272]

{"sheet":"EIG","index":11,"n_rows":65,"n_cols":19,"rows_kept":65,"cut":false,"hidden":false,"merged":[[12,2,14,2],[12,3,12,17],[13,3,14,3],[13,4,14,4],[13,5,13,12],[13,13,13,17],[27,2,29,2],[27,3,27,17],[28,3,29,3],[28,4,29,4],[28,5,28,12],[28,13,28,17]]}
[]
[]
[null,null,"<< Naar rekenblad Dashboard",null,null,null,null,null,null,null,null,null,null,null,"Berekeningen + celverwijzing binnen hetzelfde rekenblad"]
[null,null,null,null,null,null,null,null,null,null,null,null,null,null,"Verwijzing ander rekenblad"]
[null,null,"EIG: verbetering/aanpassing eigen gemeentelijke referentiecijfers, wanneer de inventaris van Dept. Omgeving niet gebruikt wordt.",null,null,null,null,null,null,null,null,null,null,null,"In te vullen gegevens"]
[]
[null,null,"Gemeente:",{"$f":"D_gemeente","v":"VITO"}]
[null,null,"Referentiejaar:",{"$f":"P_Maatregelen_Jaar_Inventaris","v":2017}]
[]
[]
[null,null,"1. Energieverbruik en CO2-uitstoot"]
[]
[null,null,"(in MWh)","FINAAL ENERGIEVERBRUIK "]
[null,null,null,"Elektriciteit","Warmte/ Koude","Fossiele brandstoffen",null,null,null,null,null,null,null,"Hernieuwbare energie"]
[null,null,null,null,null,"Aardgas","Vloeibaar gas","Stookolie","Diesel","Benzine","Bruinkool","Steenkool","Andere fossiele brandstoffen","Plantaardige oliën","Bio-brandstof ","Overige biomassa","Zonne-/ thermische energie","Geo-thermische energie","Totaal"]
[null,null,"huishoudens",null,null,null,null,null,null,null,null,null,null,null,null,null,null,null,{"$f":"SUM(D16:R16)","v":0}]
[null,null,"tertiair",null,null,null,null,null,null,null,null,null,null,null,null,null,null,null,{"$f":"SUM(D17:R17)","v":0}]
[null,null,"openbare verlichting",null,null,null,null,null,null,null,null,null,null,null,null,null,null,null,{"$f":"SUM(D18:R18)","v":0}]
[null,null,"landbouw",null,null,null,null,null,null,null,null,null,null,null,null,null,null,null,0]
[null,null,"industrie (niet-ETS)",null,null,null,null,null,null,null,null,null,null,null,null,null,null,null,0]
[null,null,"particulier en commercieel vervoer",null,null,null,null,null,null,null,null,null,null,null,null,null,null,null,0]
[null,null,"openbaar vervoer",null,null,null,null,null,null,null,null,null,null,null,null,null,null,null,0]
[null,null,"niet toegekend"]
[null,null,"totaal",{"$f":"SUM(D16:D23)","v":0},{"$f":"SUM(E16:E23)","v":0},0,0,0,0,0,0,0,0,0,0,0,0,0,0]
[]
[null,null,"emissiefactoren (ton CO2 per MWh)",null,null,{"$f":"'AA_Energieprijs&Discontovoet'!F98","v":0.20200000000000001},{"$f":"'AA_Energieprijs&Discontovoet'!F99","v":0.22700000000000001},{"$f":"'AA_Energieprijs&Discontovoet'!F100","v":0.26700000000000002},{"$f":"'AA_Energieprijs&Discontovoet'!F101","v":0.26700000000000002},{"$f":"'AA_Energieprijs&Discontovoet'!F102","v":0.249},{"$f":"'AA_Energieprijs&Discontovoet'!F103","v":0.35099999999999998},{"$f":"'AA_Energieprijs&Discontovoet'!F104","v":0.35399999999999998},{"$f":"'AA_Energieprijs&Discontovoet'!F105","v":0.26400000000000001},{"$f":"'AA_Energieprijs&Discontovoet'!F106","v":0},{"$f":"'AA_Energieprijs&Discontovoet'!F107","v":0},{"$f":"'AA_Energieprijs&Discontovoet'!F108","v":0},{"$f":"'AA_Energieprijs&Discontovoet'!F109","v":0},{"$f":"'AA_Energieprijs&Discontovoet'!F110","v":0}]
[]
[null,null,"(in ton)","CO2-emissies"]
[null,null,null,"Elektriciteit","Warmte/ Koude","Fossiele brandstoffen",null,null,null,null,null,null,null,"Hernieuwbare energie"]
[null,null,null,null,null,"Aardgas","Vloeibaar gas","Stookolie","Diesel","Benzine","Bruinkool","Steenkool","Andere fossiele brandstoffen","Plantaardige oliën","Bio-brandstof ","Overige biomassa","Zonne-/ thermische energie","Geo-thermische energie","Totaal"]
[null,null,"huishoudens",{"$f":"D16*$D$26","v":0},{"$f":"E16*$E$26","v":0},{"$f":"F16*$F$26","v":0},{"$f":"G16*$G$26","v":0},{"$f":"H16*$H$26","v":0},{"$f":"I16*$I$26","v":0},{"$f":"J16*$J$26","v":0},{"$f":"K16*$K$26","v":0},{"$f":"L16*$L$26","v":0},{"$f":"M16*$M$26","v":0},{"$f":"N16*$N$26","v":0},{"$f":"O16*$O$26","v":0},{"$f":"P16*$P$26","v":0},{"$f":"Q16*$Q$26","v":0},{"$f":"R16*$R$26","v":0},{"$f":"SUM(D31:R31)","v":0}]
[null,null,"tertiair",0,0,0,0,0,0,0,0,0,0,0,0,0,0,0,{"$f":"SUM(D32:R32)","v":0}]
[null,null,"openbare verlichting",0,0,0,0,0,0,0,0,0,0,0,0,0,0,0,{"$f":"SUM(D33:R33)","v":0}]
[null,null,"landbouw",0,0,0,0,0,0,0,0,0,0,0,0,0,0,0,0]
[null,null,"industrie (niet-ETS)",0,0,0,0,0,0,0,0,0,0,0,0,0,0,0,0]
[null,null,"particulier en commercieel vervoer",0,0,0,0,0,0,0,0,0,0,0,0,0,0,0,0]
[null,null,"openbaar vervoer",0,0,0,0,0,0,0,0,0,0,0,0,0,0,0,0]
[null,null,"niet toegekend",0,0,0,0,0,0,0,0,0,0,0,0,0,0,0,{"$f":"SUM(D38:R38)","v":0}]
[null,null,"totaal",{"$f":"SUM(D31:D38)","v":0},{"$f":"SUM(E31:E38)","v":0},0,0,0,0,0,0,0,0,0,0,0,0,0,{"$f":"SUM(S31:S38)","v":0}]
[]
[]
[null,null,"2. Wegtransport: voertuigkilometers, samenstelling vloot"]
[]
[null,null,"2.1 Voertuigkilometers per wegtype en voertuigtype"]
[]
[null,null,"Particulier en commercieel vervoer"]
[]
[null,null,"WegType","VoertuigType","Voertuigkilometers (km)"]
[null,null,"Genummerde wegen","Lichte voertuigen"]
[null,null,"Genummerde wegen","Zware voertuigen"]
[null,null,"Niet-genummerde wegen","Lichte voertuigen"]
[null,null,"Niet-genummerde wegen","Zware voertuigen"]
[null,null,"Snelwegen","Lichte voertuigen"]
[null,null,"Snelwegen","Zware voertuigen"]
[]
[null,null,"Openbaar vervoer","VoertuigType","Voertuigkilometers (km)"]
[null,null,null,"Bus"]
[null,null,null,"Tram"]
[]
[null,null,"2.2 Verdeelsleutel voertuigkilometers over voertuigtechnologie"]
[]
[null,null,"Voertuigtype (%)","CNG","DIESEL","DIESEL HYBRID CS","DIESEL HYBRID PHEV","E85","ELECTRIC","FUEL CELL H2","LPG","PETROL","PETROL HYBRID CS","PETROL HYBRID PHEV"]
[null,null,"Lichte voertuigen"]
[null,null,"Zware voertuigen"]
[null,null,"Bus"]

{"sheet":"Resultaat-->","index":12,"n_rows":38,"n_cols":15,"rows_kept":38,"cut":false,"hidden":false,"merged":[]}
[]
[]
[null,null,"<< Naar Scenario's",null,null,null,null,null,null,null,null,null,null,null,"Naar Fig_Overzicht CO2 totaal>>"]
[]
[null,null,"RESULTAAT"]
[]
[null,null,"Handleiding"]
[]
[null,null,null,"De Resultaat rekenbladen worden automatisch gevuld op basis van selecties die de gebruiker maakt in het Dashboard en het rekenblad Scenario's. "]
[null,null,null,"Let wel: indien de parameters in het Dashboard of rekenblad Scenario's aangepast worden, moeten de rekenbladen vernieuwd worden via \"Alles vernieuwen\" (cf. menubalk Gegevens)"]
[]
[null,null,null,"In rekenblad Fig_Overzicht CO2 totaal wordt een grafisch overzicht gegeven van het CO2-plafond 2030, de te behalen CO2-reductie, de totale CO2-emissies en gerealiseerde CO2-reductie in scenario 1 en scenario 2."]
[null,null,null,"Op basis van deze grafiek kan de gebruiker nagaan welke CO2-reductie gerealiseerd werd met de geselecteerde maatregelen in scenario 1 en scenario 2 (rekenblad Scenario's)."]
[null,null,null,"De totale CO2-emissies voor scenario 1 en scenario 2  kunnen afgetoetst worden aan het CO2-plafond of de max. CO2-uitstoot voor 2030."]
[null,null,null,"Of de gerealiseerde CO2-reductie in scenario 1 en scenario 2 kan afgetoetst worden aan de te behalen CO2-reductie."]
[null,null,null,"Afhankelijk van de selectie in het Dashboard wordt de te behalen CO2-reductie bepaald als het verschil tussen het CO2-plafond en inventaris van Dept. Omgeving voor 2017 (INV), eigen inventaris voor 2017 (EIG) of BAU-scenario 2030."]
[]
[null,null,null,"In rekenblad Fig_Bijdrage in te behalen reductie wordt de bijdrage die de sectoren en maatregelen leveren tot de te behalen CO2-reductie voorgesteld in een dynamische grafiek."]
[null,null,null,"De inhoud van deze grafiek kan door de gebruiker aangepast worden. De gebruiker heeft de mogelijkheid om de resultaten te filteren op scenario's, sectoren en maatregelen."]
[null,null,null,"De gebruiker kan kiezen om op de X-as de bijdrage aan de te behalen CO2-reductie te tonen per sector of per maatregel. De maatregelen worden voorgesteld aan de hand van hun maatregelcode."]
[null,null,null,"Via deze maatregelcode kan de gebruiker ook gemakkelijk de betreffende maatregel terugvinden in de Maatregelenfiches en het rekenblad Scenario's."]
[null,null,null,"De gebruiker kan kiezen om op de Y-as de bijdrage aan de vooropgestelde CO2-reductie te tonen voor scenario 1 of scenario 2."]
[null,null,null,"Indien de gebruiker kiest voor een X-as met maatregelen, kan met de filter één of meerdere sectoren uitgefilterd worden. "]
[null,null,null,"Indien de gebruiker kiest voor een X-as met sectoren, kan met de filter één of meerdere maatregelen uitgefilterd worden. "]
[null,null,null,"Via \"clear filter\" (i.e. icon met trechter en rode kruis) kan de gebruiker de selecties ongedaan maken."]
[null,null,null,"De volgorde waarin maatregelen in de grafiek getoond worden, komt overeen met de volgorde van de maatregelen in het rekenblad Scenario's. "]
[]
[null,null,null,"In rekenblad Tabel_Overzicht CO2 per sector wordt voor elk scenario een overzicht gegeven van de totale CO2-emissies per sector ."]
[null,null,null,"In deze tabel wordt voor scenario 1 en scenario 2 aangegeven of de totale CO2-emissies al dan niet voldoende gereduceerd werden en lager zijn de het CO2-plafond."]
[null,null,null,"Indien de totale CO2-emissies hoger zijn dan het CO2-plafond, wordt tevens aangegeven met hoeveel ton de CO2-emissies bijkomend gereduceerd moeten worden."]
[]
[null,null,null,"In rekenblad Tabel_Overzicht red per sector wordt voor elk scenario een overzicht gegeven van de gerealiseerde CO2-reductie pe sector."]
[]
[null,null,null,"In rekenblad Tabel_Red per sector en maatreg wordt voor elk scenario een overzicht gegeven de gerealiseerde CO2-reductie per sector en per maatregel. "]
[null,null,null,"De inhoud van deze tabel kan door de gebruiker aangepast worden. De gebruiker heeft de mogelijkheid om de resultaten te filteren op sectoren en maatregelen."]
[null,null,null,"Met de filter sector kan de gebruiker één of meerdere sectoren selecteren."]
[null,null,null,"Met de filter maatregel kan de gebruiker één of meerdere maatregelen selecteren. "]
[null,null,null,"In deze tabel wordt tevens het %aandeel van een sector of maatregel in de totale gerealiseerde CO2-reductie gegeven."]

{"sheet":"Detailresultaten_maatregelen","index":13,"n_rows":129,"n_cols":17,"rows_kept":129,"cut":false,"hidden":true,"merged":[]}
["Scenario","ScenarioNummer","MaatregelNummer","MaatregelCode","Sectornummer","Sector","Sector_kort","Korte omschrijving maatregel","Ambitieniveau","Reductie","X-as","X-as volgorde","X-as label","Filter",null,null,"tblResultaatMaatregelen"]
[{"$f":"CONCATENATE(\"Scenario \",tblResultaatMaatregelen[[#This Row],[ScenarioNummer]])","v":"Scenario 1"},1,1,{"$f":"VLOOKUP(tblResultaatMaatregelen[[#This Row],[MaatregelNummer]],Tbl_scenario[],4,TRUE)","v":"RES_ISO_DAK"},{"$f":"INDEX(tblSectoren[SectorID],MATCH(tblResultaatMaatregelen[[#This Row],[Sector]],tblSectoren[Sectoren],0))","v":1},{"$f":"VLOOKUP(tblResultaatMaatregelen[[#This Row],[MaatregelNummer]],Tbl_scenario[],2,TRUE)","v":"Huishoudens"},{"$f":"INDEX(tblSectoren[Afkorting],tblResultaatMaatregelen[[#This Row],[Sectornummer]])","v":"RES"},{"$f":"VLOOKUP(tblResultaatMaatregelen[[#This Row],[MaatregelNummer]],Tbl_scenario[],3,TRUE)","v":"Isolatiemaatregel gericht op dak"},{"$f":"VLOOKUP(tblResultaatMaatregelen[[#This Row],[MaatregelNummer]],Tbl_scenario[],6+(tblResultaatMaatregelen[[#This Row],[ScenarioNummer]]-1)*4+1,TRUE)","v":"Laag"},{"$f":"IF(tblResultaatMaatregelen[[#This Row],[Ambitieniveau]]=\"Niet\",0,IFERROR(INDIRECT(CONCATENATE(tblResultaatMaatregelen[[#This Row],[MaatregelCode]],\"_REDCO2_\",tblResultaatMaatregelen[[#This Row],[ScenarioNummer]])),0))","v":9650.7887869298283},"Maatregelen",{"$f":"IF(tblResultaatMaatregelen[[#This Row],[X-as]]=\"Maatregelen\",tblResultaatMaatregelen[[#This Row],[MaatregelNummer]],tblResultaatMaatregelen[[#This Row],[Sectornummer]])","v":1},{"$f":"IF(tblResultaatMaatregelen[[#This Row],[X-as]]=\"Maatregelen\",tblResultaatMaatregelen[[#This Row],[MaatregelCode]],CONCATENATE(tblResultaatMaatregelen[[#This Row],[Sector]],\" (\",tblResultaatMaatregelen[[#This Row],[Sector_kort]],\")\"))","v":"RES_ISO_DAK"},{"$f":"IF(tblResultaatMaatregelen[[#This Row],[X-as]]=\"Maatregelen\",CONCATENATE(tblResultaatMaatregelen[[#This Row],[Sector]],\" (\",tblResultaatMaatregelen[[#This Row],[Sector_kort]],\")\"),tblResultaatMaatregelen[[#This Row],[MaatregelCode]])","v":"Huishoudens (RES)"}]
[{"$f":"CONCATENATE(\"Scenario \",tblResultaatMaatregelen[[#This Row],[ScenarioNummer]])","v":"Scenario 1"},1,2,{"$f":"VLOOKUP(tblResultaatMaatregelen[[#This Row],[MaatregelNummer]],Tbl_scenario[],4,TRUE)","v":"RES_ISO_MUUR"},{"$f":"INDEX(tblSectoren[SectorID],MATCH(tblResultaatMaatregelen[[#This Row],[Sector]],tblSectoren[Sectoren],0))","v":1},{"$f":"VLOOKUP(tblResultaatMaatregelen[[#This Row],[MaatregelNummer]],Tbl_scenario[],2,TRUE)","v":"Huishoudens"},{"$f":"INDEX(tblSectoren[Afkorting],tblResultaatMaatregelen[[#This Row],[Sectornummer]])","v":"RES"},{"$f":"VLOOKUP(tblResultaatMaatregelen[[#This Row],[MaatregelNummer]],Tbl_scenario[],3,TRUE)","v":"Isolatiemaatregel gericht op buitenmuren"},{"$f":"VLOOKUP(tblResultaatMaatregelen[[#This Row],[MaatregelNummer]],Tbl_scenario[],6+(tblResultaatMaatregelen[[#This Row],[ScenarioNummer]]-1)*4+1,TRUE)","v":"Laag"},{"$f":"IF(tblResultaatMaatregelen[[#This Row],[Ambitieniveau]]=\"Niet\",0,IFERROR(INDIRECT(CONCATENATE(tblResultaatMaatregelen[[#This Row],[MaatregelCode]],\"_REDCO2_\",tblResultaatMaatregelen[[#This Row],[ScenarioNummer]])),0))","v":10751.627857522235},"Maatregelen",{"$f":"IF(tblResultaatMaatregelen[[#This Row],[X-as]]=\"Maatregelen\",tblResultaatMaatregelen[[#This Row],[MaatregelNummer]],tblResultaatMaatregelen[[#This Row],[Sectornummer]])","v":2},{"$f":"IF(tblResultaatMaatregelen[[#This Row],[X-as]]=\"Maatregelen\",tblResultaatMaatregelen[[#This Row],[MaatregelCode]],CONCATENATE(tblResultaatMaatregelen[[#This Row],[Sector]],\" (\",tblResultaatMaatregelen[[#This Row],[Sector_kort]],\")\"))","v":"RES_ISO_MUUR"},{"$f":"IF(tblResultaatMaatregelen[[#This Row],[X-as]]=\"Maatregelen\",CONCATENATE(tblResultaatMaatregelen[[#This Row],[Sector]],\" (\",tblResultaatMaatregelen[[#This Row],[Sector_kort]],\")\"),tblResultaatMaatregelen[[#This Row],[MaatregelCode]])","v":"Huishoudens (RES)"}]
[{"$f":"CONCATENATE(\"Scenario \",tblResultaatMaatregelen[[#This Row],[ScenarioNummer]])","v":"Scenario 1"},1,3,{"$f":"VLOOKUP(tblResultaatMaatregelen[[#This Row],[MaatregelNummer]],Tbl_scenario[],4,TRUE)","v":"RES_ISO_VL"},{"$f":"INDEX(tblSectoren[SectorID],MATCH(tblResultaatMaatregelen[[#This Row],[Sector]],tblSectoren[Sectoren],0))","v":1},{"$f":"VLOOKUP(tblResultaatMaatregelen[[#This Row],[MaatregelNummer]],Tbl_scenario[],2,TRUE)","v":"Huishoudens"},{"$f":"INDEX(tblSectoren[Afkorting],tblResultaatMaatregelen[[#This Row],[Sectornummer]])","v":"RES"},{"$f":"VLOOKUP(tblResultaatMaatregelen[[#This Row],[MaatregelNummer]],Tbl_scenario[],3,TRUE)","v":"Isolatiemaatregel gericht op vloeren"},{"$f":"VLOOKUP(tblResultaatMaatregelen[[#This Row],[MaatregelNummer]],Tbl_scenario[],6+(tblResultaatMaatregelen[[#This Row],[ScenarioNummer]]-1)*4+1,TRUE)","v":"Laag"},{"$f":"IF(tblResultaatMaatregelen[[#This Row],[Ambitieniveau]]=\"Niet\",0,IFERROR(INDIRECT(CONCATENATE(tblResultaatMaatregelen[[#This Row],[MaatregelCode]],\"_REDCO2_\",tblResultaatMaatregelen[[#This Row],[ScenarioNummer]])),0))","v":4990.4290141524016},"Maatregelen",{"$f":"IF(tblResultaatMaatregelen[[#This Row],[X-as]]=\"Maatregelen\",tblResultaatMaatregelen[[#This Row],[MaatregelNummer]],tblResultaatMaatregelen[[#This Row],[Sectornummer]])","v":3},{"$f":"IF(tblResultaatMaatregelen[[#This Row],[X-as]]=\"Maatregelen\",tblResultaatMaatregelen[[#This Row],[MaatregelCode]],CONCATENATE(tblResultaatMaatregelen[[#This Row],[Sector]],\" (\",tblResultaatMaatregelen[[#This Row],[Sector_kort]],\")\"))","v":"RES_ISO_VL"},{"$f":"IF(tblResultaatMaatregelen[[#This Row],[X-as]]=\"Maatregelen\",CONCATENATE(tblResultaatMaatregelen[[#This Row],[Sector]],\" (\",tblResultaatMaatregelen[[#This Row],[Sector_kort]],\")\"),tblResultaatMaatregelen[[#This Row],[MaatregelCode]])","v":"Huishoudens (RES)"}]
[{"$f":"CONCATENATE(\"Scenario \",tblResultaatMaatregelen[[#This Row],[ScenarioNummer]])","v":"Scenario 1"},1,4,{"$f":"VLOOKUP(tblResultaatMaatregelen[[#This Row],[MaatregelNummer]],Tbl_scenario[],4,TRUE)","v":"RES_ISO_BG"},{"$f":"INDEX(tblSectoren[SectorID],MATCH(tblResultaatMaatregelen[[#This Row],[Sector]],tblSectoren[Sectoren],0))","v":1},{"$f":"VLOOKUP(tblResultaatMaatregelen[[#This Row],[MaatregelNummer]],Tbl_scenario[],2,TRUE)","v":"Huishoudens"},{"$f":"INDEX(tblSectoren[Afkorting],tblResultaatMaatregelen[[#This Row],[Sectornummer]])","v":"RES"},{"$f":"VLOOKUP(tblResultaatMaatregelen[[#This Row],[MaatregelNummer]],Tbl_scenario[],3,TRUE)","v":"Isolatiemaatregel gericht op ramen en beglazing"},{"$f":"VLOOKUP(tblResultaatMaatregelen[[#This Row],[MaatregelNummer]],Tbl_scenario[],6+(tblResultaatMaatregelen[[#This Row],[ScenarioNummer]]-1)*4+1,TRUE)","v":"Laag"},{"$f":"IF(tblResultaatMaatregelen[[#This Row],[Ambitieniveau]]=\"Niet\",0,IFERROR(INDIRECT(CONCATENATE(tblResultaatMaatregelen[[#This Row],[MaatregelCode]],\"_REDCO2_\",tblResultaatMaatregelen[[#This Row],[ScenarioNummer]])),0))","v":3270.1525549919365},"Maatregelen",{"$f":"IF(tblResultaatMaatregelen[[#This Row],[X-as]]=\"Maatregelen\",tblResultaatMaatregelen[[#This Row],[MaatregelNummer]],tblResultaatMaatregelen[[#This Row],[Sectornummer]])","v":4},{"$f":"IF(tblResultaatMaatregelen[[#This Row],[X-as]]=\"Maatregelen\",tblResultaatMaatregelen[[#This Row],[MaatregelCode]],CONCATENATE(tblResultaatMaatregelen[[#This Row],[Sector]],\" (\",tblResultaatMaatregelen[[#This Row],[Sector_kort]],\")\"))","v":"RES_ISO_BG"},{"$f":"IF(tblResultaatMaatregelen[[#This Row],[X-as]]=\"Maatregelen\",CONCATENATE(tblResultaatMaatregelen[[#This Row],[Sector]],\" (\",tblResultaatMaatregelen[[#This Row],[Sector_kort]],\")\"),tblResultaatMaatregelen[[#This Row],[MaatregelCode]])","v":"Huishoudens (RES)"}]
[{"$f":"CONCATENATE(\"Scenario \",tblResultaatMaatregelen[[#This Row],[ScenarioNummer]])","v":"Scenario 1"},1,5,{"$f":"VLOOKUP(tblResultaatMaatregelen[[#This Row],[MaatregelNummer]],Tbl_scenario[],4,TRUE)","v":"RES_HER_WP"},{"$f":"INDEX(tblSectoren[SectorID],MATCH(tblResultaatMaatregelen[[#This Row],[Sector]],tblSectoren[Sectoren],0))","v":1},{"$f":"VLOOKUP(tblResultaatMaatregelen[[#This Row],[MaatregelNummer]],Tbl_scenario[],2,TRUE)","v":"Huishoudens"},{"$f":"INDEX(tblSectoren[Afkorting],tblResultaatMaatregelen[[#This Row],[Sectornummer]])","v":"RES"},{"$f":"VLOOKUP(tblResultaatMaatregelen[[#This Row],[MaatregelNummer]],Tbl_scenario[],3,TRUE)","v":"Warmtepomp"},{"$f":"VLOOKUP(tblResultaatMaatregelen[[#This Row],[MaatregelNummer]],Tbl_scenario[],6+(tblResultaatMaatregelen[[#This Row],[ScenarioNummer]]-1)*4+1,TRUE)","v":"Laag"},{"$f":"IF(tblResultaatMaatregelen[[#This Row],[Ambitieniveau]]=\"Niet\",0,IFERROR(INDIRECT(CONCATENATE(tblResultaatMaatregelen[[#This Row],[MaatregelCode]],\"_REDCO2_\",tblResultaatMaatregelen[[#This Row],[ScenarioNummer]])),0))","v":3453.6546423835571},"Maatregelen",{"$f":"IF(tblResultaatMaatregelen[[#This Row],[X-as]]=\"Maatregelen\",tblResultaatMaatregelen[[#This Row],[MaatregelNummer]],tblResultaatMaatregelen[[#This Row],[Sectornummer]])","v":5},{"$f":"IF(tblResultaatMaatregelen[[#This Row],[X-as]]=\"Maatregelen\",tblResultaatMaatregelen[[#This Row],[MaatregelCode]],CONCATENATE(tblResultaatMaatregelen[[#This Row],[Sector]],\" (\",tblResultaatMaatregelen[[#This Row],[Sector_kort]],\")\"))","v":"RES_HER_WP"},{"$f":"IF(tblResultaatMaatregelen[[#This Row],[X-as]]=\"Maatregelen\",CONCATENATE(tblResultaatMaatregelen[[#This Row],[Sector]],\" (\",tblResultaatMaatregelen[[#This Row],[Sector_kort]],\")\"),tblResultaatMaatregelen[[#This Row],[MaatregelCode]])","v":"Huishoudens (RES)"}]
[{"$f":"CONCATENATE(\"Scenario \",tblResultaatMaatregelen[[#This Row],[ScenarioNummer]])","v":"Scenario 1"},1,6,{"$f":"VLOOKUP(tblResultaatMaatregelen[[#This Row],[MaatregelNummer]],Tbl_scenario[],4,TRUE)","v":"RES_HER_ZB"},{"$f":"INDEX(tblSectoren[SectorID],MATCH(tblResultaatMaatregelen[[#This Row],[Sector]],tblSectoren[Sectoren],0))","v":1},{"$f":"VLOOKUP(tblResultaatMaatregelen[[#This Row],[MaatregelNummer]],Tbl_scenario[],2,TRUE)","v":"Huishoudens"},{"$f":"INDEX(tblSectoren[Afkorting],tblResultaatMaatregelen[[#This Row],[Sectornummer]])","v":"RES"},{"$f":"VLOOKUP(tblResultaatMaatregelen[[#This Row],[MaatregelNummer]],Tbl_scenario[],3,TRUE)","v":"Zonneboiler"},{"$f":"VLOOKUP(tblResultaatMaatregelen[[#This Row],[MaatregelNummer]],Tbl_scenario[],6+(tblResultaatMaatregelen[[#This Row],[ScenarioNummer]]-1)*4+1,TRUE)","v":"Laag"},{"$f":"IF(tblResultaatMaatregelen[[#This Row],[Ambitieniveau]]=\"Niet\",0,IFERROR(INDIRECT(CONCATENATE(tblResultaatMaatregelen[[#This Row],[MaatregelCode]],\"_REDCO2_\",tblResultaatMaatregelen[[#This Row],[ScenarioNummer]])),0))","v":1282.1116848339077},"Maatregelen",{"$f":"IF(tblResultaatMaatregelen[[#This Row],[X-as]]=\"Maatregelen\",tblResultaatMaatregelen[[#This Row],[MaatregelNummer]],tblResultaatMaatregelen[[#This Row],[Sectornummer]])","v":6},{"$f":"IF(tblResultaatMaatregelen[[#This Row],[X-as]]=\"Maatregelen\",tblResultaatMaatregelen[[#This Row],[MaatregelCode]],CONCATENATE(tblResultaatMaatregelen[[#This Row],[Sector]],\" (\",tblResultaatMaatregelen[[#This Row],[Sector_kort]],\")\"))","v":"RES_HER_ZB"},{"$f":"IF(tblResultaatMaatregelen[[#This Row],[X-as]]=\"Maatregelen\",CONCATENATE(tblResultaatMaatregelen[[#This Row],[Sector]],\" (\",tblResultaatMaatregelen[[#This Row],[Sector_kort]],\")\"),tblResultaatMaatregelen[[#This Row],[MaatregelCode]])","v":"Huishoudens (RES)"}]
[{"$f":"CONCATENATE(\"Scenario \",tblResultaatMaatregelen[[#This Row],[ScenarioNummer]])","v":"Scenario 1"},1,7,{"$f":"VLOOKUP(tblResultaatMaatregelen[[#This Row],[MaatregelNummer]],Tbl_scenario[],4,TRUE)","v":"RES_HER_WPB"},{"$f":"INDEX(tblSectoren[SectorID],MATCH(tblResultaatMaatregelen[[#This Row],[Sector]],tblSectoren[Sectoren],0))","v":1},{"$f":"VLOOKUP(tblResultaatMaatregelen[[#This Row],[MaatregelNummer]],Tbl_scenario[],2,TRUE)","v":"Huishoudens"},{"$f":"INDEX(tblSectoren[Afkorting],tblResultaatMaatregelen[[#This Row],[Sectornummer]])","v":"RES"},{"$f":"VLOOKUP(tblResultaatMaatregelen[[#This Row],[MaatregelNummer]],Tbl_scenario[],3,TRUE)","v":"Warmtepompboiler"},{"$f":"VLOOKUP(tblResultaatMaatregelen[[#This Row],[MaatregelNummer]],Tbl_scenario[],6+(tblResultaatMaatregelen[[#This Row],[ScenarioNummer]]-1)*4+1,TRUE)","v":"Laag"},{"$f":"IF(tblResultaatMaatregelen[[#This Row],[Ambitieniveau]]=\"Niet\",0,IFERROR(INDIRECT(CONCATENATE(tblResultaatMaatregelen[[#This Row],[MaatregelCode]],\"_REDCO2_\",tblResultaatMaatregelen[[#This Row],[ScenarioNummer]])),0))","v":2395.4112156042825},"Maatregelen",{"$f":"IF(tblResultaatMaatregelen[[#This Row],[X-as]]=\"Maatregelen\",tblResultaatMaatregelen[[#This Row],[MaatregelNummer]],tblResultaatMaatregelen[[#This Row],[Sectornummer]])","v":7},{"$f":"IF(tblResultaatMaatregelen[[#This Row],[X-as]]=\"Maatregelen\",tblResultaatMaatregelen[[#This Row],[MaatregelCode]],CONCATENATE(tblResultaatMaatregelen[[#This Row],[Sector]],\" (\",tblResultaatMaatregelen[[#This Row],[Sector_kort]],\")\"))","v":"RES_HER_WPB"},{"$f":"IF(tblResultaatMaatregelen[[#This Row],[X-as]]=\"Maatregelen\",CONCATENATE(tblResultaatMaatregelen[[#This Row],[Sector]],\" (\",tblResultaatMaatregelen[[#This Row],[Sector_kort]],\")\"),tblResultaatMaatregelen[[#This Row],[MaatregelCode]])","v":"Huishoudens (RES)"}]
[{"$f":"CONCATENATE(\"Scenario \",tblResultaatMaatregelen[[#This Row],[ScenarioNummer]])","v":"Scenario 1"},1,8,{"$f":"VLOOKUP(tblResultaatMaatregelen[[#This Row],[MaatregelNummer]],Tbl_scenario[],4,TRUE)","v":"RES_EE_ELE"},{"$f":"INDEX(tblSectoren[SectorID],MATCH(tblResultaatMaatregelen[[#This Row],[Sector]],tblSectoren[Sectoren],0))","v":1},{"$f":"VLOOKUP(tblResultaatMaatregelen[[#This Row],[MaatregelNummer]],Tbl_scenario[],2,TRUE)","v":"Huishoudens"},{"$f":"INDEX(tblSectoren[Afkorting],tblResultaatMaatregelen[[#This Row],[Sectornummer]])","v":"RES"},{"$f":"VLOOKUP(tblResultaatMaatregelen[[#This Row],[MaatregelNummer]],Tbl_scenario[],3,TRUE)","v":"Elektriciteitsgebruik: verhogen efficiëntie"},{"$f":"VLOOKUP(tblResultaatMaatregelen[[#This Row],[MaatregelNummer]],Tbl_scenario[],6+(tblResultaatMaatregelen[[#This Row],[ScenarioNummer]]-1)*4+1,TRUE)","v":"Laag"},{"$f":"IF(tblResultaatMaatregelen[[#This Row],[Ambitieniveau]]=\"Niet\",0,IFERROR(INDIRECT(CONCATENATE(tblResultaatMaatregelen[[#This Row],[MaatregelCode]],\"_REDCO2_\",tblResultaatMaatregelen[[#This Row],[ScenarioNummer]])),0))","v":638.10592261458225},"Maatregelen",{"$f":"IF(tblResultaatMaatregelen[[#This Row],[X-as]]=\"Maatregelen\",tblResultaatMaatregelen[[#This Row],[MaatregelNummer]],tblResultaatMaatregelen[[#This Row],[Sectornummer]])","v":8},{"$f":"IF(tblResultaatMaatregelen[[#This Row],[X-as]]=\"Maatregelen\",tblResultaatMaatregelen[[#This Row],[MaatregelCode]],CONCATENATE(tblResultaatMaatregelen[[#This Row],[Sector]],\" (\",tblResultaatMaatregelen[[#This Row],[Sector_kort]],\")\"))","v":"RES_EE_ELE"},{"$f":"IF(tblResultaatMaatregelen[[#This Row],[X-as]]=\"Maatregelen\",CONCATENATE(tblResultaatMaatregelen[[#This Row],[Sector]],\" (\",tblResultaatMaatregelen[[#This Row],[Sector_kort]],\")\"),tblResultaatMaatregelen[[#This Row],[MaatregelCode]])","v":"Huishoudens (RES)"}]
[{"$f":"CONCATENATE(\"Scenario \",tblResultaatMaatregelen[[#This Row],[ScenarioNummer]])","v":"Scenario 1"},1,9,{"$f":"VLOOKUP(tblResultaatMaatregelen[[#This Row],[MaatregelNummer]],Tbl_scenario[],4,TRUE)","v":"RES_EE_SLOOP"},{"$f":"INDEX(tblSectoren[SectorID],MATCH(tblResultaatMaatregelen[[#This Row],[Sector]],tblSectoren[Sectoren],0))","v":1},{"$f":"VLOOKUP(tblResultaatMaatregelen[[#This Row],[MaatregelNummer]],Tbl_scenario[],2,TRUE)","v":"Huishoudens"},{"$f":"INDEX(tblSectoren[Afkorting],tblResultaatMaatregelen[[#This Row],[Sectornummer]])","v":"RES"},{"$f":"VLOOKUP(tblResultaatMaatregelen[[#This Row],[MaatregelNummer]],Tbl_scenario[],3,TRUE)","v":"Stimuleren sloop energieverslindende woningen"},{"$f":"VLOOKUP(tblResultaatMaatregelen[[#This Row],[MaatregelNummer]],Tbl_scenario[],6+(tblResultaatMaatregelen[[#This Row],[ScenarioNummer]]-1)*4+1,TRUE)","v":"Laag"},{"$f":"IF(tblResultaatMaatregelen[[#This Row],[Ambitieniveau]]=\"Niet\",0,IFERROR(INDIRECT(CONCATENATE(tblResultaatMaatregelen[[#This Row],[MaatregelCode]],\"_REDCO2_\",tblResultaatMaatregelen[[#This Row],[ScenarioNummer]])),0))","v":3938.9310326914874},"Maatregelen",{"$f":"IF(tblResultaatMaatregelen[[#This Row],[X-as]]=\"Maatregelen\",tblResultaatMaatregelen[[#This Row],[MaatregelNummer]],tblResultaatMaatregelen[[#This Row],[Sectornummer]])","v":9},{"$f":"IF(tblResultaatMaatregelen[[#This Row],[X-as]]=\"Maatregelen\",tblResultaatMaatregelen[[#This Row],[MaatregelCode]],CONCATENATE(tblResultaatMaatregelen[[#This Row],[Sector]],\" (\",tblResultaatMaatregelen[[#This Row],[Sector_kort]],\")\"))","v":"RES_EE_SLOOP"},{"$f":"IF(tblResultaatMaatregelen[[#This Row],[X-as]]=\"Maatregelen\",CONCATENATE(tblResultaatMaatregelen[[#This Row],[Sector]],\" (\",tblResultaatMaatregelen[[#This Row],[Sector_kort]],\")\"),tblResultaatMaatregelen[[#This Row],[MaatregelCode]])","v":"Huishoudens (RES)"}]
[{"$f":"CONCATENATE(\"Scenario \",tblResultaatMaatregelen[[#This Row],[ScenarioNummer]])","v":"Scenario 1"},1,10,{"$f":"VLOOKUP(tblResultaatMaatregelen[[#This Row],[MaatregelNummer]],Tbl_scenario[],4,TRUE)","v":"TER_EE_ISO"},{"$f":"INDEX(tblSectoren[SectorID],MATCH(tblResultaatMaatregelen[[#This Row],[Sector]],tblSectoren[Sectoren],0))","v":2},{"$f":"VLOOKUP(tblResultaatMaatregelen[[#This Row],[MaatregelNummer]],Tbl_scenario[],2,TRUE)","v":"Tertiair"},{"$f":"INDEX(tblSectoren[Afkorting],tblResultaatMaatregelen[[#This Row],[Sectornummer]])","v":"TER"},{"$f":"VLOOKUP(tblResultaatMaatregelen[[#This Row],[MaatregelNummer]],Tbl_scenario[],3,TRUE)","v":"Verhoogde isolatiegraad"},{"$f":"VLOOKUP(tblResultaatMaatregelen[[#This Row],[MaatregelNummer]],Tbl_scenario[],6+(tblResultaatMaatregelen[[#This Row],[ScenarioNummer]]-1)*4+1,TRUE)","v":"Laag"},{"$f":"IF(tblResultaatMaatregelen[[#This Row],[Ambitieniveau]]=\"Niet\",0,IFERROR(INDIRECT(CONCATENATE(tblResultaatMaatregelen[[#This Row],[MaatregelCode]],\"_REDCO2_\",tblResultaatMaatregelen[[#This Row],[ScenarioNummer]])),0))","v":5331.516632652123},"Maatregelen",{"$f":"IF(tblResultaatMaatregelen[[#This Row],[X-as]]=\"Maatregelen\",tblResultaatMaatregelen[[#This Row],[MaatregelNummer]],tblResultaatMaatregelen[[#This Row],[Sectornummer]])","v":10},{"$f":"IF(tblResultaatMaatregelen[[#This Row],[X-as]]=\"Maatregelen\",tblResultaatMaatregelen[[#This Row],[MaatregelCode]],CONCATENATE(tblResultaatMaatregelen[[#This Row],[Sector]],\" (\",tblResultaatMaatregelen[[#This Row],[Sector_kort]],\")\"))","v":"TER_EE_ISO"},{"$f":"IF(tblResultaatMaatregelen[[#This Row],[X-as]]=\"Maatregelen\",CONCATENATE(tblResultaatMaatregelen[[#This Row],[Sector]],\" (\",tblResultaatMaatregelen[[#This Row],[Sector_kort]],\")\"),tblResultaatMaatregelen[[#This Row],[MaatregelCode]])","v":"Tertiair (TER)"}]
[{"$f":"CONCATENATE(\"Scenario \",tblResultaatMaatregelen[[#This Row],[ScenarioNummer]])","v":"Scenario 1"},1,11,{"$f":"VLOOKUP(tblResultaatMaatregelen[[#This Row],[MaatregelNummer]],Tbl_scenario[],4,TRUE)","v":"TER_HER_WP"},{"$f":"INDEX(tblSectoren[SectorID],MATCH(tblResultaatMaatregelen[[#This Row],[Sector]],tblSectoren[Sectoren],0))","v":2},{"$f":"VLOOKUP(tblResultaatMaatregelen[[#This Row],[MaatregelNummer]],Tbl_scenario[],2,TRUE)","v":"Tertiair"},{"$f":"INDEX(tblSectoren[Afkorting],tblResultaatMaatregelen[[#This Row],[Sectornummer]])","v":"TER"},{"$f":"VLOOKUP(tblResultaatMaatregelen[[#This Row],[MaatregelNummer]],Tbl_scenario[],3,TRUE)","v":"Warmtepomp"},{"$f":"VLOOKUP(tblResultaatMaatregelen[[#This Row],[MaatregelNummer]],Tbl_scenario[],6+(tblResultaatMaatregelen[[#This Row],[ScenarioNummer]]-1)*4+1,TRUE)","v":"Laag"},{"$f":"IF(tblResultaatMaatregelen[[#This Row],[Ambitieniveau]]=\"Niet\",0,IFERROR(INDIRECT(CONCATENATE(tblResultaatMaatregelen[[#This Row],[MaatregelCode]],\"_REDCO2_\",tblResultaatMaatregelen[[#This Row],[ScenarioNummer]])),0))","v":2668.3663516033976},"Maatregelen",{"$f":"IF(tblResultaatMaatregelen[[#This Row],[X-as]]=\"Maatregelen\",tblResultaatMaatregelen[[#This Row],[MaatregelNummer]],tblResultaatMaatregelen[[#This Row],[Sectornummer]])","v":11},{"$f":"IF(tblResultaatMaatregelen[[#This Row],[X-as]]=\"Maatregelen\",tblResultaatMaatregelen[[#This Row],[MaatregelCode]],CONCATENATE(tblResultaatMaatregelen[[#This Row],[Sector]],\" (\",tblResultaatMaatregelen[[#This Row],[Sector_kort]],\")\"))","v":"TER_HER_WP"},{"$f":"IF(tblResultaatMaatregelen[[#This Row],[X-as]]=\"Maatregelen\",CONCATENATE(tblResultaatMaatregelen[[#This Row],[Sector]],\" (\",tblResultaatMaatregelen[[#This Row],[Sector_kort]],\")\"),tblResultaatMaatregelen[[#This Row],[MaatregelCode]])","v":"Tertiair (TER)"}]
[{"$f":"CONCATENATE(\"Scenario \",tblResultaatMaatregelen[[#This Row],[ScenarioNummer]])","v":"Scenario 1"},1,12,{"$f":"VLOOKUP(tblResultaatMaatregelen[[#This Row],[MaatregelNummer]],Tbl_scenario[],4,TRUE)","v":"TER_HER_ZB"},{"$f":"INDEX(tblSectoren[SectorID],MATCH(tblResultaatMaatregelen[[#This Row],[Sector]],tblSectoren[Sectoren],0))","v":2},{"$f":"VLOOKUP(tblResultaatMaatregelen[[#This Row],[MaatregelNummer]],Tbl_scenario[],2,TRUE)","v":"Tertiair"},{"$f":"INDEX(tblSectoren[Afkorting],tblResultaatMaatregelen[[#This Row],[Sectornummer]])","v":"TER"},{"$f":"VLOOKUP(tblResultaatMaatregelen[[#This Row],[MaatregelNummer]],Tbl_scenario[],3,TRUE)","v":"Zonneboiler"},{"$f":"VLOOKUP(tblResultaatMaatregelen[[#This Row],[MaatregelNummer]],Tbl_scenario[],6+(tblResultaatMaatregelen[[#This Row],[ScenarioNummer]]-1)*4+1,TRUE)","v":"Laag"},{"$f":"IF(tblResultaatMaatregelen[[#This Row],[Ambitieniveau]]=\"Niet\",0,IFERROR(INDIRECT(CONCATENATE(tblResultaatMaatregelen[[#This Row],[MaatregelCode]],\"_REDCO2_\",tblResultaatMaatregelen[[#This Row],[ScenarioNummer]])),0))","v":925.61052650210468},"Maatregelen",{"$f":"IF(tblResultaatMaatregelen[[#This Row],[X-as]]=\"Maatregelen\",tblResultaatMaatregelen[[#This Row],[MaatregelNummer]],tblResultaatMaatregelen[[#This Row],[Sectornummer]])","v":12},{"$f":"IF(tblResultaatMaatregelen[[#This Row],[X-as]]=\"Maatregelen\",tblResultaatMaatregelen[[#This Row],[MaatregelCode]],CONCATENATE(tblResultaatMaatregelen[[#This Row],[Sector]],\" (\",tblResultaatMaatregelen[[#This Row],[Sector_kort]],\")\"))","v":"TER_HER_ZB"},{"$f":"IF(tblResultaatMaatregelen[[#This Row],[X-as]]=\"Maatregelen\",CONCATENATE(tblResultaatMaatregelen[[#This Row],[Sector]],\" (\",tblResultaatMaatregelen[[#This Row],[Sector_kort]],\")\"),tblResultaatMaatregelen[[#This Row],[MaatregelCode]])","v":"Tertiair (TER)"}]
[{"$f":"CONCATENATE(\"Scenario \",tblResultaatMaatregelen[[#This Row],[ScenarioNummer]])","v":"Scenario 1"},1,13,{"$f":"VLOOKUP(tblResultaatMaatregelen[[#This Row],[MaatregelNummer]],Tbl_scenario[],4,TRUE)","v":"TER_HER_WPB"},{"$f":"INDEX(tblSectoren[SectorID],MATCH(tblResultaatMaatregelen[[#This Row],[Sector]],tblSectoren[Sectoren],0))","v":2},{"$f":"VLOOKUP(tblResultaatMaatregelen[[#This Row],[MaatregelNummer]],Tbl_scenario[],2,TRUE)","v":"Tertiair"},{"$f":"INDEX(tblSectoren[Afkorting],tblResultaatMaatregelen[[#This Row],[Sectornummer]])","v":"TER"},{"$f":"VLOOKUP(tblResultaatMaatregelen[[#This Row],[MaatregelNummer]],Tbl_scenario[],3,TRUE)","v":"Warmtepompboiler"},{"$f":"VLOOKUP(tblResultaatMaatregelen[[#This Row],[MaatregelNummer]],Tbl_scenario[],6+(tblResultaatMaatregelen[[#This Row],[ScenarioNummer]]-1)*4+1,TRUE)","v":"Laag"},{"$f":"IF(tblResultaatMaatregelen[[#This Row],[Ambitieniveau]]=\"Niet\",0,IFERROR(INDIRECT(CONCATENATE(tblResultaatMaatregelen[[#This Row],[MaatregelCode]],\"_REDCO2_\",tblResultaatMaatregelen[[#This Row],[ScenarioNummer]])),0))","v":1291.0997264309194},"Maatregelen",{"$f":"IF(tblResultaatMaatregelen[[#This Row],[X-as]]=\"Maatregelen\",tblResultaatMaatregelen[[#This Row],[MaatregelNummer]],tblResultaatMaatregelen[[#This Row],[Sectornummer]])","v":13},{"$f":"IF(tblResultaatMaatregelen[[#This Row],[X-as]]=\"Maatregelen\",tblResultaatMaatregelen[[#This Row],[MaatregelCode]],CONCATENATE(tblResultaatMaatregelen[[#This Row],[Sector]],\" (\",tblResultaatMaatregelen[[#This Row],[Sector_kort]],\")\"))","v":"TER_HER_WPB"},{"$f":"IF(tblResultaatMaatregelen[[#This Row],[X-as]]=\"Maatregelen\",CONCATENATE(tblResultaatMaatregelen[[#This Row],[Sector]],\" (\",tblResultaatMaatregelen[[#This Row],[Sector_kort]],\")\"),tblResultaatMaatregelen[[#This Row],[MaatregelCode]])","v":"Tertiair (TER)"}]
[{"$f":"CONCATENATE(\"Scenario \",tblResultaatMaatregelen[[#This Row],[ScenarioNummer]])","v":"Scenario 1"},1,14,{"$f":"VLOOKUP(tblResultaatMaatregelen[[#This Row],[MaatregelNummer]],Tbl_scenario[],4,TRUE)","v":"TER_EE_ELE"},{"$f":"INDEX(tblSectoren[SectorID],MATCH(tblResultaatMaatregelen[[#This Row],[Sector]],tblSectoren[Sectoren],0))","v":2},{"$f":"VLOOKUP(tblResultaatMaatregelen[[#This Row],[MaatregelNummer]],Tbl_scenario[],2,TRUE)","v":"Tertiair"},{"$f":"INDEX(tblSectoren[Afkorting],tblResultaatMaatregelen[[#This Row],[Sectornummer]])","v":"TER"},{"$f":"VLOOKUP(tblResultaatMaatregelen[[#This Row],[MaatregelNummer]],Tbl_scenario[],3,TRUE)","v":"Ele. gebruik: verhogen efficiëntie (LED, relighting, koeling, etc.)"},{"$f":"VLOOKUP(tblResultaatMaatregelen[[#This Row],[MaatregelNummer]],Tbl_scenario[],6+(tblResultaatMaatregelen[[#This Row],[ScenarioNummer]]-1)*4+1,TRUE)","v":"Laag"},{"$f":"IF(tblResultaatMaatregelen[[#This Row],[Ambitieniveau]]=\"Niet\",0,IFERROR(INDIRECT(CONCATENATE(tblResultaatMaatregelen[[#This Row],[MaatregelCode]],\"_REDCO2_\",tblResultaatMaatregelen[[#This Row],[ScenarioNummer]])),0))","v":2523.4303286035938},"Maatregelen",{"$f":"IF(tblResultaatMaatregelen[[#This Row],[X-as]]=\"Maatregelen\",tblResultaatMaatregelen[[#This Row],[MaatregelNummer]],tblResultaatMaatregelen[[#This Row],[Sectornummer]])","v":14},{"$f":"IF(tblResultaatMaatregelen[[#This Row],[X-as]]=\"Maatregelen\",tblResultaatMaatregelen[[#This Row],[MaatregelCode]],CONCATENATE(tblResultaatMaatregelen[[#This Row],[Sector]],\" (\",tblResultaatMaatregelen[[#This Row],[Sector_kort]],\")\"))","v":"TER_EE_ELE"},{"$f":"IF(tblResultaatMaatregelen[[#This Row],[X-as]]=\"Maatregelen\",CONCATENATE(tblResultaatMaatregelen[[#This Row],[Sector]],\" (\",tblResultaatMaatregelen[[#This Row],[Sector_kort]],\")\"),tblResultaatMaatregelen[[#This Row],[MaatregelCode]])","v":"Tertiair (TER)"}]
[{"$f":"CONCATENATE(\"Scenario \",tblResultaatMaatregelen[[#This Row],[ScenarioNummer]])","v":"Scenario 1"},1,15,{"$f":"VLOOKUP(tblResultaatMaatregelen[[#This Row],[MaatregelNummer]],Tbl_scenario[],4,TRUE)","v":"OV_LED_EE"},{"$f":"INDEX(tblSectoren[SectorID],MATCH(tblResultaatMaatregelen[[#This Row],[Sector]],tblSectoren[Sectoren],0))","v":6},{"$f":"VLOOKUP(tblResultaatMaatregelen[[#This Row],[MaatregelNummer]],Tbl_scenario[],2,TRUE)","v":"Openbare verlichting"},{"$f":"INDEX(tblSectoren[Afkorting],tblResultaatMaatregelen[[#This Row],[Sectornummer]])","v":"OV"},{"$f":"VLOOKUP(tblResultaatMaatregelen[[#This Row],[MaatregelNummer]],Tbl_scenario[],3,TRUE)","v":"LED: verhogen energie-efficiëntie"},{"$f":"VLOOKUP(tblResultaatMaatregelen[[#This Row],[MaatregelNummer]],Tbl_scenario[],6+(tblResultaatMaatregelen[[#This Row],[ScenarioNummer]]-1)*4+1,TRUE)","v":"Laag"},{"$f":"IF(tblResultaatMaatregelen[[#This Row],[Ambitieniveau]]=\"Niet\",0,IFERROR(INDIRECT(CONCATENATE(tblResultaatMaatregelen[[#This Row],[MaatregelCode]],\"_REDCO2_\",tblResultaatMaatregelen[[#This Row],[ScenarioNummer]])),0))","v":214.91237052945354},"Maatregelen",{"$f":"IF(tblResultaatMaatregelen[[#This Row],[X-as]]=\"Maatregelen\",tblResultaatMaatregelen[[#This Row],[MaatregelNummer]],tblResultaatMaatregelen[[#This Row],[Sectornummer]])","v":15},{"$f":"IF(tblResultaatMaatregelen[[#This Row],[X-as]]=\"Maatregelen\",tblResultaatMaatregelen[[#This Row],[MaatregelCode]],CONCATENATE(tblResultaatMaatregelen[[#This Row],[Sector]],\" (\",tblResultaatMaatregelen[[#This Row],[Sector_kort]],\")\"))","v":"OV_LED_EE"},{"$f":"IF(tblResultaatMaatregelen[[#This Row],[X-as]]=\"Maatregelen\",CONCATENATE(tblResultaatMaatregelen[[#This Row],[Sector]],\" (\",tblResultaatMaatregelen[[#This Row],[Sector_kort]],\")\"),tblResultaatMaatregelen[[#This Row],[MaatregelCode]])","v":"Openbare verlichting (OV)"}]
[{"$f":"CONCATENATE(\"Scenario \",tblResultaatMaatregelen[[#This Row],[ScenarioNummer]])","v":"Scenario 1"},1,16,{"$f":"VLOOKUP(tblResultaatMaatregelen[[#This Row],[MaatregelNummer]],Tbl_scenario[],4,TRUE)","v":"IND_HER_WP"},{"$f":"INDEX(tblSectoren[SectorID],MATCH(tblResultaatMaatregelen[[#This Row],[Sector]],tblSectoren[Sectoren],0))","v":3},{"$f":"VLOOKUP(tblResultaatMaatregelen[[#This Row],[MaatregelNummer]],Tbl_scenario[],2,TRUE)","v":"Industrie (niet-ETS)"},{"$f":"INDEX(tblSectoren[Afkorting],tblResultaatMaatregelen[[#This Row],[Sectornummer]])","v":"IND"},{"$f":"VLOOKUP(tblResultaatMaatregelen[[#This Row],[MaatregelNummer]],Tbl_scenario[],3,TRUE)","v":"Warmtepomp"},{"$f":"VLOOKUP(tblResultaatMaatregelen[[#This Row],[MaatregelNummer]],Tbl_scenario[],6+(tblResultaatMaatregelen[[#This Row],[ScenarioNummer]]-1)*4+1,TRUE)","v":"Laag"},{"$f":"IF(tblResultaatMaatregelen[[#This Row],[Ambitieniveau]]=\"Niet\",0,IFERROR(INDIRECT(CONCATENATE(tblResultaatMaatregelen[[#This Row],[MaatregelCode]],\"_REDCO2_\",tblResultaatMaatregelen[[#This Row],[ScenarioNummer]])),0))","v":655.01208743497432},"Maatregelen",{"$f":"IF(tblResultaatMaatregelen[[#This Row],[X-as]]=\"Maatregelen\",tblResultaatMaatregelen[[#This Row],[MaatregelNummer]],tblResultaatMaatregelen[[#This Row],[Sectornummer]])","v":16},{"$f":"IF(tblResultaatMaatregelen[[#This Row],[X-as]]=\"Maatregelen\",tblResultaatMaatregelen[[#This Row],[MaatregelCode]],CONCATENATE(tblResultaatMaatregelen[[#This Row],[Sector]],\" (\",tblResultaatMaatregelen[[#This Row],[Sector_kort]],\")\"))","v":"IND_HER_WP"},{"$f":"IF(tblResultaatMaatregelen[[#This Row],[X-as]]=\"Maatregelen\",CONCATENATE(tblResultaatMaatregelen[[#This Row],[Sector]],\" (\",tblResultaatMaatregelen[[#This Row],[Sector_kort]],\")\"),tblResultaatMaatregelen[[#This Row],[MaatregelCode]])","v":"Industrie (niet-ETS) (IND)"}]
[{"$f":"CONCATENATE(\"Scenario \",tblResultaatMaatregelen[[#This Row],[ScenarioNummer]])","v":"Scenario 1"},1,17,{"$f":"VLOOKUP(tblResultaatMaatregelen[[#This Row],[MaatregelNummer]],Tbl_scenario[],4,TRUE)","v":"IND_HER_ZB"},{"$f":"INDEX(tblSectoren[SectorID],MATCH(tblResultaatMaatregelen[[#This Row],[Sector]],tblSectoren[Sectoren],0))","v":3},{"$f":"VLOOKUP(tblResultaatMaatregelen[[#This Row],[MaatregelNummer]],Tbl_scenario[],2,TRUE)","v":"Industrie (niet-ETS)"},{"$f":"INDEX(tblSectoren[Afkorting],tblResultaatMaatregelen[[#This Row],[Sectornummer]])","v":"IND"},{"$f":"VLOOKUP(tblResultaatMaatregelen[[#This Row],[MaatregelNummer]],Tbl_scenario[],3,TRUE)","v":"Zonneboiler"},{"$f":"VLOOKUP(tblResultaatMaatregelen[[#This Row],[MaatregelNummer]],Tbl_scenario[],6+(tblResultaatMaatregelen[[#This Row],[ScenarioNummer]]-1)*4+1,TRUE)","v":"Laag"},{"$f":"IF(tblResultaatMaatregelen[[#This Row],[Ambitieniveau]]=\"Niet\",0,IFERROR(INDIRECT(CONCATENATE(tblResultaatMaatregelen[[#This Row],[MaatregelCode]],\"_REDCO2_\",tblResultaatMaatregelen[[#This Row],[ScenarioNummer]])),0))","v":140.9019379449181},"Maatregelen",{"$f":"IF(tblResultaatMaatregelen[[#This Row],[X-as]]=\"Maatregelen\",tblResultaatMaatregelen[[#This Row],[MaatregelNummer]],tblResultaatMaatregelen[[#This Row],[Sectornummer]])","v":17},{"$f":"IF(tblResultaatMaatregelen[[#This Row],[X-as]]=\"Maatregelen\",tblResultaatMaatregelen[[#This Row],[MaatregelCode]],CONCATENATE(tblResultaatMaatregelen[[#This Row],[Sector]],\" (\",tblResultaatMaatregelen[[#This Row],[Sector_kort]],\")\"))","v":"IND_HER_ZB"},{"$f":"IF(tblResultaatMaatregelen[[#This Row],[X-as]]=\"Maatregelen\",CONCATENATE(tblResultaatMaatregelen[[#This Row],[Sector]],\" (\",tblResultaatMaatregelen[[#This Row],[Sector_kort]],\")\"),tblResultaatMaatregelen[[#This Row],[MaatregelCode]])","v":"Industrie (niet-ETS) (IND)"}]
[{"$f":"CONCATENATE(\"Scenario \",tblResultaatMaatregelen[[#This Row],[ScenarioNummer]])","v":"Scenario 1"},1,18,{"$f":"VLOOKUP(tblResultaatMaatregelen[[#This Row],[MaatregelNummer]],Tbl_scenario[],4,TRUE)","v":"IND_EE_EEA"},{"$f":"INDEX(tblSectoren[SectorID],MATCH(tblResultaatMaatregelen[[#This Row],[Sector]],tblSectoren[Sectoren],0))","v":3},{"$f":"VLOOKUP(tblResultaatMaatregelen[[#This Row],[MaatregelNummer]],Tbl_scenario[],2,TRUE)","v":"Industrie (niet-ETS)"},{"$f":"INDEX(tblSectoren[Afkorting],tblResultaatMaatregelen[[#This Row],[Sectornummer]])","v":"IND"},{"$f":"VLOOKUP(tblResultaatMaatregelen[[#This Row],[MaatregelNummer]],Tbl_scenario[],3,TRUE)","v":"Ele. gebruik: verhogen efficiëntie elektrische aandrijfsystemen"},{"$f":"VLOOKUP(tblResultaatMaatregelen[[#This Row],[MaatregelNummer]],Tbl_scenario[],6+(tblResultaatMaatregelen[[#This Row],[ScenarioNummer]]-1)*4+1,TRUE)","v":"Laag"},{"$f":"IF(tblResultaatMaatregelen[[#This Row],[Ambitieniveau]]=\"Niet\",0,IFERROR(INDIRECT(CONCATENATE(tblResultaatMaatregelen[[#This Row],[MaatregelCode]],\"_REDCO2_\",tblResultaatMaatregelen[[#This Row],[ScenarioNummer]])),0))","v":118.64209842566362},"Maatregelen",{"$f":"IF(tblResultaatMaatregelen[[#This Row],[X-as]]=\"Maatregelen\",tblResultaatMaatregelen[[#This Row],[MaatregelNummer]],tblResultaatMaatregelen[[#This Row],[Sectornummer]])","v":18},{"$f":"IF(tblResultaatMaatregelen[[#This Row],[X-as]]=\"Maatregelen\",tblResultaatMaatregelen[[#This Row],[MaatregelCode]],CONCATENATE(tblResultaatMaatregelen[[#This Row],[Sector]],\" (\",tblResultaatMaatregelen[[#This Row],[Sector_kort]],\")\"))","v":"IND_EE_EEA"},{"$f":"IF(tblResultaatMaatregelen[[#This Row],[X-as]]=\"Maatregelen\",CONCATENATE(tblResultaatMaatregelen[[#This Row],[Sector]],\" (\",tblResultaatMaatregelen[[#This Row],[Sector_kort]],\")\"),tblResultaatMaatregelen[[#This Row],[MaatregelCode]])","v":"Industrie (niet-ETS) (IND)"}]
[{"$f":"CONCATENATE(\"Scenario \",tblResultaatMaatregelen[[#This Row],[ScenarioNummer]])","v":"Scenario 1"},1,19,{"$f":"VLOOKUP(tblResultaatMaatregelen[[#This Row],[MaatregelNummer]],Tbl_scenario[],4,TRUE)","v":"MOB_MS_voet"},{"$f":"INDEX(tblSectoren[SectorID],MATCH(tblResultaatMaatregelen[[#This Row],[Sector]],tblSectoren[Sectoren],0))","v":4},{"$f":"VLOOKUP(tblResultaatMaatregelen[[#This Row],[MaatregelNummer]],Tbl_scenario[],2,TRUE)","v":"Particulier en commercieel vervoer"},{"$f":"INDEX(tblSectoren[Afkorting],tblResultaatMaatregelen[[#This Row],[Sectornummer]])","v":"MOB"},{"$f":"VLOOKUP(tblResultaatMaatregelen[[#This Row],[MaatregelNummer]],Tbl_scenario[],3,TRUE)","v":"Modal Shift_Voet + Fiets"},{"$f":"VLOOKUP(tblResultaatMaatregelen[[#This Row],[MaatregelNummer]],Tbl_scenario[],6+(tblResultaatMaatregelen[[#This Row],[ScenarioNummer]]-1)*4+1,TRUE)","v":"Laag"},{"$f":"IF(tblResultaatMaatregelen[[#This Row],[Ambitieniveau]]=\"Niet\",0,IFERROR(INDIRECT(CONCATENATE(tblResultaatMaatregelen[[#This Row],[MaatregelCode]],\"_REDCO2_\",tblResultaatMaatregelen[[#This Row],[ScenarioNummer]])),0))","v":1772.4013915194855},"Maatregelen",{"$f":"IF(tblResultaatMaatregelen[[#This Row],[X-as]]=\"Maatregelen\",tblResultaatMaatregelen[[#This Row],[MaatregelNummer]],tblResultaatMaatregelen[[#This Row],[Sectornummer]])","v":19},{"$f":"IF(tblResultaatMaatregelen[[#This Row],[X-as]]=\"Maatregelen\",tblResultaatMaatregelen[[#This Row],[MaatregelCode]],CONCATENATE(tblResultaatMaatregelen[[#This Row],[Sector]],\" (\",tblResultaatMaatregelen[[#This Row],[Sector_kort]],\")\"))","v":"MOB_MS_voet"},{"$f":"IF(tblResultaatMaatregelen[[#This Row],[X-as]]=\"Maatregelen\",CONCATENATE(tblResultaatMaatregelen[[#This Row],[Sector]],\" (\",tblResultaatMaatregelen[[#This Row],[Sector_kort]],\")\"),tblResultaatMaatregelen[[#This Row],[MaatregelCode]])","v":"Particulier en commercieel vervoer (MOB)"}]
[{"$f":"CONCATENATE(\"Scenario \",tblResultaatMaatregelen[[#This Row],[ScenarioNummer]])","v":"Scenario 1"},1,20,{"$f":"VLOOKUP(tblResultaatMaatregelen[[#This Row],[MaatregelNummer]],Tbl_scenario[],4,TRUE)","v":"MOB_MS_EFiets"},{"$f":"INDEX(tblSectoren[SectorID],MATCH(tblResultaatMaatregelen[[#This Row],[Sector]],tblSectoren[Sectoren],0))","v":4},{"$f":"VLOOKUP(tblResultaatMaatregelen[[#This Row],[MaatregelNummer]],Tbl_scenario[],2,TRUE)","v":"Particulier en commercieel vervoer"},{"$f":"INDEX(tblSectoren[Afkorting],tblResultaatMaatregelen[[#This Row],[Sectornummer]])","v":"MOB"},{"$f":"VLOOKUP(tblResultaatMaatregelen[[#This Row],[MaatregelNummer]],Tbl_scenario[],3,TRUE)","v":"Modal Shift_Elektrische Fiets"},{"$f":"VLOOKUP(tblResultaatMaatregelen[[#This Row],[MaatregelNummer]],Tbl_scenario[],6+(tblResultaatMaatregelen[[#This Row],[ScenarioNummer]]-1)*4+1,TRUE)","v":"Laag"},{"$f":"IF(tblResultaatMaatregelen[[#This Row],[Ambitieniveau]]=\"Niet\",0,IFERROR(INDIRECT(CONCATENATE(tblResultaatMaatregelen[[#This Row],[MaatregelCode]],\"_REDCO2_\",tblResultaatMaatregelen[[#This Row],[ScenarioNummer]])),0))","v":1477.0011595995713},"Maatregelen",{"$f":"IF(tblResultaatMaatregelen[[#This Row],[X-as]]=\"Maatregelen\",tblResultaatMaatregelen[[#This Row],[MaatregelNummer]],tblResultaatMaatregelen[[#This Row],[Sectornummer]])","v":20},{"$f":"IF(tblResultaatMaatregelen[[#This Row],[X-as]]=\"Maatregelen\",tblResultaatMaatregelen[[#This Row],[MaatregelCode]],CONCATENATE(tblResultaatMaatregelen[[#This Row],[Sector]],\" (\",tblResultaatMaatregelen[[#This Row],[Sector_kort]],\")\"))","v":"MOB_MS_EFiets"},{"$f":"IF(tblResultaatMaatregelen[[#This Row],[X-as]]=\"Maatregelen\",CONCATENATE(tblResultaatMaatregelen[[#This Row],[Sector]],\" (\",tblResultaatMaatregelen[[#This Row],[Sector_kort]],\")\"),tblResultaatMaatregelen[[#This Row],[MaatregelCode]])","v":"Particulier en commercieel vervoer (MOB)"}]
[{"$f":"CONCATENATE(\"Scenario \",tblResultaatMaatregelen[[#This Row],[ScenarioNummer]])","v":"Scenario 1"},1,21,{"$f":"VLOOKUP(tblResultaatMaatregelen[[#This Row],[MaatregelNummer]],Tbl_scenario[],4,TRUE)","v":"MOB_MS_OV"},{"$f":"INDEX(tblSectoren[SectorID],MATCH(tblResultaatMaatregelen[[#This Row],[Sector]],tblSectoren[Sectoren],0))","v":4},{"$f":"VLOOKUP(tblResultaatMaatregelen[[#This Row],[MaatregelNummer]],Tbl_scenario[],2,TRUE)","v":"Particulier en commercieel vervoer"},{"$f":"INDEX(tblSectoren[Afkorting],tblResultaatMaatregelen[[#This Row],[Sectornummer]])","v":"MOB"},{"$f":"VLOOKUP(tblResultaatMaatregelen[[#This Row],[MaatregelNummer]],Tbl_scenario[],3,TRUE)","v":"Modal Shift_Openbaar vervoer"},{"$f":"VLOOKUP(tblResultaatMaatregelen[[#This Row],[MaatregelNummer]],Tbl_scenario[],6+(tblResultaatMaatregelen[[#This Row],[ScenarioNummer]]-1)*4+1,TRUE)","v":"Laag"},{"$f":"IF(tblResultaatMaatregelen[[#This Row],[Ambitieniveau]]=\"Niet\",0,IFERROR(INDIRECT(CONCATENATE(tblResultaatMaatregelen[[#This Row],[MaatregelCode]],\"_REDCO2_\",tblResultaatMaatregelen[[#This Row],[ScenarioNummer]])),0))","v":2245.0417625913483},"Maatregelen",{"$f":"IF(tblResultaatMaatregelen[[#This Row],[X-as]]=\"Maatregelen\",tblResultaatMaatregelen[[#This Row],[MaatregelNummer]],tblResultaatMaatregelen[[#This Row],[Sectornummer]])","v":21},{"$f":"IF(tblResultaatMaatregelen[[#This Row],[X-as]]=\"Maatregelen\",tblResultaatMaatregelen[[#This Row],[MaatregelCode]],CONCATENATE(tblResultaatMaatregelen[[#This Row],[Sector]],\" (\",tblResultaatMaatregelen[[#This Row],[Sector_kort]],\")\"))","v":"MOB_MS_OV"},{"$f":"IF(tblResultaatMaatregelen[[#This Row],[X-as]]=\"Maatregelen\",CONCATENATE(tblResultaatMaatregelen[[#This Row],[Sector]],\" (\",tblResultaatMaatregelen[[#This Row],[Sector_kort]],\")\"),tblResultaatMaatregelen[[#This Row],[MaatregelCode]])","v":"Particulier en commercieel vervoer (MOB)"}]
[{"$f":"CONCATENATE(\"Scenario \",tblResultaatMaatregelen[[#This Row],[ScenarioNummer]])","v":"Scenario 1"},1,22,{"$f":"VLOOKUP(tblResultaatMaatregelen[[#This Row],[MaatregelNummer]],Tbl_scenario[],4,TRUE)","v":"MOB_BS_EV"},{"$f":"INDEX(tblSectoren[SectorID],MATCH(tblResultaatMaatregelen[[#This Row],[Sector]],tblSectoren[Sectoren],0))","v":4},{"$f":"VLOOKUP(tblResultaatMaatregelen[[#This Row],[MaatregelNummer]],Tbl_scenario[],2,TRUE)","v":"Particulier en commercieel vervoer"},{"$f":"INDEX(tblSectoren[Afkorting],tblResultaatMaatregelen[[#This Row],[Sectornummer]])","v":"MOB"},{"$f":"VLOOKUP(tblResultaatMaatregelen[[#This Row],[MaatregelNummer]],Tbl_scenario[],3,TRUE)","v":"Brandstofshift_Elektrische voertuigen"},{"$f":"VLOOKUP(tblResultaatMaatregelen[[#This Row],[MaatregelNummer]],Tbl_scenario[],6+(tblResultaatMaatregelen[[#This Row],[ScenarioNummer]]-1)*4+1,TRUE)","v":"Laag"},{"$f":"IF(tblResultaatMaatregelen[[#This Row],[Ambitieniveau]]=\"Niet\",0,IFERROR(INDIRECT(CONCATENATE(tblResultaatMaatregelen[[#This Row],[MaatregelCode]],\"_REDCO2_\",tblResultaatMaatregelen[[#This Row],[ScenarioNummer]])),0))","v":3038.3986056577323},"Maatregelen",{"$f":"IF(tblResultaatMaatregelen[[#This Row],[X-as]]=\"Maatregelen\",tblResultaatMaatregelen[[#This Row],[MaatregelNummer]],tblResultaatMaatregelen[[#This Row],[Sectornummer]])","v":22},{"$f":"IF(tblResultaatMaatregelen[[#This Row],[X-as]]=\"Maatregelen\",tblResultaatMaatregelen[[#This Row],[MaatregelCode]],CONCATENATE(tblResultaatMaatregelen[[#This Row],[Sector]],\" (\",tblResultaatMaatregelen[[#This Row],[Sector_kort]],\")\"))","v":"MOB_BS_EV"},{"$f":"IF(tblResultaatMaatregelen[[#This Row],[X-as]]=\"Maatregelen\",CONCATENATE(tblResultaatMaatregelen[[#This Row],[Sector]],\" (\",tblResultaatMaatregelen[[#This Row],[Sector_kort]],\")\"),tblResultaatMaatregelen[[#This Row],[MaatregelCode]])","v":"Particulier en commercieel vervoer (MOB)"}]
[{"$f":"CONCATENATE(\"Scenario \",tblResultaatMaatregelen[[#This Row],[ScenarioNummer]])","v":"Scenario 1"},1,23,{"$f":"VLOOKUP(tblResultaatMaatregelen[[#This Row],[MaatregelNummer]],Tbl_scenario[],4,TRUE)","v":"MOB_BS_H2"},{"$f":"INDEX(tblSectoren[SectorID],MATCH(tblResultaatMaatregelen[[#This Row],[Sector]],tblSectoren[Sectoren],0))","v":4},{"$f":"VLOOKUP(tblResultaatMaatregelen[[#This Row],[MaatregelNummer]],Tbl_scenario[],2,TRUE)","v":"Particulier en commercieel vervoer"},{"$f":"INDEX(tblSectoren[Afkorting],tblResultaatMaatregelen[[#This Row],[Sectornummer]])","v":"MOB"},{"$f":"VLOOKUP(tblResultaatMaatregelen[[#This Row],[MaatregelNummer]],Tbl_scenario[],3,TRUE)","v":"Brandstofshift_Waterstof"},{"$f":"VLOOKUP(tblResultaatMaatregelen[[#This Row],[MaatregelNummer]],Tbl_scenario[],6+(tblResultaatMaatregelen[[#This Row],[ScenarioNummer]]-1)*4+1,TRUE)","v":"Laag"},{"$f":"IF(tblResultaatMaatregelen[[#This Row],[Ambitieniveau]]=\"Niet\",0,IFERROR(INDIRECT(CONCATENATE(tblResultaatMaatregelen[[#This Row],[MaatregelCode]],\"_REDCO2_\",tblResultaatMaatregelen[[#This Row],[ScenarioNummer]])),0))","v":984.66743973304733},"Maatregelen",{"$f":"IF(tblResultaatMaatregelen[[#This Row],[X-as]]=\"Maatregelen\",tblResultaatMaatregelen[[#This Row],[MaatregelNummer]],tblResultaatMaatregelen[[#This Row],[Sectornummer]])","v":23},{"$f":"IF(tblResultaatMaatregelen[[#This Row],[X-as]]=\"Maatregelen\",tblResultaatMaatregelen[[#This Row],[MaatregelCode]],CONCATENATE(tblResultaatMaatregelen[[#This Row],[Sector]],\" (\",tblResultaatMaatregelen[[#This Row],[Sector_kort]],\")\"))","v":"MOB_BS_H2"},{"$f":"IF(tblResultaatMaatregelen[[#This Row],[X-as]]=\"Maatregelen\",CONCATENATE(tblResultaatMaatregelen[[#This Row],[Sector]],\" (\",tblResultaatMaatregelen[[#This Row],[Sector_kort]],\")\"),tblResultaatMaatregelen[[#This Row],[MaatregelCode]])","v":"Particulier en commercieel vervoer (MOB)"}]
[{"$f":"CONCATENATE(\"Scenario \",tblResultaatMaatregelen[[#This Row],[ScenarioNummer]])","v":"Scenario 1"},1,24,{"$f":"VLOOKUP(tblResultaatMaatregelen[[#This Row],[MaatregelNummer]],Tbl_scenario[],4,TRUE)","v":"LEN_PV"},{"$f":"INDEX(tblSectoren[SectorID],MATCH(tblResultaatMaatregelen[[#This Row],[Sector]],tblSectoren[Sectoren],0))","v":8},{"$f":"VLOOKUP(tblResultaatMaatregelen[[#This Row],[MaatregelNummer]],Tbl_scenario[],2,TRUE)","v":"Lokale energieproductie"},{"$f":"INDEX(tblSectoren[Afkorting],tblResultaatMaatregelen[[#This Row],[Sectornummer]])","v":"LEN"},{"$f":"VLOOKUP(tblResultaatMaatregelen[[#This Row],[MaatregelNummer]],Tbl_scenario[],3,TRUE)","v":"Elektriciteit_PV"},{"$f":"VLOOKUP(tblResultaatMaatregelen[[#This Row],[MaatregelNummer]],Tbl_scenario[],6+(tblResultaatMaatregelen[[#This Row],[ScenarioNummer]]-1)*4+1,TRUE)","v":"Laag"},{"$f":"IF(tblResultaatMaatregelen[[#This Row],[Ambitieniveau]]=\"Niet\",0,IFERROR(INDIRECT(CONCATENATE(tblResultaatMaatregelen[[#This Row],[MaatregelCode]],\"_REDCO2_\",tblResultaatMaatregelen[[#This Row],[ScenarioNummer]])),0))","v":2496.1528794587502},"Maatregelen",{"$f":"IF(tblResultaatMaatregelen[[#This Row],[X-as]]=\"Maatregelen\",tblResultaatMaatregelen[[#This Row],[MaatregelNummer]],tblResultaatMaatregelen[[#This Row],[Sectornummer]])","v":24},{"$f":"IF(tblResultaatMaatregelen[[#This Row],[X-as]]=\"Maatregelen\",tblResultaatMaatregelen[[#This Row],[MaatregelCode]],CONCATENATE(tblResultaatMaatregelen[[#This Row],[Sector]],\" (\",tblResultaatMaatregelen[[#This Row],[Sector_kort]],\")\"))","v":"LEN_PV"},{"$f":"IF(tblResultaatMaatregelen[[#This Row],[X-as]]=\"Maatregelen\",CONCATENATE(tblResultaatMaatregelen[[#This Row],[Sector]],\" (\",tblResultaatMaatregelen[[#This Row],[Sector_kort]],\")\"),tblResultaatMaatregelen[[#This Row],[MaatregelCode]])","v":"Lokale energieproductie (LEN)"}]
[{"$f":"CONCATENATE(\"Scenario \",tblResultaatMaatregelen[[#This Row],[ScenarioNummer]])","v":"Scenario 1"},1,25,{"$f":"VLOOKUP(tblResultaatMaatregelen[[#This Row],[MaatregelNummer]],Tbl_scenario[],4,TRUE)","v":"LEN_Wind"},{"$f":"INDEX(tblSectoren[SectorID],MATCH(tblResultaatMaatregelen[[#This Row],[Sector]],tblSectoren[Sectoren],0))","v":8},{"$f":"VLOOKUP(tblResultaatMaatregelen[[#This Row],[MaatregelNummer]],Tbl_scenario[],2,TRUE)","v":"Lokale energieproductie"},{"$f":"INDEX(tblSectoren[Afkorting],tblResultaatMaatregelen[[#This Row],[Sectornummer]])","v":"LEN"},{"$f":"VLOOKUP(tblResultaatMaatregelen[[#This Row],[MaatregelNummer]],Tbl_scenario[],3,TRUE)","v":"Elektriciteit_Wind"},{"$f":"VLOOKUP(tblResultaatMaatregelen[[#This Row],[MaatregelNummer]],Tbl_scenario[],6+(tblResultaatMaatregelen[[#This Row],[ScenarioNummer]]-1)*4+1,TRUE)","v":"Laag"},{"$f":"IF(tblResultaatMaatregelen[[#This Row],[Ambitieniveau]]=\"Niet\",0,IFERROR(INDIRECT(CONCATENATE(tblResultaatMaatregelen[[#This Row],[MaatregelCode]],\"_REDCO2_\",tblResultaatMaatregelen[[#This Row],[ScenarioNummer]])),0))","v":2640.3267641378893},"Maatregelen",{"$f":"IF(tblResultaatMaatregelen[[#This Row],[X-as]]=\"Maatregelen\",tblResultaatMaatregelen[[#This Row],[MaatregelNummer]],tblResultaatMaatregelen[[#This Row],[Sectornummer]])","v":25},{"$f":"IF(tblResultaatMaatregelen[[#This Row],[X-as]]=\"Maatregelen\",tblResultaatMaatregelen[[#This Row],[MaatregelCode]],CONCATENATE(tblResultaatMaatregelen[[#This Row],[Sector]],\" (\",tblResultaatMaatregelen[[#This Row],[Sector_kort]],\")\"))","v":"LEN_Wind"},{"$f":"IF(tblResultaatMaatregelen[[#This Row],[X-as]]=\"Maatregelen\",CONCATENATE(tblResultaatMaatregelen[[#This Row],[Sector]],\" (\",tblResultaatMaatregelen[[#This Row],[Sector_kort]],\")\"),tblResultaatMaatregelen[[#This Row],[MaatregelCode]])","v":"Lokale energieproductie (LEN)"}]
[{"$f":"CONCATENATE(\"Scenario \",tblResultaatMaatregelen[[#This Row],[ScenarioNummer]])","v":"Scenario 1"},1,26,{"$f":"VLOOKUP(tblResultaatMaatregelen[[#This Row],[MaatregelNummer]],Tbl_scenario[],4,TRUE)","v":"LB_HER_WP"},{"$f":"INDEX(tblSectoren[SectorID],MATCH(tblResultaatMaatregelen[[#This Row],[Sector]],tblSectoren[Sectoren],0))","v":5},{"$f":"VLOOKUP(tblResultaatMaatregelen[[#This Row],[MaatregelNummer]],Tbl_scenario[],2,TRUE)","v":"Landbouw"},{"$f":"INDEX(tblSectoren[Afkorting],tblResultaatMaatregelen[[#This Row],[Sectornummer]])","v":"LB"},{"$f":"VLOOKUP(tblResultaatMaatregelen[[#This Row],[MaatregelNummer]],Tbl_scenario[],3,TRUE)","v":"Warmtepomp"},{"$f":"VLOOKUP(tblResultaatMaatregelen[[#This Row],[MaatregelNummer]],Tbl_scenario[],6+(tblResultaatMaatregelen[[#This Row],[ScenarioNummer]]-1)*4+1,TRUE)","v":"Laag"},{"$f":"IF(tblResultaatMaatregelen[[#This Row],[Ambitieniveau]]=\"Niet\",0,IFERROR(INDIRECT(CONCATENATE(tblResultaatMaatregelen[[#This Row],[MaatregelCode]],\"_REDCO2_\",tblResultaatMaatregelen[[#This Row],[ScenarioNummer]])),0))","v":110.59984862347436},"Maatregelen",{"$f":"IF(tblResultaatMaatregelen[[#This Row],[X-as]]=\"Maatregelen\",tblResultaatMaatregelen[[#This Row],[MaatregelNummer]],tblResultaatMaatregelen[[#This Row],[Sectornummer]])","v":26},{"$f":"IF(tblResultaatMaatregelen[[#This Row],[X-as]]=\"Maatregelen\",tblResultaatMaatregelen[[#This Row],[MaatregelCode]],CONCATENATE(tblResultaatMaatregelen[[#This Row],[Sector]],\" (\",tblResultaatMaatregelen[[#This Row],[Sector_kort]],\")\"))","v":"LB_HER_WP"},{"$f":"IF(tblResultaatMaatregelen[[#This Row],[X-as]]=\"Maatregelen\",CONCATENATE(tblResultaatMaatregelen[[#This Row],[Sector]],\" (\",tblResultaatMaatregelen[[#This Row],[Sector_kort]],\")\"),tblResultaatMaatregelen[[#This Row],[MaatregelCode]])","v":"Landbouw (LB)"}]
[{"$f":"CONCATENATE(\"Scenario \",tblResultaatMaatregelen[[#This Row],[ScenarioNummer]])","v":"Scenario 1"},1,27,{"$f":"VLOOKUP(tblResultaatMaatregelen[[#This Row],[MaatregelNummer]],Tbl_scenario[],4,TRUE)","v":"LB_HER_PocV"},{"$f":"INDEX(tblSectoren[SectorID],MATCH(tblResultaatMaatregelen[[#This Row],[Sector]],tblSectoren[Sectoren],0))","v":5},{"$f":"VLOOKUP(tblResultaatMaatregelen[[#This Row],[MaatregelNummer]],Tbl_scenario[],2,TRUE)","v":"Landbouw"},{"$f":"INDEX(tblSectoren[Afkorting],tblResultaatMaatregelen[[#This Row],[Sectornummer]])","v":"LB"},{"$f":"VLOOKUP(tblResultaatMaatregelen[[#This Row],[MaatregelNummer]],Tbl_scenario[],3,TRUE)","v":"Hernieuwbare energie_Pocketvergisters"},{"$f":"VLOOKUP(tblResultaatMaatregelen[[#This Row],[MaatregelNummer]],Tbl_scenario[],6+(tblResultaatMaatregelen[[#This Row],[ScenarioNummer]]-1)*4+1,TRUE)","v":"Laag"},{"$f":"IF(tblResultaatMaatregelen[[#This Row],[Ambitieniveau]]=\"Niet\",0,IFERROR(INDIRECT(CONCATENATE(tblResultaatMaatregelen[[#This Row],[MaatregelCode]],\"_REDCO2_\",tblResultaatMaatregelen[[#This Row],[ScenarioNummer]])),0))","v":5.5185386970951855},"Maatregelen",{"$f":"IF(tblResultaatMaatregelen[[#This Row],[X-as]]=\"Maatregelen\",tblResultaatMaatregelen[[#This Row],[MaatregelNummer]],tblResultaatMaatregelen[[#This Row],[Sectornummer]])","v":27},{"$f":"IF(tblResultaatMaatregelen[[#This Row],[X-as]]=\"Maatregelen\",tblResultaatMaatregelen[[#This Row],[MaatregelCode]],CONCATENATE(tblResultaatMaatregelen[[#This Row],[Sector]],\" (\",tblResultaatMaatregelen[[#This Row],[Sector_kort]],\")\"))","v":"LB_HER_PocV"},{"$f":"IF(tblResultaatMaatregelen[[#This Row],[X-as]]=\"Maatregelen\",CONCATENATE(tblResultaatMaatregelen[[#This Row],[Sector]],\" (\",tblResultaatMaatregelen[[#This Row],[Sector_kort]],\")\"),tblResultaatMaatregelen[[#This Row],[MaatregelCode]])","v":"Landbouw (LB)"}]
[{"$f":"CONCATENATE(\"Scenario \",tblResultaatMaatregelen[[#This Row],[ScenarioNummer]])","v":"Scenario 1"},1,28,{"$f":"VLOOKUP(tblResultaatMaatregelen[[#This Row],[MaatregelNummer]],Tbl_scenario[],4,TRUE)","v":"LB_HER_BMK"},{"$f":"INDEX(tblSectoren[SectorID],MATCH(tblResultaatMaatregelen[[#This Row],[Sector]],tblSectoren[Sectoren],0))","v":5},{"$f":"VLOOKUP(tblResultaatMaatregelen[[#This Row],[MaatregelNummer]],Tbl_scenario[],2,TRUE)","v":"Landbouw"},{"$f":"INDEX(tblSectoren[Afkorting],tblResultaatMaatregelen[[#This Row],[Sectornummer]])","v":"LB"},{"$f":"VLOOKUP(tblResultaatMaatregelen[[#This Row],[MaatregelNummer]],Tbl_scenario[],3,TRUE)","v":"Hernieuwbare energie_Biomassaketels"},{"$f":"VLOOKUP(tblResultaatMaatregelen[[#This Row],[MaatregelNummer]],Tbl_scenario[],6+(tblResultaatMaatregelen[[#This Row],[ScenarioNummer]]-1)*4+1,TRUE)","v":"Laag"},{"$f":"IF(tblResultaatMaatregelen[[#This Row],[Ambitieniveau]]=\"Niet\",0,IFERROR(INDIRECT(CONCATENATE(tblResultaatMaatregelen[[#This Row],[MaatregelCode]],\"_REDCO2_\",tblResultaatMaatregelen[[#This Row],[ScenarioNummer]])),0))","v":47.483938690326838},"Maatregelen",{"$f":"IF(tblResultaatMaatregelen[[#This Row],[X-as]]=\"Maatregelen\",tblResultaatMaatregelen[[#This Row],[MaatregelNummer]],tblResultaatMaatregelen[[#This Row],[Sectornummer]])","v":28},{"$f":"IF(tblResultaatMaatregelen[[#This Row],[X-as]]=\"Maatregelen\",tblResultaatMaatregelen[[#This Row],[MaatregelCode]],CONCATENATE(tblResultaatMaatregelen[[#This Row],[Sector]],\" (\",tblResultaatMaatregelen[[#This Row],[Sector_kort]],\")\"))","v":"LB_HER_BMK"},{"$f":"IF(tblResultaatMaatregelen[[#This Row],[X-as]]=\"Maatregelen\",CONCATENATE(tblResultaatMaatregelen[[#This Row],[Sector]],\" (\",tblResultaatMaatregelen[[#This Row],[Sector_kort]],\")\"),tblResultaatMaatregelen[[#This Row],[MaatregelCode]])","v":"Landbouw (LB)"}]
[{"$f":"CONCATENATE(\"Scenario \",tblResultaatMaatregelen[[#This Row],[ScenarioNummer]])","v":"Scenario 1"},1,29,{"$f":"VLOOKUP(tblResultaatMaatregelen[[#This Row],[MaatregelNummer]],Tbl_scenario[],4,TRUE)","v":"LB_EE_ENS"},{"$f":"INDEX(tblSectoren[SectorID],MATCH(tblResultaatMaatregelen[[#This Row],[Sector]],tblSectoren[Sectoren],0))","v":5},{"$f":"VLOOKUP(tblResultaatMaatregelen[[#This Row],[MaatregelNummer]],Tbl_scenario[],2,TRUE)","v":"Landbouw"},{"$f":"INDEX(tblSectoren[Afkorting],tblResultaatMaatregelen[[#This Row],[Sectornummer]])","v":"LB"},{"$f":"VLOOKUP(tblResultaatMaatregelen[[#This Row],[MaatregelNummer]],Tbl_scenario[],3,TRUE)","v":"Energieschermen"},{"$f":"VLOOKUP(tblResultaatMaatregelen[[#This Row],[MaatregelNummer]],Tbl_scenario[],6+(tblResultaatMaatregelen[[#This Row],[ScenarioNummer]]-1)*4+1,TRUE)","v":"Laag"},{"$f":"IF(tblResultaatMaatregelen[[#This Row],[Ambitieniveau]]=\"Niet\",0,IFERROR(INDIRECT(CONCATENATE(tblResultaatMaatregelen[[#This Row],[MaatregelCode]],\"_REDCO2_\",tblResultaatMaatregelen[[#This Row],[ScenarioNummer]])),0))","v":13.953882808094843},"Maatregelen",{"$f":"IF(tblResultaatMaatregelen[[#This Row],[X-as]]=\"Maatregelen\",tblResultaatMaatregelen[[#This Row],[MaatregelNummer]],tblResultaatMaatregelen[[#This Row],[Sectornummer]])","v":29},{"$f":"IF(tblResultaatMaatregelen[[#This Row],[X-as]]=\"Maatregelen\",tblResultaatMaatregelen[[#This Row],[MaatregelCode]],CONCATENATE(tblResultaatMaatregelen[[#This Row],[Sector]],\" (\",tblResultaatMaatregelen[[#This Row],[Sector_kort]],\")\"))","v":"LB_EE_ENS"},{"$f":"IF(tblResultaatMaatregelen[[#This Row],[X-as]]=\"Maatregelen\",CONCATENATE(tblResultaatMaatregelen[[#This Row],[Sector]],\" (\",tblResultaatMaatregelen[[#This Row],[Sector_kort]],\")\"),tblResultaatMaatregelen[[#This Row],[MaatregelCode]])","v":"Landbouw (LB)"}]
[{"$f":"CONCATENATE(\"Scenario \",tblResultaatMaatregelen[[#This Row],[ScenarioNummer]])","v":"Scenario 1"},1,30,{"$f":"VLOOKUP(tblResultaatMaatregelen[[#This Row],[MaatregelNummer]],Tbl_scenario[],4,TRUE)","v":"BLANCO_1"},{"$f":"INDEX(tblSectoren[SectorID],MATCH(tblResultaatMaatregelen[[#This Row],[Sector]],tblSectoren[Sectoren],0))","v":1},{"$f":"VLOOKUP(tblResultaatMaatregelen[[#This Row],[MaatregelNummer]],Tbl_scenario[],2,TRUE)","v":"Huishoudens"},{"$f":"INDEX(tblSectoren[Afkorting],tblResultaatMaatregelen[[#This Row],[Sectornummer]])","v":"RES"},{"$f":"VLOOKUP(tblResultaatMaatregelen[[#This Row],[MaatregelNummer]],Tbl_scenario[],3,TRUE)","v":"Blanco"},{"$f":"VLOOKUP(tblResultaatMaatregelen[[#This Row],[MaatregelNummer]],Tbl_scenario[],6+(tblResultaatMaatregelen[[#This Row],[ScenarioNummer]]-1)*4+1,TRUE)","v":"Niet"},{"$f":"IF(tblResultaatMaatregelen[[#This Row],[Ambitieniveau]]=\"Niet\",0,IFERROR(INDIRECT(CONCATENATE(tblResultaatMaatregelen[[#This Row],[MaatregelCode]],\"_REDCO2_\",tblResultaatMaatregelen[[#This Row],[ScenarioNummer]])),0))","v":0},"Maatregelen",{"$f":"IF(tblResultaatMaatregelen[[#This Row],[X-as]]=\"Maatregelen\",tblResultaatMaatregelen[[#This Row],[MaatregelNummer]],tblResultaatMaatregelen[[#This Row],[Sectornummer]])","v":30},{"$f":"IF(tblResultaatMaatregelen[[#This Row],[X-as]]=\"Maatregelen\",tblResultaatMaatregelen[[#This Row],[MaatregelCode]],CONCATENATE(tblResultaatMaatregelen[[#This Row],[Sector]],\" (\",tblResultaatMaatregelen[[#This Row],[Sector_kort]],\")\"))","v":"BLANCO_1"},{"$f":"IF(tblResultaatMaatregelen[[#This Row],[X-as]]=\"Maatregelen\",CONCATENATE(tblResultaatMaatregelen[[#This Row],[Sector]],\" (\",tblResultaatMaatregelen[[#This Row],[Sector_kort]],\")\"),tblResultaatMaatregelen[[#This Row],[MaatregelCode]])","v":"Huishoudens (RES)"}]
[{"$f":"CONCATENATE(\"Scenario \",tblResultaatMaatregelen[[#This Row],[ScenarioNummer]])","v":"Scenario 1"},1,31,{"$f":"VLOOKUP(tblResultaatMaatregelen[[#This Row],[MaatregelNummer]],Tbl_scenario[],4,TRUE)","v":"BLANCO_2"},{"$f":"INDEX(tblSectoren[SectorID],MATCH(tblResultaatMaatregelen[[#This Row],[Sector]],tblSectoren[Sectoren],0))","v":1},{"$f":"VLOOKUP(tblResultaatMaatregelen[[#This Row],[MaatregelNummer]],Tbl_scenario[],2,TRUE)","v":"Huishoudens"},{"$f":"INDEX(tblSectoren[Afkorting],tblResultaatMaatregelen[[#This Row],[Sectornummer]])","v":"RES"},{"$f":"VLOOKUP(tblResultaatMaatregelen[[#This Row],[MaatregelNummer]],Tbl_scenario[],3,TRUE)","v":"Blanco"},{"$f":"VLOOKUP(tblResultaatMaatregelen[[#This Row],[MaatregelNummer]],Tbl_scenario[],6+(tblResultaatMaatregelen[[#This Row],[ScenarioNummer]]-1)*4+1,TRUE)","v":"Niet"},{"$f":"IF(tblResultaatMaatregelen[[#This Row],[Ambitieniveau]]=\"Niet\",0,IFERROR(INDIRECT(CONCATENATE(tblResultaatMaatregelen[[#This Row],[MaatregelCode]],\"_REDCO2_\",tblResultaatMaatregelen[[#This Row],[ScenarioNummer]])),0))","v":0},"Maatregelen",{"$f":"IF(tblResultaatMaatregelen[[#This Row],[X-as]]=\"Maatregelen\",tblResultaatMaatregelen[[#This Row],[MaatregelNummer]],tblResultaatMaatregelen[[#This Row],[Sectornummer]])","v":31},{"$f":"IF(tblResultaatMaatregelen[[#This Row],[X-as]]=\"Maatregelen\",tblResultaatMaatregelen[[#This Row],[MaatregelCode]],CONCATENATE(tblResultaatMaatregelen[[#This Row],[Sector]],\" (\",tblResultaatMaatregelen[[#This Row],[Sector_kort]],\")\"))","v":"BLANCO_2"},{"$f":"IF(tblResultaatMaatregelen[[#This Row],[X-as]]=\"Maatregelen\",CONCATENATE(tblResultaatMaatregelen[[#This Row],[Sector]],\" (\",tblResultaatMaatregelen[[#This Row],[Sector_kort]],\")\"),tblResultaatMaatregelen[[#This Row],[MaatregelCode]])","v":"Huishoudens (RES)"}]
[{"$f":"CONCATENATE(\"Scenario \",tblResultaatMaatregelen[[#This Row],[ScenarioNummer]])","v":"Scenario 1"},1,32,{"$f":"VLOOKUP(tblResultaatMaatregelen[[#This Row],[MaatregelNummer]],Tbl_scenario[],4,TRUE)","v":"BLANCO_3"},{"$f":"INDEX(tblSectoren[SectorID],MATCH(tblResultaatMaatregelen[[#This Row],[Sector]],tblSectoren[Sectoren],0))","v":1},{"$f":"VLOOKUP(tblResultaatMaatregelen[[#This Row],[MaatregelNummer]],Tbl_scenario[],2,TRUE)","v":"Huishoudens"},{"$f":"INDEX(tblSectoren[Afkorting],tblResultaatMaatregelen[[#This Row],[Sectornummer]])","v":"RES"},{"$f":"VLOOKUP(tblResultaatMaatregelen[[#This Row],[MaatregelNummer]],Tbl_scenario[],3,TRUE)","v":"Blanco"},{"$f":"VLOOKUP(tblResultaatMaatregelen[[#This Row],[MaatregelNummer]],Tbl_scenario[],6+(tblResultaatMaatregelen[[#This Row],[ScenarioNummer]]-1)*4+1,TRUE)","v":"Niet"},{"$f":"IF(tblResultaatMaatregelen[[#This Row],[Ambitieniveau]]=\"Niet\",0,IFERROR(INDIRECT(CONCATENATE(tblResultaatMaatregelen[[#This Row],[MaatregelCode]],\"_REDCO2_\",tblResultaatMaatregelen[[#This Row],[ScenarioNummer]])),0))","v":0},"Maatregelen",{"$f":"IF(tblResultaatMaatregelen[[#This Row],[X-as]]=\"Maatregelen\",tblResultaatMaatregelen[[#This Row],[MaatregelNummer]],tblResultaatMaatregelen[[#This Row],[Sectornummer]])","v":32},{"$f":"IF(tblResultaatMaatregelen[[#This Row],[X-as]]=\"Maatregelen\",tblResultaatMaatregelen[[#This Row],[MaatregelCode]],CONCATENATE(tblResultaatMaatregelen[[#This Row],[Sector]],\" (\",tblResultaatMaatregelen[[#This Row],[Sector_kort]],\")\"))","v":"BLANCO_3"},{"$f":"IF(tblResultaatMaatregelen[[#This Row],[X-as]]=\"Maatregelen\",CONCATENATE(tblResultaatMaatregelen[[#This Row],[Sector]],\" (\",tblResultaatMaatregelen[[#This Row],[Sector_kort]],\")\"),tblResultaatMaatregelen[[#This Row],[MaatregelCode]])","v":"Huishoudens (RES)"}]
[{"$f":"CONCATENATE(\"Scenario \",tblResultaatMaatregelen[[#This Row],[ScenarioNummer]])","v":"Scenario 2"},2,1,{"$f":"VLOOKUP(tblResultaatMaatregelen[[#This Row],[MaatregelNummer]],Tbl_scenario[],4,TRUE)","v":"RES_ISO_DAK"},{"$f":"INDEX(tblSectoren[SectorID],MATCH(tblResultaatMaatregelen[[#This Row],[Sector]],tblSectoren[Sectoren],0))","v":1},{"$f":"VLOOKUP(tblResultaatMaatregelen[[#This Row],[MaatregelNummer]],Tbl_scenario[],2,TRUE)","v":"Huishoudens"},{"$f":"INDEX(tblSectoren[Afkorting],tblResultaatMaatregelen[[#This Row],[Sectornummer]])","v":"RES"},{"$f":"VLOOKUP(tblResultaatMaatregelen[[#This Row],[MaatregelNummer]],Tbl_scenario[],3,TRUE)","v":"Isolatiemaatregel gericht op dak"},{"$f":"VLOOKUP(tblResultaatMaatregelen[[#This Row],[MaatregelNummer]],Tbl_scenario[],6+(tblResultaatMaatregelen[[#This Row],[ScenarioNummer]]-1)*4+1,TRUE)","v":"Hoog"},{"$f":"IF(tblResultaatMaatregelen[[#This Row],[Ambitieniveau]]=\"Niet\",0,IFERROR(INDIRECT(CONCATENATE(tblResultaatMaatregelen[[#This Row],[MaatregelCode]],\"_REDCO2_\",tblResultaatMaatregelen[[#This Row],[ScenarioNummer]])),0))","v":18375.101850314393},"Maatregelen",{"$f":"IF(tblResultaatMaatregelen[[#This Row],[X-as]]=\"Maatregelen\",tblResultaatMaatregelen[[#This Row],[MaatregelNummer]],tblResultaatMaatregelen[[#This Row],[Sectornummer]])","v":1},{"$f":"IF(tblResultaatMaatregelen[[#This Row],[X-as]]=\"Maatregelen\",tblResultaatMaatregelen[[#This Row],[MaatregelCode]],CONCATENATE(tblResultaatMaatregelen[[#This Row],[Sector]],\" (\",tblResultaatMaatregelen[[#This Row],[Sector_kort]],\")\"))","v":"RES_ISO_DAK"},{"$f":"IF(tblResultaatMaatregelen[[#This Row],[X-as]]=\"Maatregelen\",CONCATENATE(tblResultaatMaatregelen[[#This Row],[Sector]],\" (\",tblResultaatMaatregelen[[#This Row],[Sector_kort]],\")\"),tblResultaatMaatregelen[[#This Row],[MaatregelCode]])","v":"Huishoudens (RES)"}]
[{"$f":"CONCATENATE(\"Scenario \",tblResultaatMaatregelen[[#This Row],[ScenarioNummer]])","v":"Scenario 2"},2,2,{"$f":"VLOOKUP(tblResultaatMaatregelen[[#This Row],[MaatregelNummer]],Tbl_scenario[],4,TRUE)","v":"RES_ISO_MUUR"},{"$f":"INDEX(tblSectoren[SectorID],MATCH(tblResultaatMaatregelen[[#This Row],[Sector]],tblSectoren[Sectoren],0))","v":1},{"$f":"VLOOKUP(tblResultaatMaatregelen[[#This Row],[MaatregelNummer]],Tbl_scenario[],2,TRUE)","v":"Huishoudens"},{"$f":"INDEX(tblSectoren[Afkorting],tblResultaatMaatregelen[[#This Row],[Sectornummer]])","v":"RES"},{"$f":"VLOOKUP(tblResultaatMaatregelen[[#This Row],[MaatregelNummer]],Tbl_scenario[],3,TRUE)","v":"Isolatiemaatregel gericht op buitenmuren"},{"$f":"VLOOKUP(tblResultaatMaatregelen[[#This Row],[MaatregelNummer]],Tbl_scenario[],6+(tblResultaatMaatregelen[[#This Row],[ScenarioNummer]]-1)*4+1,TRUE)","v":"Hoog"},{"$f":"IF(tblResultaatMaatregelen[[#This Row],[Ambitieniveau]]=\"Niet\",0,IFERROR(INDIRECT(CONCATENATE(tblResultaatMaatregelen[[#This Row],[MaatregelCode]],\"_REDCO2_\",tblResultaatMaatregelen[[#This Row],[ScenarioNummer]])),0))","v":16943.079885461972},"Maatregelen",{"$f":"IF(tblResultaatMaatregelen[[#This Row],[X-as]]=\"Maatregelen\",tblResultaatMaatregelen[[#This Row],[MaatregelNummer]],tblResultaatMaatregelen[[#This Row],[Sectornummer]])","v":2},{"$f":"IF(tblResultaatMaatregelen[[#This Row],[X-as]]=\"Maatregelen\",tblResultaatMaatregelen[[#This Row],[MaatregelCode]],CONCATENATE(tblResultaatMaatregelen[[#This Row],[Sector]],\" (\",tblResultaatMaatregelen[[#This Row],[Sector_kort]],\")\"))","v":"RES_ISO_MUUR"},{"$f":"IF(tblResultaatMaatregelen[[#This Row],[X-as]]=\"Maatregelen\",CONCATENATE(tblResultaatMaatregelen[[#This Row],[Sector]],\" (\",tblResultaatMaatregelen[[#This Row],[Sector_kort]],\")\"),tblResultaatMaatregelen[[#This Row],[MaatregelCode]])","v":"Huishoudens (RES)"}]
[{"$f":"CONCATENATE(\"Scenario \",tblResultaatMaatregelen[[#This Row],[ScenarioNummer]])","v":"Scenario 2"},2,3,{"$f":"VLOOKUP(tblResultaatMaatregelen[[#This Row],[MaatregelNummer]],Tbl_scenario[],4,TRUE)","v":"RES_ISO_VL"},{"$f":"INDEX(tblSectoren[SectorID],MATCH(tblResultaatMaatregelen[[#This Row],[Sector]],tblSectoren[Sectoren],0))","v":1},{"$f":"VLOOKUP(tblResultaatMaatregelen[[#This Row],[MaatregelNummer]],Tbl_scenario[],2,TRUE)","v":"Huishoudens"},{"$f":"INDEX(tblSectoren[Afkorting],tblResultaatMaatregelen[[#This Row],[Sectornummer]])","v":"RES"},{"$f":"VLOOKUP(tblResultaatMaatregelen[[#This Row],[MaatregelNummer]],Tbl_scenario[],3,TRUE)","v":"Isolatiemaatregel gericht op vloeren"},{"$f":"VLOOKUP(tblResultaatMaatregelen[[#This Row],[MaatregelNummer]],Tbl_scenario[],6+(tblResultaatMaatregelen[[#This Row],[ScenarioNummer]]-1)*4+1,TRUE)","v":"Hoog"},{"$f":"IF(tblResultaatMaatregelen[[#This Row],[Ambitieniveau]]=\"Niet\",0,IFERROR(INDIRECT(CONCATENATE(tblResultaatMaatregelen[[#This Row],[MaatregelCode]],\"_REDCO2_\",tblResultaatMaatregelen[[#This Row],[ScenarioNummer]])),0))","v":5995.4994629550474},"Maatregelen",{"$f":"IF(tblResultaatMaatregelen[[#This Row],[X-as]]=\"Maatregelen\",tblResultaatMaatregelen[[#This Row],[MaatregelNummer]],tblResultaatMaatregelen[[#This Row],[Sectornummer]])","v":3},{"$f":"IF(tblResultaatMaatregelen[[#This Row],[X-as]]=\"Maatregelen\",tblResultaatMaatregelen[[#This Row],[MaatregelCode]],CONCATENATE(tblResultaatMaatregelen[[#This Row],[Sector]],\" (\",tblResultaatMaatregelen[[#This Row],[Sector_kort]],\")\"))","v":"RES_ISO_VL"},{"$f":"IF(tblResultaatMaatregelen[[#This Row],[X-as]]=\"Maatregelen\",CONCATENATE(tblResultaatMaatregelen[[#This Row],[Sector]],\" (\",tblResultaatMaatregelen[[#This Row],[Sector_kort]],\")\"),tblResultaatMaatregelen[[#This Row],[MaatregelCode]])","v":"Huishoudens (RES)"}]
[{"$f":"CONCATENATE(\"Scenario \",tblResultaatMaatregelen[[#This Row],[ScenarioNummer]])","v":"Scenario 2"},2,4,{"$f":"VLOOKUP(tblResultaatMaatregelen[[#This Row],[MaatregelNummer]],Tbl_scenario[],4,TRUE)","v":"RES_ISO_BG"},{"$f":"INDEX(tblSectoren[SectorID],MATCH(tblResultaatMaatregelen[[#This Row],[Sector]],tblSectoren[Sectoren],0))","v":1},{"$f":"VLOOKUP(tblResultaatMaatregelen[[#This Row],[MaatregelNummer]],Tbl_scenario[],2,TRUE)","v":"Huishoudens"},{"$f":"INDEX(tblSectoren[Afkorting],tblResultaatMaatregelen[[#This Row],[Sectornummer]])","v":"RES"},{"$f":"VLOOKUP(tblResultaatMaatregelen[[#This Row],[MaatregelNummer]],Tbl_scenario[],3,TRUE)","v":"Isolatiemaatregel gericht op ramen en beglazing"},{"$f":"VLOOKUP(tblResultaatMaatregelen[[#This Row],[MaatregelNummer]],Tbl_scenario[],6+(tblResultaatMaatregelen[[#This Row],[ScenarioNummer]]-1)*4+1,TRUE)","v":"Hoog"},{"$f":"IF(tblResultaatMaatregelen[[#This Row],[Ambitieniveau]]=\"Niet\",0,IFERROR(INDIRECT(CONCATENATE(tblResultaatMaatregelen[[#This Row],[MaatregelCode]],\"_REDCO2_\",tblResultaatMaatregelen[[#This Row],[ScenarioNummer]])),0))","v":3441.7221532412323},"Maatregelen",{"$f":"IF(tblResultaatMaatregelen[[#This Row],[X-as]]=\"Maatregelen\",tblResultaatMaatregelen[[#This Row],[MaatregelNummer]],tblResultaatMaatregelen[[#This Row],[Sectornummer]])","v":4},{"$f":"IF(tblResultaatMaatregelen[[#This Row],[X-as]]=\"Maatregelen\",tblResultaatMaatregelen[[#This Row],[MaatregelCode]],CONCATENATE(tblResultaatMaatregelen[[#This Row],[Sector]],\" (\",tblResultaatMaatregelen[[#This Row],[Sector_kort]],\")\"))","v":"RES_ISO_BG"},{"$f":"IF(tblResultaatMaatregelen[[#This Row],[X-as]]=\"Maatregelen\",CONCATENATE(tblResultaatMaatregelen[[#This Row],[Sector]],\" (\",tblResultaatMaatregelen[[#This Row],[Sector_kort]],\")\"),tblResultaatMaatregelen[[#This Row],[MaatregelCode]])","v":"Huishoudens (RES)"}]
[{"$f":"CONCATENATE(\"Scenario \",tblResultaatMaatregelen[[#This Row],[ScenarioNummer]])","v":"Scenario 2"},2,5,{"$f":"VLOOKUP(tblResultaatMaatregelen[[#This Row],[MaatregelNummer]],Tbl_scenario[],4,TRUE)","v":"RES_HER_WP"},{"$f":"INDEX(tblSectoren[SectorID],MATCH(tblResultaatMaatregelen[[#This Row],[Sector]],tblSectoren[Sectoren],0))","v":1},{"$f":"VLOOKUP(tblResultaatMaatregelen[[#This Row],[MaatregelNummer]],Tbl_scenario[],2,TRUE)","v":"Huishoudens"},{"$f":"INDEX(tblSectoren[Afkorting],tblResultaatMaatregelen[[#This Row],[Sectornummer]])","v":"RES"},{"$f":"VLOOKUP(tblResultaatMaatregelen[[#This Row],[MaatregelNummer]],Tbl_scenario[],3,TRUE)","v":"Warmtepomp"},{"$f":"VLOOKUP(tblResultaatMaatregelen[[#This Row],[MaatregelNummer]],Tbl_scenario[],6+(tblResultaatMaatregelen[[#This Row],[ScenarioNummer]]-1)*4+1,TRUE)","v":"Hoog"},{"$f":"IF(tblResultaatMaatregelen[[#This Row],[Ambitieniveau]]=\"Niet\",0,IFERROR(INDIRECT(CONCATENATE(tblResultaatMaatregelen[[#This Row],[MaatregelCode]],\"_REDCO2_\",tblResultaatMaatregelen[[#This Row],[ScenarioNummer]])),0))","v":8368.3741391181265},"Maatregelen",{"$f":"IF(tblResultaatMaatregelen[[#This Row],[X-as]]=\"Maatregelen\",tblResultaatMaatregelen[[#This Row],[MaatregelNummer]],tblResultaatMaatregelen[[#This Row],[Sectornummer]])","v":5},{"$f":"IF(tblResultaatMaatregelen[[#This Row],[X-as]]=\"Maatregelen\",tblResultaatMaatregelen[[#This Row],[MaatregelCode]],CONCATENATE(tblResultaatMaatregelen[[#This Row],[Sector]],\" (\",tblResultaatMaatregelen[[#This Row],[Sector_kort]],\")\"))","v":"RES_HER_WP"},{"$f":"IF(tblResultaatMaatregelen[[#This Row],[X-as]]=\"Maatregelen\",CONCATENATE(tblResultaatMaatregelen[[#This Row],[Sector]],\" (\",tblResultaatMaatregelen[[#This Row],[Sector_kort]],\")\"),tblResultaatMaatregelen[[#This Row],[MaatregelCode]])","v":"Huishoudens (RES)"}]
[{"$f":"CONCATENATE(\"Scenario \",tblResultaatMaatregelen[[#This Row],[ScenarioNummer]])","v":"Scenario 2"},2,6,{"$f":"VLOOKUP(tblResultaatMaatregelen[[#This Row],[MaatregelNummer]],Tbl_scenario[],4,TRUE)","v":"RES_HER_ZB"},{"$f":"INDEX(tblSectoren[SectorID],MATCH(tblResultaatMaatregelen[[#This Row],[Sector]],tblSectoren[Sectoren],0))","v":1},{"$f":"VLOOKUP(tblResultaatMaatregelen[[#This Row],[MaatregelNummer]],Tbl_scenario[],2,TRUE)","v":"Huishoudens"},{"$f":"INDEX(tblSectoren[Afkorting],tblResultaatMaatregelen[[#This Row],[Sectornummer]])","v":"RES"},{"$f":"VLOOKUP(tblResultaatMaatregelen[[#This Row],[MaatregelNummer]],Tbl_scenario[],3,TRUE)","v":"Zonneboiler"},{"$f":"VLOOKUP(tblResultaatMaatregelen[[#This Row],[MaatregelNummer]],Tbl_scenario[],6+(tblResultaatMaatregelen[[#This Row],[ScenarioNummer]]-1)*4+1,TRUE)","v":"Hoog"},{"$f":"IF(tblResultaatMaatregelen[[#This Row],[Ambitieniveau]]=\"Niet\",0,IFERROR(INDIRECT(CONCATENATE(tblResultaatMaatregelen[[#This Row],[MaatregelCode]],\"_REDCO2_\",tblResultaatMaatregelen[[#This Row],[ScenarioNummer]])),0))","v":2991.593931279117},"Maatregelen",{"$f":"IF(tblResultaatMaatregelen[[#This Row],[X-as]]=\"Maatregelen\",tblResultaatMaatregelen[[#This Row],[MaatregelNummer]],tblResultaatMaatregelen[[#This Row],[Sectornummer]])","v":6},{"$f":"IF(tblResultaatMaatregelen[[#This Row],[X-as]]=\"Maatregelen\",tblResultaatMaatregelen[[#This Row],[MaatregelCode]],CONCATENATE(tblResultaatMaatregelen[[#This Row],[Sector]],\" (\",tblResultaatMaatregelen[[#This Row],[Sector_kort]],\")\"))","v":"RES_HER_ZB"},{"$f":"IF(tblResultaatMaatregelen[[#This Row],[X-as]]=\"Maatregelen\",CONCATENATE(tblResultaatMaatregelen[[#This Row],[Sector]],\" (\",tblResultaatMaatregelen[[#This Row],[Sector_kort]],\")\"),tblResultaatMaatregelen[[#This Row],[MaatregelCode]])","v":"Huishoudens (RES)"}]
[{"$f":"CONCATENATE(\"Scenario \",tblResultaatMaatregelen[[#This Row],[ScenarioNummer]])","v":"Scenario 2"},2,7,{"$f":"VLOOKUP(tblResultaatMaatregelen[[#This Row],[MaatregelNummer]],Tbl_scenario[],4,TRUE)","v":"RES_HER_WPB"},{"$f":"INDEX(tblSectoren[SectorID],MATCH(tblResultaatMaatregelen[[#This Row],[Sector]],tblSectoren[Sectoren],0))","v":1},{"$f":"VLOOKUP(tblResultaatMaatregelen[[#This Row],[MaatregelNummer]],Tbl_scenario[],2,TRUE)","v":"Huishoudens"},{"$f":"INDEX(tblSectoren[Afkorting],tblResultaatMaatregelen[[#This Row],[Sectornummer]])","v":"RES"},{"$f":"VLOOKUP(tblResultaatMaatregelen[[#This Row],[MaatregelNummer]],Tbl_scenario[],3,TRUE)","v":"Warmtepompboiler"},{"$f":"VLOOKUP(tblResultaatMaatregelen[[#This Row],[MaatregelNummer]],Tbl_scenario[],6+(tblResultaatMaatregelen[[#This Row],[ScenarioNummer]]-1)*4+1,TRUE)","v":"Hoog"},{"$f":"IF(tblResultaatMaatregelen[[#This Row],[Ambitieniveau]]=\"Niet\",0,IFERROR(INDIRECT(CONCATENATE(tblResultaatMaatregelen[[#This Row],[MaatregelCode]],\"_REDCO2_\",tblResultaatMaatregelen[[#This Row],[ScenarioNummer]])),0))","v":5589.2928364099907},"Maatregelen",{"$f":"IF(tblResultaatMaatregelen[[#This Row],[X-as]]=\"Maatregelen\",tblResultaatMaatregelen[[#This Row],[MaatregelNummer]],tblResultaatMaatregelen[[#This Row],[Sectornummer]])","v":7},{"$f":"IF(tblResultaatMaatregelen[[#This Row],[X-as]]=\"Maatregelen\",tblResultaatMaatregelen[[#This Row],[MaatregelCode]],CONCATENATE(tblResultaatMaatregelen[[#This Row],[Sector]],\" (\",tblResultaatMaatregelen[[#This Row],[Sector_kort]],\")\"))","v":"RES_HER_WPB"},{"$f":"IF(tblResultaatMaatregelen[[#This Row],[X-as]]=\"Maatregelen\",CONCATENATE(tblResultaatMaatregelen[[#This Row],[Sector]],\" (\",tblResultaatMaatregelen[[#This Row],[Sector_kort]],\")\"),tblResultaatMaatregelen[[#This Row],[MaatregelCode]])","v":"Huishoudens (RES)"}]
[{"$f":"CONCATENATE(\"Scenario \",tblResultaatMaatregelen[[#This Row],[ScenarioNummer]])","v":"Scenario 2"},2,8,{"$f":"VLOOKUP(tblResultaatMaatregelen[[#This Row],[MaatregelNummer]],Tbl_scenario[],4,TRUE)","v":"RES_EE_ELE"},{"$f":"INDEX(tblSectoren[SectorID],MATCH(tblResultaatMaatregelen[[#This Row],[Sector]],tblSectoren[Sectoren],0))","v":1},{"$f":"VLOOKUP(tblResultaatMaatregelen[[#This Row],[MaatregelNummer]],Tbl_scenario[],2,TRUE)","v":"Huishoudens"},{"$f":"INDEX(tblSectoren[Afkorting],tblResultaatMaatregelen[[#This Row],[Sectornummer]])","v":"RES"},{"$f":"VLOOKUP(tblResultaatMaatregelen[[#This Row],[MaatregelNummer]],Tbl_scenario[],3,TRUE)","v":"Elektriciteitsgebruik: verhogen efficiëntie"},{"$f":"VLOOKUP(tblResultaatMaatregelen[[#This Row],[MaatregelNummer]],Tbl_scenario[],6+(tblResultaatMaatregelen[[#This Row],[ScenarioNummer]]-1)*4+1,TRUE)","v":"Hoog"},{"$f":"IF(tblResultaatMaatregelen[[#This Row],[Ambitieniveau]]=\"Niet\",0,IFERROR(INDIRECT(CONCATENATE(tblResultaatMaatregelen[[#This Row],[MaatregelCode]],\"_REDCO2_\",tblResultaatMaatregelen[[#This Row],[ScenarioNummer]])),0))","v":3190.5296130729112},"Maatregelen",{"$f":"IF(tblResultaatMaatregelen[[#This Row],[X-as]]=\"Maatregelen\",tblResultaatMaatregelen[[#This Row],[MaatregelNummer]],tblResultaatMaatregelen[[#This Row],[Sectornummer]])","v":8},{"$f":"IF(tblResultaatMaatregelen[[#This Row],[X-as]]=\"Maatregelen\",tblResultaatMaatregelen[[#This Row],[MaatregelCode]],CONCATENATE(tblResultaatMaatregelen[[#This Row],[Sector]],\" (\",tblResultaatMaatregelen[[#This Row],[Sector_kort]],\")\"))","v":"RES_EE_ELE"},{"$f":"IF(tblResultaatMaatregelen[[#This Row],[X-as]]=\"Maatregelen\",CONCATENATE(tblResultaatMaatregelen[[#This Row],[Sector]],\" (\",tblResultaatMaatregelen[[#This Row],[Sector_kort]],\")\"),tblResultaatMaatregelen[[#This Row],[MaatregelCode]])","v":"Huishoudens (RES)"}]
[{"$f":"CONCATENATE(\"Scenario \",tblResultaatMaatregelen[[#This Row],[ScenarioNummer]])","v":"Scenario 2"},2,9,{"$f":"VLOOKUP(tblResultaatMaatregelen[[#This Row],[MaatregelNummer]],Tbl_scenario[],4,TRUE)","v":"RES_EE_SLOOP"},{"$f":"INDEX(tblSectoren[SectorID],MATCH(tblResultaatMaatregelen[[#This Row],[Sector]],tblSectoren[Sectoren],0))","v":1},{"$f":"VLOOKUP(tblResultaatMaatregelen[[#This Row],[MaatregelNummer]],Tbl_scenario[],2,TRUE)","v":"Huishoudens"},{"$f":"INDEX(tblSectoren[Afkorting],tblResultaatMaatregelen[[#This Row],[Sectornummer]])","v":"RES"},{"$f":"VLOOKUP(tblResultaatMaatregelen[[#This Row],[MaatregelNummer]],Tbl_scenario[],3,TRUE)","v":"Stimuleren sloop energieverslindende woningen"},{"$f":"VLOOKUP(tblResultaatMaatregelen[[#This Row],[MaatregelNummer]],Tbl_scenario[],6+(tblResultaatMaatregelen[[#This Row],[ScenarioNummer]]-1)*4+1,TRUE)","v":"Hoog"},{"$f":"IF(tblResultaatMaatregelen[[#This Row],[Ambitieniveau]]=\"Niet\",0,IFERROR(INDIRECT(CONCATENATE(tblResultaatMaatregelen[[#This Row],[MaatregelCode]],\"_REDCO2_\",tblResultaatMaatregelen[[#This Row],[ScenarioNummer]])),0))","v":7090.075858844677},"Maatregelen",{"$f":"IF(tblResultaatMaatregelen[[#This Row],[X-as]]=\"Maatregelen\",tblResultaatMaatregelen[[#This Row],[MaatregelNummer]],tblResultaatMaatregelen[[#This Row],[Sectornummer]])","v":9},{"$f":"IF(tblResultaatMaatregelen[[#This Row],[X-as]]=\"Maatregelen\",tblResultaatMaatregelen[[#This Row],[MaatregelCode]],CONCATENATE(tblResultaatMaatregelen[[#This Row],[Sector]],\" (\",tblResultaatMaatregelen[[#This Row],[Sector_kort]],\")\"))","v":"RES_EE_SLOOP"},{"$f":"IF(tblResultaatMaatregelen[[#This Row],[X-as]]=\"Maatregelen\",CONCATENATE(tblResultaatMaatregelen[[#This Row],[Sector]],\" (\",tblResultaatMaatregelen[[#This Row],[Sector_kort]],\")\"),tblResultaatMaatregelen[[#This Row],[MaatregelCode]])","v":"Huishoudens (RES)"}]
[{"$f":"CONCATENATE(\"Scenario \",tblResultaatMaatregelen[[#This Row],[ScenarioNummer]])","v":"Scenario 2"},2,10,{"$f":"VLOOKUP(tblResultaatMaatregelen[[#This Row],[MaatregelNummer]],Tbl_scenario[],4,TRUE)","v":"TER_EE_ISO"},{"$f":"INDEX(tblSectoren[SectorID],MATCH(tblResultaatMaatregelen[[#This Row],[Sector]],tblSectoren[Sectoren],0))","v":2},{"$f":"VLOOKUP(tblResultaatMaatregelen[[#This Row],[MaatregelNummer]],Tbl_scenario[],2,TRUE)","v":"Tertiair"},{"$f":"INDEX(tblSectoren[Afkorting],tblResultaatMaatregelen[[#This Row],[Sectornummer]])","v":"TER"},{"$f":"VLOOKUP(tblResultaatMaatregelen[[#This Row],[MaatregelNummer]],Tbl_scenario[],3,TRUE)","v":"Verhoogde isolatiegraad"},{"$f":"VLOOKUP(tblResultaatMaatregelen[[#This Row],[MaatregelNummer]],Tbl_scenario[],6+(tblResultaatMaatregelen[[#This Row],[ScenarioNummer]]-1)*4+1,TRUE)","v":"Hoog"},{"$f":"IF(tblResultaatMaatregelen[[#This Row],[Ambitieniveau]]=\"Niet\",0,IFERROR(INDIRECT(CONCATENATE(tblResultaatMaatregelen[[#This Row],[MaatregelCode]],\"_REDCO2_\",tblResultaatMaatregelen[[#This Row],[ScenarioNummer]])),0))","v":12440.205476188285},"Maatregelen",{"$f":"IF(tblResultaatMaatregelen[[#This Row],[X-as]]=\"Maatregelen\",tblResultaatMaatregelen[[#This Row],[MaatregelNummer]],tblResultaatMaatregelen[[#This Row],[Sectornummer]])","v":10},{"$f":"IF(tblResultaatMaatregelen[[#This Row],[X-as]]=\"Maatregelen\",tblResultaatMaatregelen[[#This Row],[MaatregelCode]],CONCATENATE(tblResultaatMaatregelen[[#This Row],[Sector]],\" (\",tblResultaatMaatregelen[[#This Row],[Sector_kort]],\")\"))","v":"TER_EE_ISO"},{"$f":"IF(tblResultaatMaatregelen[[#This Row],[X-as]]=\"Maatregelen\",CONCATENATE(tblResultaatMaatregelen[[#This Row],[Sector]],\" (\",tblResultaatMaatregelen[[#This Row],[Sector_kort]],\")\"),tblResultaatMaatregelen[[#This Row],[MaatregelCode]])","v":"Tertiair (TER)"}]
[{"$f":"CONCATENATE(\"Scenario \",tblResultaatMaatregelen[[#This Row],[ScenarioNummer]])","v":"Scenario 2"},2,11,{"$f":"VLOOKUP(tblResultaatMaatregelen[[#This Row],[MaatregelNummer]],Tbl_scenario[],4,TRUE)","v":"TER_HER_WP"},{"$f":"INDEX(tblSectoren[SectorID],MATCH(tblResultaatMaatregelen[[#This Row],[Sector]],tblSectoren[Sectoren],0))","v":2},{"$f":"VLOOKUP(tblResultaatMaatregelen[[#This Row],[MaatregelNummer]],Tbl_scenario[],2,TRUE)","v":"Tertiair"},{"$f":"INDEX(tblSectoren[Afkorting],tblResultaatMaatregelen[[#This Row],[Sectornummer]])","v":"TER"},{"$f":"VLOOKUP(tblResultaatMaatregelen[[#This Row],[MaatregelNummer]],Tbl_scenario[],3,TRUE)","v":"Warmtepomp"},{"$f":"VLOOKUP(tblResultaatMaatregelen[[#This Row],[MaatregelNummer]],Tbl_scenario[],6+(tblResultaatMaatregelen[[#This Row],[ScenarioNummer]]-1)*4+1,TRUE)","v":"Hoog"},{"$f":"IF(tblResultaatMaatregelen[[#This Row],[Ambitieniveau]]=\"Niet\",0,IFERROR(INDIRECT(CONCATENATE(tblResultaatMaatregelen[[#This Row],[MaatregelCode]],\"_REDCO2_\",tblResultaatMaatregelen[[#This Row],[ScenarioNummer]])),0))","v":6226.1881537412601},"Maatregelen",{"$f":"IF(tblResultaatMaatregelen[[#This Row],[X-as]]=\"Maatregelen\",tblResultaatMaatregelen[[#This Row],[MaatregelNummer]],tblResultaatMaatregelen[[#This Row],[Sectornummer]])","v":11},{"$f":"IF(tblResultaatMaatregelen[[#This Row],[X-as]]=\"Maatregelen\",tblResultaatMaatregelen[[#This Row],[MaatregelCode]],CONCATENATE(tblResultaatMaatregelen[[#This Row],[Sector]],\" (\",tblResultaatMaatregelen[[#This Row],[Sector_kort]],\")\"))","v":"TER_HER_WP"},{"$f":"IF(tblResultaatMaatregelen[[#This Row],[X-as]]=\"Maatregelen\",CONCATENATE(tblResultaatMaatregelen[[#This Row],[Sector]],\" (\",tblResultaatMaatregelen[[#This Row],[Sector_kort]],\")\"),tblResultaatMaatregelen[[#This Row],[MaatregelCode]])","v":"Tertiair (TER)"}]
[{"$f":"CONCATENATE(\"Scenario \",tblResultaatMaatregelen[[#This Row],[ScenarioNummer]])","v":"Scenario 2"},2,12,{"$f":"VLOOKUP(tblResultaatMaatregelen[[#This Row],[MaatregelNummer]],Tbl_scenario[],4,TRUE)","v":"TER_HER_ZB"},{"$f":"INDEX(tblSectoren[SectorID],MATCH(tblResultaatMaatregelen[[#This Row],[Sector]],tblSectoren[Sectoren],0))","v":2},{"$f":"VLOOKUP(tblResultaatMaatregelen[[#This Row],[MaatregelNummer]],Tbl_scenario[],2,TRUE)","v":"Tertiair"},{"$f":"INDEX(tblSectoren[Afkorting],tblResultaatMaatregelen[[#This Row],[Sectornummer]])","v":"TER"},{"$f":"VLOOKUP(tblResultaatMaatregelen[[#This Row],[MaatregelNummer]],Tbl_scenario[],3,TRUE)","v":"Zonneboiler"},{"$f":"VLOOKUP(tblResultaatMaatregelen[[#This Row],[MaatregelNummer]],Tbl_scenario[],6+(tblResultaatMaatregelen[[#This Row],[ScenarioNummer]]-1)*4+1,TRUE)","v":"Hoog"},{"$f":"IF(tblResultaatMaatregelen[[#This Row],[Ambitieniveau]]=\"Niet\",0,IFERROR(INDIRECT(CONCATENATE(tblResultaatMaatregelen[[#This Row],[MaatregelCode]],\"_REDCO2_\",tblResultaatMaatregelen[[#This Row],[ScenarioNummer]])),0))","v":2159.7578951715768},"Maatregelen",{"$f":"IF(tblResultaatMaatregelen[[#This Row],[X-as]]=\"Maatregelen\",tblResultaatMaatregelen[[#This Row],[MaatregelNummer]],tblResultaatMaatregelen[[#This Row],[Sectornummer]])","v":12},{"$f":"IF(tblResultaatMaatregelen[[#This Row],[X-as]]=\"Maatregelen\",tblResultaatMaatregelen[[#This Row],[MaatregelCode]],CONCATENATE(tblResultaatMaatregelen[[#This Row],[Sector]],\" (\",tblResultaatMaatregelen[[#This Row],[Sector_kort]],\")\"))","v":"TER_HER_ZB"},{"$f":"IF(tblResultaatMaatregelen[[#This Row],[X-as]]=\"Maatregelen\",CONCATENATE(tblResultaatMaatregelen[[#This Row],[Sector]],\" (\",tblResultaatMaatregelen[[#This Row],[Sector_kort]],\")\"),tblResultaatMaatregelen[[#This Row],[MaatregelCode]])","v":"Tertiair (TER)"}]
[{"$f":"CONCATENATE(\"Scenario \",tblResultaatMaatregelen[[#This Row],[ScenarioNummer]])","v":"Scenario 2"},2,13,{"$f":"VLOOKUP(tblResultaatMaatregelen[[#This Row],[MaatregelNummer]],Tbl_scenario[],4,TRUE)","v":"TER_HER_WPB"},{"$f":"INDEX(tblSectoren[SectorID],MATCH(tblResultaatMaatregelen[[#This Row],[Sector]],tblSectoren[Sectoren],0))","v":2},{"$f":"VLOOKUP(tblResultaatMaatregelen[[#This Row],[MaatregelNummer]],Tbl_scenario[],2,TRUE)","v":"Tertiair"},{"$f":"INDEX(tblSectoren[Afkorting],tblResultaatMaatregelen[[#This Row],[Sectornummer]])","v":"TER"},{"$f":"VLOOKUP(tblResultaatMaatregelen[[#This Row],[MaatregelNummer]],Tbl_scenario[],3,TRUE)","v":"Warmtepompboiler"},{"$f":"VLOOKUP(tblResultaatMaatregelen[[#This Row],[MaatregelNummer]],Tbl_scenario[],6+(tblResultaatMaatregelen[[#This Row],[ScenarioNummer]]-1)*4+1,TRUE)","v":"Hoog"},{"$f":"IF(tblResultaatMaatregelen[[#This Row],[Ambitieniveau]]=\"Niet\",0,IFERROR(INDIRECT(CONCATENATE(tblResultaatMaatregelen[[#This Row],[MaatregelCode]],\"_REDCO2_\",tblResultaatMaatregelen[[#This Row],[ScenarioNummer]])),0))","v":3012.5660283388106},"Maatregelen",{"$f":"IF(tblResultaatMaatregelen[[#This Row],[X-as]]=\"Maatregelen\",tblResultaatMaatregelen[[#This Row],[MaatregelNummer]],tblResultaatMaatregelen[[#This Row],[Sectornummer]])","v":13},{"$f":"IF(tblResultaatMaatregelen[[#This Row],[X-as]]=\"Maatregelen\",tblResultaatMaatregelen[[#This Row],[MaatregelCode]],CONCATENATE(tblResultaatMaatregelen[[#This Row],[Sector]],\" (\",tblResultaatMaatregelen[[#This Row],[Sector_kort]],\")\"))","v":"TER_HER_WPB"},{"$f":"IF(tblResultaatMaatregelen[[#This Row],[X-as]]=\"Maatregelen\",CONCATENATE(tblResultaatMaatregelen[[#This Row],[Sector]],\" (\",tblResultaatMaatregelen[[#This Row],[Sector_kort]],\")\"),tblResultaatMaatregelen[[#This Row],[MaatregelCode]])","v":"Tertiair (TER)"}]
[{"$f":"CONCATENATE(\"Scenario \",tblResultaatMaatregelen[[#This Row],[ScenarioNummer]])","v":"Scenario 2"},2,14,{"$f":"VLOOKUP(tblResultaatMaatregelen[[#This Row],[MaatregelNummer]],Tbl_scenario[],4,TRUE)","v":"TER_EE_ELE"},{"$f":"INDEX(tblSectoren[SectorID],MATCH(tblResultaatMaatregelen[[#This Row],[Sector]],tblSectoren[Sectoren],0))","v":2},{"$f":"VLOOKUP(tblResultaatMaatregelen[[#This Row],[MaatregelNummer]],Tbl_scenario[],2,TRUE)","v":"Tertiair"},{"$f":"INDEX(tblSectoren[Afkorting],tblResultaatMaatregelen[[#This Row],[Sectornummer]])","v":"TER"},{"$f":"VLOOKUP(tblResultaatMaatregelen[[#This Row],[MaatregelNummer]],Tbl_scenario[],3,TRUE)","v":"Ele. gebruik: verhogen efficiëntie (LED, relighting, koeling, etc.)"},{"$f":"VLOOKUP(tblResultaatMaatregelen[[#This Row],[MaatregelNummer]],Tbl_scenario[],6+(tblResultaatMaatregelen[[#This Row],[ScenarioNummer]]-1)*4+1,TRUE)","v":"Hoog"},{"$f":"IF(tblResultaatMaatregelen[[#This Row],[Ambitieniveau]]=\"Niet\",0,IFERROR(INDIRECT(CONCATENATE(tblResultaatMaatregelen[[#This Row],[MaatregelCode]],\"_REDCO2_\",tblResultaatMaatregelen[[#This Row],[ScenarioNummer]])),0))","v":5888.0041000750516},"Maatregelen",{"$f":"IF(tblResultaatMaatregelen[[#This Row],[X-as]]=\"Maatregelen\",tblResultaatMaatregelen[[#This Row],[MaatregelNummer]],tblResultaatMaatregelen[[#This Row],[Sectornummer]])","v":14},{"$f":"IF(tblResultaatMaatregelen[[#This Row],[X-as]]=\"Maatregelen\",tblResultaatMaatregelen[[#This Row],[MaatregelCode]],CONCATENATE(tblResultaatMaatregelen[[#This Row],[Sector]],\" (\",tblResultaatMaatregelen[[#This Row],[Sector_kort]],\")\"))","v":"TER_EE_ELE"},{"$f":"IF(tblResultaatMaatregelen[[#This Row],[X-as]]=\"Maatregelen\",CONCATENATE(tblResultaatMaatregelen[[#This Row],[Sector]],\" (\",tblResultaatMaatregelen[[#This Row],[Sector_kort]],\")\"),tblResultaatMaatregelen[[#This Row],[MaatregelCode]])","v":"Tertiair (TER)"}]
[{"$f":"CONCATENATE(\"Scenario \",tblResultaatMaatregelen[[#This Row],[ScenarioNummer]])","v":"Scenario 2"},2,15,{"$f":"VLOOKUP(tblResultaatMaatregelen[[#This Row],[MaatregelNummer]],Tbl_scenario[],4,TRUE)","v":"OV_LED_EE"},{"$f":"INDEX(tblSectoren[SectorID],MATCH(tblResultaatMaatregelen[[#This Row],[Sector]],tblSectoren[Sectoren],0))","v":6},{"$f":"VLOOKUP(tblResultaatMaatregelen[[#This Row],[MaatregelNummer]],Tbl_scenario[],2,TRUE)","v":"Openbare verlichting"},{"$f":"INDEX(tblSectoren[Afkorting],tblResultaatMaatregelen[[#This Row],[Sectornummer]])","v":"OV"},{"$f":"VLOOKUP(tblResultaatMaatregelen[[#This Row],[MaatregelNummer]],Tbl_scenario[],3,TRUE)","v":"LED: verhogen energie-efficiëntie"},{"$f":"VLOOKUP(tblResultaatMaatregelen[[#This Row],[MaatregelNummer]],Tbl_scenario[],6+(tblResultaatMaatregelen[[#This Row],[ScenarioNummer]]-1)*4+1,TRUE)","v":"Hoog"},{"$f":"IF(tblResultaatMaatregelen[[#This Row],[Ambitieniveau]]=\"Niet\",0,IFERROR(INDIRECT(CONCATENATE(tblResultaatMaatregelen[[#This Row],[MaatregelCode]],\"_REDCO2_\",tblResultaatMaatregelen[[#This Row],[ScenarioNummer]])),0))","v":501.46219790205822},"Maatregelen",{"$f":"IF(tblResultaatMaatregelen[[#This Row],[X-as]]=\"Maatregelen\",tblResultaatMaatregelen[[#This Row],[MaatregelNummer]],tblResultaatMaatregelen[[#This Row],[Sectornummer]])","v":15},{"$f":"IF(tblResultaatMaatregelen[[#This Row],[X-as]]=\"Maatregelen\",tblResultaatMaatregelen[[#This Row],[MaatregelCode]],CONCATENATE(tblResultaatMaatregelen[[#This Row],[Sector]],\" (\",tblResultaatMaatregelen[[#This Row],[Sector_kort]],\")\"))","v":"OV_LED_EE"},{"$f":"IF(tblResultaatMaatregelen[[#This Row],[X-as]]=\"Maatregelen\",CONCATENATE(tblResultaatMaatregelen[[#This Row],[Sector]],\" (\",tblResultaatMaatregelen[[#This Row],[Sector_kort]],\")\"),tblResultaatMaatregelen[[#This Row],[MaatregelCode]])","v":"Openbare verlichting (OV)"}]
[{"$f":"CONCATENATE(\"Scenario \",tblResultaatMaatregelen[[#This Row],[ScenarioNummer]])","v":"Scenario 2"},2,16,{"$f":"VLOOKUP(tblResultaatMaatregelen[[#This Row],[MaatregelNummer]],Tbl_scenario[],4,TRUE)","v":"IND_HER_WP"},{"$f":"INDEX(tblSectoren[SectorID],MATCH(tblResultaatMaatregelen[[#This Row],[Sector]],tblSectoren[Sectoren],0))","v":3},{"$f":"VLOOKUP(tblResultaatMaatregelen[[#This Row],[MaatregelNummer]],Tbl_scenario[],2,TRUE)","v":"Industrie (niet-ETS)"},{"$f":"INDEX(tblSectoren[Afkorting],tblResultaatMaatregelen[[#This Row],[Sectornummer]])","v":"IND"},{"$f":"VLOOKUP(tblResultaatMaatregelen[[#This Row],[MaatregelNummer]],Tbl_scenario[],3,TRUE)","v":"Warmtepomp"},{"$f":"VLOOKUP(tblResultaatMaatregelen[[#This Row],[MaatregelNummer]],Tbl_scenario[],6+(tblResultaatMaatregelen[[#This Row],[ScenarioNummer]]-1)*4+1,TRUE)","v":"Hoog"},{"$f":"IF(tblResultaatMaatregelen[[#This Row],[Ambitieniveau]]=\"Niet\",0,IFERROR(INDIRECT(CONCATENATE(tblResultaatMaatregelen[[#This Row],[MaatregelCode]],\"_REDCO2_\",tblResultaatMaatregelen[[#This Row],[ScenarioNummer]])),0))","v":1528.3615373482735},"Maatregelen",{"$f":"IF(tblResultaatMaatregelen[[#This Row],[X-as]]=\"Maatregelen\",tblResultaatMaatregelen[[#This Row],[MaatregelNummer]],tblResultaatMaatregelen[[#This Row],[Sectornummer]])","v":16},{"$f":"IF(tblResultaatMaatregelen[[#This Row],[X-as]]=\"Maatregelen\",tblResultaatMaatregelen[[#This Row],[MaatregelCode]],CONCATENATE(tblResultaatMaatregelen[[#This Row],[Sector]],\" (\",tblResultaatMaatregelen[[#This Row],[Sector_kort]],\")\"))","v":"IND_HER_WP"},{"$f":"IF(tblResultaatMaatregelen[[#This Row],[X-as]]=\"Maatregelen\",CONCATENATE(tblResultaatMaatregelen[[#This Row],[Sector]],\" (\",tblResultaatMaatregelen[[#This Row],[Sector_kort]],\")\"),tblResultaatMaatregelen[[#This Row],[MaatregelCode]])","v":"Industrie (niet-ETS) (IND)"}]
[{"$f":"CONCATENATE(\"Scenario \",tblResultaatMaatregelen[[#This Row],[ScenarioNummer]])","v":"Scenario 2"},2,17,{"$f":"VLOOKUP(tblResultaatMaatregelen[[#This Row],[MaatregelNummer]],Tbl_scenario[],4,TRUE)","v":"IND_HER_ZB"},{"$f":"INDEX(tblSectoren[SectorID],MATCH(tblResultaatMaatregelen[[#This Row],[Sector]],tblSectoren[Sectoren],0))","v":3},{"$f":"VLOOKUP(tblResultaatMaatregelen[[#This Row],[MaatregelNummer]],Tbl_scenario[],2,TRUE)","v":"Industrie (niet-ETS)"},{"$f":"INDEX(tblSectoren[Afkorting],tblResultaatMaatregelen[[#This Row],[Sectornummer]])","v":"IND"},{"$f":"VLOOKUP(tblResultaatMaatregelen[[#This Row],[MaatregelNummer]],Tbl_scenario[],3,TRUE)","v":"Zonneboiler"},{"$f":"VLOOKUP(tblResultaatMaatregelen[[#This Row],[MaatregelNummer]],Tbl_scenario[],6+(tblResultaatMaatregelen[[#This Row],[ScenarioNummer]]-1)*4+1,TRUE)","v":"Hoog"},{"$f":"IF(tblResultaatMaatregelen[[#This Row],[Ambitieniveau]]=\"Niet\",0,IFERROR(INDIRECT(CONCATENATE(tblResultaatMaatregelen[[#This Row],[MaatregelCode]],\"_REDCO2_\",tblResultaatMaatregelen[[#This Row],[ScenarioNummer]])),0))","v":328.77118853814221},"Maatregelen",{"$f":"IF(tblResultaatMaatregelen[[#This Row],[X-as]]=\"Maatregelen\",tblResultaatMaatregelen[[#This Row],[MaatregelNummer]],tblResultaatMaatregelen[[#This Row],[Sectornummer]])","v":17},{"$f":"IF(tblResultaatMaatregelen[[#This Row],[X-as]]=\"Maatregelen\",tblResultaatMaatregelen[[#This Row],[MaatregelCode]],CONCATENATE(tblResultaatMaatregelen[[#This Row],[Sector]],\" (\",tblResultaatMaatregelen[[#This Row],[Sector_kort]],\")\"))","v":"IND_HER_ZB"},{"$f":"IF(tblResultaatMaatregelen[[#This Row],[X-as]]=\"Maatregelen\",CONCATENATE(tblResultaatMaatregelen[[#This Row],[Sector]],\" (\",tblResultaatMaatregelen[[#This Row],[Sector_kort]],\")\"),tblResultaatMaatregelen[[#This Row],[MaatregelCode]])","v":"Industrie (niet-ETS) (IND)"}]
[{"$f":"CONCATENATE(\"Scenario \",tblResultaatMaatregelen[[#This Row],[ScenarioNummer]])","v":"Scenario 2"},2,18,{"$f":"VLOOKUP(tblResultaatMaatregelen[[#This Row],[MaatregelNummer]],Tbl_scenario[],4,TRUE)","v":"IND_EE_EEA"},{"$f":"INDEX(tblSectoren[SectorID],MATCH(tblResultaatMaatregelen[[#This Row],[Sector]],tblSectoren[Sectoren],0))","v":3},{"$f":"VLOOKUP(tblResultaatMaatregelen[[#This Row],[MaatregelNummer]],Tbl_scenario[],2,TRUE)","v":"Industrie (niet-ETS)"},{"$f":"INDEX(tblSectoren[Afkorting],tblResultaatMaatregelen[[#This Row],[Sectornummer]])","v":"IND"},{"$f":"VLOOKUP(tblResultaatMaatregelen[[#This Row],[MaatregelNummer]],Tbl_scenario[],3,TRUE)","v":"Ele. gebruik: verhogen efficiëntie elektrische aandrijfsystemen"},{"$f":"VLOOKUP(tblResultaatMaatregelen[[#This Row],[MaatregelNummer]],Tbl_scenario[],6+(tblResultaatMaatregelen[[#This Row],[ScenarioNummer]]-1)*4+1,TRUE)","v":"Hoog"},{"$f":"IF(tblResultaatMaatregelen[[#This Row],[Ambitieniveau]]=\"Niet\",0,IFERROR(INDIRECT(CONCATENATE(tblResultaatMaatregelen[[#This Row],[MaatregelCode]],\"_REDCO2_\",tblResultaatMaatregelen[[#This Row],[ScenarioNummer]])),0))","v":593.21049212831804},"Maatregelen",{"$f":"IF(tblResultaatMaatregelen[[#This Row],[X-as]]=\"Maatregelen\",tblResultaatMaatregelen[[#This Row],[MaatregelNummer]],tblResultaatMaatregelen[[#This Row],[Sectornummer]])","v":18},{"$f":"IF(tblResultaatMaatregelen[[#This Row],[X-as]]=\"Maatregelen\",tblResultaatMaatregelen[[#This Row],[MaatregelCode]],CONCATENATE(tblResultaatMaatregelen[[#This Row],[Sector]],\" (\",tblResultaatMaatregelen[[#This Row],[Sector_kort]],\")\"))","v":"IND_EE_EEA"},{"$f":"IF(tblResultaatMaatregelen[[#This Row],[X-as]]=\"Maatregelen\",CONCATENATE(tblResultaatMaatregelen[[#This Row],[Sector]],\" (\",tblResultaatMaatregelen[[#This Row],[Sector_kort]],\")\"),tblResultaatMaatregelen[[#This Row],[MaatregelCode]])","v":"Industrie (niet-ETS) (IND)"}]
[{"$f":"CONCATENATE(\"Scenario \",tblResultaatMaatregelen[[#This Row],[ScenarioNummer]])","v":"Scenario 2"},2,19,{"$f":"VLOOKUP(tblResultaatMaatregelen[[#This Row],[MaatregelNummer]],Tbl_scenario[],4,TRUE)","v":"MOB_MS_voet"},{"$f":"INDEX(tblSectoren[SectorID],MATCH(tblResultaatMaatregelen[[#This Row],[Sector]],tblSectoren[Sectoren],0))","v":4},{"$f":"VLOOKUP(tblResultaatMaatregelen[[#This Row],[MaatregelNummer]],Tbl_scenario[],2,TRUE)","v":"Particulier en commercieel vervoer"},{"$f":"INDEX(tblSectoren[Afkorting],tblResultaatMaatregelen[[#This Row],[Sectornummer]])","v":"MOB"},{"$f":"VLOOKUP(tblResultaatMaatregelen[[#This Row],[MaatregelNummer]],Tbl_scenario[],3,TRUE)","v":"Modal Shift_Voet + Fiets"},{"$f":"VLOOKUP(tblResultaatMaatregelen[[#This Row],[MaatregelNummer]],Tbl_scenario[],6+(tblResultaatMaatregelen[[#This Row],[ScenarioNummer]]-1)*4+1,TRUE)","v":"Hoog"},{"$f":"IF(tblResultaatMaatregelen[[#This Row],[Ambitieniveau]]=\"Niet\",0,IFERROR(INDIRECT(CONCATENATE(tblResultaatMaatregelen[[#This Row],[MaatregelCode]],\"_REDCO2_\",tblResultaatMaatregelen[[#This Row],[ScenarioNummer]])),0))","v":8862.0069575974267},"Maatregelen",{"$f":"IF(tblResultaatMaatregelen[[#This Row],[X-as]]=\"Maatregelen\",tblResultaatMaatregelen[[#This Row],[MaatregelNummer]],tblResultaatMaatregelen[[#This Row],[Sectornummer]])","v":19},{"$f":"IF(tblResultaatMaatregelen[[#This Row],[X-as]]=\"Maatregelen\",tblResultaatMaatregelen[[#This Row],[MaatregelCode]],CONCATENATE(tblResultaatMaatregelen[[#This Row],[Sector]],\" (\",tblResultaatMaatregelen[[#This Row],[Sector_kort]],\")\"))","v":"MOB_MS_voet"},{"$f":"IF(tblResultaatMaatregelen[[#This Row],[X-as]]=\"Maatregelen\",CONCATENATE(tblResultaatMaatregelen[[#This Row],[Sector]],\" (\",tblResultaatMaatregelen[[#This Row],[Sector_kort]],\")\"),tblResultaatMaatregelen[[#This Row],[MaatregelCode]])","v":"Particulier en commercieel vervoer (MOB)"}]
[{"$f":"CONCATENATE(\"Scenario \",tblResultaatMaatregelen[[#This Row],[ScenarioNummer]])","v":"Scenario 2"},2,20,{"$f":"VLOOKUP(tblResultaatMaatregelen[[#This Row],[MaatregelNummer]],Tbl_scenario[],4,TRUE)","v":"MOB_MS_EFiets"},{"$f":"INDEX(tblSectoren[SectorID],MATCH(tblResultaatMaatregelen[[#This Row],[Sector]],tblSectoren[Sectoren],0))","v":4},{"$f":"VLOOKUP(tblResultaatMaatregelen[[#This Row],[MaatregelNummer]],Tbl_scenario[],2,TRUE)","v":"Particulier en commercieel vervoer"},{"$f":"INDEX(tblSectoren[Afkorting],tblResultaatMaatregelen[[#This Row],[Sectornummer]])","v":"MOB"},{"$f":"VLOOKUP(tblResultaatMaatregelen[[#This Row],[MaatregelNummer]],Tbl_scenario[],3,TRUE)","v":"Modal Shift_Elektrische Fiets"},{"$f":"VLOOKUP(tblResultaatMaatregelen[[#This Row],[MaatregelNummer]],Tbl_scenario[],6+(tblResultaatMaatregelen[[#This Row],[ScenarioNummer]]-1)*4+1,TRUE)","v":"Hoog"},{"$f":"IF(tblResultaatMaatregelen[[#This Row],[Ambitieniveau]]=\"Niet\",0,IFERROR(INDIRECT(CONCATENATE(tblResultaatMaatregelen[[#This Row],[MaatregelCode]],\"_REDCO2_\",tblResultaatMaatregelen[[#This Row],[ScenarioNummer]])),0))","v":7385.0057979978565},"Maatregelen",{"$f":"IF(tblResultaatMaatregelen[[#This Row],[X-as]]=\"Maatregelen\",tblResultaatMaatregelen[[#This Row],[MaatregelNummer]],tblResultaatMaatregelen[[#This Row],[Sectornummer]])","v":20},{"$f":"IF(tblResultaatMaatregelen[[#This Row],[X-as]]=\"Maatregelen\",tblResultaatMaatregelen[[#This Row],[MaatregelCode]],CONCATENATE(tblResultaatMaatregelen[[#This Row],[Sector]],\" (\",tblResultaatMaatregelen[[#This Row],[Sector_kort]],\")\"))","v":"MOB_MS_EFiets"},{"$f":"IF(tblResultaatMaatregelen[[#This Row],[X-as]]=\"Maatregelen\",CONCATENATE(tblResultaatMaatregelen[[#This Row],[Sector]],\" (\",tblResultaatMaatregelen[[#This Row],[Sector_kort]],\")\"),tblResultaatMaatregelen[[#This Row],[MaatregelCode]])","v":"Particulier en commercieel vervoer (MOB)"}]
[{"$f":"CONCATENATE(\"Scenario \",tblResultaatMaatregelen[[#This Row],[ScenarioNummer]])","v":"Scenario 2"},2,21,{"$f":"VLOOKUP(tblResultaatMaatregelen[[#This Row],[MaatregelNummer]],Tbl_scenario[],4,TRUE)","v":"MOB_MS_OV"},{"$f":"INDEX(tblSectoren[SectorID],MATCH(tblResultaatMaatregelen[[#This Row],[Sector]],tblSectoren[Sectoren],0))","v":4},{"$f":"VLOOKUP(tblResultaatMaatregelen[[#This Row],[MaatregelNummer]],Tbl_scenario[],2,TRUE)","v":"Particulier en commercieel vervoer"},{"$f":"INDEX(tblSectoren[Afkorting],tblResultaatMaatregelen[[#This Row],[Sectornummer]])","v":"MOB"},{"$f":"VLOOKUP(tblResultaatMaatregelen[[#This Row],[MaatregelNummer]],Tbl_scenario[],3,TRUE)","v":"Modal Shift_Openbaar vervoer"},{"$f":"VLOOKUP(tblResultaatMaatregelen[[#This Row],[MaatregelNummer]],Tbl_scenario[],6+(tblResultaatMaatregelen[[#This Row],[ScenarioNummer]]-1)*4+1,TRUE)","v":"Hoog"},{"$f":"IF(tblResultaatMaatregelen[[#This Row],[Ambitieniveau]]=\"Niet\",0,IFERROR(INDIRECT(CONCATENATE(tblResultaatMaatregelen[[#This Row],[MaatregelCode]],\"_REDCO2_\",tblResultaatMaatregelen[[#This Row],[ScenarioNummer]])),0))","v":11225.208812956742},"Maatregelen",{"$f":"IF(tblResultaatMaatregelen[[#This Row],[X-as]]=\"Maatregelen\",tblResultaatMaatregelen[[#This Row],[MaatregelNummer]],tblResultaatMaatregelen[[#This Row],[Sectornummer]])","v":21},{"$f":"IF(tblResultaatMaatregelen[[#This Row],[X-as]]=\"Maatregelen\",tblResultaatMaatregelen[[#This Row],[MaatregelCode]],CONCATENATE(tblResultaatMaatregelen[[#This Row],[Sector]],\" (\",tblResultaatMaatregelen[[#This Row],[Sector_kort]],\")\"))","v":"MOB_MS_OV"},{"$f":"IF(tblResultaatMaatregelen[[#This Row],[X-as]]=\"Maatregelen\",CONCATENATE(tblResultaatMaatregelen[[#This Row],[Sector]],\" (\",tblResultaatMaatregelen[[#This Row],[Sector_kort]],\")\"),tblResultaatMaatregelen[[#This Row],[MaatregelCode]])","v":"Particulier en commercieel vervoer (MOB)"}]
[{"$f":"CONCATENATE(\"Scenario \",tblResultaatMaatregelen[[#This Row],[ScenarioNummer]])","v":"Scenario 2"},2,22,{"$f":"VLOOKUP(tblResultaatMaatregelen[[#This Row],[MaatregelNummer]],Tbl_scenario[],4,TRUE)","v":"MOB_BS_EV"},{"$f":"INDEX(tblSectoren[SectorID],MATCH(tblResultaatMaatregelen[[#This Row],[Sector]],tblSectoren[Sectoren],0))","v":4},{"$f":"VLOOKUP(tblResultaatMaatregelen[[#This Row],[MaatregelNummer]],Tbl_scenario[],2,TRUE)","v":"Particulier en commercieel vervoer"},{"$f":"INDEX(tblSectoren[Afkorting],tblResultaatMaatregelen[[#This Row],[Sectornummer]])","v":"MOB"},{"$f":"VLOOKUP(tblResultaatMaatregelen[[#This Row],[MaatregelNummer]],Tbl_scenario[],3,TRUE)","v":"Brandstofshift_Elektrische voertuigen"},{"$f":"VLOOKUP(tblResultaatMaatregelen[[#This Row],[MaatregelNummer]],Tbl_scenario[],6+(tblResultaatMaatregelen[[#This Row],[ScenarioNummer]]-1)*4+1,TRUE)","v":"Hoog"},{"$f":"IF(tblResultaatMaatregelen[[#This Row],[Ambitieniveau]]=\"Niet\",0,IFERROR(INDIRECT(CONCATENATE(tblResultaatMaatregelen[[#This Row],[MaatregelCode]],\"_REDCO2_\",tblResultaatMaatregelen[[#This Row],[ScenarioNummer]])),0))","v":15191.993028288663},"Maatregelen",{"$f":"IF(tblResultaatMaatregelen[[#This Row],[X-as]]=\"Maatregelen\",tblResultaatMaatregelen[[#This Row],[MaatregelNummer]],tblResultaatMaatregelen[[#This Row],[Sectornummer]])","v":22},{"$f":"IF(tblResultaatMaatregelen[[#This Row],[X-as]]=\"Maatregelen\",tblResultaatMaatregelen[[#This Row],[MaatregelCode]],CONCATENATE(tblResultaatMaatregelen[[#This Row],[Sector]],\" (\",tblResultaatMaatregelen[[#This Row],[Sector_kort]],\")\"))","v":"MOB_BS_EV"},{"$f":"IF(tblResultaatMaatregelen[[#This Row],[X-as]]=\"Maatregelen\",CONCATENATE(tblResultaatMaatregelen[[#This Row],[Sector]],\" (\",tblResultaatMaatregelen[[#This Row],[Sector_kort]],\")\"),tblResultaatMaatregelen[[#This Row],[MaatregelCode]])","v":"Particulier en commercieel vervoer (MOB)"}]
[{"$f":"CONCATENATE(\"Scenario \",tblResultaatMaatregelen[[#This Row],[ScenarioNummer]])","v":"Scenario 2"},2,23,{"$f":"VLOOKUP(tblResultaatMaatregelen[[#This Row],[MaatregelNummer]],Tbl_scenario[],4,TRUE)","v":"MOB_BS_H2"},{"$f":"INDEX(tblSectoren[SectorID],MATCH(tblResultaatMaatregelen[[#This Row],[Sector]],tblSectoren[Sectoren],0))","v":4},{"$f":"VLOOKUP(tblResultaatMaatregelen[[#This Row],[MaatregelNummer]],Tbl_scenario[],2,TRUE)","v":"Particulier en commercieel vervoer"},{"$f":"INDEX(tblSectoren[Afkorting],tblResultaatMaatregelen[[#This Row],[Sectornummer]])","v":"MOB"},{"$f":"VLOOKUP(tblResultaatMaatregelen[[#This Row],[MaatregelNummer]],Tbl_scenario[],3,TRUE)","v":"Brandstofshift_Waterstof"},{"$f":"VLOOKUP(tblResultaatMaatregelen[[#This Row],[MaatregelNummer]],Tbl_scenario[],6+(tblResultaatMaatregelen[[#This Row],[ScenarioNummer]]-1)*4+1,TRUE)","v":"Hoog"},{"$f":"IF(tblResultaatMaatregelen[[#This Row],[Ambitieniveau]]=\"Niet\",0,IFERROR(INDIRECT(CONCATENATE(tblResultaatMaatregelen[[#This Row],[MaatregelCode]],\"_REDCO2_\",tblResultaatMaatregelen[[#This Row],[ScenarioNummer]])),0))","v":4923.3371986652364},"Maatregelen",{"$f":"IF(tblResultaatMaatregelen[[#This Row],[X-as]]=\"Maatregelen\",tblResultaatMaatregelen[[#This Row],[MaatregelNummer]],tblResultaatMaatregelen[[#This Row],[Sectornummer]])","v":23},{"$f":"IF(tblResultaatMaatregelen[[#This Row],[X-as]]=\"Maatregelen\",tblResultaatMaatregelen[[#This Row],[MaatregelCode]],CONCATENATE(tblResultaatMaatregelen[[#This Row],[Sector]],\" (\",tblResultaatMaatregelen[[#This Row],[Sector_kort]],\")\"))","v":"MOB_BS_H2"},{"$f":"IF(tblResultaatMaatregelen[[#This Row],[X-as]]=\"Maatregelen\",CONCATENATE(tblResultaatMaatregelen[[#This Row],[Sector]],\" (\",tblResultaatMaatregelen[[#This Row],[Sector_kort]],\")\"),tblResultaatMaatregelen[[#This Row],[MaatregelCode]])","v":"Particulier en commercieel vervoer (MOB)"}]
[{"$f":"CONCATENATE(\"Scenario \",tblResultaatMaatregelen[[#This Row],[ScenarioNummer]])","v":"Scenario 2"},2,24,{"$f":"VLOOKUP(tblResultaatMaatregelen[[#This Row],[MaatregelNummer]],Tbl_scenario[],4,TRUE)","v":"LEN_PV"},{"$f":"INDEX(tblSectoren[SectorID],MATCH(tblResultaatMaatregelen[[#This Row],[Sector]],tblSectoren[Sectoren],0))","v":8},{"$f":"VLOOKUP(tblResultaatMaatregelen[[#This Row],[MaatregelNummer]],Tbl_scenario[],2,TRUE)","v":"Lokale energieproductie"},{"$f":"INDEX(tblSectoren[Afkorting],tblResultaatMaatregelen[[#This Row],[Sectornummer]])","v":"LEN"},{"$f":"VLOOKUP(tblResultaatMaatregelen[[#This Row],[MaatregelNummer]],Tbl_scenario[],3,TRUE)","v":"Elektriciteit_PV"},{"$f":"VLOOKUP(tblResultaatMaatregelen[[#This Row],[MaatregelNummer]],Tbl_scenario[],6+(tblResultaatMaatregelen[[#This Row],[ScenarioNummer]]-1)*4+1,TRUE)","v":"Hoog"},{"$f":"IF(tblResultaatMaatregelen[[#This Row],[Ambitieniveau]]=\"Niet\",0,IFERROR(INDIRECT(CONCATENATE(tblResultaatMaatregelen[[#This Row],[MaatregelCode]],\"_REDCO2_\",tblResultaatMaatregelen[[#This Row],[ScenarioNummer]])),0))","v":12480.764397293753},"Maatregelen",{"$f":"IF(tblResultaatMaatregelen[[#This Row],[X-as]]=\"Maatregelen\",tblResultaatMaatregelen[[#This Row],[MaatregelNummer]],tblResultaatMaatregelen[[#This Row],[Sectornummer]])","v":24},{"$f":"IF(tblResultaatMaatregelen[[#This Row],[X-as]]=\"Maatregelen\",tblResultaatMaatregelen[[#This Row],[MaatregelCode]],CONCATENATE(tblResultaatMaatregelen[[#This Row],[Sector]],\" (\",tblResultaatMaatregelen[[#This Row],[Sector_kort]],\")\"))","v":"LEN_PV"},{"$f":"IF(tblResultaatMaatregelen[[#This Row],[X-as]]=\"Maatregelen\",CONCATENATE(tblResultaatMaatregelen[[#This Row],[Sector]],\" (\",tblResultaatMaatregelen[[#This Row],[Sector_kort]],\")\"),tblResultaatMaatregelen[[#This Row],[MaatregelCode]])","v":"Lokale energieproductie (LEN)"}]
[{"$f":"CONCATENATE(\"Scenario \",tblResultaatMaatregelen[[#This Row],[ScenarioNummer]])","v":"Scenario 2"},2,25,{"$f":"VLOOKUP(tblResultaatMaatregelen[[#This Row],[MaatregelNummer]],Tbl_scenario[],4,TRUE)","v":"LEN_Wind"},{"$f":"INDEX(tblSectoren[SectorID],MATCH(tblResultaatMaatregelen[[#This Row],[Sector]],tblSectoren[Sectoren],0))","v":8},{"$f":"VLOOKUP(tblResultaatMaatregelen[[#This Row],[MaatregelNummer]],Tbl_scenario[],2,TRUE)","v":"Lokale energieproductie"},{"$f":"INDEX(tblSectoren[Afkorting],tblResultaatMaatregelen[[#This Row],[Sectornummer]])","v":"LEN"},{"$f":"VLOOKUP(tblResultaatMaatregelen[[#This Row],[MaatregelNummer]],Tbl_scenario[],3,TRUE)","v":"Elektriciteit_Wind"},{"$f":"VLOOKUP(tblResultaatMaatregelen[[#This Row],[MaatregelNummer]],Tbl_scenario[],6+(tblResultaatMaatregelen[[#This Row],[ScenarioNummer]]-1)*4+1,TRUE)","v":"Hoog"},{"$f":"IF(tblResultaatMaatregelen[[#This Row],[Ambitieniveau]]=\"Niet\",0,IFERROR(INDIRECT(CONCATENATE(tblResultaatMaatregelen[[#This Row],[MaatregelCode]],\"_REDCO2_\",tblResultaatMaatregelen[[#This Row],[ScenarioNummer]])),0))","v":13201.633820689445},"Maatregelen",{"$f":"IF(tblResultaatMaatregelen[[#This Row],[X-as]]=\"Maatregelen\",tblResultaatMaatregelen[[#This Row],[MaatregelNummer]],tblResultaatMaatregelen[[#This Row],[Sectornummer]])","v":25},{"$f":"IF(tblResultaatMaatregelen[[#This Row],[X-as]]=\"Maatregelen\",tblResultaatMaatregelen[[#This Row],[MaatregelCode]],CONCATENATE(tblResultaatMaatregelen[[#This Row],[Sector]],\" (\",tblResultaatMaatregelen[[#This Row],[Sector_kort]],\")\"))","v":"LEN_Wind"},{"$f":"IF(tblResultaatMaatregelen[[#This Row],[X-as]]=\"Maatregelen\",CONCATENATE(tblResultaatMaatregelen[[#This Row],[Sector]],\" (\",tblResultaatMaatregelen[[#This Row],[Sector_kort]],\")\"),tblResultaatMaatregelen[[#This Row],[MaatregelCode]])","v":"Lokale energieproductie (LEN)"}]
[{"$f":"CONCATENATE(\"Scenario \",tblResultaatMaatregelen[[#This Row],[ScenarioNummer]])","v":"Scenario 2"},2,26,{"$f":"VLOOKUP(tblResultaatMaatregelen[[#This Row],[MaatregelNummer]],Tbl_scenario[],4,TRUE)","v":"LB_HER_WP"},{"$f":"INDEX(tblSectoren[SectorID],MATCH(tblResultaatMaatregelen[[#This Row],[Sector]],tblSectoren[Sectoren],0))","v":5},{"$f":"VLOOKUP(tblResultaatMaatregelen[[#This Row],[MaatregelNummer]],Tbl_scenario[],2,TRUE)","v":"Landbouw"},{"$f":"INDEX(tblSectoren[Afkorting],tblResultaatMaatregelen[[#This Row],[Sectornummer]])","v":"LB"},{"$f":"VLOOKUP(tblResultaatMaatregelen[[#This Row],[MaatregelNummer]],Tbl_scenario[],3,TRUE)","v":"Warmtepomp"},{"$f":"VLOOKUP(tblResultaatMaatregelen[[#This Row],[MaatregelNummer]],Tbl_scenario[],6+(tblResultaatMaatregelen[[#This Row],[ScenarioNummer]]-1)*4+1,TRUE)","v":"Hoog"},{"$f":"IF(tblResultaatMaatregelen[[#This Row],[Ambitieniveau]]=\"Niet\",0,IFERROR(INDIRECT(CONCATENATE(tblResultaatMaatregelen[[#This Row],[MaatregelCode]],\"_REDCO2_\",tblResultaatMaatregelen[[#This Row],[ScenarioNummer]])),0))","v":258.06631345477342},"Maatregelen",{"$f":"IF(tblResultaatMaatregelen[[#This Row],[X-as]]=\"Maatregelen\",tblResultaatMaatregelen[[#This Row],[MaatregelNummer]],tblResultaatMaatregelen[[#This Row],[Sectornummer]])","v":26},{"$f":"IF(tblResultaatMaatregelen[[#This Row],[X-as]]=\"Maatregelen\",tblResultaatMaatregelen[[#This Row],[MaatregelCode]],CONCATENATE(tblResultaatMaatregelen[[#This Row],[Sector]],\" (\",tblResultaatMaatregelen[[#This Row],[Sector_kort]],\")\"))","v":"LB_HER_WP"},{"$f":"IF(tblResultaatMaatregelen[[#This Row],[X-as]]=\"Maatregelen\",CONCATENATE(tblResultaatMaatregelen[[#This Row],[Sector]],\" (\",tblResultaatMaatregelen[[#This Row],[Sector_kort]],\")\"),tblResultaatMaatregelen[[#This Row],[MaatregelCode]])","v":"Landbouw (LB)"}]
[{"$f":"CONCATENATE(\"Scenario \",tblResultaatMaatregelen[[#This Row],[ScenarioNummer]])","v":"Scenario 2"},2,27,{"$f":"VLOOKUP(tblResultaatMaatregelen[[#This Row],[MaatregelNummer]],Tbl_scenario[],4,TRUE)","v":"LB_HER_PocV"},{"$f":"INDEX(tblSectoren[SectorID],MATCH(tblResultaatMaatregelen[[#This Row],[Sector]],tblSectoren[Sectoren],0))","v":5},{"$f":"VLOOKUP(tblResultaatMaatregelen[[#This Row],[MaatregelNummer]],Tbl_scenario[],2,TRUE)","v":"Landbouw"},{"$f":"INDEX(tblSectoren[Afkorting],tblResultaatMaatregelen[[#This Row],[Sectornummer]])","v":"LB"},{"$f":"VLOOKUP(tblResultaatMaatregelen[[#This Row],[MaatregelNummer]],Tbl_scenario[],3,TRUE)","v":"Hernieuwbare energie_Pocketvergisters"},{"$f":"VLOOKUP(tblResultaatMaatregelen[[#This Row],[MaatregelNummer]],Tbl_scenario[],6+(tblResultaatMaatregelen[[#This Row],[ScenarioNummer]]-1)*4+1,TRUE)","v":"Hoog"},{"$f":"IF(tblResultaatMaatregelen[[#This Row],[Ambitieniveau]]=\"Niet\",0,IFERROR(INDIRECT(CONCATENATE(tblResultaatMaatregelen[[#This Row],[MaatregelCode]],\"_REDCO2_\",tblResultaatMaatregelen[[#This Row],[ScenarioNummer]])),0))","v":8.8296619153522986},"Maatregelen",{"$f":"IF(tblResultaatMaatregelen[[#This Row],[X-as]]=\"Maatregelen\",tblResultaatMaatregelen[[#This Row],[MaatregelNummer]],tblResultaatMaatregelen[[#This Row],[Sectornummer]])","v":27},{"$f":"IF(tblResultaatMaatregelen[[#This Row],[X-as]]=\"Maatregelen\",tblResultaatMaatregelen[[#This Row],[MaatregelCode]],CONCATENATE(tblResultaatMaatregelen[[#This Row],[Sector]],\" (\",tblResultaatMaatregelen[[#This Row],[Sector_kort]],\")\"))","v":"LB_HER_PocV"},{"$f":"IF(tblResultaatMaatregelen[[#This Row],[X-as]]=\"Maatregelen\",CONCATENATE(tblResultaatMaatregelen[[#This Row],[Sector]],\" (\",tblResultaatMaatregelen[[#This Row],[Sector_kort]],\")\"),tblResultaatMaatregelen[[#This Row],[MaatregelCode]])","v":"Landbouw (LB)"}]
[{"$f":"CONCATENATE(\"Scenario \",tblResultaatMaatregelen[[#This Row],[ScenarioNummer]])","v":"Scenario 2"},2,28,{"$f":"VLOOKUP(tblResultaatMaatregelen[[#This Row],[MaatregelNummer]],Tbl_scenario[],4,TRUE)","v":"LB_HER_BMK"},{"$f":"INDEX(tblSectoren[SectorID],MATCH(tblResultaatMaatregelen[[#This Row],[Sector]],tblSectoren[Sectoren],0))","v":5},{"$f":"VLOOKUP(tblResultaatMaatregelen[[#This Row],[MaatregelNummer]],Tbl_scenario[],2,TRUE)","v":"Landbouw"},{"$f":"INDEX(tblSectoren[Afkorting],tblResultaatMaatregelen[[#This Row],[Sectornummer]])","v":"LB"},{"$f":"VLOOKUP(tblResultaatMaatregelen[[#This Row],[MaatregelNummer]],Tbl_scenario[],3,TRUE)","v":"Hernieuwbare energie_Biomassaketels"},{"$f":"VLOOKUP(tblResultaatMaatregelen[[#This Row],[MaatregelNummer]],Tbl_scenario[],6+(tblResultaatMaatregelen[[#This Row],[ScenarioNummer]]-1)*4+1,TRUE)","v":"Hoog"},{"$f":"IF(tblResultaatMaatregelen[[#This Row],[Ambitieniveau]]=\"Niet\",0,IFERROR(INDIRECT(CONCATENATE(tblResultaatMaatregelen[[#This Row],[MaatregelCode]],\"_REDCO2_\",tblResultaatMaatregelen[[#This Row],[ScenarioNummer]])),0))","v":237.41969345163415},"Maatregelen",{"$f":"IF(tblResultaatMaatregelen[[#This Row],[X-as]]=\"Maatregelen\",tblResultaatMaatregelen[[#This Row],[MaatregelNummer]],tblResultaatMaatregelen[[#This Row],[Sectornummer]])","v":28},{"$f":"IF(tblResultaatMaatregelen[[#This Row],[X-as]]=\"Maatregelen\",tblResultaatMaatregelen[[#This Row],[MaatregelCode]],CONCATENATE(tblResultaatMaatregelen[[#This Row],[Sector]],\" (\",tblResultaatMaatregelen[[#This Row],[Sector_kort]],\")\"))","v":"LB_HER_BMK"},{"$f":"IF(tblResultaatMaatregelen[[#This Row],[X-as]]=\"Maatregelen\",CONCATENATE(tblResultaatMaatregelen[[#This Row],[Sector]],\" (\",tblResultaatMaatregelen[[#This Row],[Sector_kort]],\")\"),tblResultaatMaatregelen[[#This Row],[MaatregelCode]])","v":"Landbouw (LB)"}]
[{"$f":"CONCATENATE(\"Scenario \",tblResultaatMaatregelen[[#This Row],[ScenarioNummer]])","v":"Scenario 2"},2,29,{"$f":"VLOOKUP(tblResultaatMaatregelen[[#This Row],[MaatregelNummer]],Tbl_scenario[],4,TRUE)","v":"LB_EE_ENS"},{"$f":"INDEX(tblSectoren[SectorID],MATCH(tblResultaatMaatregelen[[#This Row],[Sector]],tblSectoren[Sectoren],0))","v":5},{"$f":"VLOOKUP(tblResultaatMaatregelen[[#This Row],[MaatregelNummer]],Tbl_scenario[],2,TRUE)","v":"Landbouw"},{"$f":"INDEX(tblSectoren[Afkorting],tblResultaatMaatregelen[[#This Row],[Sectornummer]])","v":"LB"},{"$f":"VLOOKUP(tblResultaatMaatregelen[[#This Row],[MaatregelNummer]],Tbl_scenario[],3,TRUE)","v":"Energieschermen"},{"$f":"VLOOKUP(tblResultaatMaatregelen[[#This Row],[MaatregelNummer]],Tbl_scenario[],6+(tblResultaatMaatregelen[[#This Row],[ScenarioNummer]]-1)*4+1,TRUE)","v":"Hoog"},{"$f":"IF(tblResultaatMaatregelen[[#This Row],[Ambitieniveau]]=\"Niet\",0,IFERROR(INDIRECT(CONCATENATE(tblResultaatMaatregelen[[#This Row],[MaatregelCode]],\"_REDCO2_\",tblResultaatMaatregelen[[#This Row],[ScenarioNummer]])),0))","v":69.769414040474203},"Maatregelen",{"$f":"IF(tblResultaatMaatregelen[[#This Row],[X-as]]=\"Maatregelen\",tblResultaatMaatregelen[[#This Row],[MaatregelNummer]],tblResultaatMaatregelen[[#This Row],[Sectornummer]])","v":29},{"$f":"IF(tblResultaatMaatregelen[[#This Row],[X-as]]=\"Maatregelen\",tblResultaatMaatregelen[[#This Row],[MaatregelCode]],CONCATENATE(tblResultaatMaatregelen[[#This Row],[Sector]],\" (\",tblResultaatMaatregelen[[#This Row],[Sector_kort]],\")\"))","v":"LB_EE_ENS"},{"$f":"IF(tblResultaatMaatregelen[[#This Row],[X-as]]=\"Maatregelen\",CONCATENATE(tblResultaatMaatregelen[[#This Row],[Sector]],\" (\",tblResultaatMaatregelen[[#This Row],[Sector_kort]],\")\"),tblResultaatMaatregelen[[#This Row],[MaatregelCode]])","v":"Landbouw (LB)"}]
[{"$f":"CONCATENATE(\"Scenario \",tblResultaatMaatregelen[[#This Row],[ScenarioNummer]])","v":"Scenario 2"},2,30,{"$f":"VLOOKUP(tblResultaatMaatregelen[[#This Row],[MaatregelNummer]],Tbl_scenario[],4,TRUE)","v":"BLANCO_1"},{"$f":"INDEX(tblSectoren[SectorID],MATCH(tblResultaatMaatregelen[[#This Row],[Sector]],tblSectoren[Sectoren],0))","v":1},{"$f":"VLOOKUP(tblResultaatMaatregelen[[#This Row],[MaatregelNummer]],Tbl_scenario[],2,TRUE)","v":"Huishoudens"},{"$f":"INDEX(tblSectoren[Afkorting],tblResultaatMaatregelen[[#This Row],[Sectornummer]])","v":"RES"},{"$f":"VLOOKUP(tblResultaatMaatregelen[[#This Row],[MaatregelNummer]],Tbl_scenario[],3,TRUE)","v":"Blanco"},{"$f":"VLOOKUP(tblResultaatMaatregelen[[#This Row],[MaatregelNummer]],Tbl_scenario[],6+(tblResultaatMaatregelen[[#This Row],[ScenarioNummer]]-1)*4+1,TRUE)","v":"Niet"},{"$f":"IF(tblResultaatMaatregelen[[#This Row],[Ambitieniveau]]=\"Niet\",0,IFERROR(INDIRECT(CONCATENATE(tblResultaatMaatregelen[[#This Row],[MaatregelCode]],\"_REDCO2_\",tblResultaatMaatregelen[[#This Row],[ScenarioNummer]])),0))","v":0},"Maatregelen",{"$f":"IF(tblResultaatMaatregelen[[#This Row],[X-as]]=\"Maatregelen\",tblResultaatMaatregelen[[#This Row],[MaatregelNummer]],tblResultaatMaatregelen[[#This Row],[Sectornummer]])","v":30},{"$f":"IF(tblResultaatMaatregelen[[#This Row],[X-as]]=\"Maatregelen\",tblResultaatMaatregelen[[#This Row],[MaatregelCode]],CONCATENATE(tblResultaatMaatregelen[[#This Row],[Sector]],\" (\",tblResultaatMaatregelen[[#This Row],[Sector_kort]],\")\"))","v":"BLANCO_1"},{"$f":"IF(tblResultaatMaatregelen[[#This Row],[X-as]]=\"Maatregelen\",CONCATENATE(tblResultaatMaatregelen[[#This Row],[Sector]],\" (\",tblResultaatMaatregelen[[#This Row],[Sector_kort]],\")\"),tblResultaatMaatregelen[[#This Row],[MaatregelCode]])","v":"Huishoudens (RES)"}]
[{"$f":"CONCATENATE(\"Scenario \",tblResultaatMaatregelen[[#This Row],[ScenarioNummer]])","v":"Scenario 2"},2,31,{"$f":"VLOOKUP(tblResultaatMaatregelen[[#This Row],[MaatregelNummer]],Tbl_scenario[],4,TRUE)","v":"BLANCO_2"},{"$f":"INDEX(tblSectoren[SectorID],MATCH(tblResultaatMaatregelen[[#This Row],[Sector]],tblSectoren[Sectoren],0))","v":1},{"$f":"VLOOKUP(tblResultaatMaatregelen[[#This Row],[MaatregelNummer]],Tbl_scenario[],2,TRUE)","v":"Huishoudens"},{"$f":"INDEX(tblSectoren[Afkorting],tblResultaatMaatregelen[[#This Row],[Sectornummer]])","v":"RES"},{"$f":"VLOOKUP(tblResultaatMaatregelen[[#This Row],[MaatregelNummer]],Tbl_scenario[],3,TRUE)","v":"Blanco"},{"$f":"VLOOKUP(tblResultaatMaatregelen[[#This Row],[MaatregelNummer]],Tbl_scenario[],6+(tblResultaatMaatregelen[[#This Row],[ScenarioNummer]]-1)*4+1,TRUE)","v":"Niet"},{"$f":"IF(tblResultaatMaatregelen[[#This Row],[Ambitieniveau]]=\"Niet\",0,IFERROR(INDIRECT(CONCATENATE(tblResultaatMaatregelen[[#This Row],[MaatregelCode]],\"_REDCO2_\",tblResultaatMaatregelen[[#This Row],[ScenarioNummer]])),0))","v":0},"Maatregelen",{"$f":"IF(tblResultaatMaatregelen[[#This Row],[X-as]]=\"Maatregelen\",tblResultaatMaatregelen[[#This Row],[MaatregelNummer]],tblResultaatMaatregelen[[#This Row],[Sectornummer]])","v":31},{"$f":"IF(tblResultaatMaatregelen[[#This Row],[X-as]]=\"Maatregelen\",tblResultaatMaatregelen[[#This Row],[MaatregelCode]],CONCATENATE(tblResultaatMaatregelen[[#This Row],[Sector]],\" (\",tblResultaatMaatregelen[[#This Row],[Sector_kort]],\")\"))","v":"BLANCO_2"},{"$f":"IF(tblResultaatMaatregelen[[#This Row],[X-as]]=\"Maatregelen\",CONCATENATE(tblResultaatMaatregelen[[#This Row],[Sector]],\" (\",tblResultaatMaatregelen[[#This Row],[Sector_kort]],\")\"),tblResultaatMaatregelen[[#This Row],[MaatregelCode]])","v":"Huishoudens (RES)"}]
[{"$f":"CONCATENATE(\"Scenario \",tblResultaatMaatregelen[[#This Row],[ScenarioNummer]])","v":"Scenario 2"},2,32,{"$f":"VLOOKUP(tblResultaatMaatregelen[[#This Row],[MaatregelNummer]],Tbl_scenario[],4,TRUE)","v":"BLANCO_3"},{"$f":"INDEX(tblSectoren[SectorID],MATCH(tblResultaatMaatregelen[[#This Row],[Sector]],tblSectoren[Sectoren],0))","v":1},{"$f":"VLOOKUP(tblResultaatMaatregelen[[#This Row],[MaatregelNummer]],Tbl_scenario[],2,TRUE)","v":"Huishoudens"},{"$f":"INDEX(tblSectoren[Afkorting],tblResultaatMaatregelen[[#This Row],[Sectornummer]])","v":"RES"},{"$f":"VLOOKUP(tblResultaatMaatregelen[[#This Row],[MaatregelNummer]],Tbl_scenario[],3,TRUE)","v":"Blanco"},{"$f":"VLOOKUP(tblResultaatMaatregelen[[#This Row],[MaatregelNummer]],Tbl_scenario[],6+(tblResultaatMaatregelen[[#This Row],[ScenarioNummer]]-1)*4+1,TRUE)","v":"Niet"},{"$f":"IF(tblResultaatMaatregelen[[#This Row],[Ambitieniveau]]=\"Niet\",0,IFERROR(INDIRECT(CONCATENATE(tblResultaatMaatregelen[[#This Row],[MaatregelCode]],\"_REDCO2_\",tblResultaatMaatregelen[[#This Row],[ScenarioNummer]])),0))","v":0},"Maatregelen",{"$f":"IF(tblResultaatMaatregelen[[#This Row],[X-as]]=\"Maatregelen\",tblResultaatMaatregelen[[#This Row],[MaatregelNummer]],tblResultaatMaatregelen[[#This Row],[Sectornummer]])","v":32},{"$f":"IF(tblResultaatMaatregelen[[#This Row],[X-as]]=\"Maatregelen\",tblResultaatMaatregelen[[#This Row],[MaatregelCode]],CONCATENATE(tblResultaatMaatregelen[[#This Row],[Sector]],\" (\",tblResultaatMaatregelen[[#This Row],[Sector_kort]],\")\"))","v":"BLANCO_3"},{"$f":"IF(tblResultaatMaatregelen[[#This Row],[X-as]]=\"Maatregelen\",CONCATENATE(tblResultaatMaatregelen[[#This Row],[Sector]],\" (\",tblResultaatMaatregelen[[#This Row],[Sector_kort]],\")\"),tblResultaatMaatregelen[[#This Row],[MaatregelCode]])","v":"Huishoudens (RES)"}]
[{"$f":"CONCATENATE(\"Scenario \",tblResultaatMaatregelen[[#This Row],[ScenarioNummer]])","v":"Scenario 1"},1,1,{"$f":"VLOOKUP(tblResultaatMaatregelen[[#This Row],[MaatregelNummer]],Tbl_scenario[],4,TRUE)","v":"RES_ISO_DAK"},{"$f":"INDEX(tblSectoren[SectorID],MATCH(tblResultaatMaatregelen[[#This Row],[Sector]],tblSectoren[Sectoren],0))","v":1},{"$f":"VLOOKUP(tblResultaatMaatregelen[[#This Row],[MaatregelNummer]],Tbl_scenario[],2,TRUE)","v":"Huishoudens"},{"$f":"INDEX(tblSectoren[Afkorting],tblResultaatMaatregelen[[#This Row],[Sectornummer]])","v":"RES"},{"$f":"VLOOKUP(tblResultaatMaatregelen[[#This Row],[MaatregelNummer]],Tbl_scenario[],3,TRUE)","v":"Isolatiemaatregel gericht op dak"},{"$f":"VLOOKUP(tblResultaatMaatregelen[[#This Row],[MaatregelNummer]],Tbl_scenario[],6+(tblResultaatMaatregelen[[#This Row],[ScenarioNummer]]-1)*4+1,TRUE)","v":"Laag"},{"$f":"IF(tblResultaatMaatregelen[[#This Row],[Ambitieniveau]]=\"Niet\",0,IFERROR(INDIRECT(CONCATENATE(tblResultaatMaatregelen[[#This Row],[MaatregelCode]],\"_REDCO2_\",tblResultaatMaatregelen[[#This Row],[ScenarioNummer]])),0))","v":9650.7887869298283},"Sectoren",{"$f":"IF(tblResultaatMaatregelen[[#This Row],[X-as]]=\"Maatregelen\",tblResultaatMaatregelen[[#This Row],[MaatregelNummer]],tblResultaatMaatregelen[[#This Row],[Sectornummer]])","v":1},{"$f":"IF(tblResultaatMaatregelen[[#This Row],[X-as]]=\"Maatregelen\",tblResultaatMaatregelen[[#This Row],[MaatregelCode]],CONCATENATE(tblResultaatMaatregelen[[#This Row],[Sector]],\" (\",tblResultaatMaatregelen[[#This Row],[Sector_kort]],\")\"))","v":"Huishoudens (RES)"},{"$f":"IF(tblResultaatMaatregelen[[#This Row],[X-as]]=\"Maatregelen\",CONCATENATE(tblResultaatMaatregelen[[#This Row],[Sector]],\" (\",tblResultaatMaatregelen[[#This Row],[Sector_kort]],\")\"),tblResultaatMaatregelen[[#This Row],[MaatregelCode]])","v":"RES_ISO_DAK"}]
[{"$f":"CONCATENATE(\"Scenario \",tblResultaatMaatregelen[[#This Row],[ScenarioNummer]])","v":"Scenario 1"},1,2,{"$f":"VLOOKUP(tblResultaatMaatregelen[[#This Row],[MaatregelNummer]],Tbl_scenario[],4,TRUE)","v":"RES_ISO_MUUR"},{"$f":"INDEX(tblSectoren[SectorID],MATCH(tblResultaatMaatregelen[[#This Row],[Sector]],tblSectoren[Sectoren],0))","v":1},{"$f":"VLOOKUP(tblResultaatMaatregelen[[#This Row],[MaatregelNummer]],Tbl_scenario[],2,TRUE)","v":"Huishoudens"},{"$f":"INDEX(tblSectoren[Afkorting],tblResultaatMaatregelen[[#This Row],[Sectornummer]])","v":"RES"},{"$f":"VLOOKUP(tblResultaatMaatregelen[[#This Row],[MaatregelNummer]],Tbl_scenario[],3,TRUE)","v":"Isolatiemaatregel gericht op buitenmuren"},{"$f":"VLOOKUP(tblResultaatMaatregelen[[#This Row],[MaatregelNummer]],Tbl_scenario[],6+(tblResultaatMaatregelen[[#This Row],[ScenarioNummer]]-1)*4+1,TRUE)","v":"Laag"},{"$f":"IF(tblResultaatMaatregelen[[#This Row],[Ambitieniveau]]=\"Niet\",0,IFERROR(INDIRECT(CONCATENATE(tblResultaatMaatregelen[[#This Row],[MaatregelCode]],\"_REDCO2_\",tblResultaatMaatregelen[[#This Row],[ScenarioNummer]])),0))","v":10751.627857522235},"Sectoren",{"$f":"IF(tblResultaatMaatregelen[[#This Row],[X-as]]=\"Maatregelen\",tblResultaatMaatregelen[[#This Row],[MaatregelNummer]],tblResultaatMaatregelen[[#This Row],[Sectornummer]])","v":1},{"$f":"IF(tblResultaatMaatregelen[[#This Row],[X-as]]=\"Maatregelen\",tblResultaatMaatregelen[[#This Row],[MaatregelCode]],CONCATENATE(tblResultaatMaatregelen[[#This Row],[Sector]],\" (\",tblResultaatMaatregelen[[#This Row],[Sector_kort]],\")\"))","v":"Huishoudens (RES)"},{"$f":"IF(tblResultaatMaatregelen[[#This Row],[X-as]]=\"Maatregelen\",CONCATENATE(tblResultaatMaatregelen[[#This Row],[Sector]],\" (\",tblResultaatMaatregelen[[#This Row],[Sector_kort]],\")\"),tblResultaatMaatregelen[[#This Row],[MaatregelCode]])","v":"RES_ISO_MUUR"}]
[{"$f":"CONCATENATE(\"Scenario \",tblResultaatMaatregelen[[#This Row],[ScenarioNummer]])","v":"Scenario 1"},1,3,{"$f":"VLOOKUP(tblResultaatMaatregelen[[#This Row],[MaatregelNummer]],Tbl_scenario[],4,TRUE)","v":"RES_ISO_VL"},{"$f":"INDEX(tblSectoren[SectorID],MATCH(tblResultaatMaatregelen[[#This Row],[Sector]],tblSectoren[Sectoren],0))","v":1},{"$f":"VLOOKUP(tblResultaatMaatregelen[[#This Row],[MaatregelNummer]],Tbl_scenario[],2,TRUE)","v":"Huishoudens"},{"$f":"INDEX(tblSectoren[Afkorting],tblResultaatMaatregelen[[#This Row],[Sectornummer]])","v":"RES"},{"$f":"VLOOKUP(tblResultaatMaatregelen[[#This Row],[MaatregelNummer]],Tbl_scenario[],3,TRUE)","v":"Isolatiemaatregel gericht op vloeren"},{"$f":"VLOOKUP(tblResultaatMaatregelen[[#This Row],[MaatregelNummer]],Tbl_scenario[],6+(tblResultaatMaatregelen[[#This Row],[ScenarioNummer]]-1)*4+1,TRUE)","v":"Laag"},{"$f":"IF(tblResultaatMaatregelen[[#This Row],[Ambitieniveau]]=\"Niet\",0,IFERROR(INDIRECT(CONCATENATE(tblResultaatMaatregelen[[#This Row],[MaatregelCode]],\"_REDCO2_\",tblResultaatMaatregelen[[#This Row],[ScenarioNummer]])),0))","v":4990.4290141524016},"Sectoren",{"$f":"IF(tblResultaatMaatregelen[[#This Row],[X-as]]=\"Maatregelen\",tblResultaatMaatregelen[[#This Row],[MaatregelNummer]],tblResultaatMaatregelen[[#This Row],[Sectornummer]])","v":1},{"$f":"IF(tblResultaatMaatregelen[[#This Row],[X-as]]=\"Maatregelen\",tblResultaatMaatregelen[[#This Row],[MaatregelCode]],CONCATENATE(tblResultaatMaatregelen[[#This Row],[Sector]],\" (\",tblResultaatMaatregelen[[#This Row],[Sector_kort]],\")\"))","v":"Huishoudens (RES)"},{"$f":"IF(tblResultaatMaatregelen[[#This Row],[X-as]]=\"Maatregelen\",CONCATENATE(tblResultaatMaatregelen[[#This Row],[Sector]],\" (\",tblResultaatMaatregelen[[#This Row],[Sector_kort]],\")\"),tblResultaatMaatregelen[[#This Row],[MaatregelCode]])","v":"RES_ISO_VL"}]
[{"$f":"CONCATENATE(\"Scenario \",tblResultaatMaatregelen[[#This Row],[ScenarioNummer]])","v":"Scenario 1"},1,4,{"$f":"VLOOKUP(tblResultaatMaatregelen[[#This Row],[MaatregelNummer]],Tbl_scenario[],4,TRUE)","v":"RES_ISO_BG"},{"$f":"INDEX(tblSectoren[SectorID],MATCH(tblResultaatMaatregelen[[#This Row],[Sector]],tblSectoren[Sectoren],0))","v":1},{"$f":"VLOOKUP(tblResultaatMaatregelen[[#This Row],[MaatregelNummer]],Tbl_scenario[],2,TRUE)","v":"Huishoudens"},{"$f":"INDEX(tblSectoren[Afkorting],tblResultaatMaatregelen[[#This Row],[Sectornummer]])","v":"RES"},{"$f":"VLOOKUP(tblResultaatMaatregelen[[#This Row],[MaatregelNummer]],Tbl_scenario[],3,TRUE)","v":"Isolatiemaatregel gericht op ramen en beglazing"},{"$f":"VLOOKUP(tblResultaatMaatregelen[[#This Row],[MaatregelNummer]],Tbl_scenario[],6+(tblResultaatMaatregelen[[#This Row],[ScenarioNummer]]-1)*4+1,TRUE)","v":"Laag"},{"$f":"IF(tblResultaatMaatregelen[[#This Row],[Ambitieniveau]]=\"Niet\",0,IFERROR(INDIRECT(CONCATENATE(tblResultaatMaatregelen[[#This Row],[MaatregelCode]],\"_REDCO2_\",tblResultaatMaatregelen[[#This Row],[ScenarioNummer]])),0))","v":3270.1525549919365},"Sectoren",{"$f":"IF(tblResultaatMaatregelen[[#This Row],[X-as]]=\"Maatregelen\",tblResultaatMaatregelen[[#This Row],[MaatregelNummer]],tblResultaatMaatregelen[[#This Row],[Sectornummer]])","v":1},{"$f":"IF(tblResultaatMaatregelen[[#This Row],[X-as]]=\"Maatregelen\",tblResultaatMaatregelen[[#This Row],[MaatregelCode]],CONCATENATE(tblResultaatMaatregelen[[#This Row],[Sector]],\" (\",tblResultaatMaatregelen[[#This Row],[Sector_kort]],\")\"))","v":"Huishoudens (RES)"},{"$f":"IF(tblResultaatMaatregelen[[#This Row],[X-as]]=\"Maatregelen\",CONCATENATE(tblResultaatMaatregelen[[#This Row],[Sector]],\" (\",tblResultaatMaatregelen[[#This Row],[Sector_kort]],\")\"),tblResultaatMaatregelen[[#This Row],[MaatregelCode]])","v":"RES_ISO_BG"}]
[{"$f":"CONCATENATE(\"Scenario \",tblResultaatMaatregelen[[#This Row],[ScenarioNummer]])","v":"Scenario 1"},1,5,{"$f":"VLOOKUP(tblResultaatMaatregelen[[#This Row],[MaatregelNummer]],Tbl_scenario[],4,TRUE)","v":"RES_HER_WP"},{"$f":"INDEX(tblSectoren[SectorID],MATCH(tblResultaatMaatregelen[[#This Row],[Sector]],tblSectoren[Sectoren],0))","v":1},{"$f":"VLOOKUP(tblResultaatMaatregelen[[#This Row],[MaatregelNummer]],Tbl_scenario[],2,TRUE)","v":"Huishoudens"},{"$f":"INDEX(tblSectoren[Afkorting],tblResultaatMaatregelen[[#This Row],[Sectornummer]])","v":"RES"},{"$f":"VLOOKUP(tblResultaatMaatregelen[[#This Row],[MaatregelNummer]],Tbl_scenario[],3,TRUE)","v":"Warmtepomp"},{"$f":"VLOOKUP(tblResultaatMaatregelen[[#This Row],[MaatregelNummer]],Tbl_scenario[],6+(tblResultaatMaatregelen[[#This Row],[ScenarioNummer]]-1)*4+1,TRUE)","v":"Laag"},{"$f":"IF(tblResultaatMaatregelen[[#This Row],[Ambitieniveau]]=\"Niet\",0,IFERROR(INDIRECT(CONCATENATE(tblResultaatMaatregelen[[#This Row],[MaatregelCode]],\"_REDCO2_\",tblResultaatMaatregelen[[#This Row],[ScenarioNummer]])),0))","v":3453.6546423835571},"Sectoren",{"$f":"IF(tblResultaatMaatregelen[[#This Row],[X-as]]=\"Maatregelen\",tblResultaatMaatregelen[[#This Row],[MaatregelNummer]],tblResultaatMaatregelen[[#This Row],[Sectornummer]])","v":1},{"$f":"IF(tblResultaatMaatregelen[[#This Row],[X-as]]=\"Maatregelen\",tblResultaatMaatregelen[[#This Row],[MaatregelCode]],CONCATENATE(tblResultaatMaatregelen[[#This Row],[Sector]],\" (\",tblResultaatMaatregelen[[#This Row],[Sector_kort]],\")\"))","v":"Huishoudens (RES)"},{"$f":"IF(tblResultaatMaatregelen[[#This Row],[X-as]]=\"Maatregelen\",CONCATENATE(tblResultaatMaatregelen[[#This Row],[Sector]],\" (\",tblResultaatMaatregelen[[#This Row],[Sector_kort]],\")\"),tblResultaatMaatregelen[[#This Row],[MaatregelCode]])","v":"RES_HER_WP"}]
[{"$f":"CONCATENATE(\"Scenario \",tblResultaatMaatregelen[[#This Row],[ScenarioNummer]])","v":"Scenario 1"},1,6,{"$f":"VLOOKUP(tblResultaatMaatregelen[[#This Row],[MaatregelNummer]],Tbl_scenario[],4,TRUE)","v":"RES_HER_ZB"},{"$f":"INDEX(tblSectoren[SectorID],MATCH(tblResultaatMaatregelen[[#This Row],[Sector]],tblSectoren[Sectoren],0))","v":1},{"$f":"VLOOKUP(tblResultaatMaatregelen[[#This Row],[MaatregelNummer]],Tbl_scenario[],2,TRUE)","v":"Huishoudens"},{"$f":"INDEX(tblSectoren[Afkorting],tblResultaatMaatregelen[[#This Row],[Sectornummer]])","v":"RES"},{"$f":"VLOOKUP(tblResultaatMaatregelen[[#This Row],[MaatregelNummer]],Tbl_scenario[],3,TRUE)","v":"Zonneboiler"},{"$f":"VLOOKUP(tblResultaatMaatregelen[[#This Row],[MaatregelNummer]],Tbl_scenario[],6+(tblResultaatMaatregelen[[#This Row],[ScenarioNummer]]-1)*4+1,TRUE)","v":"Laag"},{"$f":"IF(tblResultaatMaatregelen[[#This Row],[Ambitieniveau]]=\"Niet\",0,IFERROR(INDIRECT(CONCATENATE(tblResultaatMaatregelen[[#This Row],[MaatregelCode]],\"_REDCO2_\",tblResultaatMaatregelen[[#This Row],[ScenarioNummer]])),0))","v":1282.1116848339077},"Sectoren",{"$f":"IF(tblResultaatMaatregelen[[#This Row],[X-as]]=\"Maatregelen\",tblResultaatMaatregelen[[#This Row],[MaatregelNummer]],tblResultaatMaatregelen[[#This Row],[Sectornummer]])","v":1},{"$f":"IF(tblResultaatMaatregelen[[#This Row],[X-as]]=\"Maatregelen\",tblResultaatMaatregelen[[#This Row],[MaatregelCode]],CONCATENATE(tblResultaatMaatregelen[[#This Row],[Sector]],\" (\",tblResultaatMaatregelen[[#This Row],[Sector_kort]],\")\"))","v":"Huishoudens (RES)"},{"$f":"IF(tblResultaatMaatregelen[[#This Row],[X-as]]=\"Maatregelen\",CONCATENATE(tblResultaatMaatregelen[[#This Row],[Sector]],\" (\",tblResultaatMaatregelen[[#This Row],[Sector_kort]],\")\"),tblResultaatMaatregelen[[#This Row],[MaatregelCode]])","v":"RES_HER_ZB"}]
[{"$f":"CONCATENATE(\"Scenario \",tblResultaatMaatregelen[[#This Row],[ScenarioNummer]])","v":"Scenario 1"},1,7,{"$f":"VLOOKUP(tblResultaatMaatregelen[[#This Row],[MaatregelNummer]],Tbl_scenario[],4,TRUE)","v":"RES_HER_WPB"},{"$f":"INDEX(tblSectoren[SectorID],MATCH(tblResultaatMaatregelen[[#This Row],[Sector]],tblSectoren[Sectoren],0))","v":1},{"$f":"VLOOKUP(tblResultaatMaatregelen[[#This Row],[MaatregelNummer]],Tbl_scenario[],2,TRUE)","v":"Huishoudens"},{"$f":"INDEX(tblSectoren[Afkorting],tblResultaatMaatregelen[[#This Row],[Sectornummer]])","v":"RES"},{"$f":"VLOOKUP(tblResultaatMaatregelen[[#This Row],[MaatregelNummer]],Tbl_scenario[],3,TRUE)","v":"Warmtepompboiler"},{"$f":"VLOOKUP(tblResultaatMaatregelen[[#This Row],[MaatregelNummer]],Tbl_scenario[],6+(tblResultaatMaatregelen[[#This Row],[ScenarioNummer]]-1)*4+1,TRUE)","v":"Laag"},{"$f":"IF(tblResultaatMaatregelen[[#This Row],[Ambitieniveau]]=\"Niet\",0,IFERROR(INDIRECT(CONCATENATE(tblResultaatMaatregelen[[#This Row],[MaatregelCode]],\"_REDCO2_\",tblResultaatMaatregelen[[#This Row],[ScenarioNummer]])),0))","v":2395.4112156042825},"Sectoren",{"$f":"IF(tblResultaatMaatregelen[[#This Row],[X-as]]=\"Maatregelen\",tblResultaatMaatregelen[[#This Row],[MaatregelNummer]],tblResultaatMaatregelen[[#This Row],[Sectornummer]])","v":1},{"$f":"IF(tblResultaatMaatregelen[[#This Row],[X-as]]=\"Maatregelen\",tblResultaatMaatregelen[[#This Row],[MaatregelCode]],CONCATENATE(tblResultaatMaatregelen[[#This Row],[Sector]],\" (\",tblResultaatMaatregelen[[#This Row],[Sector_kort]],\")\"))","v":"Huishoudens (RES)"},{"$f":"IF(tblResultaatMaatregelen[[#This Row],[X-as]]=\"Maatregelen\",CONCATENATE(tblResultaatMaatregelen[[#This Row],[Sector]],\" (\",tblResultaatMaatregelen[[#This Row],[Sector_kort]],\")\"),tblResultaatMaatregelen[[#This Row],[MaatregelCode]])","v":"RES_HER_WPB"}]
[{"$f":"CONCATENATE(\"Scenario \",tblResultaatMaatregelen[[#This Row],[ScenarioNummer]])","v":"Scenario 1"},1,8,{"$f":"VLOOKUP(tblResultaatMaatregelen[[#This Row],[MaatregelNummer]],Tbl_scenario[],4,TRUE)","v":"RES_EE_ELE"},{"$f":"INDEX(tblSectoren[SectorID],MATCH(tblResultaatMaatregelen[[#This Row],[Sector]],tblSectoren[Sectoren],0))","v":1},{"$f":"VLOOKUP(tblResultaatMaatregelen[[#This Row],[MaatregelNummer]],Tbl_scenario[],2,TRUE)","v":"Huishoudens"},{"$f":"INDEX(tblSectoren[Afkorting],tblResultaatMaatregelen[[#This Row],[Sectornummer]])","v":"RES"},{"$f":"VLOOKUP(tblResultaatMaatregelen[[#This Row],[MaatregelNummer]],Tbl_scenario[],3,TRUE)","v":"Elektriciteitsgebruik: verhogen efficiëntie"},{"$f":"VLOOKUP(tblResultaatMaatregelen[[#This Row],[MaatregelNummer]],Tbl_scenario[],6+(tblResultaatMaatregelen[[#This Row],[ScenarioNummer]]-1)*4+1,TRUE)","v":"Laag"},{"$f":"IF(tblResultaatMaatregelen[[#This Row],[Ambitieniveau]]=\"Niet\",0,IFERROR(INDIRECT(CONCATENATE(tblResultaatMaatregelen[[#This Row],[MaatregelCode]],\"_REDCO2_\",tblResultaatMaatregelen[[#This Row],[ScenarioNummer]])),0))","v":638.10592261458225},"Sectoren",{"$f":"IF(tblResultaatMaatregelen[[#This Row],[X-as]]=\"Maatregelen\",tblResultaatMaatregelen[[#This Row],[MaatregelNummer]],tblResultaatMaatregelen[[#This Row],[Sectornummer]])","v":1},{"$f":"IF(tblResultaatMaatregelen[[#This Row],[X-as]]=\"Maatregelen\",tblResultaatMaatregelen[[#This Row],[MaatregelCode]],CONCATENATE(tblResultaatMaatregelen[[#This Row],[Sector]],\" (\",tblResultaatMaatregelen[[#This Row],[Sector_kort]],\")\"))","v":"Huishoudens (RES)"},{"$f":"IF(tblResultaatMaatregelen[[#This Row],[X-as]]=\"Maatregelen\",CONCATENATE(tblResultaatMaatregelen[[#This Row],[Sector]],\" (\",tblResultaatMaatregelen[[#This Row],[Sector_kort]],\")\"),tblResultaatMaatregelen[[#This Row],[MaatregelCode]])","v":"RES_EE_ELE"}]
[{"$f":"CONCATENATE(\"Scenario \",tblResultaatMaatregelen[[#This Row],[ScenarioNummer]])","v":"Scenario 1"},1,9,{"$f":"VLOOKUP(tblResultaatMaatregelen[[#This Row],[MaatregelNummer]],Tbl_scenario[],4,TRUE)","v":"RES_EE_SLOOP"},{"$f":"INDEX(tblSectoren[SectorID],MATCH(tblResultaatMaatregelen[[#This Row],[Sector]],tblSectoren[Sectoren],0))","v":1},{"$f":"VLOOKUP(tblResultaatMaatregelen[[#This Row],[MaatregelNummer]],Tbl_scenario[],2,TRUE)","v":"Huishoudens"},{"$f":"INDEX(tblSectoren[Afkorting],tblResultaatMaatregelen[[#This Row],[Sectornummer]])","v":"RES"},{"$f":"VLOOKUP(tblResultaatMaatregelen[[#This Row],[MaatregelNummer]],Tbl_scenario[],3,TRUE)","v":"Stimuleren sloop energieverslindende woningen"},{"$f":"VLOOKUP(tblResultaatMaatregelen[[#This Row],[MaatregelNummer]],Tbl_scenario[],6+(tblResultaatMaatregelen[[#This Row],[ScenarioNummer]]-1)*4+1,TRUE)","v":"Laag"},{"$f":"IF(tblResultaatMaatregelen[[#This Row],[Ambitieniveau]]=\"Niet\",0,IFERROR(INDIRECT(CONCATENATE(tblResultaatMaatregelen[[#This Row],[MaatregelCode]],\"_REDCO2_\",tblResultaatMaatregelen[[#This Row],[ScenarioNummer]])),0))","v":3938.9310326914874},"Sectoren",{"$f":"IF(tblResultaatMaatregelen[[#This Row],[X-as]]=\"Maatregelen\",tblResultaatMaatregelen[[#This Row],[MaatregelNummer]],tblResultaatMaatregelen[[#This Row],[Sectornummer]])","v":1},{"$f":"IF(tblResultaatMaatregelen[[#This Row],[X-as]]=\"Maatregelen\",tblResultaatMaatregelen[[#This Row],[MaatregelCode]],CONCATENATE(tblResultaatMaatregelen[[#This Row],[Sector]],\" (\",tblResultaatMaatregelen[[#This Row],[Sector_kort]],\")\"))","v":"Huishoudens (RES)"},{"$f":"IF(tblResultaatMaatregelen[[#This Row],[X-as]]=\"Maatregelen\",CONCATENATE(tblResultaatMaatregelen[[#This Row],[Sector]],\" (\",tblResultaatMaatregelen[[#This Row],[Sector_kort]],\")\"),tblResultaatMaatregelen[[#This Row],[MaatregelCode]])","v":"RES_EE_SLOOP"}]
[{"$f":"CONCATENATE(\"Scenario \",tblResultaatMaatregelen[[#This Row],[ScenarioNummer]])","v":"Scenario 1"},1,10,{"$f":"VLOOKUP(tblResultaatMaatregelen[[#This Row],[MaatregelNummer]],Tbl_scenario[],4,TRUE)","v":"TER_EE_ISO"},{"$f":"INDEX(tblSectoren[SectorID],MATCH(tblResultaatMaatregelen[[#This Row],[Sector]],tblSectoren[Sectoren],0))","v":2},{"$f":"VLOOKUP(tblResultaatMaatregelen[[#This Row],[MaatregelNummer]],Tbl_scenario[],2,TRUE)","v":"Tertiair"},{"$f":"INDEX(tblSectoren[Afkorting],tblResultaatMaatregelen[[#This Row],[Sectornummer]])","v":"TER"},{"$f":"VLOOKUP(tblResultaatMaatregelen[[#This Row],[MaatregelNummer]],Tbl_scenario[],3,TRUE)","v":"Verhoogde isolatiegraad"},{"$f":"VLOOKUP(tblResultaatMaatregelen[[#This Row],[MaatregelNummer]],Tbl_scenario[],6+(tblResultaatMaatregelen[[#This Row],[ScenarioNummer]]-1)*4+1,TRUE)","v":"Laag"},{"$f":"IF(tblResultaatMaatregelen[[#This Row],[Ambitieniveau]]=\"Niet\",0,IFERROR(INDIRECT(CONCATENATE(tblResultaatMaatregelen[[#This Row],[MaatregelCode]],\"_REDCO2_\",tblResultaatMaatregelen[[#This Row],[ScenarioNummer]])),0))","v":5331.516632652123},"Sectoren",{"$f":"IF(tblResultaatMaatregelen[[#This Row],[X-as]]=\"Maatregelen\",tblResultaatMaatregelen[[#This Row],[MaatregelNummer]],tblResultaatMaatregelen[[#This Row],[Sectornummer]])","v":2},{"$f":"IF(tblResultaatMaatregelen[[#This Row],[X-as]]=\"Maatregelen\",tblResultaatMaatregelen[[#This Row],[MaatregelCode]],CONCATENATE(tblResultaatMaatregelen[[#This Row],[Sector]],\" (\",tblResultaatMaatregelen[[#This Row],[Sector_kort]],\")\"))","v":"Tertiair (TER)"},{"$f":"IF(tblResultaatMaatregelen[[#This Row],[X-as]]=\"Maatregelen\",CONCATENATE(tblResultaatMaatregelen[[#This Row],[Sector]],\" (\",tblResultaatMaatregelen[[#This Row],[Sector_kort]],\")\"),tblResultaatMaatregelen[[#This Row],[MaatregelCode]])","v":"TER_EE_ISO"}]
[{"$f":"CONCATENATE(\"Scenario \",tblResultaatMaatregelen[[#This Row],[ScenarioNummer]])","v":"Scenario 1"},1,11,{"$f":"VLOOKUP(tblResultaatMaatregelen[[#This Row],[MaatregelNummer]],Tbl_scenario[],4,TRUE)","v":"TER_HER_WP"},{"$f":"INDEX(tblSectoren[SectorID],MATCH(tblResultaatMaatregelen[[#This Row],[Sector]],tblSectoren[Sectoren],0))","v":2},{"$f":"VLOOKUP(tblResultaatMaatregelen[[#This Row],[MaatregelNummer]],Tbl_scenario[],2,TRUE)","v":"Tertiair"},{"$f":"INDEX(tblSectoren[Afkorting],tblResultaatMaatregelen[[#This Row],[Sectornummer]])","v":"TER"},{"$f":"VLOOKUP(tblResultaatMaatregelen[[#This Row],[MaatregelNummer]],Tbl_scenario[],3,TRUE)","v":"Warmtepomp"},{"$f":"VLOOKUP(tblResultaatMaatregelen[[#This Row],[MaatregelNummer]],Tbl_scenario[],6+(tblResultaatMaatregelen[[#This Row],[ScenarioNummer]]-1)*4+1,TRUE)","v":"Laag"},{"$f":"IF(tblResultaatMaatregelen[[#This Row],[Ambitieniveau]]=\"Niet\",0,IFERROR(INDIRECT(CONCATENATE(tblResultaatMaatregelen[[#This Row],[MaatregelCode]],\"_REDCO2_\",tblResultaatMaatregelen[[#This Row],[ScenarioNummer]])),0))","v":2668.3663516033976},"Sectoren",{"$f":"IF(tblResultaatMaatregelen[[#This Row],[X-as]]=\"Maatregelen\",tblResultaatMaatregelen[[#This Row],[MaatregelNummer]],tblResultaatMaatregelen[[#This Row],[Sectornummer]])","v":2},{"$f":"IF(tblResultaatMaatregelen[[#This Row],[X-as]]=\"Maatregelen\",tblResultaatMaatregelen[[#This Row],[MaatregelCode]],CONCATENATE(tblResultaatMaatregelen[[#This Row],[Sector]],\" (\",tblResultaatMaatregelen[[#This Row],[Sector_kort]],\")\"))","v":"Tertiair (TER)"},{"$f":"IF(tblResultaatMaatregelen[[#This Row],[X-as]]=\"Maatregelen\",CONCATENATE(tblResultaatMaatregelen[[#This Row],[Sector]],\" (\",tblResultaatMaatregelen[[#This Row],[Sector_kort]],\")\"),tblResultaatMaatregelen[[#This Row],[MaatregelCode]])","v":"TER_HER_WP"}]
[{"$f":"CONCATENATE(\"Scenario \",tblResultaatMaatregelen[[#This Row],[ScenarioNummer]])","v":"Scenario 1"},1,12,{"$f":"VLOOKUP(tblResultaatMaatregelen[[#This Row],[MaatregelNummer]],Tbl_scenario[],4,TRUE)","v":"TER_HER_ZB"},{"$f":"INDEX(tblSectoren[SectorID],MATCH(tblResultaatMaatregelen[[#This Row],[Sector]],tblSectoren[Sectoren],0))","v":2},{"$f":"VLOOKUP(tblResultaatMaatregelen[[#This Row],[MaatregelNummer]],Tbl_scenario[],2,TRUE)","v":"Tertiair"},{"$f":"INDEX(tblSectoren[Afkorting],tblResultaatMaatregelen[[#This Row],[Sectornummer]])","v":"TER"},{"$f":"VLOOKUP(tblResultaatMaatregelen[[#This Row],[MaatregelNummer]],Tbl_scenario[],3,TRUE)","v":"Zonneboiler"},{"$f":"VLOOKUP(tblResultaatMaatregelen[[#This Row],[MaatregelNummer]],Tbl_scenario[],6+(tblResultaatMaatregelen[[#This Row],[ScenarioNummer]]-1)*4+1,TRUE)","v":"Laag"},{"$f":"IF(tblResultaatMaatregelen[[#This Row],[Ambitieniveau]]=\"Niet\",0,IFERROR(INDIRECT(CONCATENATE(tblResultaatMaatregelen[[#This Row],[MaatregelCode]],\"_REDCO2_\",tblResultaatMaatregelen[[#This Row],[ScenarioNummer]])),0))","v":925.61052650210468},"Sectoren",{"$f":"IF(tblResultaatMaatregelen[[#This Row],[X-as]]=\"Maatregelen\",tblResultaatMaatregelen[[#This Row],[MaatregelNummer]],tblResultaatMaatregelen[[#This Row],[Sectornummer]])","v":2},{"$f":"IF(tblResultaatMaatregelen[[#This Row],[X-as]]=\"Maatregelen\",tblResultaatMaatregelen[[#This Row],[MaatregelCode]],CONCATENATE(tblResultaatMaatregelen[[#This Row],[Sector]],\" (\",tblResultaatMaatregelen[[#This Row],[Sector_kort]],\")\"))","v":"Tertiair (TER)"},{"$f":"IF(tblResultaatMaatregelen[[#This Row],[X-as]]=\"Maatregelen\",CONCATENATE(tblResultaatMaatregelen[[#This Row],[Sector]],\" (\",tblResultaatMaatregelen[[#This Row],[Sector_kort]],\")\"),tblResultaatMaatregelen[[#This Row],[MaatregelCode]])","v":"TER_HER_ZB"}]
[{"$f":"CONCATENATE(\"Scenario \",tblResultaatMaatregelen[[#This Row],[ScenarioNummer]])","v":"Scenario 1"},1,13,{"$f":"VLOOKUP(tblResultaatMaatregelen[[#This Row],[MaatregelNummer]],Tbl_scenario[],4,TRUE)","v":"TER_HER_WPB"},{"$f":"INDEX(tblSectoren[SectorID],MATCH(tblResultaatMaatregelen[[#This Row],[Sector]],tblSectoren[Sectoren],0))","v":2},{"$f":"VLOOKUP(tblResultaatMaatregelen[[#This Row],[MaatregelNummer]],Tbl_scenario[],2,TRUE)","v":"Tertiair"},{"$f":"INDEX(tblSectoren[Afkorting],tblResultaatMaatregelen[[#This Row],[Sectornummer]])","v":"TER"},{"$f":"VLOOKUP(tblResultaatMaatregelen[[#This Row],[MaatregelNummer]],Tbl_scenario[],3,TRUE)","v":"Warmtepompboiler"},{"$f":"VLOOKUP(tblResultaatMaatregelen[[#This Row],[MaatregelNummer]],Tbl_scenario[],6+(tblResultaatMaatregelen[[#This Row],[ScenarioNummer]]-1)*4+1,TRUE)","v":"Laag"},{"$f":"IF(tblResultaatMaatregelen[[#This Row],[Ambitieniveau]]=\"Niet\",0,IFERROR(INDIRECT(CONCATENATE(tblResultaatMaatregelen[[#This Row],[MaatregelCode]],\"_REDCO2_\",tblResultaatMaatregelen[[#This Row],[ScenarioNummer]])),0))","v":1291.0997264309194},"Sectoren",{"$f":"IF(tblResultaatMaatregelen[[#This Row],[X-as]]=\"Maatregelen\",tblResultaatMaatregelen[[#This Row],[MaatregelNummer]],tblResultaatMaatregelen[[#This Row],[Sectornummer]])","v":2},{"$f":"IF(tblResultaatMaatregelen[[#This Row],[X-as]]=\"Maatregelen\",tblResultaatMaatregelen[[#This Row],[MaatregelCode]],CONCATENATE(tblResultaatMaatregelen[[#This Row],[Sector]],\" (\",tblResultaatMaatregelen[[#This Row],[Sector_kort]],\")\"))","v":"Tertiair (TER)"},{"$f":"IF(tblResultaatMaatregelen[[#This Row],[X-as]]=\"Maatregelen\",CONCATENATE(tblResultaatMaatregelen[[#This Row],[Sector]],\" (\",tblResultaatMaatregelen[[#This Row],[Sector_kort]],\")\"),tblResultaatMaatregelen[[#This Row],[MaatregelCode]])","v":"TER_HER_WPB"}]
[{"$f":"CONCATENATE(\"Scenario \",tblResultaatMaatregelen[[#This Row],[ScenarioNummer]])","v":"Scenario 1"},1,14,{"$f":"VLOOKUP(tblResultaatMaatregelen[[#This Row],[MaatregelNummer]],Tbl_scenario[],4,TRUE)","v":"TER_EE_ELE"},{"$f":"INDEX(tblSectoren[SectorID],MATCH(tblResultaatMaatregelen[[#This Row],[Sector]],tblSectoren[Sectoren],0))","v":2},{"$f":"VLOOKUP(tblResultaatMaatregelen[[#This Row],[MaatregelNummer]],Tbl_scenario[],2,TRUE)","v":"Tertiair"},{"$f":"INDEX(tblSectoren[Afkorting],tblResultaatMaatregelen[[#This Row],[Sectornummer]])","v":"TER"},{"$f":"VLOOKUP(tblResultaatMaatregelen[[#This Row],[MaatregelNummer]],Tbl_scenario[],3,TRUE)","v":"Ele. gebruik: verhogen efficiëntie (LED, relighting, koeling, etc.)"},{"$f":"VLOOKUP(tblResultaatMaatregelen[[#This Row],[MaatregelNummer]],Tbl_scenario[],6+(tblResultaatMaatregelen[[#This Row],[ScenarioNummer]]-1)*4+1,TRUE)","v":"Laag"},{"$f":"IF(tblResultaatMaatregelen[[#This Row],[Ambitieniveau]]=\"Niet\",0,IFERROR(INDIRECT(CONCATENATE(tblResultaatMaatregelen[[#This Row],[MaatregelCode]],\"_REDCO2_\",tblResultaatMaatregelen[[#This Row],[ScenarioNummer]])),0))","v":2523.4303286035938},"Sectoren",{"$f":"IF(tblResultaatMaatregelen[[#This Row],[X-as]]=\"Maatregelen\",tblResultaatMaatregelen[[#This Row],[MaatregelNummer]],tblResultaatMaatregelen[[#This Row],[Sectornummer]])","v":2},{"$f":"IF(tblResultaatMaatregelen[[#This Row],[X-as]]=\"Maatregelen\",tblResultaatMaatregelen[[#This Row],[MaatregelCode]],CONCATENATE(tblResultaatMaatregelen[[#This Row],[Sector]],\" (\",tblResultaatMaatregelen[[#This Row],[Sector_kort]],\")\"))","v":"Tertiair (TER)"},{"$f":"IF(tblResultaatMaatregelen[[#This Row],[X-as]]=\"Maatregelen\",CONCATENATE(tblResultaatMaatregelen[[#This Row],[Sector]],\" (\",tblResultaatMaatregelen[[#This Row],[Sector_kort]],\")\"),tblResultaatMaatregelen[[#This Row],[MaatregelCode]])","v":"TER_EE_ELE"}]
[{"$f":"CONCATENATE(\"Scenario \",tblResultaatMaatregelen[[#This Row],[ScenarioNummer]])","v":"Scenario 1"},1,15,{"$f":"VLOOKUP(tblResultaatMaatregelen[[#This Row],[MaatregelNummer]],Tbl_scenario[],4,TRUE)","v":"OV_LED_EE"},{"$f":"INDEX(tblSectoren[SectorID],MATCH(tblResultaatMaatregelen[[#This Row],[Sector]],tblSectoren[Sectoren],0))","v":6},{"$f":"VLOOKUP(tblResultaatMaatregelen[[#This Row],[MaatregelNummer]],Tbl_scenario[],2,TRUE)","v":"Openbare verlichting"},{"$f":"INDEX(tblSectoren[Afkorting],tblResultaatMaatregelen[[#This Row],[Sectornummer]])","v":"OV"},{"$f":"VLOOKUP(tblResultaatMaatregelen[[#This Row],[MaatregelNummer]],Tbl_scenario[],3,TRUE)","v":"LED: verhogen energie-efficiëntie"},{"$f":"VLOOKUP(tblResultaatMaatregelen[[#This Row],[MaatregelNummer]],Tbl_scenario[],6+(tblResultaatMaatregelen[[#This Row],[ScenarioNummer]]-1)*4+1,TRUE)","v":"Laag"},{"$f":"IF(tblResultaatMaatregelen[[#This Row],[Ambitieniveau]]=\"Niet\",0,IFERROR(INDIRECT(CONCATENATE(tblResultaatMaatregelen[[#This Row],[MaatregelCode]],\"_REDCO2_\",tblResultaatMaatregelen[[#This Row],[ScenarioNummer]])),0))","v":214.91237052945354},"Sectoren",{"$f":"IF(tblResultaatMaatregelen[[#This Row],[X-as]]=\"Maatregelen\",tblResultaatMaatregelen[[#This Row],[MaatregelNummer]],tblResultaatMaatregelen[[#This Row],[Sectornummer]])","v":6},{"$f":"IF(tblResultaatMaatregelen[[#This Row],[X-as]]=\"Maatregelen\",tblResultaatMaatregelen[[#This Row],[MaatregelCode]],CONCATENATE(tblResultaatMaatregelen[[#This Row],[Sector]],\" (\",tblResultaatMaatregelen[[#This Row],[Sector_kort]],\")\"))","v":"Openbare verlichting (OV)"},{"$f":"IF(tblResultaatMaatregelen[[#This Row],[X-as]]=\"Maatregelen\",CONCATENATE(tblResultaatMaatregelen[[#This Row],[Sector]],\" (\",tblResultaatMaatregelen[[#This Row],[Sector_kort]],\")\"),tblResultaatMaatregelen[[#This Row],[MaatregelCode]])","v":"OV_LED_EE"}]
[{"$f":"CONCATENATE(\"Scenario \",tblResultaatMaatregelen[[#This Row],[ScenarioNummer]])","v":"Scenario 1"},1,16,{"$f":"VLOOKUP(tblResultaatMaatregelen[[#This Row],[MaatregelNummer]],Tbl_scenario[],4,TRUE)","v":"IND_HER_WP"},{"$f":"INDEX(tblSectoren[SectorID],MATCH(tblResultaatMaatregelen[[#This Row],[Sector]],tblSectoren[Sectoren],0))","v":3},{"$f":"VLOOKUP(tblResultaatMaatregelen[[#This Row],[MaatregelNummer]],Tbl_scenario[],2,TRUE)","v":"Industrie (niet-ETS)"},{"$f":"INDEX(tblSectoren[Afkorting],tblResultaatMaatregelen[[#This Row],[Sectornummer]])","v":"IND"},{"$f":"VLOOKUP(tblResultaatMaatregelen[[#This Row],[MaatregelNummer]],Tbl_scenario[],3,TRUE)","v":"Warmtepomp"},{"$f":"VLOOKUP(tblResultaatMaatregelen[[#This Row],[MaatregelNummer]],Tbl_scenario[],6+(tblResultaatMaatregelen[[#This Row],[ScenarioNummer]]-1)*4+1,TRUE)","v":"Laag"},{"$f":"IF(tblResultaatMaatregelen[[#This Row],[Ambitieniveau]]=\"Niet\",0,IFERROR(INDIRECT(CONCATENATE(tblResultaatMaatregelen[[#This Row],[MaatregelCode]],\"_REDCO2_\",tblResultaatMaatregelen[[#This Row],[ScenarioNummer]])),0))","v":655.01208743497432},"Sectoren",{"$f":"IF(tblResultaatMaatregelen[[#This Row],[X-as]]=\"Maatregelen\",tblResultaatMaatregelen[[#This Row],[MaatregelNummer]],tblResultaatMaatregelen[[#This Row],[Sectornummer]])","v":3},{"$f":"IF(tblResultaatMaatregelen[[#This Row],[X-as]]=\"Maatregelen\",tblResultaatMaatregelen[[#This Row],[MaatregelCode]],CONCATENATE(tblResultaatMaatregelen[[#This Row],[Sector]],\" (\",tblResultaatMaatregelen[[#This Row],[Sector_kort]],\")\"))","v":"Industrie (niet-ETS) (IND)"},{"$f":"IF(tblResultaatMaatregelen[[#This Row],[X-as]]=\"Maatregelen\",CONCATENATE(tblResultaatMaatregelen[[#This Row],[Sector]],\" (\",tblResultaatMaatregelen[[#This Row],[Sector_kort]],\")\"),tblResultaatMaatregelen[[#This Row],[MaatregelCode]])","v":"IND_HER_WP"}]
[{"$f":"CONCATENATE(\"Scenario \",tblResultaatMaatregelen[[#This Row],[ScenarioNummer]])","v":"Scenario 1"},1,17,{"$f":"VLOOKUP(tblResultaatMaatregelen[[#This Row],[MaatregelNummer]],Tbl_scenario[],4,TRUE)","v":"IND_HER_ZB"},{"$f":"INDEX(tblSectoren[SectorID],MATCH(tblResultaatMaatregelen[[#This Row],[Sector]],tblSectoren[Sectoren],0))","v":3},{"$f":"VLOOKUP(tblResultaatMaatregelen[[#This Row],[MaatregelNummer]],Tbl_scenario[],2,TRUE)","v":"Industrie (niet-ETS)"},{"$f":"INDEX(tblSectoren[Afkorting],tblResultaatMaatregelen[[#This Row],[Sectornummer]])","v":"IND"},{"$f":"VLOOKUP(tblResultaatMaatregelen[[#This Row],[MaatregelNummer]],Tbl_scenario[],3,TRUE)","v":"Zonneboiler"},{"$f":"VLOOKUP(tblResultaatMaatregelen[[#This Row],[MaatregelNummer]],Tbl_scenario[],6+(tblResultaatMaatregelen[[#This Row],[ScenarioNummer]]-1)*4+1,TRUE)","v":"Laag"},{"$f":"IF(tblResultaatMaatregelen[[#This Row],[Ambitieniveau]]=\"Niet\",0,IFERROR(INDIRECT(CONCATENATE(tblResultaatMaatregelen[[#This Row],[MaatregelCode]],\"_REDCO2_\",tblResultaatMaatregelen[[#This Row],[ScenarioNummer]])),0))","v":140.9019379449181},"Sectoren",{"$f":"IF(tblResultaatMaatregelen[[#This Row],[X-as]]=\"Maatregelen\",tblResultaatMaatregelen[[#This Row],[MaatregelNummer]],tblResultaatMaatregelen[[#This Row],[Sectornummer]])","v":3},{"$f":"IF(tblResultaatMaatregelen[[#This Row],[X-as]]=\"Maatregelen\",tblResultaatMaatregelen[[#This Row],[MaatregelCode]],CONCATENATE(tblResultaatMaatregelen[[#This Row],[Sector]],\" (\",tblResultaatMaatregelen[[#This Row],[Sector_kort]],\")\"))","v":"Industrie (niet-ETS) (IND)"},{"$f":"IF(tblResultaatMaatregelen[[#This Row],[X-as]]=\"Maatregelen\",CONCATENATE(tblResultaatMaatregelen[[#This Row],[Sector]],\" (\",tblResultaatMaatregelen[[#This Row],[Sector_kort]],\")\"),tblResultaatMaatregelen[[#This Row],[MaatregelCode]])","v":"IND_HER_ZB"}]
[{"$f":"CONCATENATE(\"Scenario \",tblResultaatMaatregelen[[#This Row],[ScenarioNummer]])","v":"Scenario 1"},1,18,{"$f":"VLOOKUP(tblResultaatMaatregelen[[#This Row],[MaatregelNummer]],Tbl_scenario[],4,TRUE)","v":"IND_EE_EEA"},{"$f":"INDEX(tblSectoren[SectorID],MATCH(tblResultaatMaatregelen[[#This Row],[Sector]],tblSectoren[Sectoren],0))","v":3},{"$f":"VLOOKUP(tblResultaatMaatregelen[[#This Row],[MaatregelNummer]],Tbl_scenario[],2,TRUE)","v":"Industrie (niet-ETS)"},{"$f":"INDEX(tblSectoren[Afkorting],tblResultaatMaatregelen[[#This Row],[Sectornummer]])","v":"IND"},{"$f":"VLOOKUP(tblResultaatMaatregelen[[#This Row],[MaatregelNummer]],Tbl_scenario[],3,TRUE)","v":"Ele. gebruik: verhogen efficiëntie elektrische aandrijfsystemen"},{"$f":"VLOOKUP(tblResultaatMaatregelen[[#This Row],[MaatregelNummer]],Tbl_scenario[],6+(tblResultaatMaatregelen[[#This Row],[ScenarioNummer]]-1)*4+1,TRUE)","v":"Laag"},{"$f":"IF(tblResultaatMaatregelen[[#This Row],[Ambitieniveau]]=\"Niet\",0,IFERROR(INDIRECT(CONCATENATE(tblResultaatMaatregelen[[#This Row],[MaatregelCode]],\"_REDCO2_\",tblResultaatMaatregelen[[#This Row],[ScenarioNummer]])),0))","v":118.64209842566362},"Sectoren",{"$f":"IF(tblResultaatMaatregelen[[#This Row],[X-as]]=\"Maatregelen\",tblResultaatMaatregelen[[#This Row],[MaatregelNummer]],tblResultaatMaatregelen[[#This Row],[Sectornummer]])","v":3},{"$f":"IF(tblResultaatMaatregelen[[#This Row],[X-as]]=\"Maatregelen\",tblResultaatMaatregelen[[#This Row],[MaatregelCode]],CONCATENATE(tblResultaatMaatregelen[[#This Row],[Sector]],\" (\",tblResultaatMaatregelen[[#This Row],[Sector_kort]],\")\"))","v":"Industrie (niet-ETS) (IND)"},{"$f":"IF(tblResultaatMaatregelen[[#This Row],[X-as]]=\"Maatregelen\",CONCATENATE(tblResultaatMaatregelen[[#This Row],[Sector]],\" (\",tblResultaatMaatregelen[[#This Row],[Sector_kort]],\")\"),tblResultaatMaatregelen[[#This Row],[MaatregelCode]])","v":"IND_EE_EEA"}]
[{"$f":"CONCATENATE(\"Scenario \",tblResultaatMaatregelen[[#This Row],[ScenarioNummer]])","v":"Scenario 1"},1,19,{"$f":"VLOOKUP(tblResultaatMaatregelen[[#This Row],[MaatregelNummer]],Tbl_scenario[],4,TRUE)","v":"MOB_MS_voet"},{"$f":"INDEX(tblSectoren[SectorID],MATCH(tblResultaatMaatregelen[[#This Row],[Sector]],tblSectoren[Sectoren],0))","v":4},{"$f":"VLOOKUP(tblResultaatMaatregelen[[#This Row],[MaatregelNummer]],Tbl_scenario[],2,TRUE)","v":"Particulier en commercieel vervoer"},{"$f":"INDEX(tblSectoren[Afkorting],tblResultaatMaatregelen[[#This Row],[Sectornummer]])","v":"MOB"},{"$f":"VLOOKUP(tblResultaatMaatregelen[[#This Row],[MaatregelNummer]],Tbl_scenario[],3,TRUE)","v":"Modal Shift_Voet + Fiets"},{"$f":"VLOOKUP(tblResultaatMaatregelen[[#This Row],[MaatregelNummer]],Tbl_scenario[],6+(tblResultaatMaatregelen[[#This Row],[ScenarioNummer]]-1)*4+1,TRUE)","v":"Laag"},{"$f":"IF(tblResultaatMaatregelen[[#This Row],[Ambitieniveau]]=\"Niet\",0,IFERROR(INDIRECT(CONCATENATE(tblResultaatMaatregelen[[#This Row],[MaatregelCode]],\"_REDCO2_\",tblResultaatMaatregelen[[#This Row],[ScenarioNummer]])),0))","v":1772.4013915194855},"Sectoren",{"$f":"IF(tblResultaatMaatregelen[[#This Row],[X-as]]=\"Maatregelen\",tblResultaatMaatregelen[[#This Row],[MaatregelNummer]],tblResultaatMaatregelen[[#This Row],[Sectornummer]])","v":4},{"$f":"IF(tblResultaatMaatregelen[[#This Row],[X-as]]=\"Maatregelen\",tblResultaatMaatregelen[[#This Row],[MaatregelCode]],CONCATENATE(tblResultaatMaatregelen[[#This Row],[Sector]],\" (\",tblResultaatMaatregelen[[#This Row],[Sector_kort]],\")\"))","v":"Particulier en commercieel vervoer (MOB)"},{"$f":"IF(tblResultaatMaatregelen[[#This Row],[X-as]]=\"Maatregelen\",CONCATENATE(tblResultaatMaatregelen[[#This Row],[Sector]],\" (\",tblResultaatMaatregelen[[#This Row],[Sector_kort]],\")\"),tblResultaatMaatregelen[[#This Row],[MaatregelCode]])","v":"MOB_MS_voet"}]
[{"$f":"CONCATENATE(\"Scenario \",tblResultaatMaatregelen[[#This Row],[ScenarioNummer]])","v":"Scenario 1"},1,20,{"$f":"VLOOKUP(tblResultaatMaatregelen[[#This Row],[MaatregelNummer]],Tbl_scenario[],4,TRUE)","v":"MOB_MS_EFiets"},{"$f":"INDEX(tblSectoren[SectorID],MATCH(tblResultaatMaatregelen[[#This Row],[Sector]],tblSectoren[Sectoren],0))","v":4},{"$f":"VLOOKUP(tblResultaatMaatregelen[[#This Row],[MaatregelNummer]],Tbl_scenario[],2,TRUE)","v":"Particulier en commercieel vervoer"},{"$f":"INDEX(tblSectoren[Afkorting],tblResultaatMaatregelen[[#This Row],[Sectornummer]])","v":"MOB"},{"$f":"VLOOKUP(tblResultaatMaatregelen[[#This Row],[MaatregelNummer]],Tbl_scenario[],3,TRUE)","v":"Modal Shift_Elektrische Fiets"},{"$f":"VLOOKUP(tblResultaatMaatregelen[[#This Row],[MaatregelNummer]],Tbl_scenario[],6+(tblResultaatMaatregelen[[#This Row],[ScenarioNummer]]-1)*4+1,TRUE)","v":"Laag"},{"$f":"IF(tblResultaatMaatregelen[[#This Row],[Ambitieniveau]]=\"Niet\",0,IFERROR(INDIRECT(CONCATENATE(tblResultaatMaatregelen[[#This Row],[MaatregelCode]],\"_REDCO2_\",tblResultaatMaatregelen[[#This Row],[ScenarioNummer]])),0))","v":1477.0011595995713},"Sectoren",{"$f":"IF(tblResultaatMaatregelen[[#This Row],[X-as]]=\"Maatregelen\",tblResultaatMaatregelen[[#This Row],[MaatregelNummer]],tblResultaatMaatregelen[[#This Row],[Sectornummer]])","v":4},{"$f":"IF(tblResultaatMaatregelen[[#This Row],[X-as]]=\"Maatregelen\",tblResultaatMaatregelen[[#This Row],[MaatregelCode]],CONCATENATE(tblResultaatMaatregelen[[#This Row],[Sector]],\" (\",tblResultaatMaatregelen[[#This Row],[Sector_kort]],\")\"))","v":"Particulier en commercieel vervoer (MOB)"},{"$f":"IF(tblResultaatMaatregelen[[#This Row],[X-as]]=\"Maatregelen\",CONCATENATE(tblResultaatMaatregelen[[#This Row],[Sector]],\" (\",tblResultaatMaatregelen[[#This Row],[Sector_kort]],\")\"),tblResultaatMaatregelen[[#This Row],[MaatregelCode]])","v":"MOB_MS_EFiets"}]
[{"$f":"CONCATENATE(\"Scenario \",tblResultaatMaatregelen[[#This Row],[ScenarioNummer]])","v":"Scenario 1"},1,21,{"$f":"VLOOKUP(tblResultaatMaatregelen[[#This Row],[MaatregelNummer]],Tbl_scenario[],4,TRUE)","v":"MOB_MS_OV"},{"$f":"INDEX(tblSectoren[SectorID],MATCH(tblResultaatMaatregelen[[#This Row],[Sector]],tblSectoren[Sectoren],0))","v":4},{"$f":"VLOOKUP(tblResultaatMaatregelen[[#This Row],[MaatregelNummer]],Tbl_scenario[],2,TRUE)","v":"Particulier en commercieel vervoer"},{"$f":"INDEX(tblSectoren[Afkorting],tblResultaatMaatregelen[[#This Row],[Sectornummer]])","v":"MOB"},{"$f":"VLOOKUP(tblResultaatMaatregelen[[#This Row],[MaatregelNummer]],Tbl_scenario[],3,TRUE)","v":"Modal Shift_Openbaar vervoer"},{"$f":"VLOOKUP(tblResultaatMaatregelen[[#This Row],[MaatregelNummer]],Tbl_scenario[],6+(tblResultaatMaatregelen[[#This Row],[ScenarioNummer]]-1)*4+1,TRUE)","v":"Laag"},{"$f":"IF(tblResultaatMaatregelen[[#This Row],[Ambitieniveau]]=\"Niet\",0,IFERROR(INDIRECT(CONCATENATE(tblResultaatMaatregelen[[#This Row],[MaatregelCode]],\"_REDCO2_\",tblResultaatMaatregelen[[#This Row],[ScenarioNummer]])),0))","v":2245.0417625913483},"Sectoren",{"$f":"IF(tblResultaatMaatregelen[[#This Row],[X-as]]=\"Maatregelen\",tblResultaatMaatregelen[[#This Row],[MaatregelNummer]],tblResultaatMaatregelen[[#This Row],[Sectornummer]])","v":4},{"$f":"IF(tblResultaatMaatregelen[[#This Row],[X-as]]=\"Maatregelen\",tblResultaatMaatregelen[[#This Row],[MaatregelCode]],CONCATENATE(tblResultaatMaatregelen[[#This Row],[Sector]],\" (\",tblResultaatMaatregelen[[#This Row],[Sector_kort]],\")\"))","v":"Particulier en commercieel vervoer (MOB)"},{"$f":"IF(tblResultaatMaatregelen[[#This Row],[X-as]]=\"Maatregelen\",CONCATENATE(tblResultaatMaatregelen[[#This Row],[Sector]],\" (\",tblResultaatMaatregelen[[#This Row],[Sector_kort]],\")\"),tblResultaatMaatregelen[[#This Row],[MaatregelCode]])","v":"MOB_MS_OV"}]
[{"$f":"CONCATENATE(\"Scenario \",tblResultaatMaatregelen[[#This Row],[ScenarioNummer]])","v":"Scenario 1"},1,22,{"$f":"VLOOKUP(tblResultaatMaatregelen[[#This Row],[MaatregelNummer]],Tbl_scenario[],4,TRUE)","v":"MOB_BS_EV"},{"$f":"INDEX(tblSectoren[SectorID],MATCH(tblResultaatMaatregelen[[#This Row],[Sector]],tblSectoren[Sectoren],0))","v":4},{"$f":"VLOOKUP(tblResultaatMaatregelen[[#This Row],[MaatregelNummer]],Tbl_scenario[],2,TRUE)","v":"Particulier en commercieel vervoer"},{"$f":"INDEX(tblSectoren[Afkorting],tblResultaatMaatregelen[[#This Row],[Sectornummer]])","v":"MOB"},{"$f":"VLOOKUP(tblResultaatMaatregelen[[#This Row],[MaatregelNummer]],Tbl_scenario[],3,TRUE)","v":"Brandstofshift_Elektrische voertuigen"},{"$f":"VLOOKUP(tblResultaatMaatregelen[[#This Row],[MaatregelNummer]],Tbl_scenario[],6+(tblResultaatMaatregelen[[#This Row],[ScenarioNummer]]-1)*4+1,TRUE)","v":"Laag"},{"$f":"IF(tblResultaatMaatregelen[[#This Row],[Ambitieniveau]]=\"Niet\",0,IFERROR(INDIRECT(CONCATENATE(tblResultaatMaatregelen[[#This Row],[MaatregelCode]],\"_REDCO2_\",tblResultaatMaatregelen[[#This Row],[ScenarioNummer]])),0))","v":3038.3986056577323},"Sectoren",{"$f":"IF(tblResultaatMaatregelen[[#This Row],[X-as]]=\"Maatregelen\",tblResultaatMaatregelen[[#This Row],[MaatregelNummer]],tblResultaatMaatregelen[[#This Row],[Sectornummer]])","v":4},{"$f":"IF(tblResultaatMaatregelen[[#This Row],[X-as]]=\"Maatregelen\",tblResultaatMaatregelen[[#This Row],[MaatregelCode]],CONCATENATE(tblResultaatMaatregelen[[#This Row],[Sector]],\" (\",tblResultaatMaatregelen[[#This Row],[Sector_kort]],\")\"))","v":"Particulier en commercieel vervoer (MOB)"},{"$f":"IF(tblResultaatMaatregelen[[#This Row],[X-as]]=\"Maatregelen\",CONCATENATE(tblResultaatMaatregelen[[#This Row],[Sector]],\" (\",tblResultaatMaatregelen[[#This Row],[Sector_kort]],\")\"),tblResultaatMaatregelen[[#This Row],[MaatregelCode]])","v":"MOB_BS_EV"}]
[{"$f":"CONCATENATE(\"Scenario \",tblResultaatMaatregelen[[#This Row],[ScenarioNummer]])","v":"Scenario 1"},1,23,{"$f":"VLOOKUP(tblResultaatMaatregelen[[#This Row],[MaatregelNummer]],Tbl_scenario[],4,TRUE)","v":"MOB_BS_H2"},{"$f":"INDEX(tblSectoren[SectorID],MATCH(tblResultaatMaatregelen[[#This Row],[Sector]],tblSectoren[Sectoren],0))","v":4},{"$f":"VLOOKUP(tblResultaatMaatregelen[[#This Row],[MaatregelNummer]],Tbl_scenario[],2,TRUE)","v":"Particulier en commercieel vervoer"},{"$f":"INDEX(tblSectoren[Afkorting],tblResultaatMaatregelen[[#This Row],[Sectornummer]])","v":"MOB"},{"$f":"VLOOKUP(tblResultaatMaatregelen[[#This Row],[MaatregelNummer]],Tbl_scenario[],3,TRUE)","v":"Brandstofshift_Waterstof"},{"$f":"VLOOKUP(tblResultaatMaatregelen[[#This Row],[MaatregelNummer]],Tbl_scenario[],6+(tblResultaatMaatregelen[[#This Row],[ScenarioNummer]]-1)*4+1,TRUE)","v":"Laag"},{"$f":"IF(tblResultaatMaatregelen[[#This Row],[Ambitieniveau]]=\"Niet\",0,IFERROR(INDIRECT(CONCATENATE(tblResultaatMaatregelen[[#This Row],[MaatregelCode]],\"_REDCO2_\",tblResultaatMaatregelen[[#This Row],[ScenarioNummer]])),0))","v":984.66743973304733},"Sectoren",{"$f":"IF(tblResultaatMaatregelen[[#This Row],[X-as]]=\"Maatregelen\",tblResultaatMaatregelen[[#This Row],[MaatregelNummer]],tblResultaatMaatregelen[[#This Row],[Sectornummer]])","v":4},{"$f":"IF(tblResultaatMaatregelen[[#This Row],[X-as]]=\"Maatregelen\",tblResultaatMaatregelen[[#This Row],[MaatregelCode]],CONCATENATE(tblResultaatMaatregelen[[#This Row],[Sector]],\" (\",tblResultaatMaatregelen[[#This Row],[Sector_kort]],\")\"))","v":"Particulier en commercieel vervoer (MOB)"},{"$f":"IF(tblResultaatMaatregelen[[#This Row],[X-as]]=\"Maatregelen\",CONCATENATE(tblResultaatMaatregelen[[#This Row],[Sector]],\" (\",tblResultaatMaatregelen[[#This Row],[Sector_kort]],\")\"),tblResultaatMaatregelen[[#This Row],[MaatregelCode]])","v":"MOB_BS_H2"}]
[{"$f":"CONCATENATE(\"Scenario \",tblResultaatMaatregelen[[#This Row],[ScenarioNummer]])","v":"Scenario 1"},1,24,{"$f":"VLOOKUP(tblResultaatMaatregelen[[#This Row],[MaatregelNummer]],Tbl_scenario[],4,TRUE)","v":"LEN_PV"},{"$f":"INDEX(tblSectoren[SectorID],MATCH(tblResultaatMaatregelen[[#This Row],[Sector]],tblSectoren[Sectoren],0))","v":8},{"$f":"VLOOKUP(tblResultaatMaatregelen[[#This Row],[MaatregelNummer]],Tbl_scenario[],2,TRUE)","v":"Lokale energieproductie"},{"$f":"INDEX(tblSectoren[Afkorting],tblResultaatMaatregelen[[#This Row],[Sectornummer]])","v":"LEN"},{"$f":"VLOOKUP(tblResultaatMaatregelen[[#This Row],[MaatregelNummer]],Tbl_scenario[],3,TRUE)","v":"Elektriciteit_PV"},{"$f":"VLOOKUP(tblResultaatMaatregelen[[#This Row],[MaatregelNummer]],Tbl_scenario[],6+(tblResultaatMaatregelen[[#This Row],[ScenarioNummer]]-1)*4+1,TRUE)","v":"Laag"},{"$f":"IF(tblResultaatMaatregelen[[#This Row],[Ambitieniveau]]=\"Niet\",0,IFERROR(INDIRECT(CONCATENATE(tblResultaatMaatregelen[[#This Row],[MaatregelCode]],\"_REDCO2_\",tblResultaatMaatregelen[[#This Row],[ScenarioNummer]])),0))","v":2496.1528794587502},"Sectoren",{"$f":"IF(tblResultaatMaatregelen[[#This Row],[X-as]]=\"Maatregelen\",tblResultaatMaatregelen[[#This Row],[MaatregelNummer]],tblResultaatMaatregelen[[#This Row],[Sectornummer]])","v":8},{"$f":"IF(tblResultaatMaatregelen[[#This Row],[X-as]]=\"Maatregelen\",tblResultaatMaatregelen[[#This Row],[MaatregelCode]],CONCATENATE(tblResultaatMaatregelen[[#This Row],[Sector]],\" (\",tblResultaatMaatregelen[[#This Row],[Sector_kort]],\")\"))","v":"Lokale energieproductie (LEN)"},{"$f":"IF(tblResultaatMaatregelen[[#This Row],[X-as]]=\"Maatregelen\",CONCATENATE(tblResultaatMaatregelen[[#This Row],[Sector]],\" (\",tblResultaatMaatregelen[[#This Row],[Sector_kort]],\")\"),tblResultaatMaatregelen[[#This Row],[MaatregelCode]])","v":"LEN_PV"}]
[{"$f":"CONCATENATE(\"Scenario \",tblResultaatMaatregelen[[#This Row],[ScenarioNummer]])","v":"Scenario 1"},1,25,{"$f":"VLOOKUP(tblResultaatMaatregelen[[#This Row],[MaatregelNummer]],Tbl_scenario[],4,TRUE)","v":"LEN_Wind"},{"$f":"INDEX(tblSectoren[SectorID],MATCH(tblResultaatMaatregelen[[#This Row],[Sector]],tblSectoren[Sectoren],0))","v":8},{"$f":"VLOOKUP(tblResultaatMaatregelen[[#This Row],[MaatregelNummer]],Tbl_scenario[],2,TRUE)","v":"Lokale energieproductie"},{"$f":"INDEX(tblSectoren[Afkorting],tblResultaatMaatregelen[[#This Row],[Sectornummer]])","v":"LEN"},{"$f":"VLOOKUP(tblResultaatMaatregelen[[#This Row],[MaatregelNummer]],Tbl_scenario[],3,TRUE)","v":"Elektriciteit_Wind"},{"$f":"VLOOKUP(tblResultaatMaatregelen[[#This Row],[MaatregelNummer]],Tbl_scenario[],6+(tblResultaatMaatregelen[[#This Row],[ScenarioNummer]]-1)*4+1,TRUE)","v":"Laag"},{"$f":"IF(tblResultaatMaatregelen[[#This Row],[Ambitieniveau]]=\"Niet\",0,IFERROR(INDIRECT(CONCATENATE(tblResultaatMaatregelen[[#This Row],[MaatregelCode]],\"_REDCO2_\",tblResultaatMaatregelen[[#This Row],[ScenarioNummer]])),0))","v":2640.3267641378893},"Sectoren",{"$f":"IF(tblResultaatMaatregelen[[#This Row],[X-as]]=\"Maatregelen\",tblResultaatMaatregelen[[#This Row],[MaatregelNummer]],tblResultaatMaatregelen[[#This Row],[Sectornummer]])","v":8},{"$f":"IF(tblResultaatMaatregelen[[#This Row],[X-as]]=\"Maatregelen\",tblResultaatMaatregelen[[#This Row],[MaatregelCode]],CONCATENATE(tblResultaatMaatregelen[[#This Row],[Sector]],\" (\",tblResultaatMaatregelen[[#This Row],[Sector_kort]],\")\"))","v":"Lokale energieproductie (LEN)"},{"$f":"IF(tblResultaatMaatregelen[[#This Row],[X-as]]=\"Maatregelen\",CONCATENATE(tblResultaatMaatregelen[[#This Row],[Sector]],\" (\",tblResultaatMaatregelen[[#This Row],[Sector_kort]],\")\"),tblResultaatMaatregelen[[#This Row],[MaatregelCode]])","v":"LEN_Wind"}]
[{"$f":"CONCATENATE(\"Scenario \",tblResultaatMaatregelen[[#This Row],[ScenarioNummer]])","v":"Scenario 1"},1,26,{"$f":"VLOOKUP(tblResultaatMaatregelen[[#This Row],[MaatregelNummer]],Tbl_scenario[],4,TRUE)","v":"LB_HER_WP"},{"$f":"INDEX(tblSectoren[SectorID],MATCH(tblResultaatMaatregelen[[#This Row],[Sector]],tblSectoren[Sectoren],0))","v":5},{"$f":"VLOOKUP(tblResultaatMaatregelen[[#This Row],[MaatregelNummer]],Tbl_scenario[],2,TRUE)","v":"Landbouw"},{"$f":"INDEX(tblSectoren[Afkorting],tblResultaatMaatregelen[[#This Row],[Sectornummer]])","v":"LB"},{"$f":"VLOOKUP(tblResultaatMaatregelen[[#This Row],[MaatregelNummer]],Tbl_scenario[],3,TRUE)","v":"Warmtepomp"},{"$f":"VLOOKUP(tblResultaatMaatregelen[[#This Row],[MaatregelNummer]],Tbl_scenario[],6+(tblResultaatMaatregelen[[#This Row],[ScenarioNummer]]-1)*4+1,TRUE)","v":"Laag"},{"$f":"IF(tblResultaatMaatregelen[[#This Row],[Ambitieniveau]]=\"Niet\",0,IFERROR(INDIRECT(CONCATENATE(tblResultaatMaatregelen[[#This Row],[MaatregelCode]],\"_REDCO2_\",tblResultaatMaatregelen[[#This Row],[ScenarioNummer]])),0))","v":110.59984862347436},"Sectoren",{"$f":"IF(tblResultaatMaatregelen[[#This Row],[X-as]]=\"Maatregelen\",tblResultaatMaatregelen[[#This Row],[MaatregelNummer]],tblResultaatMaatregelen[[#This Row],[Sectornummer]])","v":5},{"$f":"IF(tblResultaatMaatregelen[[#This Row],[X-as]]=\"Maatregelen\",tblResultaatMaatregelen[[#This Row],[MaatregelCode]],CONCATENATE(tblResultaatMaatregelen[[#This Row],[Sector]],\" (\",tblResultaatMaatregelen[[#This Row],[Sector_kort]],\")\"))","v":"Landbouw (LB)"},{"$f":"IF(tblResultaatMaatregelen[[#This Row],[X-as]]=\"Maatregelen\",CONCATENATE(tblResultaatMaatregelen[[#This Row],[Sector]],\" (\",tblResultaatMaatregelen[[#This Row],[Sector_kort]],\")\"),tblResultaatMaatregelen[[#This Row],[MaatregelCode]])","v":"LB_HER_WP"}]
[{"$f":"CONCATENATE(\"Scenario \",tblResultaatMaatregelen[[#This Row],[ScenarioNummer]])","v":"Scenario 1"},1,27,{"$f":"VLOOKUP(tblResultaatMaatregelen[[#This Row],[MaatregelNummer]],Tbl_scenario[],4,TRUE)","v":"LB_HER_PocV"},{"$f":"INDEX(tblSectoren[SectorID],MATCH(tblResultaatMaatregelen[[#This Row],[Sector]],tblSectoren[Sectoren],0))","v":5},{"$f":"VLOOKUP(tblResultaatMaatregelen[[#This Row],[MaatregelNummer]],Tbl_scenario[],2,TRUE)","v":"Landbouw"},{"$f":"INDEX(tblSectoren[Afkorting],tblResultaatMaatregelen[[#This Row],[Sectornummer]])","v":"LB"},{"$f":"VLOOKUP(tblResultaatMaatregelen[[#This Row],[MaatregelNummer]],Tbl_scenario[],3,TRUE)","v":"Hernieuwbare energie_Pocketvergisters"},{"$f":"VLOOKUP(tblResultaatMaatregelen[[#This Row],[MaatregelNummer]],Tbl_scenario[],6+(tblResultaatMaatregelen[[#This Row],[ScenarioNummer]]-1)*4+1,TRUE)","v":"Laag"},{"$f":"IF(tblResultaatMaatregelen[[#This Row],[Ambitieniveau]]=\"Niet\",0,IFERROR(INDIRECT(CONCATENATE(tblResultaatMaatregelen[[#This Row],[MaatregelCode]],\"_REDCO2_\",tblResultaatMaatregelen[[#This Row],[ScenarioNummer]])),0))","v":5.5185386970951855},"Sectoren",{"$f":"IF(tblResultaatMaatregelen[[#This Row],[X-as]]=\"Maatregelen\",tblResultaatMaatregelen[[#This Row],[MaatregelNummer]],tblResultaatMaatregelen[[#This Row],[Sectornummer]])","v":5},{"$f":"IF(tblResultaatMaatregelen[[#This Row],[X-as]]=\"Maatregelen\",tblResultaatMaatregelen[[#This Row],[MaatregelCode]],CONCATENATE(tblResultaatMaatregelen[[#This Row],[Sector]],\" (\",tblResultaatMaatregelen[[#This Row],[Sector_kort]],\")\"))","v":"Landbouw (LB)"},{"$f":"IF(tblResultaatMaatregelen[[#This Row],[X-as]]=\"Maatregelen\",CONCATENATE(tblResultaatMaatregelen[[#This Row],[Sector]],\" (\",tblResultaatMaatregelen[[#This Row],[Sector_kort]],\")\"),tblResultaatMaatregelen[[#This Row],[MaatregelCode]])","v":"LB_HER_PocV"}]
[{"$f":"CONCATENATE(\"Scenario \",tblResultaatMaatregelen[[#This Row],[ScenarioNummer]])","v":"Scenario 1"},1,28,{"$f":"VLOOKUP(tblResultaatMaatregelen[[#This Row],[MaatregelNummer]],Tbl_scenario[],4,TRUE)","v":"LB_HER_BMK"},{"$f":"INDEX(tblSectoren[SectorID],MATCH(tblResultaatMaatregelen[[#This Row],[Sector]],tblSectoren[Sectoren],0))","v":5},{"$f":"VLOOKUP(tblResultaatMaatregelen[[#This Row],[MaatregelNummer]],Tbl_scenario[],2,TRUE)","v":"Landbouw"},{"$f":"INDEX(tblSectoren[Afkorting],tblResultaatMaatregelen[[#This Row],[Sectornummer]])","v":"LB"},{"$f":"VLOOKUP(tblResultaatMaatregelen[[#This Row],[MaatregelNummer]],Tbl_scenario[],3,TRUE)","v":"Hernieuwbare energie_Biomassaketels"},{"$f":"VLOOKUP(tblResultaatMaatregelen[[#This Row],[MaatregelNummer]],Tbl_scenario[],6+(tblResultaatMaatregelen[[#This Row],[ScenarioNummer]]-1)*4+1,TRUE)","v":"Laag"},{"$f":"IF(tblResultaatMaatregelen[[#This Row],[Ambitieniveau]]=\"Niet\",0,IFERROR(INDIRECT(CONCATENATE(tblResultaatMaatregelen[[#This Row],[MaatregelCode]],\"_REDCO2_\",tblResultaatMaatregelen[[#This Row],[ScenarioNummer]])),0))","v":47.483938690326838},"Sectoren",{"$f":"IF(tblResultaatMaatregelen[[#This Row],[X-as]]=\"Maatregelen\",tblResultaatMaatregelen[[#This Row],[MaatregelNummer]],tblResultaatMaatregelen[[#This Row],[Sectornummer]])","v":5},{"$f":"IF(tblResultaatMaatregelen[[#This Row],[X-as]]=\"Maatregelen\",tblResultaatMaatregelen[[#This Row],[MaatregelCode]],CONCATENATE(tblResultaatMaatregelen[[#This Row],[Sector]],\" (\",tblResultaatMaatregelen[[#This Row],[Sector_kort]],\")\"))","v":"Landbouw (LB)"},{"$f":"IF(tblResultaatMaatregelen[[#This Row],[X-as]]=\"Maatregelen\",CONCATENATE(tblResultaatMaatregelen[[#This Row],[Sector]],\" (\",tblResultaatMaatregelen[[#This Row],[Sector_kort]],\")\"),tblResultaatMaatregelen[[#This Row],[MaatregelCode]])","v":"LB_HER_BMK"}]
[{"$f":"CONCATENATE(\"Scenario \",tblResultaatMaatregelen[[#This Row],[ScenarioNummer]])","v":"Scenario 1"},1,29,{"$f":"VLOOKUP(tblResultaatMaatregelen[[#This Row],[MaatregelNummer]],Tbl_scenario[],4,TRUE)","v":"LB_EE_ENS"},{"$f":"INDEX(tblSectoren[SectorID],MATCH(tblResultaatMaatregelen[[#This Row],[Sector]],tblSectoren[Sectoren],0))","v":5},{"$f":"VLOOKUP(tblResultaatMaatregelen[[#This Row],[MaatregelNummer]],Tbl_scenario[],2,TRUE)","v":"Landbouw"},{"$f":"INDEX(tblSectoren[Afkorting],tblResultaatMaatregelen[[#This Row],[Sectornummer]])","v":"LB"},{"$f":"VLOOKUP(tblResultaatMaatregelen[[#This Row],[MaatregelNummer]],Tbl_scenario[],3,TRUE)","v":"Energieschermen"},{"$f":"VLOOKUP(tblResultaatMaatregelen[[#This Row],[MaatregelNummer]],Tbl_scenario[],6+(tblResultaatMaatregelen[[#This Row],[ScenarioNummer]]-1)*4+1,TRUE)","v":"Laag"},{"$f":"IF(tblResultaatMaatregelen[[#This Row],[Ambitieniveau]]=\"Niet\",0,IFERROR(INDIRECT(CONCATENATE(tblResultaatMaatregelen[[#This Row],[MaatregelCode]],\"_REDCO2_\",tblResultaatMaatregelen[[#This Row],[ScenarioNummer]])),0))","v":13.953882808094843},"Sectoren",{"$f":"IF(tblResultaatMaatregelen[[#This Row],[X-as]]=\"Maatregelen\",tblResultaatMaatregelen[[#This Row],[MaatregelNummer]],tblResultaatMaatregelen[[#This Row],[Sectornummer]])","v":5},{"$f":"IF(tblResultaatMaatregelen[[#This Row],[X-as]]=\"Maatregelen\",tblResultaatMaatregelen[[#This Row],[MaatregelCode]],CONCATENATE(tblResultaatMaatregelen[[#This Row],[Sector]],\" (\",tblResultaatMaatregelen[[#This Row],[Sector_kort]],\")\"))","v":"Landbouw (LB)"},{"$f":"IF(tblResultaatMaatregelen[[#This Row],[X-as]]=\"Maatregelen\",CONCATENATE(tblResultaatMaatregelen[[#This Row],[Sector]],\" (\",tblResultaatMaatregelen[[#This Row],[Sector_kort]],\")\"),tblResultaatMaatregelen[[#This Row],[MaatregelCode]])","v":"LB_EE_ENS"}]
[{"$f":"CONCATENATE(\"Scenario \",tblResultaatMaatregelen[[#This Row],[ScenarioNummer]])","v":"Scenario 1"},1,30,{"$f":"VLOOKUP(tblResultaatMaatregelen[[#This Row],[MaatregelNummer]],Tbl_scenario[],4,TRUE)","v":"BLANCO_1"},{"$f":"INDEX(tblSectoren[SectorID],MATCH(tblResultaatMaatregelen[[#This Row],[Sector]],tblSectoren[Sectoren],0))","v":1},{"$f":"VLOOKUP(tblResultaatMaatregelen[[#This Row],[MaatregelNummer]],Tbl_scenario[],2,TRUE)","v":"Huishoudens"},{"$f":"INDEX(tblSectoren[Afkorting],tblResultaatMaatregelen[[#This Row],[Sectornummer]])","v":"RES"},{"$f":"VLOOKUP(tblResultaatMaatregelen[[#This Row],[MaatregelNummer]],Tbl_scenario[],3,TRUE)","v":"Blanco"},{"$f":"VLOOKUP(tblResultaatMaatregelen[[#This Row],[MaatregelNummer]],Tbl_scenario[],6+(tblResultaatMaatregelen[[#This Row],[ScenarioNummer]]-1)*4+1,TRUE)","v":"Niet"},{"$f":"IF(tblResultaatMaatregelen[[#This Row],[Ambitieniveau]]=\"Niet\",0,IFERROR(INDIRECT(CONCATENATE(tblResultaatMaatregelen[[#This Row],[MaatregelCode]],\"_REDCO2_\",tblResultaatMaatregelen[[#This Row],[ScenarioNummer]])),0))","v":0},"Sectoren",{"$f":"IF(tblResultaatMaatregelen[[#This Row],[X-as]]=\"Maatregelen\",tblResultaatMaatregelen[[#This Row],[MaatregelNummer]],tblResultaatMaatregelen[[#This Row],[Sectornummer]])","v":1},{"$f":"IF(tblResultaatMaatregelen[[#This Row],[X-as]]=\"Maatregelen\",tblResultaatMaatregelen[[#This Row],[MaatregelCode]],CONCATENATE(tblResultaatMaatregelen[[#This Row],[Sector]],\" (\",tblResultaatMaatregelen[[#This Row],[Sector_kort]],\")\"))","v":"Huishoudens (RES)"},{"$f":"IF(tblResultaatMaatregelen[[#This Row],[X-as]]=\"Maatregelen\",CONCATENATE(tblResultaatMaatregelen[[#This Row],[Sector]],\" (\",tblResultaatMaatregelen[[#This Row],[Sector_kort]],\")\"),tblResultaatMaatregelen[[#This Row],[MaatregelCode]])","v":"BLANCO_1"}]
[{"$f":"CONCATENATE(\"Scenario \",tblResultaatMaatregelen[[#This Row],[ScenarioNummer]])","v":"Scenario 1"},1,31,{"$f":"VLOOKUP(tblResultaatMaatregelen[[#This Row],[MaatregelNummer]],Tbl_scenario[],4,TRUE)","v":"BLANCO_2"},{"$f":"INDEX(tblSectoren[SectorID],MATCH(tblResultaatMaatregelen[[#This Row],[Sector]],tblSectoren[Sectoren],0))","v":1},{"$f":"VLOOKUP(tblResultaatMaatregelen[[#This Row],[MaatregelNummer]],Tbl_scenario[],2,TRUE)","v":"Huishoudens"},{"$f":"INDEX(tblSectoren[Afkorting],tblResultaatMaatregelen[[#This Row],[Sectornummer]])","v":"RES"},{"$f":"VLOOKUP(tblResultaatMaatregelen[[#This Row],[MaatregelNummer]],Tbl_scenario[],3,TRUE)","v":"Blanco"},{"$f":"VLOOKUP(tblResultaatMaatregelen[[#This Row],[MaatregelNummer]],Tbl_scenario[],6+(tblResultaatMaatregelen[[#This Row],[ScenarioNummer]]-1)*4+1,TRUE)","v":"Niet"},{"$f":"IF(tblResultaatMaatregelen[[#This Row],[Ambitieniveau]]=\"Niet\",0,IFERROR(INDIRECT(CONCATENATE(tblResultaatMaatregelen[[#This Row],[MaatregelCode]],\"_REDCO2_\",tblResultaatMaatregelen[[#This Row],[ScenarioNummer]])),0))","v":0},"Sectoren",{"$f":"IF(tblResultaatMaatregelen[[#This Row],[X-as]]=\"Maatregelen\",tblResultaatMaatregelen[[#This Row],[MaatregelNummer]],tblResultaatMaatregelen[[#This Row],[Sectornummer]])","v":1},{"$f":"IF(tblResultaatMaatregelen[[#This Row],[X-as]]=\"Maatregelen\",tblResultaatMaatregelen[[#This Row],[MaatregelCode]],CONCATENATE(tblResultaatMaatregelen[[#This Row],[Sector]],\" (\",tblResultaatMaatregelen[[#This Row],[Sector_kort]],\")\"))","v":"Huishoudens (RES)"},{"$f":"IF(tblResultaatMaatregelen[[#This Row],[X-as]]=\"Maatregelen\",CONCATENATE(tblResultaatMaatregelen[[#This Row],[Sector]],\" (\",tblResultaatMaatregelen[[#This Row],[Sector_kort]],\")\"),tblResultaatMaatregelen[[#This Row],[MaatregelCode]])","v":"BLANCO_2"}]
[{"$f":"CONCATENATE(\"Scenario \",tblResultaatMaatregelen[[#This Row],[ScenarioNummer]])","v":"Scenario 1"},1,32,{"$f":"VLOOKUP(tblResultaatMaatregelen[[#This Row],[MaatregelNummer]],Tbl_scenario[],4,TRUE)","v":"BLANCO_3"},{"$f":"INDEX(tblSectoren[SectorID],MATCH(tblResultaatMaatregelen[[#This Row],[Sector]],tblSectoren[Sectoren],0))","v":1},{"$f":"VLOOKUP(tblResultaatMaatregelen[[#This Row],[MaatregelNummer]],Tbl_scenario[],2,TRUE)","v":"Huishoudens"},{"$f":"INDEX(tblSectoren[Afkorting],tblResultaatMaatregelen[[#This Row],[Sectornummer]])","v":"RES"},{"$f":"VLOOKUP(tblResultaatMaatregelen[[#This Row],[MaatregelNummer]],Tbl_scenario[],3,TRUE)","v":"Blanco"},{"$f":"VLOOKUP(tblResultaatMaatregelen[[#This Row],[MaatregelNummer]],Tbl_scenario[],6+(tblResultaatMaatregelen[[#This Row],[ScenarioNummer]]-1)*4+1,TRUE)","v":"Niet"},{"$f":"IF(tblResultaatMaatregelen[[#This Row],[Ambitieniveau]]=\"Niet\",0,IFERROR(INDIRECT(CONCATENATE(tblResultaatMaatregelen[[#This Row],[MaatregelCode]],\"_REDCO2_\",tblResultaatMaatregelen[[#This Row],[ScenarioNummer]])),0))","v":0},"Sectoren",{"$f":"IF(tblResultaatMaatregelen[[#This Row],[X-as]]=\"Maatregelen\",tblResultaatMaatregelen[[#This Row],[MaatregelNummer]],tblResultaatMaatregelen[[#This Row],[Sectornummer]])","v":1},{"$f":"IF(tblResultaatMaatregelen[[#This Row],[X-as]]=\"Maatregelen\",tblResultaatMaatregelen[[#This Row],[MaatregelCode]],CONCATENATE(tblResultaatMaatregelen[[#This Row],[Sector]],\" (\",tblResultaatMaatregelen[[#This Row],[Sector_kort]],\")\"))","v":"Huishoudens (RES)"},{"$f":"IF(tblResultaatMaatregelen[[#This Row],[X-as]]=\"Maatregelen\",CONCATENATE(tblResultaatMaatregelen[[#This Row],[Sector]],\" (\",tblResultaatMaatregelen[[#This Row],[Sector_kort]],\")\"),tblResultaatMaatregelen[[#This Row],[MaatregelCode]])","v":"BLANCO_3"}]
[{"$f":"CONCATENATE(\"Scenario \",tblResultaatMaatregelen[[#This Row],[ScenarioNummer]])","v":"Scenario 2"},2,1,{"$f":"VLOOKUP(tblResultaatMaatregelen[[#This Row],[MaatregelNummer]],Tbl_scenario[],4,TRUE)","v":"RES_ISO_DAK"},{"$f":"INDEX(tblSectoren[SectorID],MATCH(tblResultaatMaatregelen[[#This Row],[Sector]],tblSectoren[Sectoren],0))","v":1},{"$f":"VLOOKUP(tblResultaatMaatregelen[[#This Row],[MaatregelNummer]],Tbl_scenario[],2,TRUE)","v":"Huishoudens"},{"$f":"INDEX(tblSectoren[Afkorting],tblResultaatMaatregelen[[#This Row],[Sectornummer]])","v":"RES"},{"$f":"VLOOKUP(tblResultaatMaatregelen[[#This Row],[MaatregelNummer]],Tbl_scenario[],3,TRUE)","v":"Isolatiemaatregel gericht op dak"},{"$f":"VLOOKUP(tblResultaatMaatregelen[[#This Row],[MaatregelNummer]],Tbl_scenario[],6+(tblResultaatMaatregelen[[#This Row],[ScenarioNummer]]-1)*4+1,TRUE)","v":"Hoog"},{"$f":"IF(tblResultaatMaatregelen[[#This Row],[Ambitieniveau]]=\"Niet\",0,IFERROR(INDIRECT(CONCATENATE(tblResultaatMaatregelen[[#This Row],[MaatregelCode]],\"_REDCO2_\",tblResultaatMaatregelen[[#This Row],[ScenarioNummer]])),0))","v":18375.101850314393},"Sectoren",{"$f":"IF(tblResultaatMaatregelen[[#This Row],[X-as]]=\"Maatregelen\",tblResultaatMaatregelen[[#This Row],[MaatregelNummer]],tblResultaatMaatregelen[[#This Row],[Sectornummer]])","v":1},{"$f":"IF(tblResultaatMaatregelen[[#This Row],[X-as]]=\"Maatregelen\",tblResultaatMaatregelen[[#This Row],[MaatregelCode]],CONCATENATE(tblResultaatMaatregelen[[#This Row],[Sector]],\" (\",tblResultaatMaatregelen[[#This Row],[Sector_kort]],\")\"))","v":"Huishoudens (RES)"},{"$f":"IF(tblResultaatMaatregelen[[#This Row],[X-as]]=\"Maatregelen\",CONCATENATE(tblResultaatMaatregelen[[#This Row],[Sector]],\" (\",tblResultaatMaatregelen[[#This Row],[Sector_kort]],\")\"),tblResultaatMaatregelen[[#This Row],[MaatregelCode]])","v":"RES_ISO_DAK"}]
[{"$f":"CONCATENATE(\"Scenario \",tblResultaatMaatregelen[[#This Row],[ScenarioNummer]])","v":"Scenario 2"},2,2,{"$f":"VLOOKUP(tblResultaatMaatregelen[[#This Row],[MaatregelNummer]],Tbl_scenario[],4,TRUE)","v":"RES_ISO_MUUR"},{"$f":"INDEX(tblSectoren[SectorID],MATCH(tblResultaatMaatregelen[[#This Row],[Sector]],tblSectoren[Sectoren],0))","v":1},{"$f":"VLOOKUP(tblResultaatMaatregelen[[#This Row],[MaatregelNummer]],Tbl_scenario[],2,TRUE)","v":"Huishoudens"},{"$f":"INDEX(tblSectoren[Afkorting],tblResultaatMaatregelen[[#This Row],[Sectornummer]])","v":"RES"},{"$f":"VLOOKUP(tblResultaatMaatregelen[[#This Row],[MaatregelNummer]],Tbl_scenario[],3,TRUE)","v":"Isolatiemaatregel gericht op buitenmuren"},{"$f":"VLOOKUP(tblResultaatMaatregelen[[#This Row],[MaatregelNummer]],Tbl_scenario[],6+(tblResultaatMaatregelen[[#This Row],[ScenarioNummer]]-1)*4+1,TRUE)","v":"Hoog"},{"$f":"IF(tblResultaatMaatregelen[[#This Row],[Ambitieniveau]]=\"Niet\",0,IFERROR(INDIRECT(CONCATENATE(tblResultaatMaatregelen[[#This Row],[MaatregelCode]],\"_REDCO2_\",tblResultaatMaatregelen[[#This Row],[ScenarioNummer]])),0))","v":16943.079885461972},"Sectoren",{"$f":"IF(tblResultaatMaatregelen[[#This Row],[X-as]]=\"Maatregelen\",tblResultaatMaatregelen[[#This Row],[MaatregelNummer]],tblResultaatMaatregelen[[#This Row],[Sectornummer]])","v":1},{"$f":"IF(tblResultaatMaatregelen[[#This Row],[X-as]]=\"Maatregelen\",tblResultaatMaatregelen[[#This Row],[MaatregelCode]],CONCATENATE(tblResultaatMaatregelen[[#This Row],[Sector]],\" (\",tblResultaatMaatregelen[[#This Row],[Sector_kort]],\")\"))","v":"Huishoudens (RES)"},{"$f":"IF(tblResultaatMaatregelen[[#This Row],[X-as]]=\"Maatregelen\",CONCATENATE(tblResultaatMaatregelen[[#This Row],[Sector]],\" (\",tblResultaatMaatregelen[[#This Row],[Sector_kort]],\")\"),tblResultaatMaatregelen[[#This Row],[MaatregelCode]])","v":"RES_ISO_MUUR"}]
[{"$f":"CONCATENATE(\"Scenario \",tblResultaatMaatregelen[[#This Row],[ScenarioNummer]])","v":"Scenario 2"},2,3,{"$f":"VLOOKUP(tblResultaatMaatregelen[[#This Row],[MaatregelNummer]],Tbl_scenario[],4,TRUE)","v":"RES_ISO_VL"},{"$f":"INDEX(tblSectoren[SectorID],MATCH(tblResultaatMaatregelen[[#This Row],[Sector]],tblSectoren[Sectoren],0))","v":1},{"$f":"VLOOKUP(tblResultaatMaatregelen[[#This Row],[MaatregelNummer]],Tbl_scenario[],2,TRUE)","v":"Huishoudens"},{"$f":"INDEX(tblSectoren[Afkorting],tblResultaatMaatregelen[[#This Row],[Sectornummer]])","v":"RES"},{"$f":"VLOOKUP(tblResultaatMaatregelen[[#This Row],[MaatregelNummer]],Tbl_scenario[],3,TRUE)","v":"Isolatiemaatregel gericht op vloeren"},{"$f":"VLOOKUP(tblResultaatMaatregelen[[#This Row],[MaatregelNummer]],Tbl_scenario[],6+(tblResultaatMaatregelen[[#This Row],[ScenarioNummer]]-1)*4+1,TRUE)","v":"Hoog"},{"$f":"IF(tblResultaatMaatregelen[[#This Row],[Ambitieniveau]]=\"Niet\",0,IFERROR(INDIRECT(CONCATENATE(tblResultaatMaatregelen[[#This Row],[MaatregelCode]],\"_REDCO2_\",tblResultaatMaatregelen[[#This Row],[ScenarioNummer]])),0))","v":5995.4994629550474},"Sectoren",{"$f":"IF(tblResultaatMaatregelen[[#This Row],[X-as]]=\"Maatregelen\",tblResultaatMaatregelen[[#This Row],[MaatregelNummer]],tblResultaatMaatregelen[[#This Row],[Sectornummer]])","v":1},{"$f":"IF(tblResultaatMaatregelen[[#This Row],[X-as]]=\"Maatregelen\",tblResultaatMaatregelen[[#This Row],[MaatregelCode]],CONCATENATE(tblResultaatMaatregelen[[#This Row],[Sector]],\" (\",tblResultaatMaatregelen[[#This Row],[Sector_kort]],\")\"))","v":"Huishoudens (RES)"},{"$f":"IF(tblResultaatMaatregelen[[#This Row],[X-as]]=\"Maatregelen\",CONCATENATE(tblResultaatMaatregelen[[#This Row],[Sector]],\" (\",tblResultaatMaatregelen[[#This Row],[Sector_kort]],\")\"),tblResultaatMaatregelen[[#This Row],[MaatregelCode]])","v":"RES_ISO_VL"}]
[{"$f":"CONCATENATE(\"Scenario \",tblResultaatMaatregelen[[#This Row],[ScenarioNummer]])","v":"Scenario 2"},2,4,{"$f":"VLOOKUP(tblResultaatMaatregelen[[#This Row],[MaatregelNummer]],Tbl_scenario[],4,TRUE)","v":"RES_ISO_BG"},{"$f":"INDEX(tblSectoren[SectorID],MATCH(tblResultaatMaatregelen[[#This Row],[Sector]],tblSectoren[Sectoren],0))","v":1},{"$f":"VLOOKUP(tblResultaatMaatregelen[[#This Row],[MaatregelNummer]],Tbl_scenario[],2,TRUE)","v":"Huishoudens"},{"$f":"INDEX(tblSectoren[Afkorting],tblResultaatMaatregelen[[#This Row],[Sectornummer]])","v":"RES"},{"$f":"VLOOKUP(tblResultaatMaatregelen[[#This Row],[MaatregelNummer]],Tbl_scenario[],3,TRUE)","v":"Isolatiemaatregel gericht op ramen en beglazing"},{"$f":"VLOOKUP(tblResultaatMaatregelen[[#This Row],[MaatregelNummer]],Tbl_scenario[],6+(tblResultaatMaatregelen[[#This Row],[ScenarioNummer]]-1)*4+1,TRUE)","v":"Hoog"},{"$f":"IF(tblResultaatMaatregelen[[#This Row],[Ambitieniveau]]=\"Niet\",0,IFERROR(INDIRECT(CONCATENATE(tblResultaatMaatregelen[[#This Row],[MaatregelCode]],\"_REDCO2_\",tblResultaatMaatregelen[[#This Row],[ScenarioNummer]])),0))","v":3441.7221532412323},"Sectoren",{"$f":"IF(tblResultaatMaatregelen[[#This Row],[X-as]]=\"Maatregelen\",tblResultaatMaatregelen[[#This Row],[MaatregelNummer]],tblResultaatMaatregelen[[#This Row],[Sectornummer]])","v":1},{"$f":"IF(tblResultaatMaatregelen[[#This Row],[X-as]]=\"Maatregelen\",tblResultaatMaatregelen[[#This Row],[MaatregelCode]],CONCATENATE(tblResultaatMaatregelen[[#This Row],[Sector]],\" (\",tblResultaatMaatregelen[[#This Row],[Sector_kort]],\")\"))","v":"Huishoudens (RES)"},{"$f":"IF(tblResultaatMaatregelen[[#This Row],[X-as]]=\"Maatregelen\",CONCATENATE(tblResultaatMaatregelen[[#This Row],[Sector]],\" (\",tblResultaatMaatregelen[[#This Row],[Sector_kort]],\")\"),tblResultaatMaatregelen[[#This Row],[MaatregelCode]])","v":"RES_ISO_BG"}]
[{"$f":"CONCATENATE(\"Scenario \",tblResultaatMaatregelen[[#This Row],[ScenarioNummer]])","v":"Scenario 2"},2,5,{"$f":"VLOOKUP(tblResultaatMaatregelen[[#This Row],[MaatregelNummer]],Tbl_scenario[],4,TRUE)","v":"RES_HER_WP"},{"$f":"INDEX(tblSectoren[SectorID],MATCH(tblResultaatMaatregelen[[#This Row],[Sector]],tblSectoren[Sectoren],0))","v":1},{"$f":"VLOOKUP(tblResultaatMaatregelen[[#This Row],[MaatregelNummer]],Tbl_scenario[],2,TRUE)","v":"Huishoudens"},{"$f":"INDEX(tblSectoren[Afkorting],tblResultaatMaatregelen[[#This Row],[Sectornummer]])","v":"RES"},{"$f":"VLOOKUP(tblResultaatMaatregelen[[#This Row],[MaatregelNummer]],Tbl_scenario[],3,TRUE)","v":"Warmtepomp"},{"$f":"VLOOKUP(tblResultaatMaatregelen[[#This Row],[MaatregelNummer]],Tbl_scenario[],6+(tblResultaatMaatregelen[[#This Row],[ScenarioNummer]]-1)*4+1,TRUE)","v":"Hoog"},{"$f":"IF(tblResultaatMaatregelen[[#This Row],[Ambitieniveau]]=\"Niet\",0,IFERROR(INDIRECT(CONCATENATE(tblResultaatMaatregelen[[#This Row],[MaatregelCode]],\"_REDCO2_\",tblResultaatMaatregelen[[#This Row],[ScenarioNummer]])),0))","v":8368.3741391181265},"Sectoren",{"$f":"IF(tblResultaatMaatregelen[[#This Row],[X-as]]=\"Maatregelen\",tblResultaatMaatregelen[[#This Row],[MaatregelNummer]],tblResultaatMaatregelen[[#This Row],[Sectornummer]])","v":1},{"$f":"IF(tblResultaatMaatregelen[[#This Row],[X-as]]=\"Maatregelen\",tblResultaatMaatregelen[[#This Row],[MaatregelCode]],CONCATENATE(tblResultaatMaatregelen[[#This Row],[Sector]],\" (\",tblResultaatMaatregelen[[#This Row],[Sector_kort]],\")\"))","v":"Huishoudens (RES)"},{"$f":"IF(tblResultaatMaatregelen[[#This Row],[X-as]]=\"Maatregelen\",CONCATENATE(tblResultaatMaatregelen[[#This Row],[Sector]],\" (\",tblResultaatMaatregelen[[#This Row],[Sector_kort]],\")\"),tblResultaatMaatregelen[[#This Row],[MaatregelCode]])","v":"RES_HER_WP"}]
[{"$f":"CONCATENATE(\"Scenario \",tblResultaatMaatregelen[[#This Row],[ScenarioNummer]])","v":"Scenario 2"},2,6,{"$f":"VLOOKUP(tblResultaatMaatregelen[[#This Row],[MaatregelNummer]],Tbl_scenario[],4,TRUE)","v":"RES_HER_ZB"},{"$f":"INDEX(tblSectoren[SectorID],MATCH(tblResultaatMaatregelen[[#This Row],[Sector]],tblSectoren[Sectoren],0))","v":1},{"$f":"VLOOKUP(tblResultaatMaatregelen[[#This Row],[MaatregelNummer]],Tbl_scenario[],2,TRUE)","v":"Huishoudens"},{"$f":"INDEX(tblSectoren[Afkorting],tblResultaatMaatregelen[[#This Row],[Sectornummer]])","v":"RES"},{"$f":"VLOOKUP(tblResultaatMaatregelen[[#This Row],[MaatregelNummer]],Tbl_scenario[],3,TRUE)","v":"Zonneboiler"},{"$f":"VLOOKUP(tblResultaatMaatregelen[[#This Row],[MaatregelNummer]],Tbl_scenario[],6+(tblResultaatMaatregelen[[#This Row],[ScenarioNummer]]-1)*4+1,TRUE)","v":"Hoog"},{"$f":"IF(tblResultaatMaatregelen[[#This Row],[Ambitieniveau]]=\"Niet\",0,IFERROR(INDIRECT(CONCATENATE(tblResultaatMaatregelen[[#This Row],[MaatregelCode]],\"_REDCO2_\",tblResultaatMaatregelen[[#This Row],[ScenarioNummer]])),0))","v":2991.593931279117},"Sectoren",{"$f":"IF(tblResultaatMaatregelen[[#This Row],[X-as]]=\"Maatregelen\",tblResultaatMaatregelen[[#This Row],[MaatregelNummer]],tblResultaatMaatregelen[[#This Row],[Sectornummer]])","v":1},{"$f":"IF(tblResultaatMaatregelen[[#This Row],[X-as]]=\"Maatregelen\",tblResultaatMaatregelen[[#This Row],[MaatregelCode]],CONCATENATE(tblResultaatMaatregelen[[#This Row],[Sector]],\" (\",tblResultaatMaatregelen[[#This Row],[Sector_kort]],\")\"))","v":"Huishoudens (RES)"},{"$f":"IF(tblResultaatMaatregelen[[#This Row],[X-as]]=\"Maatregelen\",CONCATENATE(tblResultaatMaatregelen[[#This Row],[Sector]],\" (\",tblResultaatMaatregelen[[#This Row],[Sector_kort]],\")\"),tblResultaatMaatregelen[[#This Row],[MaatregelCode]])","v":"RES_HER_ZB"}]
[{"$f":"CONCATENATE(\"Scenario \",tblResultaatMaatregelen[[#This Row],[ScenarioNummer]])","v":"Scenario 2"},2,7,{"$f":"VLOOKUP(tblResultaatMaatregelen[[#This Row],[MaatregelNummer]],Tbl_scenario[],4,TRUE)","v":"RES_HER_WPB"},{"$f":"INDEX(tblSectoren[SectorID],MATCH(tblResultaatMaatregelen[[#This Row],[Sector]],tblSectoren[Sectoren],0))","v":1},{"$f":"VLOOKUP(tblResultaatMaatregelen[[#This Row],[MaatregelNummer]],Tbl_scenario[],2,TRUE)","v":"Huishoudens"},{"$f":"INDEX(tblSectoren[Afkorting],tblResultaatMaatregelen[[#This Row],[Sectornummer]])","v":"RES"},{"$f":"VLOOKUP(tblResultaatMaatregelen[[#This Row],[MaatregelNummer]],Tbl_scenario[],3,TRUE)","v":"Warmtepompboiler"},{"$f":"VLOOKUP(tblResultaatMaatregelen[[#This Row],[MaatregelNummer]],Tbl_scenario[],6+(tblResultaatMaatregelen[[#This Row],[ScenarioNummer]]-1)*4+1,TRUE)","v":"Hoog"},{"$f":"IF(tblResultaatMaatregelen[[#This Row],[Ambitieniveau]]=\"Niet\",0,IFERROR(INDIRECT(CONCATENATE(tblResultaatMaatregelen[[#This Row],[MaatregelCode]],\"_REDCO2_\",tblResultaatMaatregelen[[#This Row],[ScenarioNummer]])),0))","v":5589.2928364099907},"Sectoren",{"$f":"IF(tblResultaatMaatregelen[[#This Row],[X-as]]=\"Maatregelen\",tblResultaatMaatregelen[[#This Row],[MaatregelNummer]],tblResultaatMaatregelen[[#This Row],[Sectornummer]])","v":1},{"$f":"IF(tblResultaatMaatregelen[[#This Row],[X-as]]=\"Maatregelen\",tblResultaatMaatregelen[[#This Row],[MaatregelCode]],CONCATENATE(tblResultaatMaatregelen[[#This Row],[Sector]],\" (\",tblResultaatMaatregelen[[#This Row],[Sector_kort]],\")\"))","v":"Huishoudens (RES)"},{"$f":"IF(tblResultaatMaatregelen[[#This Row],[X-as]]=\"Maatregelen\",CONCATENATE(tblResultaatMaatregelen[[#This Row],[Sector]],\" (\",tblResultaatMaatregelen[[#This Row],[Sector_kort]],\")\"),tblResultaatMaatregelen[[#This Row],[MaatregelCode]])","v":"RES_HER_WPB"}]
[{"$f":"CONCATENATE(\"Scenario \",tblResultaatMaatregelen[[#This Row],[ScenarioNummer]])","v":"Scenario 2"},2,8,{"$f":"VLOOKUP(tblResultaatMaatregelen[[#This Row],[MaatregelNummer]],Tbl_scenario[],4,TRUE)","v":"RES_EE_ELE"},{"$f":"INDEX(tblSectoren[SectorID],MATCH(tblResultaatMaatregelen[[#This Row],[Sector]],tblSectoren[Sectoren],0))","v":1},{"$f":"VLOOKUP(tblResultaatMaatregelen[[#This Row],[MaatregelNummer]],Tbl_scenario[],2,TRUE)","v":"Huishoudens"},{"$f":"INDEX(tblSectoren[Afkorting],tblResultaatMaatregelen[[#This Row],[Sectornummer]])","v":"RES"},{"$f":"VLOOKUP(tblResultaatMaatregelen[[#This Row],[MaatregelNummer]],Tbl_scenario[],3,TRUE)","v":"Elektriciteitsgebruik: verhogen efficiëntie"},{"$f":"VLOOKUP(tblResultaatMaatregelen[[#This Row],[MaatregelNummer]],Tbl_scenario[],6+(tblResultaatMaatregelen[[#This Row],[ScenarioNummer]]-1)*4+1,TRUE)","v":"Hoog"},{"$f":"IF(tblResultaatMaatregelen[[#This Row],[Ambitieniveau]]=\"Niet\",0,IFERROR(INDIRECT(CONCATENATE(tblResultaatMaatregelen[[#This Row],[MaatregelCode]],\"_REDCO2_\",tblResultaatMaatregelen[[#This Row],[ScenarioNummer]])),0))","v":3190.5296130729112},"Sectoren",{"$f":"IF(tblResultaatMaatregelen[[#This Row],[X-as]]=\"Maatregelen\",tblResultaatMaatregelen[[#This Row],[MaatregelNummer]],tblResultaatMaatregelen[[#This Row],[Sectornummer]])","v":1},{"$f":"IF(tblResultaatMaatregelen[[#This Row],[X-as]]=\"Maatregelen\",tblResultaatMaatregelen[[#This Row],[MaatregelCode]],CONCATENATE(tblResultaatMaatregelen[[#This Row],[Sector]],\" (\",tblResultaatMaatregelen[[#This Row],[Sector_kort]],\")\"))","v":"Huishoudens (RES)"},{"$f":"IF(tblResultaatMaatregelen[[#This Row],[X-as]]=\"Maatregelen\",CONCATENATE(tblResultaatMaatregelen[[#This Row],[Sector]],\" (\",tblResultaatMaatregelen[[#This Row],[Sector_kort]],\")\"),tblResultaatMaatregelen[[#This Row],[MaatregelCode]])","v":"RES_EE_ELE"}]
[{"$f":"CONCATENATE(\"Scenario \",tblResultaatMaatregelen[[#This Row],[ScenarioNummer]])","v":"Scenario 2"},2,9,{"$f":"VLOOKUP(tblResultaatMaatregelen[[#This Row],[MaatregelNummer]],Tbl_scenario[],4,TRUE)","v":"RES_EE_SLOOP"},{"$f":"INDEX(tblSectoren[SectorID],MATCH(tblResultaatMaatregelen[[#This Row],[Sector]],tblSectoren[Sectoren],0))","v":1},{"$f":"VLOOKUP(tblResultaatMaatregelen[[#This Row],[MaatregelNummer]],Tbl_scenario[],2,TRUE)","v":"Huishoudens"},{"$f":"INDEX(tblSectoren[Afkorting],tblResultaatMaatregelen[[#This Row],[Sectornummer]])","v":"RES"},{"$f":"VLOOKUP(tblResultaatMaatregelen[[#This Row],[MaatregelNummer]],Tbl_scenario[],3,TRUE)","v":"Stimuleren sloop energieverslindende woningen"},{"$f":"VLOOKUP(tblResultaatMaatregelen[[#This Row],[MaatregelNummer]],Tbl_scenario[],6+(tblResultaatMaatregelen[[#This Row],[ScenarioNummer]]-1)*4+1,TRUE)","v":"Hoog"},{"$f":"IF(tblResultaatMaatregelen[[#This Row],[Ambitieniveau]]=\"Niet\",0,IFERROR(INDIRECT(CONCATENATE(tblResultaatMaatregelen[[#This Row],[MaatregelCode]],\"_REDCO2_\",tblResultaatMaatregelen[[#This Row],[ScenarioNummer]])),0))","v":7090.075858844677},"Sectoren",{"$f":"IF(tblResultaatMaatregelen[[#This Row],[X-as]]=\"Maatregelen\",tblResultaatMaatregelen[[#This Row],[MaatregelNummer]],tblResultaatMaatregelen[[#This Row],[Sectornummer]])","v":1},{"$f":"IF(tblResultaatMaatregelen[[#This Row],[X-as]]=\"Maatregelen\",tblResultaatMaatregelen[[#This Row],[MaatregelCode]],CONCATENATE(tblResultaatMaatregelen[[#This Row],[Sector]],\" (\",tblResultaatMaatregelen[[#This Row],[Sector_kort]],\")\"))","v":"Huishoudens (RES)"},{"$f":"IF(tblResultaatMaatregelen[[#This Row],[X-as]]=\"Maatregelen\",CONCATENATE(tblResultaatMaatregelen[[#This Row],[Sector]],\" (\",tblResultaatMaatregelen[[#This Row],[Sector_kort]],\")\"),tblResultaatMaatregelen[[#This Row],[MaatregelCode]])","v":"RES_EE_SLOOP"}]
[{"$f":"CONCATENATE(\"Scenario \",tblResultaatMaatregelen[[#This Row],[ScenarioNummer]])","v":"Scenario 2"},2,10,{"$f":"VLOOKUP(tblResultaatMaatregelen[[#This Row],[MaatregelNummer]],Tbl_scenario[],4,TRUE)","v":"TER_EE_ISO"},{"$f":"INDEX(tblSectoren[SectorID],MATCH(tblResultaatMaatregelen[[#This Row],[Sector]],tblSectoren[Sectoren],0))","v":2},{"$f":"VLOOKUP(tblResultaatMaatregelen[[#This Row],[MaatregelNummer]],Tbl_scenario[],2,TRUE)","v":"Tertiair"},{"$f":"INDEX(tblSectoren[Afkorting],tblResultaatMaatregelen[[#This Row],[Sectornummer]])","v":"TER"},{"$f":"VLOOKUP(tblResultaatMaatregelen[[#This Row],[MaatregelNummer]],Tbl_scenario[],3,TRUE)","v":"Verhoogde isolatiegraad"},{"$f":"VLOOKUP(tblResultaatMaatregelen[[#This Row],[MaatregelNummer]],Tbl_scenario[],6+(tblResultaatMaatregelen[[#This Row],[ScenarioNummer]]-1)*4+1,TRUE)","v":"Hoog"},{"$f":"IF(tblResultaatMaatregelen[[#This Row],[Ambitieniveau]]=\"Niet\",0,IFERROR(INDIRECT(CONCATENATE(tblResultaatMaatregelen[[#This Row],[MaatregelCode]],\"_REDCO2_\",tblResultaatMaatregelen[[#This Row],[ScenarioNummer]])),0))","v":12440.205476188285},"Sectoren",{"$f":"IF(tblResultaatMaatregelen[[#This Row],[X-as]]=\"Maatregelen\",tblResultaatMaatregelen[[#This Row],[MaatregelNummer]],tblResultaatMaatregelen[[#This Row],[Sectornummer]])","v":2},{"$f":"IF(tblResultaatMaatregelen[[#This Row],[X-as]]=\"Maatregelen\",tblResultaatMaatregelen[[#This Row],[MaatregelCode]],CONCATENATE(tblResultaatMaatregelen[[#This Row],[Sector]],\" (\",tblResultaatMaatregelen[[#This Row],[Sector_kort]],\")\"))","v":"Tertiair (TER)"},{"$f":"IF(tblResultaatMaatregelen[[#This Row],[X-as]]=\"Maatregelen\",CONCATENATE(tblResultaatMaatregelen[[#This Row],[Sector]],\" (\",tblResultaatMaatregelen[[#This Row],[Sector_kort]],\")\"),tblResultaatMaatregelen[[#This Row],[MaatregelCode]])","v":"TER_EE_ISO"}]
[{"$f":"CONCATENATE(\"Scenario \",tblResultaatMaatregelen[[#This Row],[ScenarioNummer]])","v":"Scenario 2"},2,11,{"$f":"VLOOKUP(tblResultaatMaatregelen[[#This Row],[MaatregelNummer]],Tbl_scenario[],4,TRUE)","v":"TER_HER_WP"},{"$f":"INDEX(tblSectoren[SectorID],MATCH(tblResultaatMaatregelen[[#This Row],[Sector]],tblSectoren[Sectoren],0))","v":2},{"$f":"VLOOKUP(tblResultaatMaatregelen[[#This Row],[MaatregelNummer]],Tbl_scenario[],2,TRUE)","v":"Tertiair"},{"$f":"INDEX(tblSectoren[Afkorting],tblResultaatMaatregelen[[#This Row],[Sectornummer]])","v":"TER"},{"$f":"VLOOKUP(tblResultaatMaatregelen[[#This Row],[MaatregelNummer]],Tbl_scenario[],3,TRUE)","v":"Warmtepomp"},{"$f":"VLOOKUP(tblResultaatMaatregelen[[#This Row],[MaatregelNummer]],Tbl_scenario[],6+(tblResultaatMaatregelen[[#This Row],[ScenarioNummer]]-1)*4+1,TRUE)","v":"Hoog"},{"$f":"IF(tblResultaatMaatregelen[[#This Row],[Ambitieniveau]]=\"Niet\",0,IFERROR(INDIRECT(CONCATENATE(tblResultaatMaatregelen[[#This Row],[MaatregelCode]],\"_REDCO2_\",tblResultaatMaatregelen[[#This Row],[ScenarioNummer]])),0))","v":6226.1881537412601},"Sectoren",{"$f":"IF(tblResultaatMaatregelen[[#This Row],[X-as]]=\"Maatregelen\",tblResultaatMaatregelen[[#This Row],[MaatregelNummer]],tblResultaatMaatregelen[[#This Row],[Sectornummer]])","v":2},{"$f":"IF(tblResultaatMaatregelen[[#This Row],[X-as]]=\"Maatregelen\",tblResultaatMaatregelen[[#This Row],[MaatregelCode]],CONCATENATE(tblResultaatMaatregelen[[#This Row],[Sector]],\" (\",tblResultaatMaatregelen[[#This Row],[Sector_kort]],\")\"))","v":"Tertiair (TER)"},{"$f":"IF(tblResultaatMaatregelen[[#This Row],[X-as]]=\"Maatregelen\",CONCATENATE(tblResultaatMaatregelen[[#This Row],[Sector]],\" (\",tblResultaatMaatregelen[[#This Row],[Sector_kort]],\")\"),tblResultaatMaatregelen[[#This Row],[MaatregelCode]])","v":"TER_HER_WP"}]
[{"$f":"CONCATENATE(\"Scenario \",tblResultaatMaatregelen[[#This Row],[ScenarioNummer]])","v":"Scenario 2"},2,12,{"$f":"VLOOKUP(tblResultaatMaatregelen[[#This Row],[MaatregelNummer]],Tbl_scenario[],4,TRUE)","v":"TER_HER_ZB"},{"$f":"INDEX(tblSectoren[SectorID],MATCH(tblResultaatMaatregelen[[#This Row],[Sector]],tblSectoren[Sectoren],0))","v":2},{"$f":"VLOOKUP(tblResultaatMaatregelen[[#This Row],[MaatregelNummer]],Tbl_scenario[],2,TRUE)","v":"Tertiair"},{"$f":"INDEX(tblSectoren[Afkorting],tblResultaatMaatregelen[[#This Row],[Sectornummer]])","v":"TER"},{"$f":"VLOOKUP(tblResultaatMaatregelen[[#This Row],[MaatregelNummer]],Tbl_scenario[],3,TRUE)","v":"Zonneboiler"},{"$f":"VLOOKUP(tblResultaatMaatregelen[[#This Row],[MaatregelNummer]],Tbl_scenario[],6+(tblResultaatMaatregelen[[#This Row],[ScenarioNummer]]-1)*4+1,TRUE)","v":"Hoog"},{"$f":"IF(tblResultaatMaatregelen[[#This Row],[Ambitieniveau]]=\"Niet\",0,IFERROR(INDIRECT(CONCATENATE(tblResultaatMaatregelen[[#This Row],[MaatregelCode]],\"_REDCO2_\",tblResultaatMaatregelen[[#This Row],[ScenarioNummer]])),0))","v":2159.7578951715768},"Sectoren",{"$f":"IF(tblResultaatMaatregelen[[#This Row],[X-as]]=\"Maatregelen\",tblResultaatMaatregelen[[#This Row],[MaatregelNummer]],tblResultaatMaatregelen[[#This Row],[Sectornummer]])","v":2},{"$f":"IF(tblResultaatMaatregelen[[#This Row],[X-as]]=\"Maatregelen\",tblResultaatMaatregelen[[#This Row],[MaatregelCode]],CONCATENATE(tblResultaatMaatregelen[[#This Row],[Sector]],\" (\",tblResultaatMaatregelen[[#This Row],[Sector_kort]],\")\"))","v":"Tertiair (TER)"},{"$f":"IF(tblResultaatMaatregelen[[#This Row],[X-as]]=\"Maatregelen\",CONCATENATE(tblResultaatMaatregelen[[#This Row],[Sector]],\" (\",tblResultaatMaatregelen[[#This Row],[Sector_kort]],\")\"),tblResultaatMaatregelen[[#This Row],[MaatregelCode]])","v":"TER_HER_ZB"}]
[{"$f":"CONCATENATE(\"Scenario \",tblResultaatMaatregelen[[#This Row],[ScenarioNummer]])","v":"Scenario 2"},2,13,{"$f":"VLOOKUP(tblResultaatMaatregelen[[#This Row],[MaatregelNummer]],Tbl_scenario[],4,TRUE)","v":"TER_HER_WPB"},{"$f":"INDEX(tblSectoren[SectorID],MATCH(tblResultaatMaatregelen[[#This Row],[Sector]],tblSectoren[Sectoren],0))","v":2},{"$f":"VLOOKUP(tblResultaatMaatregelen[[#This Row],[MaatregelNummer]],Tbl_scenario[],2,TRUE)","v":"Tertiair"},{"$f":"INDEX(tblSectoren[Afkorting],tblResultaatMaatregelen[[#This Row],[Sectornummer]])","v":"TER"},{"$f":"VLOOKUP(tblResultaatMaatregelen[[#This Row],[MaatregelNummer]],Tbl_scenario[],3,TRUE)","v":"Warmtepompboiler"},{"$f":"VLOOKUP(tblResultaatMaatregelen[[#This Row],[MaatregelNummer]],Tbl_scenario[],6+(tblResultaatMaatregelen[[#This Row],[ScenarioNummer]]-1)*4+1,TRUE)","v":"Hoog"},{"$f":"IF(tblResultaatMaatregelen[[#This Row],[Ambitieniveau]]=\"Niet\",0,IFERROR(INDIRECT(CONCATENATE(tblResultaatMaatregelen[[#This Row],[MaatregelCode]],\"_REDCO2_\",tblResultaatMaatregelen[[#This Row],[ScenarioNummer]])),0))","v":3012.5660283388106},"Sectoren",{"$f":"IF(tblResultaatMaatregelen[[#This Row],[X-as]]=\"Maatregelen\",tblResultaatMaatregelen[[#This Row],[MaatregelNummer]],tblResultaatMaatregelen[[#This Row],[Sectornummer]])","v":2},{"$f":"IF(tblResultaatMaatregelen[[#This Row],[X-as]]=\"Maatregelen\",tblResultaatMaatregelen[[#This Row],[MaatregelCode]],CONCATENATE(tblResultaatMaatregelen[[#This Row],[Sector]],\" (\",tblResultaatMaatregelen[[#This Row],[Sector_kort]],\")\"))","v":"Tertiair (TER)"},{"$f":"IF(tblResultaatMaatregelen[[#This Row],[X-as]]=\"Maatregelen\",CONCATENATE(tblResultaatMaatregelen[[#This Row],[Sector]],\" (\",tblResultaatMaatregelen[[#This Row],[Sector_kort]],\")\"),tblResultaatMaatregelen[[#This Row],[MaatregelCode]])","v":"TER_HER_WPB"}]
[{"$f":"CONCATENATE(\"Scenario \",tblResultaatMaatregelen[[#This Row],[ScenarioNummer]])","v":"Scenario 2"},2,14,{"$f":"VLOOKUP(tblResultaatMaatregelen[[#This Row],[MaatregelNummer]],Tbl_scenario[],4,TRUE)","v":"TER_EE_ELE"},{"$f":"INDEX(tblSectoren[SectorID],MATCH(tblResultaatMaatregelen[[#This Row],[Sector]],tblSectoren[Sectoren],0))","v":2},{"$f":"VLOOKUP(tblResultaatMaatregelen[[#This Row],[MaatregelNummer]],Tbl_scenario[],2,TRUE)","v":"Tertiair"},{"$f":"INDEX(tblSectoren[Afkorting],tblResultaatMaatregelen[[#This Row],[Sectornummer]])","v":"TER"},{"$f":"VLOOKUP(tblResultaatMaatregelen[[#This Row],[MaatregelNummer]],Tbl_scenario[],3,TRUE)","v":"Ele. gebruik: verhogen efficiëntie (LED, relighting, koeling, etc.)"},{"$f":"VLOOKUP(tblResultaatMaatregelen[[#This Row],[MaatregelNummer]],Tbl_scenario[],6+(tblResultaatMaatregelen[[#This Row],[ScenarioNummer]]-1)*4+1,TRUE)","v":"Hoog"},{"$f":"IF(tblResultaatMaatregelen[[#This Row],[Ambitieniveau]]=\"Niet\",0,IFERROR(INDIRECT(CONCATENATE(tblResultaatMaatregelen[[#This Row],[MaatregelCode]],\"_REDCO2_\",tblResultaatMaatregelen[[#This Row],[ScenarioNummer]])),0))","v":5888.0041000750516},"Sectoren",{"$f":"IF(tblResultaatMaatregelen[[#This Row],[X-as]]=\"Maatregelen\",tblResultaatMaatregelen[[#This Row],[MaatregelNummer]],tblResultaatMaatregelen[[#This Row],[Sectornummer]])","v":2},{"$f":"IF(tblResultaatMaatregelen[[#This Row],[X-as]]=\"Maatregelen\",tblResultaatMaatregelen[[#This Row],[MaatregelCode]],CONCATENATE(tblResultaatMaatregelen[[#This Row],[Sector]],\" (\",tblResultaatMaatregelen[[#This Row],[Sector_kort]],\")\"))","v":"Tertiair (TER)"},{"$f":"IF(tblResultaatMaatregelen[[#This Row],[X-as]]=\"Maatregelen\",CONCATENATE(tblResultaatMaatregelen[[#This Row],[Sector]],\" (\",tblResultaatMaatregelen[[#This Row],[Sector_kort]],\")\"),tblResultaatMaatregelen[[#This Row],[MaatregelCode]])","v":"TER_EE_ELE"}]
[{"$f":"CONCATENATE(\"Scenario \",tblResultaatMaatregelen[[#This Row],[ScenarioNummer]])","v":"Scenario 2"},2,15,{"$f":"VLOOKUP(tblResultaatMaatregelen[[#This Row],[MaatregelNummer]],Tbl_scenario[],4,TRUE)","v":"OV_LED_EE"},{"$f":"INDEX(tblSectoren[SectorID],MATCH(tblResultaatMaatregelen[[#This Row],[Sector]],tblSectoren[Sectoren],0))","v":6},{"$f":"VLOOKUP(tblResultaatMaatregelen[[#This Row],[MaatregelNummer]],Tbl_scenario[],2,TRUE)","v":"Openbare verlichting"},{"$f":"INDEX(tblSectoren[Afkorting],tblResultaatMaatregelen[[#This Row],[Sectornummer]])","v":"OV"},{"$f":"VLOOKUP(tblResultaatMaatregelen[[#This Row],[MaatregelNummer]],Tbl_scenario[],3,TRUE)","v":"LED: verhogen energie-efficiëntie"},{"$f":"VLOOKUP(tblResultaatMaatregelen[[#This Row],[MaatregelNummer]],Tbl_scenario[],6+(tblResultaatMaatregelen[[#This Row],[ScenarioNummer]]-1)*4+1,TRUE)","v":"Hoog"},{"$f":"IF(tblResultaatMaatregelen[[#This Row],[Ambitieniveau]]=\"Niet\",0,IFERROR(INDIRECT(CONCATENATE(tblResultaatMaatregelen[[#This Row],[MaatregelCode]],\"_REDCO2_\",tblResultaatMaatregelen[[#This Row],[ScenarioNummer]])),0))","v":501.46219790205822},"Sectoren",{"$f":"IF(tblResultaatMaatregelen[[#This Row],[X-as]]=\"Maatregelen\",tblResultaatMaatregelen[[#This Row],[MaatregelNummer]],tblResultaatMaatregelen[[#This Row],[Sectornummer]])","v":6},{"$f":"IF(tblResultaatMaatregelen[[#This Row],[X-as]]=\"Maatregelen\",tblResultaatMaatregelen[[#This Row],[MaatregelCode]],CONCATENATE(tblResultaatMaatregelen[[#This Row],[Sector]],\" (\",tblResultaatMaatregelen[[#This Row],[Sector_kort]],\")\"))","v":"Openbare verlichting (OV)"},{"$f":"IF(tblResultaatMaatregelen[[#This Row],[X-as]]=\"Maatregelen\",CONCATENATE(tblResultaatMaatregelen[[#This Row],[Sector]],\" (\",tblResultaatMaatregelen[[#This Row],[Sector_kort]],\")\"),tblResultaatMaatregelen[[#This Row],[MaatregelCode]])","v":"OV_LED_EE"}]
[{"$f":"CONCATENATE(\"Scenario \",tblResultaatMaatregelen[[#This Row],[ScenarioNummer]])","v":"Scenario 2"},2,16,{"$f":"VLOOKUP(tblResultaatMaatregelen[[#This Row],[MaatregelNummer]],Tbl_scenario[],4,TRUE)","v":"IND_HER_WP"},{"$f":"INDEX(tblSectoren[SectorID],MATCH(tblResultaatMaatregelen[[#This Row],[Sector]],tblSectoren[Sectoren],0))","v":3},{"$f":"VLOOKUP(tblResultaatMaatregelen[[#This Row],[MaatregelNummer]],Tbl_scenario[],2,TRUE)","v":"Industrie (niet-ETS)"},{"$f":"INDEX(tblSectoren[Afkorting],tblResultaatMaatregelen[[#This Row],[Sectornummer]])","v":"IND"},{"$f":"VLOOKUP(tblResultaatMaatregelen[[#This Row],[MaatregelNummer]],Tbl_scenario[],3,TRUE)","v":"Warmtepomp"},{"$f":"VLOOKUP(tblResultaatMaatregelen[[#This Row],[MaatregelNummer]],Tbl_scenario[],6+(tblResultaatMaatregelen[[#This Row],[ScenarioNummer]]-1)*4+1,TRUE)","v":"Hoog"},{"$f":"IF(tblResultaatMaatregelen[[#This Row],[Ambitieniveau]]=\"Niet\",0,IFERROR(INDIRECT(CONCATENATE(tblResultaatMaatregelen[[#This Row],[MaatregelCode]],\"_REDCO2_\",tblResultaatMaatregelen[[#This Row],[ScenarioNummer]])),0))","v":1528.3615373482735},"Sectoren",{"$f":"IF(tblResultaatMaatregelen[[#This Row],[X-as]]=\"Maatregelen\",tblResultaatMaatregelen[[#This Row],[MaatregelNummer]],tblResultaatMaatregelen[[#This Row],[Sectornummer]])","v":3},{"$f":"IF(tblResultaatMaatregelen[[#This Row],[X-as]]=\"Maatregelen\",tblResultaatMaatregelen[[#This Row],[MaatregelCode]],CONCATENATE(tblResultaatMaatregelen[[#This Row],[Sector]],\" (\",tblResultaatMaatregelen[[#This Row],[Sector_kort]],\")\"))","v":"Industrie (niet-ETS) (IND)"},{"$f":"IF(tblResultaatMaatregelen[[#This Row],[X-as]]=\"Maatregelen\",CONCATENATE(tblResultaatMaatregelen[[#This Row],[Sector]],\" (\",tblResultaatMaatregelen[[#This Row],[Sector_kort]],\")\"),tblResultaatMaatregelen[[#This Row],[MaatregelCode]])","v":"IND_HER_WP"}]
[{"$f":"CONCATENATE(\"Scenario \",tblResultaatMaatregelen[[#This Row],[ScenarioNummer]])","v":"Scenario 2"},2,17,{"$f":"VLOOKUP(tblResultaatMaatregelen[[#This Row],[MaatregelNummer]],Tbl_scenario[],4,TRUE)","v":"IND_HER_ZB"},{"$f":"INDEX(tblSectoren[SectorID],MATCH(tblResultaatMaatregelen[[#This Row],[Sector]],tblSectoren[Sectoren],0))","v":3},{"$f":"VLOOKUP(tblResultaatMaatregelen[[#This Row],[MaatregelNummer]],Tbl_scenario[],2,TRUE)","v":"Industrie (niet-ETS)"},{"$f":"INDEX(tblSectoren[Afkorting],tblResultaatMaatregelen[[#This Row],[Sectornummer]])","v":"IND"},{"$f":"VLOOKUP(tblResultaatMaatregelen[[#This Row],[MaatregelNummer]],Tbl_scenario[],3,TRUE)","v":"Zonneboiler"},{"$f":"VLOOKUP(tblResultaatMaatregelen[[#This Row],[MaatregelNummer]],Tbl_scenario[],6+(tblResultaatMaatregelen[[#This Row],[ScenarioNummer]]-1)*4+1,TRUE)","v":"Hoog"},{"$f":"IF(tblResultaatMaatregelen[[#This Row],[Ambitieniveau]]=\"Niet\",0,IFERROR(INDIRECT(CONCATENATE(tblResultaatMaatregelen[[#This Row],[MaatregelCode]],\"_REDCO2_\",tblResultaatMaatregelen[[#This Row],[ScenarioNummer]])),0))","v":328.77118853814221},"Sectoren",{"$f":"IF(tblResultaatMaatregelen[[#This Row],[X-as]]=\"Maatregelen\",tblResultaatMaatregelen[[#This Row],[MaatregelNummer]],tblResultaatMaatregelen[[#This Row],[Sectornummer]])","v":3},{"$f":"IF(tblResultaatMaatregelen[[#This Row],[X-as]]=\"Maatregelen\",tblResultaatMaatregelen[[#This Row],[MaatregelCode]],CONCATENATE(tblResultaatMaatregelen[[#This Row],[Sector]],\" (\",tblResultaatMaatregelen[[#This Row],[Sector_kort]],\")\"))","v":"Industrie (niet-ETS) (IND)"},{"$f":"IF(tblResultaatMaatregelen[[#This Row],[X-as]]=\"Maatregelen\",CONCATENATE(tblResultaatMaatregelen[[#This Row],[Sector]],\" (\",tblResultaatMaatregelen[[#This Row],[Sector_kort]],\")\"),tblResultaatMaatregelen[[#This Row],[MaatregelCode]])","v":"IND_HER_ZB"}]
[{"$f":"CONCATENATE(\"Scenario \",tblResultaatMaatregelen[[#This Row],[ScenarioNummer]])","v":"Scenario 2"},2,18,{"$f":"VLOOKUP(tblResultaatMaatregelen[[#This Row],[MaatregelNummer]],Tbl_scenario[],4,TRUE)","v":"IND_EE_EEA"},{"$f":"INDEX(tblSectoren[SectorID],MATCH(tblResultaatMaatregelen[[#This Row],[Sector]],tblSectoren[Sectoren],0))","v":3},{"$f":"VLOOKUP(tblResultaatMaatregelen[[#This Row],[MaatregelNummer]],Tbl_scenario[],2,TRUE)","v":"Industrie (niet-ETS)"},{"$f":"INDEX(tblSectoren[Afkorting],tblResultaatMaatregelen[[#This Row],[Sectornummer]])","v":"IND"},{"$f":"VLOOKUP(tblResultaatMaatregelen[[#This Row],[MaatregelNummer]],Tbl_scenario[],3,TRUE)","v":"Ele. gebruik: verhogen efficiëntie elektrische aandrijfsystemen"},{"$f":"VLOOKUP(tblResultaatMaatregelen[[#This Row],[MaatregelNummer]],Tbl_scenario[],6+(tblResultaatMaatregelen[[#This Row],[ScenarioNummer]]-1)*4+1,TRUE)","v":"Hoog"},{"$f":"IF(tblResultaatMaatregelen[[#This Row],[Ambitieniveau]]=\"Niet\",0,IFERROR(INDIRECT(CONCATENATE(tblResultaatMaatregelen[[#This Row],[MaatregelCode]],\"_REDCO2_\",tblResultaatMaatregelen[[#This Row],[ScenarioNummer]])),0))","v":593.21049212831804},"Sectoren",{"$f":"IF(tblResultaatMaatregelen[[#This Row],[X-as]]=\"Maatregelen\",tblResultaatMaatregelen[[#This Row],[MaatregelNummer]],tblResultaatMaatregelen[[#This Row],[Sectornummer]])","v":3},{"$f":"IF(tblResultaatMaatregelen[[#This Row],[X-as]]=\"Maatregelen\",tblResultaatMaatregelen[[#This Row],[MaatregelCode]],CONCATENATE(tblResultaatMaatregelen[[#This Row],[Sector]],\" (\",tblResultaatMaatregelen[[#This Row],[Sector_kort]],\")\"))","v":"Industrie (niet-ETS) (IND)"},{"$f":"IF(tblResultaatMaatregelen[[#This Row],[X-as]]=\"Maatregelen\",CONCATENATE(tblResultaatMaatregelen[[#This Row],[Sector]],\" (\",tblResultaatMaatregelen[[#This Row],[Sector_kort]],\")\"),tblResultaatMaatregelen[[#This Row],[MaatregelCode]])","v":"IND_EE_EEA"}]
[{"$f":"CONCATENATE(\"Scenario \",tblResultaatMaatregelen[[#This Row],[ScenarioNummer]])","v":"Scenario 2"},2,19,{"$f":"VLOOKUP(tblResultaatMaatregelen[[#This Row],[MaatregelNummer]],Tbl_scenario[],4,TRUE)","v":"MOB_MS_voet"},{"$f":"INDEX(tblSectoren[SectorID],MATCH(tblResultaatMaatregelen[[#This Row],[Sector]],tblSectoren[Sectoren],0))","v":4},{"$f":"VLOOKUP(tblResultaatMaatregelen[[#This Row],[MaatregelNummer]],Tbl_scenario[],2,TRUE)","v":"Particulier en commercieel vervoer"},{"$f":"INDEX(tblSectoren[Afkorting],tblResultaatMaatregelen[[#This Row],[Sectornummer]])","v":"MOB"},{"$f":"VLOOKUP(tblResultaatMaatregelen[[#This Row],[MaatregelNummer]],Tbl_scenario[],3,TRUE)","v":"Modal Shift_Voet + Fiets"},{"$f":"VLOOKUP(tblResultaatMaatregelen[[#This Row],[MaatregelNummer]],Tbl_scenario[],6+(tblResultaatMaatregelen[[#This Row],[ScenarioNummer]]-1)*4+1,TRUE)","v":"Hoog"},{"$f":"IF(tblResultaatMaatregelen[[#This Row],[Ambitieniveau]]=\"Niet\",0,IFERROR(INDIRECT(CONCATENATE(tblResultaatMaatregelen[[#This Row],[MaatregelCode]],\"_REDCO2_\",tblResultaatMaatregelen[[#This Row],[ScenarioNummer]])),0))","v":8862.0069575974267},"Sectoren",{"$f":"IF(tblResultaatMaatregelen[[#This Row],[X-as]]=\"Maatregelen\",tblResultaatMaatregelen[[#This Row],[MaatregelNummer]],tblResultaatMaatregelen[[#This Row],[Sectornummer]])","v":4},{"$f":"IF(tblResultaatMaatregelen[[#This Row],[X-as]]=\"Maatregelen\",tblResultaatMaatregelen[[#This Row],[MaatregelCode]],CONCATENATE(tblResultaatMaatregelen[[#This Row],[Sector]],\" (\",tblResultaatMaatregelen[[#This Row],[Sector_kort]],\")\"))","v":"Particulier en commercieel vervoer (MOB)"},{"$f":"IF(tblResultaatMaatregelen[[#This Row],[X-as]]=\"Maatregelen\",CONCATENATE(tblResultaatMaatregelen[[#This Row],[Sector]],\" (\",tblResultaatMaatregelen[[#This Row],[Sector_kort]],\")\"),tblResultaatMaatregelen[[#This Row],[MaatregelCode]])","v":"MOB_MS_voet"}]
[{"$f":"CONCATENATE(\"Scenario \",tblResultaatMaatregelen[[#This Row],[ScenarioNummer]])","v":"Scenario 2"},2,20,{"$f":"VLOOKUP(tblResultaatMaatregelen[[#This Row],[MaatregelNummer]],Tbl_scenario[],4,TRUE)","v":"MOB_MS_EFiets"},{"$f":"INDEX(tblSectoren[SectorID],MATCH(tblResultaatMaatregelen[[#This Row],[Sector]],tblSectoren[Sectoren],0))","v":4},{"$f":"VLOOKUP(tblResultaatMaatregelen[[#This Row],[MaatregelNummer]],Tbl_scenario[],2,TRUE)","v":"Particulier en commercieel vervoer"},{"$f":"INDEX(tblSectoren[Afkorting],tblResultaatMaatregelen[[#This Row],[Sectornummer]])","v":"MOB"},{"$f":"VLOOKUP(tblResultaatMaatregelen[[#This Row],[MaatregelNummer]],Tbl_scenario[],3,TRUE)","v":"Modal Shift_Elektrische Fiets"},{"$f":"VLOOKUP(tblResultaatMaatregelen[[#This Row],[MaatregelNummer]],Tbl_scenario[],6+(tblResultaatMaatregelen[[#This Row],[ScenarioNummer]]-1)*4+1,TRUE)","v":"Hoog"},{"$f":"IF(tblResultaatMaatregelen[[#This Row],[Ambitieniveau]]=\"Niet\",0,IFERROR(INDIRECT(CONCATENATE(tblResultaatMaatregelen[[#This Row],[MaatregelCode]],\"_REDCO2_\",tblResultaatMaatregelen[[#This Row],[ScenarioNummer]])),0))","v":7385.0057979978565},"Sectoren",{"$f":"IF(tblResultaatMaatregelen[[#This Row],[X-as]]=\"Maatregelen\",tblResultaatMaatregelen[[#This Row],[MaatregelNummer]],tblResultaatMaatregelen[[#This Row],[Sectornummer]])","v":4},{"$f":"IF(tblResultaatMaatregelen[[#This Row],[X-as]]=\"Maatregelen\",tblResultaatMaatregelen[[#This Row],[MaatregelCode]],CONCATENATE(tblResultaatMaatregelen[[#This Row],[Sector]],\" (\",tblResultaatMaatregelen[[#This Row],[Sector_kort]],\")\"))","v":"Particulier en commercieel vervoer (MOB)"},{"$f":"IF(tblResultaatMaatregelen[[#This Row],[X-as]]=\"Maatregelen\",CONCATENATE(tblResultaatMaatregelen[[#This Row],[Sector]],\" (\",tblResultaatMaatregelen[[#This Row],[Sector_kort]],\")\"),tblResultaatMaatregelen[[#This Row],[MaatregelCode]])","v":"MOB_MS_EFiets"}]
[{"$f":"CONCATENATE(\"Scenario \",tblResultaatMaatregelen[[#This Row],[ScenarioNummer]])","v":"Scenario 2"},2,21,{"$f":"VLOOKUP(tblResultaatMaatregelen[[#This Row],[MaatregelNummer]],Tbl_scenario[],4,TRUE)","v":"MOB_MS_OV"},{"$f":"INDEX(tblSectoren[SectorID],MATCH(tblResultaatMaatregelen[[#This Row],[Sector]],tblSectoren[Sectoren],0))","v":4},{"$f":"VLOOKUP(tblResultaatMaatregelen[[#This Row],[MaatregelNummer]],Tbl_scenario[],2,TRUE)","v":"Particulier en commercieel vervoer"},{"$f":"INDEX(tblSectoren[Afkorting],tblResultaatMaatregelen[[#This Row],[Sectornummer]])","v":"MOB"},{"$f":"VLOOKUP(tblResultaatMaatregelen[[#This Row],[MaatregelNummer]],Tbl_scenario[],3,TRUE)","v":"Modal Shift_Openbaar vervoer"},{"$f":"VLOOKUP(tblResultaatMaatregelen[[#This Row],[MaatregelNummer]],Tbl_scenario[],6+(tblResultaatMaatregelen[[#This Row],[ScenarioNummer]]-1)*4+1,TRUE)","v":"Hoog"},{"$f":"IF(tblResultaatMaatregelen[[#This Row],[Ambitieniveau]]=\"Niet\",0,IFERROR(INDIRECT(CONCATENATE(tblResultaatMaatregelen[[#This Row],[MaatregelCode]],\"_REDCO2_\",tblResultaatMaatregelen[[#This Row],[ScenarioNummer]])),0))","v":11225.208812956742},"Sectoren",{"$f":"IF(tblResultaatMaatregelen[[#This Row],[X-as]]=\"Maatregelen\",tblResultaatMaatregelen[[#This Row],[MaatregelNummer]],tblResultaatMaatregelen[[#This Row],[Sectornummer]])","v":4},{"$f":"IF(tblResultaatMaatregelen[[#This Row],[X-as]]=\"Maatregelen\",tblResultaatMaatregelen[[#This Row],[MaatregelCode]],CONCATENATE(tblResultaatMaatregelen[[#This Row],[Sector]],\" (\",tblResultaatMaatregelen[[#This Row],[Sector_kort]],\")\"))","v":"Particulier en commercieel vervoer (MOB)"},{"$f":"IF(tblResultaatMaatregelen[[#This Row],[X-as]]=\"Maatregelen\",CONCATENATE(tblResultaatMaatregelen[[#This Row],[Sector]],\" (\",tblResultaatMaatregelen[[#This Row],[Sector_kort]],\")\"),tblResultaatMaatregelen[[#This Row],[MaatregelCode]])","v":"MOB_MS_OV"}]
[{"$f":"CONCATENATE(\"Scenario \",tblResultaatMaatregelen[[#This Row],[ScenarioNummer]])","v":"Scenario 2"},2,22,{"$f":"VLOOKUP(tblResultaatMaatregelen[[#This Row],[MaatregelNummer]],Tbl_scenario[],4,TRUE)","v":"MOB_BS_EV"},{"$f":"INDEX(tblSectoren[SectorID],MATCH(tblResultaatMaatregelen[[#This Row],[Sector]],tblSectoren[Sectoren],0))","v":4},{"$f":"VLOOKUP(tblResultaatMaatregelen[[#This Row],[MaatregelNummer]],Tbl_scenario[],2,TRUE)","v":"Particulier en commercieel vervoer"},{"$f":"INDEX(tblSectoren[Afkorting],tblResultaatMaatregelen[[#This Row],[Sectornummer]])","v":"MOB"},{"$f":"VLOOKUP(tblResultaatMaatregelen[[#This Row],[MaatregelNummer]],Tbl_scenario[],3,TRUE)","v":"Brandstofshift_Elektrische voertuigen"},{"$f":"VLOOKUP(tblResultaatMaatregelen[[#This Row],[MaatregelNummer]],Tbl_scenario[],6+(tblResultaatMaatregelen[[#This Row],[ScenarioNummer]]-1)*4+1,TRUE)","v":"Hoog"},{"$f":"IF(tblResultaatMaatregelen[[#This Row],[Ambitieniveau]]=\"Niet\",0,IFERROR(INDIRECT(CONCATENATE(tblResultaatMaatregelen[[#This Row],[MaatregelCode]],\"_REDCO2_\",tblResultaatMaatregelen[[#This Row],[ScenarioNummer]])),0))","v":15191.993028288663},"Sectoren",{"$f":"IF(tblResultaatMaatregelen[[#This Row],[X-as]]=\"Maatregelen\",tblResultaatMaatregelen[[#This Row],[MaatregelNummer]],tblResultaatMaatregelen[[#This Row],[Sectornummer]])","v":4},{"$f":"IF(tblResultaatMaatregelen[[#This Row],[X-as]]=\"Maatregelen\",tblResultaatMaatregelen[[#This Row],[MaatregelCode]],CONCATENATE(tblResultaatMaatregelen[[#This Row],[Sector]],\" (\",tblResultaatMaatregelen[[#This Row],[Sector_kort]],\")\"))","v":"Particulier en commercieel vervoer (MOB)"},{"$f":"IF(tblResultaatMaatregelen[[#This Row],[X-as]]=\"Maatregelen\",CONCATENATE(tblResultaatMaatregelen[[#This Row],[Sector]],\" (\",tblResultaatMaatregelen[[#This Row],[Sector_kort]],\")\"),tblResultaatMaatregelen[[#This Row],[MaatregelCode]])","v":"MOB_BS_EV"}]
[{"$f":"CONCATENATE(\"Scenario \",tblResultaatMaatregelen[[#This Row],[ScenarioNummer]])","v":"Scenario 2"},2,23,{"$f":"VLOOKUP(tblResultaatMaatregelen[[#This Row],[MaatregelNummer]],Tbl_scenario[],4,TRUE)","v":"MOB_BS_H2"},{"$f":"INDEX(tblSectoren[SectorID],MATCH(tblResultaatMaatregelen[[#This Row],[Sector]],tblSectoren[Sectoren],0))","v":4},{"$f":"VLOOKUP(tblResultaatMaatregelen[[#This Row],[MaatregelNummer]],Tbl_scenario[],2,TRUE)","v":"Particulier en commercieel vervoer"},{"$f":"INDEX(tblSectoren[Afkorting],tblResultaatMaatregelen[[#This Row],[Sectornummer]])","v":"MOB"},{"$f":"VLOOKUP(tblResultaatMaatregelen[[#This Row],[MaatregelNummer]],Tbl_scenario[],3,TRUE)","v":"Brandstofshift_Waterstof"},{"$f":"VLOOKUP(tblResultaatMaatregelen[[#This Row],[MaatregelNummer]],Tbl_scenario[],6+(tblResultaatMaatregelen[[#This Row],[ScenarioNummer]]-1)*4+1,TRUE)","v":"Hoog"},{"$f":"IF(tblResultaatMaatregelen[[#This Row],[Ambitieniveau]]=\"Niet\",0,IFERROR(INDIRECT(CONCATENATE(tblResultaatMaatregelen[[#This Row],[MaatregelCode]],\"_REDCO2_\",tblResultaatMaatregelen[[#This Row],[ScenarioNummer]])),0))","v":4923.3371986652364},"Sectoren",{"$f":"IF(tblResultaatMaatregelen[[#This Row],[X-as]]=\"Maatregelen\",tblResultaatMaatregelen[[#This Row],[MaatregelNummer]],tblResultaatMaatregelen[[#This Row],[Sectornummer]])","v":4},{"$f":"IF(tblResultaatMaatregelen[[#This Row],[X-as]]=\"Maatregelen\",tblResultaatMaatregelen[[#This Row],[MaatregelCode]],CONCATENATE(tblResultaatMaatregelen[[#This Row],[Sector]],\" (\",tblResultaatMaatregelen[[#This Row],[Sector_kort]],\")\"))","v":"Particulier en commercieel vervoer (MOB)"},{"$f":"IF(tblResultaatMaatregelen[[#This Row],[X-as]]=\"Maatregelen\",CONCATENATE(tblResultaatMaatregelen[[#This Row],[Sector]],\" (\",tblResultaatMaatregelen[[#This Row],[Sector_kort]],\")\"),tblResultaatMaatregelen[[#This Row],[MaatregelCode]])","v":"MOB_BS_H2"}]
[{"$f":"CONCATENATE(\"Scenario \",tblResultaatMaatregelen[[#This Row],[ScenarioNummer]])","v":"Scenario 2"},2,24,{"$f":"VLOOKUP(tblResultaatMaatregelen[[#This Row],[MaatregelNummer]],Tbl_scenario[],4,TRUE)","v":"LEN_PV"},{"$f":"INDEX(tblSectoren[SectorID],MATCH(tblResultaatMaatregelen[[#This Row],[Sector]],tblSectoren[Sectoren],0))","v":8},{"$f":"VLOOKUP(tblResultaatMaatregelen[[#This Row],[MaatregelNummer]],Tbl_scenario[],2,TRUE)","v":"Lokale energieproductie"},{"$f":"INDEX(tblSectoren[Afkorting],tblResultaatMaatregelen[[#This Row],[Sectornummer]])","v":"LEN"},{"$f":"VLOOKUP(tblResultaatMaatregelen[[#This Row],[MaatregelNummer]],Tbl_scenario[],3,TRUE)","v":"Elektriciteit_PV"},{"$f":"VLOOKUP(tblResultaatMaatregelen[[#This Row],[MaatregelNummer]],Tbl_scenario[],6+(tblResultaatMaatregelen[[#This Row],[ScenarioNummer]]-1)*4+1,TRUE)","v":"Hoog"},{"$f":"IF(tblResultaatMaatregelen[[#This Row],[Ambitieniveau]]=\"Niet\",0,IFERROR(INDIRECT(CONCATENATE(tblResultaatMaatregelen[[#This Row],[MaatregelCode]],\"_REDCO2_\",tblResultaatMaatregelen[[#This Row],[ScenarioNummer]])),0))","v":12480.764397293753},"Sectoren",{"$f":"IF(tblResultaatMaatregelen[[#This Row],[X-as]]=\"Maatregelen\",tblResultaatMaatregelen[[#This Row],[MaatregelNummer]],tblResultaatMaatregelen[[#This Row],[Sectornummer]])","v":8},{"$f":"IF(tblResultaatMaatregelen[[#This Row],[X-as]]=\"Maatregelen\",tblResultaatMaatregelen[[#This Row],[MaatregelCode]],CONCATENATE(tblResultaatMaatregelen[[#This Row],[Sector]],\" (\",tblResultaatMaatregelen[[#This Row],[Sector_kort]],\")\"))","v":"Lokale energieproductie (LEN)"},{"$f":"IF(tblResultaatMaatregelen[[#This Row],[X-as]]=\"Maatregelen\",CONCATENATE(tblResultaatMaatregelen[[#This Row],[Sector]],\" (\",tblResultaatMaatregelen[[#This Row],[Sector_kort]],\")\"),tblResultaatMaatregelen[[#This Row],[MaatregelCode]])","v":"LEN_PV"}]
[{"$f":"CONCATENATE(\"Scenario \",tblResultaatMaatregelen[[#This Row],[ScenarioNummer]])","v":"Scenario 2"},2,25,{"$f":"VLOOKUP(tblResultaatMaatregelen[[#This Row],[MaatregelNummer]],Tbl_scenario[],4,TRUE)","v":"LEN_Wind"},{"$f":"INDEX(tblSectoren[SectorID],MATCH(tblResultaatMaatregelen[[#This Row],[Sector]],tblSectoren[Sectoren],0))","v":8},{"$f":"VLOOKUP(tblResultaatMaatregelen[[#This Row],[MaatregelNummer]],Tbl_scenario[],2,TRUE)","v":"Lokale energieproductie"},{"$f":"INDEX(tblSectoren[Afkorting],tblResultaatMaatregelen[[#This Row],[Sectornummer]])","v":"LEN"},{"$f":"VLOOKUP(tblResultaatMaatregelen[[#This Row],[MaatregelNummer]],Tbl_scenario[],3,TRUE)","v":"Elektriciteit_Wind"},{"$f":"VLOOKUP(tblResultaatMaatregelen[[#This Row],[MaatregelNummer]],Tbl_scenario[],6+(tblResultaatMaatregelen[[#This Row],[ScenarioNummer]]-1)*4+1,TRUE)","v":"Hoog"},{"$f":"IF(tblResultaatMaatregelen[[#This Row],[Ambitieniveau]]=\"Niet\",0,IFERROR(INDIRECT(CONCATENATE(tblResultaatMaatregelen[[#This Row],[MaatregelCode]],\"_REDCO2_\",tblResultaatMaatregelen[[#This Row],[ScenarioNummer]])),0))","v":13201.633820689445},"Sectoren",{"$f":"IF(tblResultaatMaatregelen[[#This Row],[X-as]]=\"Maatregelen\",tblResultaatMaatregelen[[#This Row],[MaatregelNummer]],tblResultaatMaatregelen[[#This Row],[Sectornummer]])","v":8},{"$f":"IF(tblResultaatMaatregelen[[#This Row],[X-as]]=\"Maatregelen\",tblResultaatMaatregelen[[#This Row],[MaatregelCode]],CONCATENATE(tblResultaatMaatregelen[[#This Row],[Sector]],\" (\",tblResultaatMaatregelen[[#This Row],[Sector_kort]],\")\"))","v":"Lokale energieproductie (LEN)"},{"$f":"IF(tblResultaatMaatregelen[[#This Row],[X-as]]=\"Maatregelen\",CONCATENATE(tblResultaatMaatregelen[[#This Row],[Sector]],\" (\",tblResultaatMaatregelen[[#This Row],[Sector_kort]],\")\"),tblResultaatMaatregelen[[#This Row],[MaatregelCode]])","v":"LEN_Wind"}]
[{"$f":"CONCATENATE(\"Scenario \",tblResultaatMaatregelen[[#This Row],[ScenarioNummer]])","v":"Scenario 2"},2,26,{"$f":"VLOOKUP(tblResultaatMaatregelen[[#This Row],[MaatregelNummer]],Tbl_scenario[],4,TRUE)","v":"LB_HER_WP"},{"$f":"INDEX(tblSectoren[SectorID],MATCH(tblResultaatMaatregelen[[#This Row],[Sector]],tblSectoren[Sectoren],0))","v":5},{"$f":"VLOOKUP(tblResultaatMaatregelen[[#This Row],[MaatregelNummer]],Tbl_scenario[],2,TRUE)","v":"Landbouw"},{"$f":"INDEX(tblSectoren[Afkorting],tblResultaatMaatregelen[[#This Row],[Sectornummer]])","v":"LB"},{"$f":"VLOOKUP(tblResultaatMaatregelen[[#This Row],[MaatregelNummer]],Tbl_scenario[],3,TRUE)","v":"Warmtepomp"},{"$f":"VLOOKUP(tblResultaatMaatregelen[[#This Row],[MaatregelNummer]],Tbl_scenario[],6+(tblResultaatMaatregelen[[#This Row],[ScenarioNummer]]-1)*4+1,TRUE)","v":"Hoog"},{"$f":"IF(tblResultaatMaatregelen[[#This Row],[Ambitieniveau]]=\"Niet\",0,IFERROR(INDIRECT(CONCATENATE(tblResultaatMaatregelen[[#This Row],[MaatregelCode]],\"_REDCO2_\",tblResultaatMaatregelen[[#This Row],[ScenarioNummer]])),0))","v":258.06631345477342},"Sectoren",{"$f":"IF(tblResultaatMaatregelen[[#This Row],[X-as]]=\"Maatregelen\",tblResultaatMaatregelen[[#This Row],[MaatregelNummer]],tblResultaatMaatregelen[[#This Row],[Sectornummer]])","v":5},{"$f":"IF(tblResultaatMaatregelen[[#This Row],[X-as]]=\"Maatregelen\",tblResultaatMaatregelen[[#This Row],[MaatregelCode]],CONCATENATE(tblResultaatMaatregelen[[#This Row],[Sector]],\" (\",tblResultaatMaatregelen[[#This Row],[Sector_kort]],\")\"))","v":"Landbouw (LB)"},{"$f":"IF(tblResultaatMaatregelen[[#This Row],[X-as]]=\"Maatregelen\",CONCATENATE(tblResultaatMaatregelen[[#This Row],[Sector]],\" (\",tblResultaatMaatregelen[[#This Row],[Sector_kort]],\")\"),tblResultaatMaatregelen[[#This Row],[MaatregelCode]])","v":"LB_HER_WP"}]
[{"$f":"CONCATENATE(\"Scenario \",tblResultaatMaatregelen[[#This Row],[ScenarioNummer]])","v":"Scenario 2"},2,27,{"$f":"VLOOKUP(tblResultaatMaatregelen[[#This Row],[MaatregelNummer]],Tbl_scenario[],4,TRUE)","v":"LB_HER_PocV"},{"$f":"INDEX(tblSectoren[SectorID],MATCH(tblResultaatMaatregelen[[#This Row],[Sector]],tblSectoren[Sectoren],0))","v":5},{"$f":"VLOOKUP(tblResultaatMaatregelen[[#This Row],[MaatregelNummer]],Tbl_scenario[],2,TRUE)","v":"Landbouw"},{"$f":"INDEX(tblSectoren[Afkorting],tblResultaatMaatregelen[[#This Row],[Sectornummer]])","v":"LB"},{"$f":"VLOOKUP(tblResultaatMaatregelen[[#This Row],[MaatregelNummer]],Tbl_scenario[],3,TRUE)","v":"Hernieuwbare energie_Pocketvergisters"},{"$f":"VLOOKUP(tblResultaatMaatregelen[[#This Row],[MaatregelNummer]],Tbl_scenario[],6+(tblResultaatMaatregelen[[#This Row],[ScenarioNummer]]-1)*4+1,TRUE)","v":"Hoog"},{"$f":"IF(tblResultaatMaatregelen[[#This Row],[Ambitieniveau]]=\"Niet\",0,IFERROR(INDIRECT(CONCATENATE(tblResultaatMaatregelen[[#This Row],[MaatregelCode]],\"_REDCO2_\",tblResultaatMaatregelen[[#This Row],[ScenarioNummer]])),0))","v":8.8296619153522986},"Sectoren",{"$f":"IF(tblResultaatMaatregelen[[#This Row],[X-as]]=\"Maatregelen\",tblResultaatMaatregelen[[#This Row],[MaatregelNummer]],tblResultaatMaatregelen[[#This Row],[Sectornummer]])","v":5},{"$f":"IF(tblResultaatMaatregelen[[#This Row],[X-as]]=\"Maatregelen\",tblResultaatMaatregelen[[#This Row],[MaatregelCode]],CONCATENATE(tblResultaatMaatregelen[[#This Row],[Sector]],\" (\",tblResultaatMaatregelen[[#This Row],[Sector_kort]],\")\"))","v":"Landbouw (LB)"},{"$f":"IF(tblResultaatMaatregelen[[#This Row],[X-as]]=\"Maatregelen\",CONCATENATE(tblResultaatMaatregelen[[#This Row],[Sector]],\" (\",tblResultaatMaatregelen[[#This Row],[Sector_kort]],\")\"),tblResultaatMaatregelen[[#This Row],[MaatregelCode]])","v":"LB_HER_PocV"}]
[{"$f":"CONCATENATE(\"Scenario \",tblResultaatMaatregelen[[#This Row],[ScenarioNummer]])","v":"Scenario 2"},2,28,{"$f":"VLOOKUP(tblResultaatMaatregelen[[#This Row],[MaatregelNummer]],Tbl_scenario[],4,TRUE)","v":"LB_HER_BMK"},{"$f":"INDEX(tblSectoren[SectorID],MATCH(tblResultaatMaatregelen[[#This Row],[Sector]],tblSectoren[Sectoren],0))","v":5},{"$f":"VLOOKUP(tblResultaatMaatregelen[[#This Row],[MaatregelNummer]],Tbl_scenario[],2,TRUE)","v":"Landbouw"},{"$f":"INDEX(tblSectoren[Afkorting],tblResultaatMaatregelen[[#This Row],[Sectornummer]])","v":"LB"},{"$f":"VLOOKUP(tblResultaatMaatregelen[[#This Row],[MaatregelNummer]],Tbl_scenario[],3,TRUE)","v":"Hernieuwbare energie_Biomassaketels"},{"$f":"VLOOKUP(tblResultaatMaatregelen[[#This Row],[MaatregelNummer]],Tbl_scenario[],6+(tblResultaatMaatregelen[[#This Row],[ScenarioNummer]]-1)*4+1,TRUE)","v":"Hoog"},{"$f":"IF(tblResultaatMaatregelen[[#This Row],[Ambitieniveau]]=\"Niet\",0,IFERROR(INDIRECT(CONCATENATE(tblResultaatMaatregelen[[#This Row],[MaatregelCode]],\"_REDCO2_\",tblResultaatMaatregelen[[#This Row],[ScenarioNummer]])),0))","v":237.41969345163415},"Sectoren",{"$f":"IF(tblResultaatMaatregelen[[#This Row],[X-as]]=\"Maatregelen\",tblResultaatMaatregelen[[#This Row],[MaatregelNummer]],tblResultaatMaatregelen[[#This Row],[Sectornummer]])","v":5},{"$f":"IF(tblResultaatMaatregelen[[#This Row],[X-as]]=\"Maatregelen\",tblResultaatMaatregelen[[#This Row],[MaatregelCode]],CONCATENATE(tblResultaatMaatregelen[[#This Row],[Sector]],\" (\",tblResultaatMaatregelen[[#This Row],[Sector_kort]],\")\"))","v":"Landbouw (LB)"},{"$f":"IF(tblResultaatMaatregelen[[#This Row],[X-as]]=\"Maatregelen\",CONCATENATE(tblResultaatMaatregelen[[#This Row],[Sector]],\" (\",tblResultaatMaatregelen[[#This Row],[Sector_kort]],\")\"),tblResultaatMaatregelen[[#This Row],[MaatregelCode]])","v":"LB_HER_BMK"}]
[{"$f":"CONCATENATE(\"Scenario \",tblResultaatMaatregelen[[#This Row],[ScenarioNummer]])","v":"Scenario 2"},2,29,{"$f":"VLOOKUP(tblResultaatMaatregelen[[#This Row],[MaatregelNummer]],Tbl_scenario[],4,TRUE)","v":"LB_EE_ENS"},{"$f":"INDEX(tblSectoren[SectorID],MATCH(tblResultaatMaatregelen[[#This Row],[Sector]],tblSectoren[Sectoren],0))","v":5},{"$f":"VLOOKUP(tblResultaatMaatregelen[[#This Row],[MaatregelNummer]],Tbl_scenario[],2,TRUE)","v":"Landbouw"},{"$f":"INDEX(tblSectoren[Afkorting],tblResultaatMaatregelen[[#This Row],[Sectornummer]])","v":"LB"},{"$f":"VLOOKUP(tblResultaatMaatregelen[[#This Row],[MaatregelNummer]],Tbl_scenario[],3,TRUE)","v":"Energieschermen"},{"$f":"VLOOKUP(tblResultaatMaatregelen[[#This Row],[MaatregelNummer]],Tbl_scenario[],6+(tblResultaatMaatregelen[[#This Row],[ScenarioNummer]]-1)*4+1,TRUE)","v":"Hoog"},{"$f":"IF(tblResultaatMaatregelen[[#This Row],[Ambitieniveau]]=\"Niet\",0,IFERROR(INDIRECT(CONCATENATE(tblResultaatMaatregelen[[#This Row],[MaatregelCode]],\"_REDCO2_\",tblResultaatMaatregelen[[#This Row],[ScenarioNummer]])),0))","v":69.769414040474203},"Sectoren",{"$f":"IF(tblResultaatMaatregelen[[#This Row],[X-as]]=\"Maatregelen\",tblResultaatMaatregelen[[#This Row],[MaatregelNummer]],tblResultaatMaatregelen[[#This Row],[Sectornummer]])","v":5},{"$f":"IF(tblResultaatMaatregelen[[#This Row],[X-as]]=\"Maatregelen\",tblResultaatMaatregelen[[#This Row],[MaatregelCode]],CONCATENATE(tblResultaatMaatregelen[[#This Row],[Sector]],\" (\",tblResultaatMaatregelen[[#This Row],[Sector_kort]],\")\"))","v":"Landbouw (LB)"},{"$f":"IF(tblResultaatMaatregelen[[#This Row],[X-as]]=\"Maatregelen\",CONCATENATE(tblResultaatMaatregelen[[#This Row],[Sector]],\" (\",tblResultaatMaatregelen[[#This Row],[Sector_kort]],\")\"),tblResultaatMaatregelen[[#This Row],[MaatregelCode]])","v":"LB_EE_ENS"}]
[{"$f":"CONCATENATE(\"Scenario \",tblResultaatMaatregelen[[#This Row],[ScenarioNummer]])","v":"Scenario 2"},2,30,{"$f":"VLOOKUP(tblResultaatMaatregelen[[#This Row],[MaatregelNummer]],Tbl_scenario[],4,TRUE)","v":"BLANCO_1"},{"$f":"INDEX(tblSectoren[SectorID],MATCH(tblResultaatMaatregelen[[#This Row],[Sector]],tblSectoren[Sectoren],0))","v":1},{"$f":"VLOOKUP(tblResultaatMaatregelen[[#This Row],[MaatregelNummer]],Tbl_scenario[],2,TRUE)","v":"Huishoudens"},{"$f":"INDEX(tblSectoren[Afkorting],tblResultaatMaatregelen[[#This Row],[Sectornummer]])","v":"RES"},{"$f":"VLOOKUP(tblResultaatMaatregelen[[#This Row],[MaatregelNummer]],Tbl_scenario[],3,TRUE)","v":"Blanco"},{"$f":"VLOOKUP(tblResultaatMaatregelen[[#This Row],[MaatregelNummer]],Tbl_scenario[],6+(tblResultaatMaatregelen[[#This Row],[ScenarioNummer]]-1)*4+1,TRUE)","v":"Niet"},{"$f":"IF(tblResultaatMaatregelen[[#This Row],[Ambitieniveau]]=\"Niet\",0,IFERROR(INDIRECT(CONCATENATE(tblResultaatMaatregelen[[#This Row],[MaatregelCode]],\"_REDCO2_\",tblResultaatMaatregelen[[#This Row],[ScenarioNummer]])),0))","v":0},"Sectoren",{"$f":"IF(tblResultaatMaatregelen[[#This Row],[X-as]]=\"Maatregelen\",tblResultaatMaatregelen[[#This Row],[MaatregelNummer]],tblResultaatMaatregelen[[#This Row],[Sectornummer]])","v":1},{"$f":"IF(tblResultaatMaatregelen[[#This Row],[X-as]]=\"Maatregelen\",tblResultaatMaatregelen[[#This Row],[MaatregelCode]],CONCATENATE(tblResultaatMaatregelen[[#This Row],[Sector]],\" (\",tblResultaatMaatregelen[[#This Row],[Sector_kort]],\")\"))","v":"Huishoudens (RES)"},{"$f":"IF(tblResultaatMaatregelen[[#This Row],[X-as]]=\"Maatregelen\",CONCATENATE(tblResultaatMaatregelen[[#This Row],[Sector]],\" (\",tblResultaatMaatregelen[[#This Row],[Sector_kort]],\")\"),tblResultaatMaatregelen[[#This Row],[MaatregelCode]])","v":"BLANCO_1"}]
[{"$f":"CONCATENATE(\"Scenario \",tblResultaatMaatregelen[[#This Row],[ScenarioNummer]])","v":"Scenario 2"},2,31,{"$f":"VLOOKUP(tblResultaatMaatregelen[[#This Row],[MaatregelNummer]],Tbl_scenario[],4,TRUE)","v":"BLANCO_2"},{"$f":"INDEX(tblSectoren[SectorID],MATCH(tblResultaatMaatregelen[[#This Row],[Sector]],tblSectoren[Sectoren],0))","v":1},{"$f":"VLOOKUP(tblResultaatMaatregelen[[#This Row],[MaatregelNummer]],Tbl_scenario[],2,TRUE)","v":"Huishoudens"},{"$f":"INDEX(tblSectoren[Afkorting],tblResultaatMaatregelen[[#This Row],[Sectornummer]])","v":"RES"},{"$f":"VLOOKUP(tblResultaatMaatregelen[[#This Row],[MaatregelNummer]],Tbl_scenario[],3,TRUE)","v":"Blanco"},{"$f":"VLOOKUP(tblResultaatMaatregelen[[#This Row],[MaatregelNummer]],Tbl_scenario[],6+(tblResultaatMaatregelen[[#This Row],[ScenarioNummer]]-1)*4+1,TRUE)","v":"Niet"},{"$f":"IF(tblResultaatMaatregelen[[#This Row],[Ambitieniveau]]=\"Niet\",0,IFERROR(INDIRECT(CONCATENATE(tblResultaatMaatregelen[[#This Row],[MaatregelCode]],\"_REDCO2_\",tblResultaatMaatregelen[[#This Row],[ScenarioNummer]])),0))","v":0},"Sectoren",{"$f":"IF(tblResultaatMaatregelen[[#This Row],[X-as]]=\"Maatregelen\",tblResultaatMaatregelen[[#This Row],[MaatregelNummer]],tblResultaatMaatregelen[[#This Row],[Sectornummer]])","v":1},{"$f":"IF(tblResultaatMaatregelen[[#This Row],[X-as]]=\"Maatregelen\",tblResultaatMaatregelen[[#This Row],[MaatregelCode]],CONCATENATE(tblResultaatMaatregelen[[#This Row],[Sector]],\" (\",tblResultaatMaatregelen[[#This Row],[Sector_kort]],\")\"))","v":"Huishoudens (RES)"},{"$f":"IF(tblResultaatMaatregelen[[#This Row],[X-as]]=\"Maatregelen\",CONCATENATE(tblResultaatMaatregelen[[#This Row],[Sector]],\" (\",tblResultaatMaatregelen[[#This Row],[Sector_kort]],\")\"),tblResultaatMaatregelen[[#This Row],[MaatregelCode]])","v":"BLANCO_2"}]
[{"$f":"CONCATENATE(\"Scenario \",tblResultaatMaatregelen[[#This Row],[ScenarioNummer]])","v":"Scenario 2"},2,32,{"$f":"VLOOKUP(tblResultaatMaatregelen[[#This Row],[MaatregelNummer]],Tbl_scenario[],4,TRUE)","v":"BLANCO_3"},{"$f":"INDEX(tblSectoren[SectorID],MATCH(tblResultaatMaatregelen[[#This Row],[Sector]],tblSectoren[Sectoren],0))","v":1},{"$f":"VLOOKUP(tblResultaatMaatregelen[[#This Row],[MaatregelNummer]],Tbl_scenario[],2,TRUE)","v":"Huishoudens"},{"$f":"INDEX(tblSectoren[Afkorting],tblResultaatMaatregelen[[#This Row],[Sectornummer]])","v":"RES"},{"$f":"VLOOKUP(tblResultaatMaatregelen[[#This Row],[MaatregelNummer]],Tbl_scenario[],3,TRUE)","v":"Blanco"},{"$f":"VLOOKUP(tblResultaatMaatregelen[[#This Row],[MaatregelNummer]],Tbl_scenario[],6+(tblResultaatMaatregelen[[#This Row],[ScenarioNummer]]-1)*4+1,TRUE)","v":"Niet"},{"$f":"IF(tblResultaatMaatregelen[[#This Row],[Ambitieniveau]]=\"Niet\",0,IFERROR(INDIRECT(CONCATENATE(tblResultaatMaatregelen[[#This Row],[MaatregelCode]],\"_REDCO2_\",tblResultaatMaatregelen[[#This Row],[ScenarioNummer]])),0))","v":0},"Sectoren",{"$f":"IF(tblResultaatMaatregelen[[#This Row],[X-as]]=\"Maatregelen\",tblResultaatMaatregelen[[#This Row],[MaatregelNummer]],tblResultaatMaatregelen[[#This Row],[Sectornummer]])","v":1},{"$f":"IF(tblResultaatMaatregelen[[#This Row],[X-as]]=\"Maatregelen\",tblResultaatMaatregelen[[#This Row],[MaatregelCode]],CONCATENATE(tblResultaatMaatregelen[[#This Row],[Sector]],\" (\",tblResultaatMaatregelen[[#This Row],[Sector_kort]],\")\"))","v":"Huishoudens (RES)"},{"$f":"IF(tblResultaatMaatregelen[[#This Row],[X-as]]=\"Maatregelen\",CONCATENATE(tblResultaatMaatregelen[[#This Row],[Sector]],\" (\",tblResultaatMaatregelen[[#This Row],[Sector_kort]],\")\"),tblResultaatMaatregelen[[#This Row],[MaatregelCode]])","v":"BLANCO_3"}]

{"sheet":"Detailresultaten_sector","index":14,"n_rows":127,"n_cols":11,"rows_kept":127,"cut":false,"hidden":true,"merged":[]}
["MaatregelNummer","Situatie","Jaar","Sector","Maatregel","Type","ton CO2",null,null,null,"tblResultaatSector"]
[0,"Referentiesituatie",{"$f":"P_Maatregelen_Jaar","v":2030},"Huishoudens",{"$f":"IF(tblResultaatSector[[#This Row],[MaatregelNummer]]=0,\"Totaal\",VLOOKUP([MaatregelNummer],Tbl_scenario[],4,TRUE))","v":"Totaal"},"Totale emissie",{"$f":"IF(P_Maatregelen_Referentie=\"BAU\",SUMIFS(BAU_TOTAAL!$G$54:$N$54,BAU_TOTAAL!$G$36:$N$36,tblResultaatSector[[#This Row],[Sector]]),\nIF(P_Maatregelen_Referentie=\"INV\",SUMIFS(tbl_AA_Data_all_REF[value_final],tbl_AA_Data_all_REF[sector],tblResultaatSector[[#This Row],[Sector]],tbl_AA_Data_all_REF[parameter],\"CO2\"),\nSUMIFS(EIG!$S$31:$S$39,EIG!$C$31:$C$39,tblResultaatSector[[#This Row],[Sector]])))","v":95656.249277971205}]
[0,"Referentiesituatie",2030,"Tertiair",{"$f":"IF(tblResultaatSector[[#This Row],[MaatregelNummer]]=0,\"Totaal\",VLOOKUP([MaatregelNummer],Tbl_scenario[],4,TRUE))","v":"Totaal"},"Totale emissie",{"$f":"IF(P_Maatregelen_Referentie=\"BAU\",SUMIFS(BAU_TOTAAL!$G$54:$N$54,BAU_TOTAAL!$G$36:$N$36,tblResultaatSector[[#This Row],[Sector]]),\nIF(P_Maatregelen_Referentie=\"INV\",SUMIFS(tbl_AA_Data_all_REF[value_final],tbl_AA_Data_all_REF[sector],tblResultaatSector[[#This Row],[Sector]],tbl_AA_Data_all_REF[parameter],\"CO2\"),\nSUMIFS(EIG!$S$31:$S$39,EIG!$C$31:$C$39,tblResultaatSector[[#This Row],[Sector]])))","v":87269.992104577585}]
[0,"Referentiesituatie",2030,"Industrie (niet-ETS)",{"$f":"IF(tblResultaatSector[[#This Row],[MaatregelNummer]]=0,\"Totaal\",VLOOKUP([MaatregelNummer],Tbl_scenario[],4,TRUE))","v":"Totaal"},"Totale emissie",{"$f":"IF(P_Maatregelen_Referentie=\"BAU\",SUMIFS(BAU_TOTAAL!$G$54:$N$54,BAU_TOTAAL!$G$36:$N$36,tblResultaatSector[[#This Row],[Sector]]),\nIF(P_Maatregelen_Referentie=\"INV\",SUMIFS(tbl_AA_Data_all_REF[value_final],tbl_AA_Data_all_REF[sector],tblResultaatSector[[#This Row],[Sector]],tbl_AA_Data_all_REF[parameter],\"CO2\"),\nSUMIFS(EIG!$S$31:$S$39,EIG!$C$31:$C$39,tblResultaatSector[[#This Row],[Sector]])))","v":35989.870245523103}]
[0,"Referentiesituatie",2030,"Particulier en commercieel vervoer",{"$f":"IF(tblResultaatSector[[#This Row],[MaatregelNummer]]=0,\"Totaal\",VLOOKUP([MaatregelNummer],Tbl_scenario[],4,TRUE))","v":"Totaal"},"Totale emissie",{"$f":"IF(P_Maatregelen_Referentie=\"BAU\",SUMIFS(BAU_TOTAAL!$G$54:$N$54,BAU_TOTAAL!$G$36:$N$36,tblResultaatSector[[#This Row],[Sector]]),\nIF(P_Maatregelen_Referentie=\"INV\",SUMIFS(tbl_AA_Data_all_REF[value_final],tbl_AA_Data_all_REF[sector],tblResultaatSector[[#This Row],[Sector]],tbl_AA_Data_all_REF[parameter],\"CO2\"),\nSUMIFS(EIG!$S$31:$S$39,EIG!$C$31:$C$39,tblResultaatSector[[#This Row],[Sector]])))","v":100210.09400600841}]
[0,"Referentiesituatie",2030,"Landbouw",{"$f":"IF(tblResultaatSector[[#This Row],[MaatregelNummer]]=0,\"Totaal\",VLOOKUP([MaatregelNummer],Tbl_scenario[],4,TRUE))","v":"Totaal"},"Totale emissie",{"$f":"IF(P_Maatregelen_Referentie=\"BAU\",SUMIFS(BAU_TOTAAL!$G$54:$N$54,BAU_TOTAAL!$G$36:$N$36,tblResultaatSector[[#This Row],[Sector]]),\nIF(P_Maatregelen_Referentie=\"INV\",SUMIFS(tbl_AA_Data_all_REF[value_final],tbl_AA_Data_all_REF[sector],tblResultaatSector[[#This Row],[Sector]],tbl_AA_Data_all_REF[parameter],\"CO2\"),\nSUMIFS(EIG!$S$31:$S$39,EIG!$C$31:$C$39,tblResultaatSector[[#This Row],[Sector]])))","v":2178.6947894009973}]
[0,"Referentiesituatie",2030,"Openbare verlichting",{"$f":"IF(tblResultaatSector[[#This Row],[MaatregelNummer]]=0,\"Totaal\",VLOOKUP([MaatregelNummer],Tbl_scenario[],4,TRUE))","v":"Totaal"},"Totale emissie",{"$f":"IF(P_Maatregelen_Referentie=\"BAU\",SUMIFS(BAU_TOTAAL!$G$54:$N$54,BAU_TOTAAL!$G$36:$N$36,tblResultaatSector[[#This Row],[Sector]]),\nIF(P_Maatregelen_Referentie=\"INV\",SUMIFS(tbl_AA_Data_all_REF[value_final],tbl_AA_Data_all_REF[sector],tblResultaatSector[[#This Row],[Sector]],tbl_AA_Data_all_REF[parameter],\"CO2\"),\nSUMIFS(EIG!$S$31:$S$39,EIG!$C$31:$C$39,tblResultaatSector[[#This Row],[Sector]])))","v":894.19398411202997}]
[0,"Referentiesituatie",2030,"Openbaar vervoer",{"$f":"IF(tblResultaatSector[[#This Row],[MaatregelNummer]]=0,\"Totaal\",VLOOKUP([MaatregelNummer],Tbl_scenario[],4,TRUE))","v":"Totaal"},"Totale emissie",{"$f":"IF(P_Maatregelen_Referentie=\"BAU\",SUMIFS(BAU_TOTAAL!$G$54:$N$54,BAU_TOTAAL!$G$36:$N$36,tblResultaatSector[[#This Row],[Sector]]),\nIF(P_Maatregelen_Referentie=\"INV\",SUMIFS(tbl_AA_Data_all_REF[value_final],tbl_AA_Data_all_REF[sector],tblResultaatSector[[#This Row],[Sector]],tbl_AA_Data_all_REF[parameter],\"CO2\"),\nSUMIFS(EIG!$S$31:$S$39,EIG!$C$31:$C$39,tblResultaatSector[[#This Row],[Sector]])))","v":3562.1960098022601}]
[0,"Referentiesituatie",2030,"Lokale energieproductie",{"$f":"IF(tblResultaatSector[[#This Row],[MaatregelNummer]]=0,\"Totaal\",VLOOKUP([MaatregelNummer],Tbl_scenario[],4,TRUE))","v":"Totaal"},"Totale emissie",{"$f":"IF(P_Maatregelen_Referentie=\"BAU\",SUMIFS(BAU_TOTAAL!$G$54:$N$54,BAU_TOTAAL!$G$36:$N$36,tblResultaatSector[[#This Row],[Sector]]),\nIF(P_Maatregelen_Referentie=\"INV\",SUMIFS(tbl_AA_Data_all_REF[value_final],tbl_AA_Data_all_REF[sector],tblResultaatSector[[#This Row],[Sector]],tbl_AA_Data_all_REF[parameter],\"CO2\"),\nSUMIFS(EIG!$S$31:$S$39,EIG!$C$31:$C$39,tblResultaatSector[[#This Row],[Sector]])))","v":0}]
[0,"Referentiesituatie",2030,"Niet toegekend",{"$f":"IF(tblResultaatSector[[#This Row],[MaatregelNummer]]=0,\"Totaal\",VLOOKUP([MaatregelNummer],Tbl_scenario[],4,TRUE))","v":"Totaal"},"Totale emissie",{"$f":"IF(P_Maatregelen_Referentie=\"BAU\",SUMIFS(BAU_TOTAAL!$G$54:$N$54,BAU_TOTAAL!$G$36:$N$36,tblResultaatSector[[#This Row],[Sector]]),\nIF(P_Maatregelen_Referentie=\"INV\",SUMIFS(tbl_AA_Data_all_REF[value_final],tbl_AA_Data_all_REF[sector],tblResultaatSector[[#This Row],[Sector]],tbl_AA_Data_all_REF[parameter],\"CO2\"),\nSUMIFS(EIG!$S$31:$S$39,EIG!$C$31:$C$39,tblResultaatSector[[#This Row],[Sector]])))","v":5703.8000219561645}]
[0,"Doelstellingsreferentie",{"$f":"D_Doel_Jaar","v":2012},"Alle sectoren",{"$f":"IF(tblResultaatSector[[#This Row],[MaatregelNummer]]=0,\"Totaal\",VLOOKUP([MaatregelNummer],Tbl_scenario[],4,TRUE))","v":"Totaal"},"Totale emissie",{"$f":"CO2_referentie","v":352252.46791540069}]
[0,"CO2-plafond 2030",2030,"Alle sectoren",{"$f":"IF(tblResultaatSector[[#This Row],[MaatregelNummer]]=0,\"Totaal\",VLOOKUP([MaatregelNummer],Tbl_scenario[],4,TRUE))","v":"Totaal"},"Totale emissie",{"$f":"CO2_plafond","v":211351.48074924041}]
[0,"Scenario 1",2030,"Huishoudens",{"$f":"IF(tblResultaatSector[[#This Row],[MaatregelNummer]]=0,\"Totaal\",VLOOKUP([MaatregelNummer],Tbl_scenario[],4,TRUE))","v":"Totaal"},"Totale emissie",{"$f":"SUMIFS([ton CO2],[Situatie],\"Referentiesituatie\",[Jaar],P_Maatregelen_Jaar,[Sector],tblResultaatSector[[#This Row],[Sector]],[Type],\"Totale emissie\")-SUMIFS([ton CO2],[Situatie],tblResultaatSector[[#This Row],[Situatie]],[Jaar],tblResultaatSector[[#This Row],[Jaar]],[Sector],tblResultaatSector[[#This Row],[Sector]],[Type],\"Reductie\")","v":55285.036566246992}]
[0,"Scenario 1",2030,"Tertiair",{"$f":"IF(tblResultaatSector[[#This Row],[MaatregelNummer]]=0,\"Totaal\",VLOOKUP([MaatregelNummer],Tbl_scenario[],4,TRUE))","v":"Totaal"},"Totale emissie",{"$f":"SUMIFS([ton CO2],[Situatie],\"Referentiesituatie\",[Jaar],P_Maatregelen_Jaar,[Sector],tblResultaatSector[[#This Row],[Sector]],[Type],\"Totale emissie\")-SUMIFS([ton CO2],[Situatie],tblResultaatSector[[#This Row],[Situatie]],[Jaar],tblResultaatSector[[#This Row],[Jaar]],[Sector],tblResultaatSector[[#This Row],[Sector]],[Type],\"Reductie\")","v":74529.968538785441}]
[0,"Scenario 1",2030,"Industrie (niet-ETS)",{"$f":"IF(tblResultaatSector[[#This Row],[MaatregelNummer]]=0,\"Totaal\",VLOOKUP([MaatregelNummer],Tbl_scenario[],4,TRUE))","v":"Totaal"},"Totale emissie",{"$f":"SUMIFS([ton CO2],[Situatie],\"Referentiesituatie\",[Jaar],P_Maatregelen_Jaar,[Sector],tblResultaatSector[[#This Row],[Sector]],[Type],\"Totale emissie\")-SUMIFS([ton CO2],[Situatie],tblResultaatSector[[#This Row],[Situatie]],[Jaar],tblResultaatSector[[#This Row],[Jaar]],[Sector],tblResultaatSector[[#This Row],[Sector]],[Type],\"Reductie\")","v":35075.314121717543}]
[0,"Scenario 1",2030,"Particulier en commercieel vervoer",{"$f":"IF(tblResultaatSector[[#This Row],[MaatregelNummer]]=0,\"Totaal\",VLOOKUP([MaatregelNummer],Tbl_scenario[],4,TRUE))","v":"Totaal"},"Totale emissie",{"$f":"SUMIFS([ton CO2],[Situatie],\"Referentiesituatie\",[Jaar],P_Maatregelen_Jaar,[Sector],tblResultaatSector[[#This Row],[Sector]],[Type],\"Totale emissie\")-SUMIFS([ton CO2],[Situatie],tblResultaatSector[[#This Row],[Situatie]],[Jaar],tblResultaatSector[[#This Row],[Jaar]],[Sector],tblResultaatSector[[#This Row],[Sector]],[Type],\"Reductie\")","v":90692.583646907224}]
[0,"Scenario 1",2030,"Landbouw",{"$f":"IF(tblResultaatSector[[#This Row],[MaatregelNummer]]=0,\"Totaal\",VLOOKUP([MaatregelNummer],Tbl_scenario[],4,TRUE))","v":"Totaal"},"Totale emissie",{"$f":"SUMIFS([ton CO2],[Situatie],\"Referentiesituatie\",[Jaar],P_Maatregelen_Jaar,[Sector],tblResultaatSector[[#This Row],[Sector]],[Type],\"Totale emissie\")-SUMIFS([ton CO2],[Situatie],tblResultaatSector[[#This Row],[Situatie]],[Jaar],tblResultaatSector[[#This Row],[Jaar]],[Sector],tblResultaatSector[[#This Row],[Sector]],[Type],\"Reductie\")","v":2001.1385805820059}]
[0,"Scenario 1",2030,"Openbare verlichting",{"$f":"IF(tblResultaatSector[[#This Row],[MaatregelNummer]]=0,\"Totaal\",VLOOKUP([MaatregelNummer],Tbl_scenario[],4,TRUE))","v":"Totaal"},"Totale emissie",{"$f":"SUMIFS([ton CO2],[Situatie],\"Referentiesituatie\",[Jaar],P_Maatregelen_Jaar,[Sector],tblResultaatSector[[#This Row],[Sector]],[Type],\"Totale emissie\")-SUMIFS([ton CO2],[Situatie],tblResultaatSector[[#This Row],[Situatie]],[Jaar],tblResultaatSector[[#This Row],[Jaar]],[Sector],tblResultaatSector[[#This Row],[Sector]],[Type],\"Reductie\")","v":679.28161358257648}]
[0,"Scenario 1",2030,"Openbaar vervoer",{"$f":"IF(tblResultaatSector[[#This Row],[MaatregelNummer]]=0,\"Totaal\",VLOOKUP([MaatregelNummer],Tbl_scenario[],4,TRUE))","v":"Totaal"},"Totale emissie",{"$f":"SUMIFS([ton CO2],[Situatie],\"Referentiesituatie\",[Jaar],P_Maatregelen_Jaar,[Sector],tblResultaatSector[[#This Row],[Sector]],[Type],\"Totale emissie\")-SUMIFS([ton CO2],[Situatie],tblResultaatSector[[#This Row],[Situatie]],[Jaar],tblResultaatSector[[#This Row],[Jaar]],[Sector],tblResultaatSector[[#This Row],[Sector]],[Type],\"Reductie\")","v":3562.1960098022601}]
[0,"Scenario 1",2030,"Lokale energieproductie",{"$f":"IF(tblResultaatSector[[#This Row],[MaatregelNummer]]=0,\"Totaal\",VLOOKUP([MaatregelNummer],Tbl_scenario[],4,TRUE))","v":"Totaal"},"Totale emissie",{"$f":"SUMIFS([ton CO2],[Situatie],\"Referentiesituatie\",[Jaar],P_Maatregelen_Jaar,[Sector],tblResultaatSector[[#This Row],[Sector]],[Type],\"Totale emissie\")-SUMIFS([ton CO2],[Situatie],tblResultaatSector[[#This Row],[Situatie]],[Jaar],tblResultaatSector[[#This Row],[Jaar]],[Sector],tblResultaatSector[[#This Row],[Sector]],[Type],\"Reductie\")","v":-5136.47964359664}]
[0,"Scenario 1",2030,"Niet toegekend",{"$f":"IF(tblResultaatSector[[#This Row],[MaatregelNummer]]=0,\"Totaal\",VLOOKUP([MaatregelNummer],Tbl_scenario[],4,TRUE))","v":"Totaal"},"Totale emissie",{"$f":"SUMIFS([ton CO2],[Situatie],\"Referentiesituatie\",[Jaar],P_Maatregelen_Jaar,[Sector],tblResultaatSector[[#This Row],[Sector]],[Type],\"Totale emissie\")-SUMIFS([ton CO2],[Situatie],tblResultaatSector[[#This Row],[Situatie]],[Jaar],tblResultaatSector[[#This Row],[Jaar]],[Sector],tblResultaatSector[[#This Row],[Sector]],[Type],\"Reductie\")","v":5703.8000219561645}]
[0,"Scenario 2",2030,"Huishoudens",{"$f":"IF(tblResultaatSector[[#This Row],[MaatregelNummer]]=0,\"Totaal\",VLOOKUP([MaatregelNummer],Tbl_scenario[],4,TRUE))","v":"Totaal"},"Totale emissie",{"$f":"SUMIFS([ton CO2],[Situatie],\"Referentiesituatie\",[Jaar],P_Maatregelen_Jaar,[Sector],tblResultaatSector[[#This Row],[Sector]],[Type],\"Totale emissie\")-SUMIFS([ton CO2],[Situatie],tblResultaatSector[[#This Row],[Situatie]],[Jaar],tblResultaatSector[[#This Row],[Jaar]],[Sector],tblResultaatSector[[#This Row],[Sector]],[Type],\"Reductie\")","v":23670.979547273731}]
[0,"Scenario 2",2030,"Tertiair",{"$f":"IF(tblResultaatSector[[#This Row],[MaatregelNummer]]=0,\"Totaal\",VLOOKUP([MaatregelNummer],Tbl_scenario[],4,TRUE))","v":"Totaal"},"Totale emissie",{"$f":"SUMIFS([ton CO2],[Situatie],\"Referentiesituatie\",[Jaar],P_Maatregelen_Jaar,[Sector],tblResultaatSector[[#This Row],[Sector]],[Type],\"Totale emissie\")-SUMIFS([ton CO2],[Situatie],tblResultaatSector[[#This Row],[Situatie]],[Jaar],tblResultaatSector[[#This Row],[Jaar]],[Sector],tblResultaatSector[[#This Row],[Sector]],[Type],\"Reductie\")","v":57543.270451062599}]
[0,"Scenario 2",2030,"Industrie (niet-ETS)",{"$f":"IF(tblResultaatSector[[#This Row],[MaatregelNummer]]=0,\"Totaal\",VLOOKUP([MaatregelNummer],Tbl_scenario[],4,TRUE))","v":"Totaal"},"Totale emissie",{"$f":"SUMIFS([ton CO2],[Situatie],\"Referentiesituatie\",[Jaar],P_Maatregelen_Jaar,[Sector],tblResultaatSector[[#This Row],[Sector]],[Type],\"Totale emissie\")-SUMIFS([ton CO2],[Situatie],tblResultaatSector[[#This Row],[Situatie]],[Jaar],tblResultaatSector[[#This Row],[Jaar]],[Sector],tblResultaatSector[[#This Row],[Sector]],[Type],\"Reductie\")","v":33539.527027508368}]
[0,"Scenario 2",2030,"Particulier en commercieel vervoer",{"$f":"IF(tblResultaatSector[[#This Row],[MaatregelNummer]]=0,\"Totaal\",VLOOKUP([MaatregelNummer],Tbl_scenario[],4,TRUE))","v":"Totaal"},"Totale emissie",{"$f":"SUMIFS([ton CO2],[Situatie],\"Referentiesituatie\",[Jaar],P_Maatregelen_Jaar,[Sector],tblResultaatSector[[#This Row],[Sector]],[Type],\"Totale emissie\")-SUMIFS([ton CO2],[Situatie],tblResultaatSector[[#This Row],[Situatie]],[Jaar],tblResultaatSector[[#This Row],[Jaar]],[Sector],tblResultaatSector[[#This Row],[Sector]],[Type],\"Reductie\")","v":52622.542210502492}]
[0,"Scenario 2",2030,"Landbouw",{"$f":"IF(tblResultaatSector[[#This Row],[MaatregelNummer]]=0,\"Totaal\",VLOOKUP([MaatregelNummer],Tbl_scenario[],4,TRUE))","v":"Totaal"},"Totale emissie",{"$f":"SUMIFS([ton CO2],[Situatie],\"Referentiesituatie\",[Jaar],P_Maatregelen_Jaar,[Sector],tblResultaatSector[[#This Row],[Sector]],[Type],\"Totale emissie\")-SUMIFS([ton CO2],[Situatie],tblResultaatSector[[#This Row],[Situatie]],[Jaar],tblResultaatSector[[#This Row],[Jaar]],[Sector],tblResultaatSector[[#This Row],[Sector]],[Type],\"Reductie\")","v":1604.6097065387632}]
[0,"Scenario 2",2030,"Openbare verlichting",{"$f":"IF(tblResultaatSector[[#This Row],[MaatregelNummer]]=0,\"Totaal\",VLOOKUP([MaatregelNummer],Tbl_scenario[],4,TRUE))","v":"Totaal"},"Totale emissie",{"$f":"SUMIFS([ton CO2],[Situatie],\"Referentiesituatie\",[Jaar],P_Maatregelen_Jaar,[Sector],tblResultaatSector[[#This Row],[Sector]],[Type],\"Totale emissie\")-SUMIFS([ton CO2],[Situatie],tblResultaatSector[[#This Row],[Situatie]],[Jaar],tblResultaatSector[[#This Row],[Jaar]],[Sector],tblResultaatSector[[#This Row],[Sector]],[Type],\"Reductie\")","v":392.73178620997174}]
[0,"Scenario 2",2030,"Openbaar vervoer",{"$f":"IF(tblResultaatSector[[#This Row],[MaatregelNummer]]=0,\"Totaal\",VLOOKUP([MaatregelNummer],Tbl_scenario[],4,TRUE))","v":"Totaal"},"Totale emissie",{"$f":"SUMIFS([ton CO2],[Situatie],\"Referentiesituatie\",[Jaar],P_Maatregelen_Jaar,[Sector],tblResultaatSector[[#This Row],[Sector]],[Type],\"Totale emissie\")-SUMIFS([ton CO2],[Situatie],tblResultaatSector[[#This Row],[Situatie]],[Jaar],tblResultaatSector[[#This Row],[Jaar]],[Sector],tblResultaatSector[[#This Row],[Sector]],[Type],\"Reductie\")","v":3562.1960098022601}]
[0,"Scenario 2",2030,"Lokale energieproductie",{"$f":"IF(tblResultaatSector[[#This Row],[MaatregelNummer]]=0,\"Totaal\",VLOOKUP([MaatregelNummer],Tbl_scenario[],4,TRUE))","v":"Totaal"},"Totale emissie",{"$f":"SUMIFS([ton CO2],[Situatie],\"Referentiesituatie\",[Jaar],P_Maatregelen_Jaar,[Sector],tblResultaatSector[[#This Row],[Sector]],[Type],\"Totale emissie\")-SUMIFS([ton CO2],[Situatie],tblResultaatSector[[#This Row],[Situatie]],[Jaar],tblResultaatSector[[#This Row],[Jaar]],[Sector],tblResultaatSector[[#This Row],[Sector]],[Type],\"Reductie\")","v":-25682.398217983198}]
[0,"Scenario 2",2030,"Niet toegekend",{"$f":"IF(tblResultaatSector[[#This Row],[MaatregelNummer]]=0,\"Totaal\",VLOOKUP([MaatregelNummer],Tbl_scenario[],4,TRUE))","v":"Totaal"},"Totale emissie",{"$f":"SUMIFS([ton CO2],[Situatie],\"Referentiesituatie\",[Jaar],P_Maatregelen_Jaar,[Sector],tblResultaatSector[[#This Row],[Sector]],[Type],\"Totale emissie\")-SUMIFS([ton CO2],[Situatie],tblResultaatSector[[#This Row],[Situatie]],[Jaar],tblResultaatSector[[#This Row],[Jaar]],[Sector],tblResultaatSector[[#This Row],[Sector]],[Type],\"Reductie\")","v":5703.8000219561645}]
[0,"Te behalen reductie",2030,"Alle sectoren","Totaal","Reductie",{"$f":"SUMIFS([ton CO2],[Situatie],\"Referentiesituatie\",[Maatregel],\"Totaal\",[Type],\"Totale emissie\")-SUMIFS([ton CO2],[Situatie],\"CO2-plafond 2030\",[Maatregel],\"Totaal\",[Type],\"Totale emissie\")","v":120113.60969011139}]
[1,"Te behalen reductie",2030,{"$f":"VLOOKUP(tblResultaatSector[[#This Row],[MaatregelNummer]],Tbl_scenario[],2,TRUE)","v":"Huishoudens"},{"$f":"IF(tblResultaatSector[[#This Row],[MaatregelNummer]]=0,\"Totaal\",VLOOKUP([MaatregelNummer],Tbl_scenario[],4,TRUE))","v":"RES_ISO_DAK"},"Reductie",0]
[2,"Te behalen reductie",2030,{"$f":"VLOOKUP(tblResultaatSector[[#This Row],[MaatregelNummer]],Tbl_scenario[],2,TRUE)","v":"Huishoudens"},{"$f":"IF(tblResultaatSector[[#This Row],[MaatregelNummer]]=0,\"Totaal\",VLOOKUP([MaatregelNummer],Tbl_scenario[],4,TRUE))","v":"RES_ISO_MUUR"},"Reductie",0]
[3,"Te behalen reductie",2030,{"$f":"VLOOKUP(tblResultaatSector[[#This Row],[MaatregelNummer]],Tbl_scenario[],2,TRUE)","v":"Huishoudens"},{"$f":"IF(tblResultaatSector[[#This Row],[MaatregelNummer]]=0,\"Totaal\",VLOOKUP([MaatregelNummer],Tbl_scenario[],4,TRUE))","v":"RES_ISO_VL"},"Reductie",0]
[4,"Te behalen reductie",2030,{"$f":"VLOOKUP(tblResultaatSector[[#This Row],[MaatregelNummer]],Tbl_scenario[],2,TRUE)","v":"Huishoudens"},{"$f":"IF(tblResultaatSector[[#This Row],[MaatregelNummer]]=0,\"Totaal\",VLOOKUP([MaatregelNummer],Tbl_scenario[],4,TRUE))","v":"RES_ISO_BG"},"Reductie",0]
[5,"Te behalen reductie",2030,{"$f":"VLOOKUP(tblResultaatSector[[#This Row],[MaatregelNummer]],Tbl_scenario[],2,TRUE)","v":"Huishoudens"},{"$f":"IF(tblResultaatSector[[#This Row],[MaatregelNummer]]=0,\"Totaal\",VLOOKUP([MaatregelNummer],Tbl_scenario[],4,TRUE))","v":"RES_HER_WP"},"Reductie",0]
[6,"Te behalen reductie",2030,{"$f":"VLOOKUP(tblResultaatSector[[#This Row],[MaatregelNummer]],Tbl_scenario[],2,TRUE)","v":"Huishoudens"},{"$f":"IF(tblResultaatSector[[#This Row],[MaatregelNummer]]=0,\"Totaal\",VLOOKUP([MaatregelNummer],Tbl_scenario[],4,TRUE))","v":"RES_HER_ZB"},"Reductie",0]
[7,"Te behalen reductie",2030,{"$f":"VLOOKUP(tblResultaatSector[[#This Row],[MaatregelNummer]],Tbl_scenario[],2,TRUE)","v":"Huishoudens"},{"$f":"IF(tblResultaatSector[[#This Row],[MaatregelNummer]]=0,\"Totaal\",VLOOKUP([MaatregelNummer],Tbl_scenario[],4,TRUE))","v":"RES_HER_WPB"},"Reductie",0]
[8,"Te behalen reductie",2030,{"$f":"VLOOKUP(tblResultaatSector[[#This Row],[MaatregelNummer]],Tbl_scenario[],2,TRUE)","v":"Huishoudens"},{"$f":"IF(tblResultaatSector[[#This Row],[MaatregelNummer]]=0,\"Totaal\",VLOOKUP([MaatregelNummer],Tbl_scenario[],4,TRUE))","v":"RES_EE_ELE"},"Reductie",0]
[9,"Te behalen reductie",2030,{"$f":"VLOOKUP(tblResultaatSector[[#This Row],[MaatregelNummer]],Tbl_scenario[],2,TRUE)","v":"Huishoudens"},{"$f":"IF(tblResultaatSector[[#This Row],[MaatregelNummer]]=0,\"Totaal\",VLOOKUP([MaatregelNummer],Tbl_scenario[],4,TRUE))","v":"RES_EE_SLOOP"},"Reductie",0]
[10,"Te behalen reductie",2030,{"$f":"VLOOKUP(tblResultaatSector[[#This Row],[MaatregelNummer]],Tbl_scenario[],2,TRUE)","v":"Tertiair"},{"$f":"IF(tblResultaatSector[[#This Row],[MaatregelNummer]]=0,\"Totaal\",VLOOKUP([MaatregelNummer],Tbl_scenario[],4,TRUE))","v":"TER_EE_ISO"},"Reductie",0]
[11,"Te behalen reductie",2030,{"$f":"VLOOKUP(tblResultaatSector[[#This Row],[MaatregelNummer]],Tbl_scenario[],2,TRUE)","v":"Tertiair"},{"$f":"IF(tblResultaatSector[[#This Row],[MaatregelNummer]]=0,\"Totaal\",VLOOKUP([MaatregelNummer],Tbl_scenario[],4,TRUE))","v":"TER_HER_WP"},"Reductie",0]
[12,"Te behalen reductie",2030,{"$f":"VLOOKUP(tblResultaatSector[[#This Row],[MaatregelNummer]],Tbl_scenario[],2,TRUE)","v":"Tertiair"},{"$f":"IF(tblResultaatSector[[#This Row],[MaatregelNummer]]=0,\"Totaal\",VLOOKUP([MaatregelNummer],Tbl_scenario[],4,TRUE))","v":"TER_HER_ZB"},"Reductie",0]
[13,"Te behalen reductie",2030,{"$f":"VLOOKUP(tblResultaatSector[[#This Row],[MaatregelNummer]],Tbl_scenario[],2,TRUE)","v":"Tertiair"},{"$f":"IF(tblResultaatSector[[#This Row],[MaatregelNummer]]=0,\"Totaal\",VLOOKUP([MaatregelNummer],Tbl_scenario[],4,TRUE))","v":"TER_HER_WPB"},"Reductie",0]
[14,"Te behalen reductie",2030,{"$f":"VLOOKUP(tblResultaatSector[[#This Row],[MaatregelNummer]],Tbl_scenario[],2,TRUE)","v":"Tertiair"},{"$f":"IF(tblResultaatSector[[#This Row],[MaatregelNummer]]=0,\"Totaal\",VLOOKUP([MaatregelNummer],Tbl_scenario[],4,TRUE))","v":"TER_EE_ELE"},"Reductie",0]
[15,"Te behalen reductie",2030,{"$f":"VLOOKUP(tblResultaatSector[[#This Row],[MaatregelNummer]],Tbl_scenario[],2,TRUE)","v":"Openbare verlichting"},{"$f":"IF(tblResultaatSector[[#This Row],[MaatregelNummer]]=0,\"Totaal\",VLOOKUP([MaatregelNummer],Tbl_scenario[],4,TRUE))","v":"OV_LED_EE"},"Reductie",0]
[16,"Te behalen reductie",2030,{"$f":"VLOOKUP(tblResultaatSector[[#This Row],[MaatregelNummer]],Tbl_scenario[],2,TRUE)","v":"Industrie (niet-ETS)"},{"$f":"IF(tblResultaatSector[[#This Row],[MaatregelNummer]]=0,\"Totaal\",VLOOKUP([MaatregelNummer],Tbl_scenario[],4,TRUE))","v":"IND_HER_WP"},"Reductie",0]
[17,"Te behalen reductie",2030,{"$f":"VLOOKUP(tblResultaatSector[[#This Row],[MaatregelNummer]],Tbl_scenario[],2,TRUE)","v":"Industrie (niet-ETS)"},{"$f":"IF(tblResultaatSector[[#This Row],[MaatregelNummer]]=0,\"Totaal\",VLOOKUP([MaatregelNummer],Tbl_scenario[],4,TRUE))","v":"IND_HER_ZB"},"Reductie",0]
[18,"Te behalen reductie",2030,{"$f":"VLOOKUP(tblResultaatSector[[#This Row],[MaatregelNummer]],Tbl_scenario[],2,TRUE)","v":"Industrie (niet-ETS)"},{"$f":"IF(tblResultaatSector[[#This Row],[MaatregelNummer]]=0,\"Totaal\",VLOOKUP([MaatregelNummer],Tbl_scenario[],4,TRUE))","v":"IND_EE_EEA"},"Reductie",0]
[19,"Te behalen reductie",2030,{"$f":"VLOOKUP(tblResultaatSector[[#This Row],[MaatregelNummer]],Tbl_scenario[],2,TRUE)","v":"Particulier en commercieel vervoer"},{"$f":"IF(tblResultaatSector[[#This Row],[MaatregelNummer]]=0,\"Totaal\",VLOOKUP([MaatregelNummer],Tbl_scenario[],4,TRUE))","v":"MOB_MS_voet"},"Reductie",0]
[20,"Te behalen reductie",2030,{"$f":"VLOOKUP(tblResultaatSector[[#This Row],[MaatregelNummer]],Tbl_scenario[],2,TRUE)","v":"Particulier en commercieel vervoer"},{"$f":"IF(tblResultaatSector[[#This Row],[MaatregelNummer]]=0,\"Totaal\",VLOOKUP([MaatregelNummer],Tbl_scenario[],4,TRUE))","v":"MOB_MS_EFiets"},"Reductie",0]
[21,"Te behalen reductie",2030,{"$f":"VLOOKUP(tblResultaatSector[[#This Row],[MaatregelNummer]],Tbl_scenario[],2,TRUE)","v":"Particulier en commercieel vervoer"},{"$f":"IF(tblResultaatSector[[#This Row],[MaatregelNummer]]=0,\"Totaal\",VLOOKUP([MaatregelNummer],Tbl_scenario[],4,TRUE))","v":"MOB_MS_OV"},"Reductie",0]
[22,"Te behalen reductie",2030,{"$f":"VLOOKUP(tblResultaatSector[[#This Row],[MaatregelNummer]],Tbl_scenario[],2,TRUE)","v":"Particulier en commercieel vervoer"},{"$f":"IF(tblResultaatSector[[#This Row],[MaatregelNummer]]=0,\"Totaal\",VLOOKUP([MaatregelNummer],Tbl_scenario[],4,TRUE))","v":"MOB_BS_EV"},"Reductie",0]
[23,"Te behalen reductie",2030,{"$f":"VLOOKUP(tblResultaatSector[[#This Row],[MaatregelNummer]],Tbl_scenario[],2,TRUE)","v":"Particulier en commercieel vervoer"},{"$f":"IF(tblResultaatSector[[#This Row],[MaatregelNummer]]=0,\"Totaal\",VLOOKUP([MaatregelNummer],Tbl_scenario[],4,TRUE))","v":"MOB_BS_H2"},"Reductie",0]
[24,"Te behalen reductie",2030,{"$f":"VLOOKUP(tblResultaatSector[[#This Row],[MaatregelNummer]],Tbl_scenario[],2,TRUE)","v":"Lokale energieproductie"},{"$f":"IF(tblResultaatSector[[#This Row],[MaatregelNummer]]=0,\"Totaal\",VLOOKUP([MaatregelNummer],Tbl_scenario[],4,TRUE))","v":"LEN_PV"},"Reductie",0]
[25,"Te behalen reductie",2030,{"$f":"VLOOKUP(tblResultaatSector[[#This Row],[MaatregelNummer]],Tbl_scenario[],2,TRUE)","v":"Lokale energieproductie"},{"$f":"IF(tblResultaatSector[[#This Row],[MaatregelNummer]]=0,\"Totaal\",VLOOKUP([MaatregelNummer],Tbl_scenario[],4,TRUE))","v":"LEN_Wind"},"Reductie",0]
[26,"Te behalen reductie",2030,{"$f":"VLOOKUP(tblResultaatSector[[#This Row],[MaatregelNummer]],Tbl_scenario[],2,TRUE)","v":"Landbouw"},{"$f":"IF(tblResultaatSector[[#This Row],[MaatregelNummer]]=0,\"Totaal\",VLOOKUP([MaatregelNummer],Tbl_scenario[],4,TRUE))","v":"LB_HER_WP"},"Reductie",0]
[27,"Te behalen reductie",2030,{"$f":"VLOOKUP(tblResultaatSector[[#This Row],[MaatregelNummer]],Tbl_scenario[],2,TRUE)","v":"Landbouw"},{"$f":"IF(tblResultaatSector[[#This Row],[MaatregelNummer]]=0,\"Totaal\",VLOOKUP([MaatregelNummer],Tbl_scenario[],4,TRUE))","v":"LB_HER_PocV"},"Reductie",0]
[28,"Te behalen reductie",2030,{"$f":"VLOOKUP(tblResultaatSector[[#This Row],[MaatregelNummer]],Tbl_scenario[],2,TRUE)","v":"Landbouw"},{"$f":"IF(tblResultaatSector[[#This Row],[MaatregelNummer]]=0,\"Totaal\",VLOOKUP([MaatregelNummer],Tbl_scenario[],4,TRUE))","v":"LB_HER_BMK"},"Reductie",0]
[29,"Te behalen reductie",2030,{"$f":"VLOOKUP(tblResultaatSector[[#This Row],[MaatregelNummer]],Tbl_scenario[],2,TRUE)","v":"Landbouw"},{"$f":"IF(tblResultaatSector[[#This Row],[MaatregelNummer]]=0,\"Totaal\",VLOOKUP([MaatregelNummer],Tbl_scenario[],4,TRUE))","v":"LB_EE_ENS"},"Reductie",0]
[30,"Te behalen reductie",2030,{"$f":"VLOOKUP(tblResultaatSector[[#This Row],[MaatregelNummer]],Tbl_scenario[],2,TRUE)","v":"Huishoudens"},{"$f":"IF(tblResultaatSector[[#This Row],[MaatregelNummer]]=0,\"Totaal\",VLOOKUP([MaatregelNummer],Tbl_scenario[],4,TRUE))","v":"BLANCO_1"},"Reductie",0]
[31,"Te behalen reductie",2030,{"$f":"VLOOKUP(tblResultaatSector[[#This Row],[MaatregelNummer]],Tbl_scenario[],2,TRUE)","v":"Huishoudens"},{"$f":"IF(tblResultaatSector[[#This Row],[MaatregelNummer]]=0,\"Totaal\",VLOOKUP([MaatregelNummer],Tbl_scenario[],4,TRUE))","v":"BLANCO_2"},"Reductie",0]
[32,"Te behalen reductie",2030,{"$f":"VLOOKUP(tblResultaatSector[[#This Row],[MaatregelNummer]],Tbl_scenario[],2,TRUE)","v":"Huishoudens"},{"$f":"IF(tblResultaatSector[[#This Row],[MaatregelNummer]]=0,\"Totaal\",VLOOKUP([MaatregelNummer],Tbl_scenario[],4,TRUE))","v":"BLANCO_3"},"Reductie",0]
[1,"Scenario 1",2030,{"$f":"VLOOKUP(tblResultaatSector[[#This Row],[MaatregelNummer]],Tbl_scenario[],2,TRUE)","v":"Huishoudens"},{"$f":"IF(tblResultaatSector[[#This Row],[MaatregelNummer]]=0,\"Totaal\",VLOOKUP([MaatregelNummer],Tbl_scenario[],4,TRUE))","v":"RES_ISO_DAK"},"Reductie",{"$f":"SUMIFS(tblResultaatMaatregelen[Reductie],tblResultaatMaatregelen[Scenario],tblResultaatSector[[#This Row],[Situatie]],tblResultaatMaatregelen[Sector],tblResultaatSector[[#This Row],[Sector]],tblResultaatMaatregelen[MaatregelCode],tblResultaatSector[[#This Row],[Maatregel]],tblResultaatMaatregelen[X-as],\"Maatregelen\")","v":9650.7887869298283}]
[2,"Scenario 1",2030,{"$f":"VLOOKUP(tblResultaatSector[[#This Row],[MaatregelNummer]],Tbl_scenario[],2,TRUE)","v":"Huishoudens"},{"$f":"IF(tblResultaatSector[[#This Row],[MaatregelNummer]]=0,\"Totaal\",VLOOKUP([MaatregelNummer],Tbl_scenario[],4,TRUE))","v":"RES_ISO_MUUR"},"Reductie",{"$f":"SUMIFS(tblResultaatMaatregelen[Reductie],tblResultaatMaatregelen[Scenario],tblResultaatSector[[#This Row],[Situatie]],tblResultaatMaatregelen[Sector],tblResultaatSector[[#This Row],[Sector]],tblResultaatMaatregelen[MaatregelCode],tblResultaatSector[[#This Row],[Maatregel]],tblResultaatMaatregelen[X-as],\"Maatregelen\")","v":10751.627857522235}]
[3,"Scenario 1",2030,{"$f":"VLOOKUP(tblResultaatSector[[#This Row],[MaatregelNummer]],Tbl_scenario[],2,TRUE)","v":"Huishoudens"},{"$f":"IF(tblResultaatSector[[#This Row],[MaatregelNummer]]=0,\"Totaal\",VLOOKUP([MaatregelNummer],Tbl_scenario[],4,TRUE))","v":"RES_ISO_VL"},"Reductie",{"$f":"SUMIFS(tblResultaatMaatregelen[Reductie],tblResultaatMaatregelen[Scenario],tblResultaatSector[[#This Row],[Situatie]],tblResultaatMaatregelen[Sector],tblResultaatSector[[#This Row],[Sector]],tblResultaatMaatregelen[MaatregelCode],tblResultaatSector[[#This Row],[Maatregel]],tblResultaatMaatregelen[X-as],\"Maatregelen\")","v":4990.4290141524016}]
[4,"Scenario 1",2030,{"$f":"VLOOKUP(tblResultaatSector[[#This Row],[MaatregelNummer]],Tbl_scenario[],2,TRUE)","v":"Huishoudens"},{"$f":"IF(tblResultaatSector[[#This Row],[MaatregelNummer]]=0,\"Totaal\",VLOOKUP([MaatregelNummer],Tbl_scenario[],4,TRUE))","v":"RES_ISO_BG"},"Reductie",{"$f":"SUMIFS(tblResultaatMaatregelen[Reductie],tblResultaatMaatregelen[Scenario],tblResultaatSector[[#This Row],[Situatie]],tblResultaatMaatregelen[Sector],tblResultaatSector[[#This Row],[Sector]],tblResultaatMaatregelen[MaatregelCode],tblResultaatSector[[#This Row],[Maatregel]],tblResultaatMaatregelen[X-as],\"Maatregelen\")","v":3270.1525549919365}]
[5,"Scenario 1",2030,{"$f":"VLOOKUP(tblResultaatSector[[#This Row],[MaatregelNummer]],Tbl_scenario[],2,TRUE)","v":"Huishoudens"},{"$f":"IF(tblResultaatSector[[#This Row],[MaatregelNummer]]=0,\"Totaal\",VLOOKUP([MaatregelNummer],Tbl_scenario[],4,TRUE))","v":"RES_HER_WP"},"Reductie",{"$f":"SUMIFS(tblResultaatMaatregelen[Reductie],tblResultaatMaatregelen[Scenario],tblResultaatSector[[#This Row],[Situatie]],tblResultaatMaatregelen[Sector],tblResultaatSector[[#This Row],[Sector]],tblResultaatMaatregelen[MaatregelCode],tblResultaatSector[[#This Row],[Maatregel]],tblResultaatMaatregelen[X-as],\"Maatregelen\")","v":3453.6546423835571}]
[6,"Scenario 1",2030,{"$f":"VLOOKUP(tblResultaatSector[[#This Row],[MaatregelNummer]],Tbl_scenario[],2,TRUE)","v":"Huishoudens"},{"$f":"IF(tblResultaatSector[[#This Row],[MaatregelNummer]]=0,\"Totaal\",VLOOKUP([MaatregelNummer],Tbl_scenario[],4,TRUE))","v":"RES_HER_ZB"},"Reductie",{"$f":"SUMIFS(tblResultaatMaatregelen[Reductie],tblResultaatMaatregelen[Scenario],tblResultaatSector[[#This Row],[Situatie]],tblResultaatMaatregelen[Sector],tblResultaatSector[[#This Row],[Sector]],tblResultaatMaatregelen[MaatregelCode],tblResultaatSector[[#This Row],[Maatregel]],tblResultaatMaatregelen[X-as],\"Maatregelen\")","v":1282.1116848339077}]
[7,"Scenario 1",2030,{"$f":"VLOOKUP(tblResultaatSector[[#This Row],[MaatregelNummer]],Tbl_scenario[],2,TRUE)","v":"Huishoudens"},{"$f":"IF(tblResultaatSector[[#This Row],[MaatregelNummer]]=0,\"Totaal\",VLOOKUP([MaatregelNummer],Tbl_scenario[],4,TRUE))","v":"RES_HER_WPB"},"Reductie",{"$f":"SUMIFS(tblResultaatMaatregelen[Reductie],tblResultaatMaatregelen[Scenario],tblResultaatSector[[#This Row],[Situatie]],tblResultaatMaatregelen[Sector],tblResultaatSector[[#This Row],[Sector]],tblResultaatMaatregelen[MaatregelCode],tblResultaatSector[[#This Row],[Maatregel]],tblResultaatMaatregelen[X-as],\"Maatregelen\")","v":2395.4112156042825}]
[8,"Scenario 1",2030,{"$f":"VLOOKUP(tblResultaatSector[[#This Row],[MaatregelNummer]],Tbl_scenario[],2,TRUE)","v":"Huishoudens"},{"$f":"IF(tblResultaatSector[[#This Row],[MaatregelNummer]]=0,\"Totaal\",VLOOKUP([MaatregelNummer],Tbl_scenario[],4,TRUE))","v":"RES_EE_ELE"},"Reductie",{"$f":"SUMIFS(tblResultaatMaatregelen[Reductie],tblResultaatMaatregelen[Scenario],tblResultaatSector[[#This Row],[Situatie]],tblResultaatMaatregelen[Sector],tblResultaatSector[[#This Row],[Sector]],tblResultaatMaatregelen[MaatregelCode],tblResultaatSector[[#This Row],[Maatregel]],tblResultaatMaatregelen[X-as],\"Maatregelen\")","v":638.10592261458225}]
[9,"Scenario 1",2030,{"$f":"VLOOKUP(tblResultaatSector[[#This Row],[MaatregelNummer]],Tbl_scenario[],2,TRUE)","v":"Huishoudens"},{"$f":"IF(tblResultaatSector[[#This Row],[MaatregelNummer]]=0,\"Totaal\",VLOOKUP([MaatregelNummer],Tbl_scenario[],4,TRUE))","v":"RES_EE_SLOOP"},"Reductie",{"$f":"SUMIFS(tblResultaatMaatregelen[Reductie],tblResultaatMaatregelen[Scenario],tblResultaatSector[[#This Row],[Situatie]],tblResultaatMaatregelen[Sector],tblResultaatSector[[#This Row],[Sector]],tblResultaatMaatregelen[MaatregelCode],tblResultaatSector[[#This Row],[Maatregel]],tblResultaatMaatregelen[X-as],\"Maatregelen\")","v":3938.9310326914874}]
[10,"Scenario 1",2030,{"$f":"VLOOKUP(tblResultaatSector[[#This Row],[MaatregelNummer]],Tbl_scenario[],2,TRUE)","v":"Tertiair"},{"$f":"IF(tblResultaatSector[[#This Row],[MaatregelNummer]]=0,\"Totaal\",VLOOKUP([MaatregelNummer],Tbl_scenario[],4,TRUE))","v":"TER_EE_ISO"},"Reductie",{"$f":"SUMIFS(tblResultaatMaatregelen[Reductie],tblResultaatMaatregelen[Scenario],tblResultaatSector[[#This Row],[Situatie]],tblResultaatMaatregelen[Sector],tblResultaatSector[[#This Row],[Sector]],tblResultaatMaatregelen[MaatregelCode],tblResultaatSector[[#This Row],[Maatregel]],tblResultaatMaatregelen[X-as],\"Maatregelen\")","v":5331.516632652123}]
[11,"Scenario 1",2030,{"$f":"VLOOKUP(tblResultaatSector[[#This Row],[MaatregelNummer]],Tbl_scenario[],2,TRUE)","v":"Tertiair"},{"$f":"IF(tblResultaatSector[[#This Row],[MaatregelNummer]]=0,\"Totaal\",VLOOKUP([MaatregelNummer],Tbl_scenario[],4,TRUE))","v":"TER_HER_WP"},"Reductie",{"$f":"SUMIFS(tblResultaatMaatregelen[Reductie],tblResultaatMaatregelen[Scenario],tblResultaatSector[[#This Row],[Situatie]],tblResultaatMaatregelen[Sector],tblResultaatSector[[#This Row],[Sector]],tblResultaatMaatregelen[MaatregelCode],tblResultaatSector[[#This Row],[Maatregel]],tblResultaatMaatregelen[X-as],\"Maatregelen\")","v":2668.3663516033976}]
[12,"Scenario 1",2030,{"$f":"VLOOKUP(tblResultaatSector[[#This Row],[MaatregelNummer]],Tbl_scenario[],2,TRUE)","v":"Tertiair"},{"$f":"IF(tblResultaatSector[[#This Row],[MaatregelNummer]]=0,\"Totaal\",VLOOKUP([MaatregelNummer],Tbl_scenario[],4,TRUE))","v":"TER_HER_ZB"},"Reductie",{"$f":"SUMIFS(tblResultaatMaatregelen[Reductie],tblResultaatMaatregelen[Scenario],tblResultaatSector[[#This Row],[Situatie]],tblResultaatMaatregelen[Sector],tblResultaatSector[[#This Row],[Sector]],tblResultaatMaatregelen[MaatregelCode],tblResultaatSector[[#This Row],[Maatregel]],tblResultaatMaatregelen[X-as],\"Maatregelen\")","v":925.61052650210468}]
[13,"Scenario 1",2030,{"$f":"VLOOKUP(tblResultaatSector[[#This Row],[MaatregelNummer]],Tbl_scenario[],2,TRUE)","v":"Tertiair"},{"$f":"IF(tblResultaatSector[[#This Row],[MaatregelNummer]]=0,\"Totaal\",VLOOKUP([MaatregelNummer],Tbl_scenario[],4,TRUE))","v":"TER_HER_WPB"},"Reductie",{"$f":"SUMIFS(tblResultaatMaatregelen[Reductie],tblResultaatMaatregelen[Scenario],tblResultaatSector[[#This Row],[Situatie]],tblResultaatMaatregelen[Sector],tblResultaatSector[[#This Row],[Sector]],tblResultaatMaatregelen[MaatregelCode],tblResultaatSector[[#This Row],[Maatregel]],tblResultaatMaatregelen[X-as],\"Maatregelen\")","v":1291.0997264309194}]
[14,"Scenario 1",2030,{"$f":"VLOOKUP(tblResultaatSector[[#This Row],[MaatregelNummer]],Tbl_scenario[],2,TRUE)","v":"Tertiair"},{"$f":"IF(tblResultaatSector[[#This Row],[MaatregelNummer]]=0,\"Totaal\",VLOOKUP([MaatregelNummer],Tbl_scenario[],4,TRUE))","v":"TER_EE_ELE"},"Reductie",{"$f":"SUMIFS(tblResultaatMaatregelen[Reductie],tblResultaatMaatregelen[Scenario],tblResultaatSector[[#This Row],[Situatie]],tblResultaatMaatregelen[Sector],tblResultaatSector[[#This Row],[Sector]],tblResultaatMaatregelen[MaatregelCode],tblResultaatSector[[#This Row],[Maatregel]],tblResultaatMaatregelen[X-as],\"Maatregelen\")","v":2523.4303286035938}]
[15,"Scenario 1",2030,{"$f":"VLOOKUP(tblResultaatSector[[#This Row],[MaatregelNummer]],Tbl_scenario[],2,TRUE)","v":"Openbare verlichting"},{"$f":"IF(tblResultaatSector[[#This Row],[MaatregelNummer]]=0,\"Totaal\",VLOOKUP([MaatregelNummer],Tbl_scenario[],4,TRUE))","v":"OV_LED_EE"},"Reductie",{"$f":"SUMIFS(tblResultaatMaatregelen[Reductie],tblResultaatMaatregelen[Scenario],tblResultaatSector[[#This Row],[Situatie]],tblResultaatMaatregelen[Sector],tblResultaatSector[[#This Row],[Sector]],tblResultaatMaatregelen[MaatregelCode],tblResultaatSector[[#This Row],[Maatregel]],tblResultaatMaatregelen[X-as],\"Maatregelen\")","v":214.91237052945354}]
[16,"Scenario 1",2030,{"$f":"VLOOKUP(tblResultaatSector[[#This Row],[MaatregelNummer]],Tbl_scenario[],2,TRUE)","v":"Industrie (niet-ETS)"},{"$f":"IF(tblResultaatSector[[#This Row],[MaatregelNummer]]=0,\"Totaal\",VLOOKUP([MaatregelNummer],Tbl_scenario[],4,TRUE))","v":"IND_HER_WP"},"Reductie",{"$f":"SUMIFS(tblResultaatMaatregelen[Reductie],tblResultaatMaatregelen[Scenario],tblResultaatSector[[#This Row],[Situatie]],tblResultaatMaatregelen[Sector],tblResultaatSector[[#This Row],[Sector]],tblResultaatMaatregelen[MaatregelCode],tblResultaatSector[[#This Row],[Maatregel]],tblResultaatMaatregelen[X-as],\"Maatregelen\")","v":655.01208743497432}]
[17,"Scenario 1",2030,{"$f":"VLOOKUP(tblResultaatSector[[#This Row],[MaatregelNummer]],Tbl_scenario[],2,TRUE)","v":"Industrie (niet-ETS)"},{"$f":"IF(tblResultaatSector[[#This Row],[MaatregelNummer]]=0,\"Totaal\",VLOOKUP([MaatregelNummer],Tbl_scenario[],4,TRUE))","v":"IND_HER_ZB"},"Reductie",{"$f":"SUMIFS(tblResultaatMaatregelen[Reductie],tblResultaatMaatregelen[Scenario],tblResultaatSector[[#This Row],[Situatie]],tblResultaatMaatregelen[Sector],tblResultaatSector[[#This Row],[Sector]],tblResultaatMaatregelen[MaatregelCode],tblResultaatSector[[#This Row],[Maatregel]],tblResultaatMaatregelen[X-as],\"Maatregelen\")","v":140.9019379449181}]
[18,"Scenario 1",2030,{"$f":"VLOOKUP(tblResultaatSector[[#This Row],[MaatregelNummer]],Tbl_scenario[],2,TRUE)","v":"Industrie (niet-ETS)"},{"$f":"IF(tblResultaatSector[[#This Row],[MaatregelNummer]]=0,\"Totaal\",VLOOKUP([MaatregelNummer],Tbl_scenario[],4,TRUE))","v":"IND_EE_EEA"},"Reductie",{"$f":"SUMIFS(tblResultaatMaatregelen[Reductie],tblResultaatMaatregelen[Scenario],tblResultaatSector[[#This Row],[Situatie]],tblResultaatMaatregelen[Sector],tblResultaatSector[[#This Row],[Sector]],tblResultaatMaatregelen[MaatregelCode],tblResultaatSector[[#This Row],[Maatregel]],tblResultaatMaatregelen[X-as],\"Maatregelen\")","v":118.64209842566362}]
[19,"Scenario 1",2030,{"$f":"VLOOKUP(tblResultaatSector[[#This Row],[MaatregelNummer]],Tbl_scenario[],2,TRUE)","v":"Particulier en commercieel vervoer"},{"$f":"IF(tblResultaatSector[[#This Row],[MaatregelNummer]]=0,\"Totaal\",VLOOKUP([MaatregelNummer],Tbl_scenario[],4,TRUE))","v":"MOB_MS_voet"},"Reductie",{"$f":"SUMIFS(tblResultaatMaatregelen[Reductie],tblResultaatMaatregelen[Scenario],tblResultaatSector[[#This Row],[Situatie]],tblResultaatMaatregelen[Sector],tblResultaatSector[[#This Row],[Sector]],tblResultaatMaatregelen[MaatregelCode],tblResultaatSector[[#This Row],[Maatregel]],tblResultaatMaatregelen[X-as],\"Maatregelen\")","v":1772.4013915194855}]
[20,"Scenario 1",2030,{"$f":"VLOOKUP(tblResultaatSector[[#This Row],[MaatregelNummer]],Tbl_scenario[],2,TRUE)","v":"Particulier en commercieel vervoer"},{"$f":"IF(tblResultaatSector[[#This Row],[MaatregelNummer]]=0,\"Totaal\",VLOOKUP([MaatregelNummer],Tbl_scenario[],4,TRUE))","v":"MOB_MS_EFiets"},"Reductie",{"$f":"SUMIFS(tblResultaatMaatregelen[Reductie],tblResultaatMaatregelen[Scenario],tblResultaatSector[[#This Row],[Situatie]],tblResultaatMaatregelen[Sector],tblResultaatSector[[#This Row],[Sector]],tblResultaatMaatregelen[MaatregelCode],tblResultaatSector[[#This Row],[Maatregel]],tblResultaatMaatregelen[X-as],\"Maatregelen\")","v":1477.0011595995713}]
[21,"Scenario 1",2030,{"$f":"VLOOKUP(tblResultaatSector[[#This Row],[MaatregelNummer]],Tbl_scenario[],2,TRUE)","v":"Particulier en commercieel vervoer"},{"$f":"IF(tblResultaatSector[[#This Row],[MaatregelNummer]]=0,\"Totaal\",VLOOKUP([MaatregelNummer],Tbl_scenario[],4,TRUE))","v":"MOB_MS_OV"},"Reductie",{"$f":"SUMIFS(tblResultaatMaatregelen[Reductie],tblResultaatMaatregelen[Scenario],tblResultaatSector[[#This Row],[Situatie]],tblResultaatMaatregelen[Sector],tblResultaatSector[[#This Row],[Sector]],tblResultaatMaatregelen[MaatregelCode],tblResultaatSector[[#This Row],[Maatregel]],tblResultaatMaatregelen[X-as],\"Maatregelen\")","v":2245.0417625913483}]
[22,"Scenario 1",2030,{"$f":"VLOOKUP(tblResultaatSector[[#This Row],[MaatregelNummer]],Tbl_scenario[],2,TRUE)","v":"Particulier en commercieel vervoer"},{"$f":"IF(tblResultaatSector[[#This Row],[MaatregelNummer]]=0,\"Totaal\",VLOOKUP([MaatregelNummer],Tbl_scenario[],4,TRUE))","v":"MOB_BS_EV"},"Reductie",{"$f":"SUMIFS(tblResultaatMaatregelen[Reductie],tblResultaatMaatregelen[Scenario],tblResultaatSector[[#This Row],[Situatie]],tblResultaatMaatregelen[Sector],tblResultaatSector[[#This Row],[Sector]],tblResultaatMaatregelen[MaatregelCode],tblResultaatSector[[#This Row],[Maatregel]],tblResultaatMaatregelen[X-as],\"Maatregelen\")","v":3038.3986056577323}]
[23,"Scenario 1",2030,{"$f":"VLOOKUP(tblResultaatSector[[#This Row],[MaatregelNummer]],Tbl_scenario[],2,TRUE)","v":"Particulier en commercieel vervoer"},{"$f":"IF(tblResultaatSector[[#This Row],[MaatregelNummer]]=0,\"Totaal\",VLOOKUP([MaatregelNummer],Tbl_scenario[],4,TRUE))","v":"MOB_BS_H2"},"Reductie",{"$f":"SUMIFS(tblResultaatMaatregelen[Reductie],tblResultaatMaatregelen[Scenario],tblResultaatSector[[#This Row],[Situatie]],tblResultaatMaatregelen[Sector],tblResultaatSector[[#This Row],[Sector]],tblResultaatMaatregelen[MaatregelCode],tblResultaatSector[[#This Row],[Maatregel]],tblResultaatMaatregelen[X-as],\"Maatregelen\")","v":984.66743973304733}]
[24,"Scenario 1",2030,{"$f":"VLOOKUP(tblResultaatSector[[#This Row],[MaatregelNummer]],Tbl_scenario[],2,TRUE)","v":"Lokale energieproductie"},{"$f":"IF(tblResultaatSector[[#This Row],[MaatregelNummer]]=0,\"Totaal\",VLOOKUP([MaatregelNummer],Tbl_scenario[],4,TRUE))","v":"LEN_PV"},"Reductie",{"$f":"SUMIFS(tblResultaatMaatregelen[Reductie],tblResultaatMaatregelen[Scenario],tblResultaatSector[[#This Row],[Situatie]],tblResultaatMaatregelen[Sector],tblResultaatSector[[#This Row],[Sector]],tblResultaatMaatregelen[MaatregelCode],tblResultaatSector[[#This Row],[Maatregel]],tblResultaatMaatregelen[X-as],\"Maatregelen\")","v":2496.1528794587502}]
[25,"Scenario 1",2030,{"$f":"VLOOKUP(tblResultaatSector[[#This Row],[MaatregelNummer]],Tbl_scenario[],2,TRUE)","v":"Lokale energieproductie"},{"$f":"IF(tblResultaatSector[[#This Row],[MaatregelNummer]]=0,\"Totaal\",VLOOKUP([MaatregelNummer],Tbl_scenario[],4,TRUE))","v":"LEN_Wind"},"Reductie",{"$f":"SUMIFS(tblResultaatMaatregelen[Reductie],tblResultaatMaatregelen[Scenario],tblResultaatSector[[#This Row],[Situatie]],tblResultaatMaatregelen[Sector],tblResultaatSector[[#This Row],[Sector]],tblResultaatMaatregelen[MaatregelCode],tblResultaatSector[[#This Row],[Maatregel]],tblResultaatMaatregelen[X-as],\"Maatregelen\")","v":2640.3267641378893}]
[26,"Scenario 1",2030,{"$f":"VLOOKUP(tblResultaatSector[[#This Row],[MaatregelNummer]],Tbl_scenario[],2,TRUE)","v":"Landbouw"},{"$f":"IF(tblResultaatSector[[#This Row],[MaatregelNummer]]=0,\"Totaal\",VLOOKUP([MaatregelNummer],Tbl_scenario[],4,TRUE))","v":"LB_HER_WP"},"Reductie",{"$f":"SUMIFS(tblResultaatMaatregelen[Reductie],tblResultaatMaatregelen[Scenario],tblResultaatSector[[#This Row],[Situatie]],tblResultaatMaatregelen[Sector],tblResultaatSector[[#This Row],[Sector]],tblResultaatMaatregelen[MaatregelCode],tblResultaatSector[[#This Row],[Maatregel]],tblResultaatMaatregelen[X-as],\"Maatregelen\")","v":110.59984862347436}]
[27,"Scenario 1",2030,{"$f":"VLOOKUP(tblResultaatSector[[#This Row],[MaatregelNummer]],Tbl_scenario[],2,TRUE)","v":"Landbouw"},{"$f":"IF(tblResultaatSector[[#This Row],[MaatregelNummer]]=0,\"Totaal\",VLOOKUP([MaatregelNummer],Tbl_scenario[],4,TRUE))","v":"LB_HER_PocV"},"Reductie",{"$f":"SUMIFS(tblResultaatMaatregelen[Reductie],tblResultaatMaatregelen[Scenario],tblResultaatSector[[#This Row],[Situatie]],tblResultaatMaatregelen[Sector],tblResultaatSector[[#This Row],[Sector]],tblResultaatMaatregelen[MaatregelCode],tblResultaatSector[[#This Row],[Maatregel]],tblResultaatMaatregelen[X-as],\"Maatregelen\")","v":5.5185386970951855}]
[28,"Scenario 1",2030,{"$f":"VLOOKUP(tblResultaatSector[[#This Row],[MaatregelNummer]],Tbl_scenario[],2,TRUE)","v":"Landbouw"},{"$f":"IF(tblResultaatSector[[#This Row],[MaatregelNummer]]=0,\"Totaal\",VLOOKUP([MaatregelNummer],Tbl_scenario[],4,TRUE))","v":"LB_HER_BMK"},"Reductie",{"$f":"SUMIFS(tblResultaatMaatregelen[Reductie],tblResultaatMaatregelen[Scenario],tblResultaatSector[[#This Row],[Situatie]],tblResultaatMaatregelen[Sector],tblResultaatSector[[#This Row],[Sector]],tblResultaatMaatregelen[MaatregelCode],tblResultaatSector[[#This Row],[Maatregel]],tblResultaatMaatregelen[X-as],\"Maatregelen\")","v":47.483938690326838}]
[29,"Scenario 1",2030,{"$f":"VLOOKUP(tblResultaatSector[[#This Row],[MaatregelNummer]],Tbl_scenario[],2,TRUE)","v":"Landbouw"},{"$f":"IF(tblResultaatSector[[#This Row],[MaatregelNummer]]=0,\"Totaal\",VLOOKUP([MaatregelNummer],Tbl_scenario[],4,TRUE))","v":"LB_EE_ENS"},"Reductie",{"$f":"SUMIFS(tblResultaatMaatregelen[Reductie],tblResultaatMaatregelen[Scenario],tblResultaatSector[[#This Row],[Situatie]],tblResultaatMaatregelen[Sector],tblResultaatSector[[#This Row],[Sector]],tblResultaatMaatregelen[MaatregelCode],tblResultaatSector[[#This Row],[Maatregel]],tblResultaatMaatregelen[X-as],\"Maatregelen\")","v":13.953882808094843}]
[30,"Scenario 1",2030,{"$f":"VLOOKUP(tblResultaatSector[[#This Row],[MaatregelNummer]],Tbl_scenario[],2,TRUE)","v":"Huishoudens"},{"$f":"IF(tblResultaatSector[[#This Row],[MaatregelNummer]]=0,\"Totaal\",VLOOKUP([MaatregelNummer],Tbl_scenario[],4,TRUE))","v":"BLANCO_1"},"Reductie",{"$f":"SUMIFS(tblResultaatMaatregelen[Reductie],tblResultaatMaatregelen[Scenario],tblResultaatSector[[#This Row],[Situatie]],tblResultaatMaatregelen[Sector],tblResultaatSector[[#This Row],[Sector]],tblResultaatMaatregelen[MaatregelCode],tblResultaatSector[[#This Row],[Maatregel]],tblResultaatMaatregelen[X-as],\"Maatregelen\")","v":0}]
[31,"Scenario 1",2030,{"$f":"VLOOKUP(tblResultaatSector[[#This Row],[MaatregelNummer]],Tbl_scenario[],2,TRUE)","v":"Huishoudens"},{"$f":"IF(tblResultaatSector[[#This Row],[MaatregelNummer]]=0,\"Totaal\",VLOOKUP([MaatregelNummer],Tbl_scenario[],4,TRUE))","v":"BLANCO_2"},"Reductie",{"$f":"SUMIFS(tblResultaatMaatregelen[Reductie],tblResultaatMaatregelen[Scenario],tblResultaatSector[[#This Row],[Situatie]],tblResultaatMaatregelen[Sector],tblResultaatSector[[#This Row],[Sector]],tblResultaatMaatregelen[MaatregelCode],tblResultaatSector[[#This Row],[Maatregel]],tblResultaatMaatregelen[X-as],\"Maatregelen\")","v":0}]
[32,"Scenario 1",2030,{"$f":"VLOOKUP(tblResultaatSector[[#This Row],[MaatregelNummer]],Tbl_scenario[],2,TRUE)","v":"Huishoudens"},{"$f":"IF(tblResultaatSector[[#This Row],[MaatregelNummer]]=0,\"Totaal\",VLOOKUP([MaatregelNummer],Tbl_scenario[],4,TRUE))","v":"BLANCO_3"},"Reductie",{"$f":"SUMIFS(tblResultaatMaatregelen[Reductie],tblResultaatMaatregelen[Scenario],tblResultaatSector[[#This Row],[Situatie]],tblResultaatMaatregelen[Sector],tblResultaatSector[[#This Row],[Sector]],tblResultaatMaatregelen[MaatregelCode],tblResultaatSector[[#This Row],[Maatregel]],tblResultaatMaatregelen[X-as],\"Maatregelen\")","v":0}]
[1,"Scenario 2",2030,{"$f":"VLOOKUP(tblResultaatSector[[#This Row],[MaatregelNummer]],Tbl_scenario[],2,TRUE)","v":"Huishoudens"},{"$f":"IF(tblResultaatSector[[#This Row],[MaatregelNummer]]=0,\"Totaal\",VLOOKUP([MaatregelNummer],Tbl_scenario[],4,TRUE))","v":"RES_ISO_DAK"},"Reductie",{"$f":"SUMIFS(tblResultaatMaatregelen[Reductie],tblResultaatMaatregelen[Scenario],tblResultaatSector[[#This Row],[Situatie]],tblResultaatMaatregelen[Sector],tblResultaatSector[[#This Row],[Sector]],tblResultaatMaatregelen[MaatregelCode],tblResultaatSector[[#This Row],[Maatregel]],tblResultaatMaatregelen[X-as],\"Maatregelen\")","v":18375.101850314393}]
[2,"Scenario 2",2030,{"$f":"VLOOKUP(tblResultaatSector[[#This Row],[MaatregelNummer]],Tbl_scenario[],2,TRUE)","v":"Huishoudens"},{"$f":"IF(tblResultaatSector[[#This Row],[MaatregelNummer]]=0,\"Totaal\",VLOOKUP([MaatregelNummer],Tbl_scenario[],4,TRUE))","v":"RES_ISO_MUUR"},"Reductie",{"$f":"SUMIFS(tblResultaatMaatregelen[Reductie],tblResultaatMaatregelen[Scenario],tblResultaatSector[[#This Row],[Situatie]],tblResultaatMaatregelen[Sector],tblResultaatSector[[#This Row],[Sector]],tblResultaatMaatregelen[MaatregelCode],tblResultaatSector[[#This Row],[Maatregel]],tblResultaatMaatregelen[X-as],\"Maatregelen\")","v":16943.079885461972}]
[3,"Scenario 2",2030,{"$f":"VLOOKUP(tblResultaatSector[[#This Row],[MaatregelNummer]],Tbl_scenario[],2,TRUE)","v":"Huishoudens"},{"$f":"IF(tblResultaatSector[[#This Row],[MaatregelNummer]]=0,\"Totaal\",VLOOKUP([MaatregelNummer],Tbl_scenario[],4,TRUE))","v":"RES_ISO_VL"},"Reductie",{"$f":"SUMIFS(tblResultaatMaatregelen[Reductie],tblResultaatMaatregelen[Scenario],tblResultaatSector[[#This Row],[Situatie]],tblResultaatMaatregelen[Sector],tblResultaatSector[[#This Row],[Sector]],tblResultaatMaatregelen[MaatregelCode],tblResultaatSector[[#This Row],[Maatregel]],tblResultaatMaatregelen[X-as],\"Maatregelen\")","v":5995.4994629550474}]
[4,"Scenario 2",2030,{"$f":"VLOOKUP(tblResultaatSector[[#This Row],[MaatregelNummer]],Tbl_scenario[],2,TRUE)","v":"Huishoudens"},{"$f":"IF(tblResultaatSector[[#This Row],[MaatregelNummer]]=0,\"Totaal\",VLOOKUP([MaatregelNummer],Tbl_scenario[],4,TRUE))","v":"RES_ISO_BG"},"Reductie",{"$f":"SUMIFS(tblResultaatMaatregelen[Reductie],tblResultaatMaatregelen[Scenario],tblResultaatSector[[#This Row],[Situatie]],tblResultaatMaatregelen[Sector],tblResultaatSector[[#This Row],[Sector]],tblResultaatMaatregelen[MaatregelCode],tblResultaatSector[[#This Row],[Maatregel]],tblResultaatMaatregelen[X-as],\"Maatregelen\")","v":3441.7221532412323}]
[5,"Scenario 2",2030,{"$f":"VLOOKUP(tblResultaatSector[[#This Row],[MaatregelNummer]],Tbl_scenario[],2,TRUE)","v":"Huishoudens"},{"$f":"IF(tblResultaatSector[[#This Row],[MaatregelNummer]]=0,\"Totaal\",VLOOKUP([MaatregelNummer],Tbl_scenario[],4,TRUE))","v":"RES_HER_WP"},"Reductie",{"$f":"SUMIFS(tblResultaatMaatregelen[Reductie],tblResultaatMaatregelen[Scenario],tblResultaatSector[[#This Row],[Situatie]],tblResultaatMaatregelen[Sector],tblResultaatSector[[#This Row],[Sector]],tblResultaatMaatregelen[MaatregelCode],tblResultaatSector[[#This Row],[Maatregel]],tblResultaatMaatregelen[X-as],\"Maatregelen\")","v":8368.3741391181265}]
[6,"Scenario 2",2030,{"$f":"VLOOKUP(tblResultaatSector[[#This Row],[MaatregelNummer]],Tbl_scenario[],2,TRUE)","v":"Huishoudens"},{"$f":"IF(tblResultaatSector[[#This Row],[MaatregelNummer]]=0,\"Totaal\",VLOOKUP([MaatregelNummer],Tbl_scenario[],4,TRUE))","v":"RES_HER_ZB"},"Reductie",{"$f":"SUMIFS(tblResultaatMaatregelen[Reductie],tblResultaatMaatregelen[Scenario],tblResultaatSector[[#This Row],[Situatie]],tblResultaatMaatregelen[Sector],tblResultaatSector[[#This Row],[Sector]],tblResultaatMaatregelen[MaatregelCode],tblResultaatSector[[#This Row],[Maatregel]],tblResultaatMaatregelen[X-as],\"Maatregelen\")","v":2991.593931279117}]
[7,"Scenario 2",2030,{"$f":"VLOOKUP(tblResultaatSector[[#This Row],[MaatregelNummer]],Tbl_scenario[],2,TRUE)","v":"Huishoudens"},{"$f":"IF(tblResultaatSector[[#This Row],[MaatregelNummer]]=0,\"Totaal\",VLOOKUP([MaatregelNummer],Tbl_scenario[],4,TRUE))","v":"RES_HER_WPB"},"Reductie",{"$f":"SUMIFS(tblResultaatMaatregelen[Reductie],tblResultaatMaatregelen[Scenario],tblResultaatSector[[#This Row],[Situatie]],tblResultaatMaatregelen[Sector],tblResultaatSector[[#This Row],[Sector]],tblResultaatMaatregelen[MaatregelCode],tblResultaatSector[[#This Row],[Maatregel]],tblResultaatMaatregelen[X-as],\"Maatregelen\")","v":5589.2928364099907}]
[8,"Scenario 2",2030,{"$f":"VLOOKUP(tblResultaatSector[[#This Row],[MaatregelNummer]],Tbl_scenario[],2,TRUE)","v":"Huishoudens"},{"$f":"IF(tblResultaatSector[[#This Row],[MaatregelNummer]]=0,\"Totaal\",VLOOKUP([MaatregelNummer],Tbl_scenario[],4,TRUE))","v":"RES_EE_ELE"},"Reductie",{"$f":"SUMIFS(tblResultaatMaatregelen[Reductie],tblResultaatMaatregelen[Scenario],tblResultaatSector[[#This Row],[Situatie]],tblResultaatMaatregelen[Sector],tblResultaatSector[[#This Row],[Sector]],tblResultaatMaatregelen[MaatregelCode],tblResultaatSector[[#This Row],[Maatregel]],tblResultaatMaatregelen[X-as],\"Maatregelen\")","v":3190.5296130729112}]
[9,"Scenario 2",2030,{"$f":"VLOOKUP(tblResultaatSector[[#This Row],[MaatregelNummer]],Tbl_scenario[],2,TRUE)","v":"Huishoudens"},{"$f":"IF(tblResultaatSector[[#This Row],[MaatregelNummer]]=0,\"Totaal\",VLOOKUP([MaatregelNummer],Tbl_scenario[],4,TRUE))","v":"RES_EE_SLOOP"},"Reductie",{"$f":"SUMIFS(tblResultaatMaatregelen[Reductie],tblResultaatMaatregelen[Scenario],tblResultaatSector[[#This Row],[Situatie]],tblResultaatMaatregelen[Sector],tblResultaatSector[[#This Row],[Sector]],tblResultaatMaatregelen[MaatregelCode],tblResultaatSector[[#This Row],[Maatregel]],tblResultaatMaatregelen[X-as],\"Maatregelen\")","v":7090.075858844677}]
[10,"Scenario 2",2030,{"$f":"VLOOKUP(tblResultaatSector[[#This Row],[MaatregelNummer]],Tbl_scenario[],2,TRUE)","v":"Tertiair"},{"$f":"IF(tblResultaatSector[[#This Row],[MaatregelNummer]]=0,\"Totaal\",VLOOKUP([MaatregelNummer],Tbl_scenario[],4,TRUE))","v":"TER_EE_ISO"},"Reductie",{"$f":"SUMIFS(tblResultaatMaatregelen[Reductie],tblResultaatMaatregelen[Scenario],tblResultaatSector[[#This Row],[Situatie]],tblResultaatMaatregelen[Sector],tblResultaatSector[[#This Row],[Sector]],tblResultaatMaatregelen[MaatregelCode],tblResultaatSector[[#This Row],[Maatregel]],tblResultaatMaatregelen[X-as],\"Maatregelen\")","v":12440.205476188285}]
[11,"Scenario 2",2030,{"$f":"VLOOKUP(tblResultaatSector[[#This Row],[MaatregelNummer]],Tbl_scenario[],2,TRUE)","v":"Tertiair"},{"$f":"IF(tblResultaatSector[[#This Row],[MaatregelNummer]]=0,\"Totaal\",VLOOKUP([MaatregelNummer],Tbl_scenario[],4,TRUE))","v":"TER_HER_WP"},"Reductie",{"$f":"SUMIFS(tblResultaatMaatregelen[Reductie],tblResultaatMaatregelen[Scenario],tblResultaatSector[[#This Row],[Situatie]],tblResultaatMaatregelen[Sector],tblResultaatSector[[#This Row],[Sector]],tblResultaatMaatregelen[MaatregelCode],tblResultaatSector[[#This Row],[Maatregel]],tblResultaatMaatregelen[X-as],\"Maatregelen\")","v":6226.1881537412601}]
[12,"Scenario 2",2030,{"$f":"VLOOKUP(tblResultaatSector[[#This Row],[MaatregelNummer]],Tbl_scenario[],2,TRUE)","v":"Tertiair"},{"$f":"IF(tblResultaatSector[[#This Row],[MaatregelNummer]]=0,\"Totaal\",VLOOKUP([MaatregelNummer],Tbl_scenario[],4,TRUE))","v":"TER_HER_ZB"},"Reductie",{"$f":"SUMIFS(tblResultaatMaatregelen[Reductie],tblResultaatMaatregelen[Scenario],tblResultaatSector[[#This Row],[Situatie]],tblResultaatMaatregelen[Sector],tblResultaatSector[[#This Row],[Sector]],tblResultaatMaatregelen[MaatregelCode],tblResultaatSector[[#This Row],[Maatregel]],tblResultaatMaatregelen[X-as],\"Maatregelen\")","v":2159.7578951715768}]
[13,"Scenario 2",2030,{"$f":"VLOOKUP(tblResultaatSector[[#This Row],[MaatregelNummer]],Tbl_scenario[],2,TRUE)","v":"Tertiair"},{"$f":"IF(tblResultaatSector[[#This Row],[MaatregelNummer]]=0,\"Totaal\",VLOOKUP([MaatregelNummer],Tbl_scenario[],4,TRUE))","v":"TER_HER_WPB"},"Reductie",{"$f":"SUMIFS(tblResultaatMaatregelen[Reductie],tblResultaatMaatregelen[Scenario],tblResultaatSector[[#This Row],[Situatie]],tblResultaatMaatregelen[Sector],tblResultaatSector[[#This Row],[Sector]],tblResultaatMaatregelen[MaatregelCode],tblResultaatSector[[#This Row],[Maatregel]],tblResultaatMaatregelen[X-as],\"Maatregelen\")","v":3012.5660283388106}]
[14,"Scenario 2",2030,{"$f":"VLOOKUP(tblResultaatSector[[#This Row],[MaatregelNummer]],Tbl_scenario[],2,TRUE)","v":"Tertiair"},{"$f":"IF(tblResultaatSector[[#This Row],[MaatregelNummer]]=0,\"Totaal\",VLOOKUP([MaatregelNummer],Tbl_scenario[],4,TRUE))","v":"TER_EE_ELE"},"Reductie",{"$f":"SUMIFS(tblResultaatMaatregelen[Reductie],tblResultaatMaatregelen[Scenario],tblResultaatSector[[#This Row],[Situatie]],tblResultaatMaatregelen[Sector],tblResultaatSector[[#This Row],[Sector]],tblResultaatMaatregelen[MaatregelCode],tblResultaatSector[[#This Row],[Maatregel]],tblResultaatMaatregelen[X-as],\"Maatregelen\")","v":5888.0041000750516}]
[15,"Scenario 2",2030,{"$f":"VLOOKUP(tblResultaatSector[[#This Row],[MaatregelNummer]],Tbl_scenario[],2,TRUE)","v":"Openbare verlichting"},{"$f":"IF(tblResultaatSector[[#This Row],[MaatregelNummer]]=0,\"Totaal\",VLOOKUP([MaatregelNummer],Tbl_scenario[],4,TRUE))","v":"OV_LED_EE"},"Reductie",{"$f":"SUMIFS(tblResultaatMaatregelen[Reductie],tblResultaatMaatregelen[Scenario],tblResultaatSector[[#This Row],[Situatie]],tblResultaatMaatregelen[Sector],tblResultaatSector[[#This Row],[Sector]],tblResultaatMaatregelen[MaatregelCode],tblResultaatSector[[#This Row],[Maatregel]],tblResultaatMaatregelen[X-as],\"Maatregelen\")","v":501.46219790205822}]
[16,"Scenario 2",2030,{"$f":"VLOOKUP(tblResultaatSector[[#This Row],[MaatregelNummer]],Tbl_scenario[],2,TRUE)","v":"Industrie (niet-ETS)"},{"$f":"IF(tblResultaatSector[[#This Row],[MaatregelNummer]]=0,\"Totaal\",VLOOKUP([MaatregelNummer],Tbl_scenario[],4,TRUE))","v":"IND_HER_WP"},"Reductie",{"$f":"SUMIFS(tblResultaatMaatregelen[Reductie],tblResultaatMaatregelen[Scenario],tblResultaatSector[[#This Row],[Situatie]],tblResultaatMaatregelen[Sector],tblResultaatSector[[#This Row],[Sector]],tblResultaatMaatregelen[MaatregelCode],tblResultaatSector[[#This Row],[Maatregel]],tblResultaatMaatregelen[X-as],\"Maatregelen\")","v":1528.3615373482735}]
[17,"Scenario 2",2030,{"$f":"VLOOKUP(tblResultaatSector[[#This Row],[MaatregelNummer]],Tbl_scenario[],2,TRUE)","v":"Industrie (niet-ETS)"},{"$f":"IF(tblResultaatSector[[#This Row],[MaatregelNummer]]=0,\"Totaal\",VLOOKUP([MaatregelNummer],Tbl_scenario[],4,TRUE))","v":"IND_HER_ZB"},"Reductie",{"$f":"SUMIFS(tblResultaatMaatregelen[Reductie],tblResultaatMaatregelen[Scenario],tblResultaatSector[[#This Row],[Situatie]],tblResultaatMaatregelen[Sector],tblResultaatSector[[#This Row],[Sector]],tblResultaatMaatregelen[MaatregelCode],tblResultaatSector[[#This Row],[Maatregel]],tblResultaatMaatregelen[X-as],\"Maatregelen\")","v":328.77118853814221}]
[18,"Scenario 2",2030,{"$f":"VLOOKUP(tblResultaatSector[[#This Row],[MaatregelNummer]],Tbl_scenario[],2,TRUE)","v":"Industrie (niet-ETS)"},{"$f":"IF(tblResultaatSector[[#This Row],[MaatregelNummer]]=0,\"Totaal\",VLOOKUP([MaatregelNummer],Tbl_scenario[],4,TRUE))","v":"IND_EE_EEA"},"Reductie",{"$f":"SUMIFS(tblResultaatMaatregelen[Reductie],tblResultaatMaatregelen[Scenario],tblResultaatSector[[#This Row],[Situatie]],tblResultaatMaatregelen[Sector],tblResultaatSector[[#This Row],[Sector]],tblResultaatMaatregelen[MaatregelCode],tblResultaatSector[[#This Row],[Maatregel]],tblResultaatMaatregelen[X-as],\"Maatregelen\")","v":593.21049212831804}]
[19,"Scenario 2",2030,{"$f":"VLOOKUP(tblResultaatSector[[#This Row],[MaatregelNummer]],Tbl_scenario[],2,TRUE)","v":"Particulier en commercieel vervoer"},{"$f":"IF(tblResultaatSector[[#This Row],[MaatregelNummer]]=0,\"Totaal\",VLOOKUP([MaatregelNummer],Tbl_scenario[],4,TRUE))","v":"MOB_MS_voet"},"Reductie",{"$f":"SUMIFS(tblResultaatMaatregelen[Reductie],tblResultaatMaatregelen[Scenario],tblResultaatSector[[#This Row],[Situatie]],tblResultaatMaatregelen[Sector],tblResultaatSector[[#This Row],[Sector]],tblResultaatMaatregelen[MaatregelCode],tblResultaatSector[[#This Row],[Maatregel]],tblResultaatMaatregelen[X-as],\"Maatregelen\")","v":8862.0069575974267}]
[20,"Scenario 2",2030,{"$f":"VLOOKUP(tblResultaatSector[[#This Row],[MaatregelNummer]],Tbl_scenario[],2,TRUE)","v":"Particulier en commercieel vervoer"},{"$f":"IF(tblResultaatSector[[#This Row],[MaatregelNummer]]=0,\"Totaal\",VLOOKUP([MaatregelNummer],Tbl_scenario[],4,TRUE))","v":"MOB_MS_EFiets"},"Reductie",{"$f":"SUMIFS(tblResultaatMaatregelen[Reductie],tblResultaatMaatregelen[Scenario],tblResultaatSector[[#This Row],[Situatie]],tblResultaatMaatregelen[Sector],tblResultaatSector[[#This Row],[Sector]],tblResultaatMaatregelen[MaatregelCode],tblResultaatSector[[#This Row],[Maatregel]],tblResultaatMaatregelen[X-as],\"Maatregelen\")","v":7385.0057979978565}]
[21,"Scenario 2",2030,{"$f":"VLOOKUP(tblResultaatSector[[#This Row],[MaatregelNummer]],Tbl_scenario[],2,TRUE)","v":"Particulier en commercieel vervoer"},{"$f":"IF(tblResultaatSector[[#This Row],[MaatregelNummer]]=0,\"Totaal\",VLOOKUP([MaatregelNummer],Tbl_scenario[],4,TRUE))","v":"MOB_MS_OV"},"Reductie",{"$f":"SUMIFS(tblResultaatMaatregelen[Reductie],tblResultaatMaatregelen[Scenario],tblResultaatSector[[#This Row],[Situatie]],tblResultaatMaatregelen[Sector],tblResultaatSector[[#This Row],[Sector]],tblResultaatMaatregelen[MaatregelCode],tblResultaatSector[[#This Row],[Maatregel]],tblResultaatMaatregelen[X-as],\"Maatregelen\")","v":11225.208812956742}]
[22,"Scenario 2",2030,{"$f":"VLOOKUP(tblResultaatSector[[#This Row],[MaatregelNummer]],Tbl_scenario[],2,TRUE)","v":"Particulier en commercieel vervoer"},{"$f":"IF(tblResultaatSector[[#This Row],[MaatregelNummer]]=0,\"Totaal\",VLOOKUP([MaatregelNummer],Tbl_scenario[],4,TRUE))","v":"MOB_BS_EV"},"Reductie",{"$f":"SUMIFS(tblResultaatMaatregelen[Reductie],tblResultaatMaatregelen[Scenario],tblResultaatSector[[#This Row],[Situatie]],tblResultaatMaatregelen[Sector],tblResultaatSector[[#This Row],[Sector]],tblResultaatMaatregelen[MaatregelCode],tblResultaatSector[[#This Row],[Maatregel]],tblResultaatMaatregelen[X-as],\"Maatregelen\")","v":15191.993028288663}]
[23,"Scenario 2",2030,{"$f":"VLOOKUP(tblResultaatSector[[#This Row],[MaatregelNummer]],Tbl_scenario[],2,TRUE)","v":"Particulier en commercieel vervoer"},{"$f":"IF(tblResultaatSector[[#This Row],[MaatregelNummer]]=0,\"Totaal\",VLOOKUP([MaatregelNummer],Tbl_scenario[],4,TRUE))","v":"MOB_BS_H2"},"Reductie",{"$f":"SUMIFS(tblResultaatMaatregelen[Reductie],tblResultaatMaatregelen[Scenario],tblResultaatSector[[#This Row],[Situatie]],tblResultaatMaatregelen[Sector],tblResultaatSector[[#This Row],[Sector]],tblResultaatMaatregelen[MaatregelCode],tblResultaatSector[[#This Row],[Maatregel]],tblResultaatMaatregelen[X-as],\"Maatregelen\")","v":4923.3371986652364}]
[24,"Scenario 2",2030,{"$f":"VLOOKUP(tblResultaatSector[[#This Row],[MaatregelNummer]],Tbl_scenario[],2,TRUE)","v":"Lokale energieproductie"},{"$f":"IF(tblResultaatSector[[#This Row],[MaatregelNummer]]=0,\"Totaal\",VLOOKUP([MaatregelNummer],Tbl_scenario[],4,TRUE))","v":"LEN_PV"},"Reductie",{"$f":"SUMIFS(tblResultaatMaatregelen[Reductie],tblResultaatMaatregelen[Scenario],tblResultaatSector[[#This Row],[Situatie]],tblResultaatMaatregelen[Sector],tblResultaatSector[[#This Row],[Sector]],tblResultaatMaatregelen[MaatregelCode],tblResultaatSector[[#This Row],[Maatregel]],tblResultaatMaatregelen[X-as],\"Maatregelen\")","v":12480.764397293753}]
[25,"Scenario 2",2030,{"$f":"VLOOKUP(tblResultaatSector[[#This Row],[MaatregelNummer]],Tbl_scenario[],2,TRUE)","v":"Lokale energieproductie"},{"$f":"IF(tblResultaatSector[[#This Row],[MaatregelNummer]]=0,\"Totaal\",VLOOKUP([MaatregelNummer],Tbl_scenario[],4,TRUE))","v":"LEN_Wind"},"Reductie",{"$f":"SUMIFS(tblResultaatMaatregelen[Reductie],tblResultaatMaatregelen[Scenario],tblResultaatSector[[#This Row],[Situatie]],tblResultaatMaatregelen[Sector],tblResultaatSector[[#This Row],[Sector]],tblResultaatMaatregelen[MaatregelCode],tblResultaatSector[[#This Row],[Maatregel]],tblResultaatMaatregelen[X-as],\"Maatregelen\")","v":13201.633820689445}]
[26,"Scenario 2",2030,{"$f":"VLOOKUP(tblResultaatSector[[#This Row],[MaatregelNummer]],Tbl_scenario[],2,TRUE)","v":"Landbouw"},{"$f":"IF(tblResultaatSector[[#This Row],[MaatregelNummer]]=0,\"Totaal\",VLOOKUP([MaatregelNummer],Tbl_scenario[],4,TRUE))","v":"LB_HER_WP"},"Reductie",{"$f":"SUMIFS(tblResultaatMaatregelen[Reductie],tblResultaatMaatregelen[Scenario],tblResultaatSector[[#This Row],[Situatie]],tblResultaatMaatregelen[Sector],tblResultaatSector[[#This Row],[Sector]],tblResultaatMaatregelen[MaatregelCode],tblResultaatSector[[#This Row],[Maatregel]],tblResultaatMaatregelen[X-as],\"Maatregelen\")","v":258.06631345477342}]
[27,"Scenario 2",2030,{"$f":"VLOOKUP(tblResultaatSector[[#This Row],[MaatregelNummer]],Tbl_scenario[],2,TRUE)","v":"Landbouw"},{"$f":"IF(tblResultaatSector[[#This Row],[MaatregelNummer]]=0,\"Totaal\",VLOOKUP([MaatregelNummer],Tbl_scenario[],4,TRUE))","v":"LB_HER_PocV"},"Reductie",{"$f":"SUMIFS(tblResultaatMaatregelen[Reductie],tblResultaatMaatregelen[Scenario],tblResultaatSector[[#This Row],[Situatie]],tblResultaatMaatregelen[Sector],tblResultaatSector[[#This Row],[Sector]],tblResultaatMaatregelen[MaatregelCode],tblResultaatSector[[#This Row],[Maatregel]],tblResultaatMaatregelen[X-as],\"Maatregelen\")","v":8.8296619153522986}]
[28,"Scenario 2",2030,{"$f":"VLOOKUP(tblResultaatSector[[#This Row],[MaatregelNummer]],Tbl_scenario[],2,TRUE)","v":"Landbouw"},{"$f":"IF(tblResultaatSector[[#This Row],[MaatregelNummer]]=0,\"Totaal\",VLOOKUP([MaatregelNummer],Tbl_scenario[],4,TRUE))","v":"LB_HER_BMK"},"Reductie",{"$f":"SUMIFS(tblResultaatMaatregelen[Reductie],tblResultaatMaatregelen[Scenario],tblResultaatSector[[#This Row],[Situatie]],tblResultaatMaatregelen[Sector],tblResultaatSector[[#This Row],[Sector]],tblResultaatMaatregelen[MaatregelCode],tblResultaatSector[[#This Row],[Maatregel]],tblResultaatMaatregelen[X-as],\"Maatregelen\")","v":237.41969345163415}]
[29,"Scenario 2",2030,{"$f":"VLOOKUP(tblResultaatSector[[#This Row],[MaatregelNummer]],Tbl_scenario[],2,TRUE)","v":"Landbouw"},{"$f":"IF(tblResultaatSector[[#This Row],[MaatregelNummer]]=0,\"Totaal\",VLOOKUP([MaatregelNummer],Tbl_scenario[],4,TRUE))","v":"LB_EE_ENS"},"Reductie",{"$f":"SUMIFS(tblResultaatMaatregelen[Reductie],tblResultaatMaatregelen[Scenario],tblResultaatSector[[#This Row],[Situatie]],tblResultaatMaatregelen[Sector],tblResultaatSector[[#This Row],[Sector]],tblResultaatMaatregelen[MaatregelCode],tblResultaatSector[[#This Row],[Maatregel]],tblResultaatMaatregelen[X-as],\"Maatregelen\")","v":69.769414040474203}]
[30,"Scenario 2",2030,{"$f":"VLOOKUP(tblResultaatSector[[#This Row],[MaatregelNummer]],Tbl_scenario[],2,TRUE)","v":"Huishoudens"},{"$f":"IF(tblResultaatSector[[#This Row],[MaatregelNummer]]=0,\"Totaal\",VLOOKUP([MaatregelNummer],Tbl_scenario[],4,TRUE))","v":"BLANCO_1"},"Reductie",{"$f":"SUMIFS(tblResultaatMaatregelen[Reductie],tblResultaatMaatregelen[Scenario],tblResultaatSector[[#This Row],[Situatie]],tblResultaatMaatregelen[Sector],tblResultaatSector[[#This Row],[Sector]],tblResultaatMaatregelen[MaatregelCode],tblResultaatSector[[#This Row],[Maatregel]],tblResultaatMaatregelen[X-as],\"Maatregelen\")","v":0}]
[31,"Scenario 2",2030,{"$f":"VLOOKUP(tblResultaatSector[[#This Row],[MaatregelNummer]],Tbl_scenario[],2,TRUE)","v":"Huishoudens"},{"$f":"IF(tblResultaatSector[[#This Row],[MaatregelNummer]]=0,\"Totaal\",VLOOKUP([MaatregelNummer],Tbl_scenario[],4,TRUE))","v":"BLANCO_2"},"Reductie",{"$f":"SUMIFS(tblResultaatMaatregelen[Reductie],tblResultaatMaatregelen[Scenario],tblResultaatSector[[#This Row],[Situatie]],tblResultaatMaatregelen[Sector],tblResultaatSector[[#This Row],[Sector]],tblResultaatMaatregelen[MaatregelCode],tblResultaatSector[[#This Row],[Maatregel]],tblResultaatMaatregelen[X-as],\"Maatregelen\")","v":0}]
[32,"Scenario 2",2030,{"$f":"VLOOKUP(tblResultaatSector[[#This Row],[MaatregelNummer]],Tbl_scenario[],2,TRUE)","v":"Huishoudens"},{"$f":"IF(tblResultaatSector[[#This Row],[MaatregelNummer]]=0,\"Totaal\",VLOOKUP([MaatregelNummer],Tbl_scenario[],4,TRUE))","v":"BLANCO_3"},"Reductie",{"$f":"SUMIFS(tblResultaatMaatregelen[Reductie],tblResultaatMaatregelen[Scenario],tblResultaatSector[[#This Row],[Situatie]],tblResultaatMaatregelen[Sector],tblResultaatSector[[#This Row],[Sector]],tblResultaatMaatregelen[MaatregelCode],tblResultaatSector[[#This Row],[Maatregel]],tblResultaatMaatregelen[X-as],\"Maatregelen\")","v":0}]

{"sheet":"Fig_Overzicht CO2 totaal","index":15,"n_rows":7,"n_cols":13,"rows_kept":7,"cut":false,"hidden":false,"merged":[]}
[null,"Klik op \"Alles vernieuwen\" in menubalk (Gegevens) om de resultaten te laden na wijzigingen in Dashboard of rekenblad Scenario's."]
[]
[]
[null,null,"<< Naar Scenario's",null,null,null,null,null,null,null,null,null,"Naar Fig_Bijdrage in te behalen reductie >>"]
[]
[null,null,"Overzicht totale CO2-uitstoot en reducties"]
[null,null,"Cijfers in ton CO2"]

{"sheet":"Pivot_detailmaatregelen","index":16,"n_rows":38,"n_cols":9,"rows_kept":38,"cut":false,"hidden":true,"merged":[]}
["Ambitieniveau","(All)",{"$f":"IF(Pivot_detailmaatregelen!B2=\"(All)\",\"Gelieve slechts één X-as te selecteren!\",IF(Pivot_detailmaatregelen!B3=\"(All)\",\"Gelieve slechts één scenario te selecteren!\",\" \"))","v":" "}]
["X-as","Maatregelen",{"$f":"IF(B2=\"Maatregelen\",\"maatregel\",IF(B2=\"Sectoren\",\"sector\",NA()))","v":"maatregel"}]
["Scenario","Scenario 1"]
["Filter","(All)"]
[null,null,null,null,null,"X-as","Start","Ends","Remainder"]
["X-as volgorde","X-as label","Sum of Reductie",null,null,"Te behalen reductie",0,{"$f":"IF(P_Check_Input=FALSE,NA(),SUMIFS(tblResultaatSector[ton CO2],tblResultaatSector[Situatie],\"Referentiesituatie\",tblResultaatSector[Jaar],P_Maatregelen_Jaar)-SUMIFS(tblResultaatSector[ton CO2],tblResultaatSector[Situatie],\"CO2-plafond 2030\",tblResultaatSector[Jaar],2030))","v":120113.60969011139},0]
[1,"RES_ISO_DAK",9650.7887869298283,null,null,{"$f":"IF(ISBLANK(C7),\"\",B7)","v":"RES_ISO_DAK"},{"$f":"IF(ISBLANK(C7),\"\",IF(H6-C7>=0,H6-C7,0))","v":110462.82090318156},{"$f":"IF(ISBLANK(C7),\"\",IF(C7=0,1,C7))*IF(G7>0,1,-1)+I7","v":9650.7887869298283},{"$f":"IF(AND(H6>0,G7<=0),H6,0)","v":0}]
[2,"RES_ISO_MUUR",10751.627857522235,null,null,{"$f":"IF(ISBLANK(C8),\"\",B8)","v":"RES_ISO_MUUR"},{"$f":"IF(ISBLANK(C8),\"\",IF(G7-C8>=0,G7-C8,IF(G7>0,0,G7+H7)))","v":99711.193045659325},10751.627857522235,{"$f":"IF(AND(G7>0,G8<=0),G7,0)","v":0}]
[3,"RES_ISO_VL",4990.4290141524016,null,null,"RES_ISO_VL",{"$f":"IF(ISBLANK(C9),\"\",IF(G8-C9>=0,G8-C9,IF(G8>0,0,G8+H8)))","v":94720.764031506929},4990.4290141524016,0]
[4,"RES_ISO_BG",3270.1525549919365,null,null,"RES_ISO_BG",91450.611476514998,3270.1525549919365,0]
[5,"RES_HER_WP",3453.6546423835571,null,null,"RES_HER_WP",87996.956834131444,{"$f":"IF(ISBLANK(C11),\"\",IF(C11=0,1,C11))*IF(G11>0,1,-1)+I11","v":3453.6546423835571},0]
[6,"RES_HER_ZB",1590.7146148570002,null,null,"RES_HER_ZB",86406.242219274442,1590.7146148570002,0]
[7,"RES_HER_WPB",2971.9841682495298,null,null,"RES_HER_WPB",83434.25805102491,2971.9841682495298,0]
[8,"RES_EE_ELE",638.10592261458225,null,null,"RES_EE_ELE",82796.152128410322,638.10592261458225,0]
[9,"RES_EE_SLOOP",3938.9310326914874,null,null,"RES_EE_SLOOP",78857.221095718836,3938.9310326914874,{"$f":"IF(AND(G14>0,G15<=0),G14,0)","v":0}]
[10,"TER_EE_ISO",5331.516632652123,null,null,"TER_EE_ISO",73525.704463066708,5331.516632652123,0]
[11,"TER_HER_WP",2668.3663516033976,null,null,"TER_HER_WP",70857.338111463308,2668.3663516033976,0]
[12,"TER_HER_ZB",925.61052650210468,null,null,"TER_HER_ZB",69931.727584961205,925.61052650210468,0]
[13,"TER_HER_WPB",1291.0997264309194,null,null,"TER_HER_WPB",68640.627858530279,1291.0997264309194,0]
[14,"TER_EE_ELE",2523.4303286035938,null,null,"TER_EE_ELE",66117.197529926692,2523.4303286035938,0]
[15,"OV_LED_EE",214.91237052945354,null,null,"OV_LED_EE",65902.285159397245,214.91237052945354,0]
[16,"IND_HER_WP",655.01208743497432,null,null,"IND_HER_WP",65247.27307196227,655.01208743497432,0]
[17,"IND_HER_ZB",140.9019379449181,null,null,"IND_HER_ZB",65106.371134017354,140.9019379449181,0]
[18,"IND_EE_EEA",118.64209842566362,null,null,"IND_EE_EEA",64987.729035591692,118.64209842566362,0]
[19,"MOB_MS_voet",1754.0333143256605,null,null,"MOB_MS_voet",63233.695721266035,{"$f":"IF(ISBLANK(C25),\"\",IF(C25=0,1,C25))*IF(G25>0,1,-1)+I25","v":1754.0333143256605},0]
[20,"MOB_MS_EFiets",1461.6944286047169,null,null,{"$f":"IF(ISBLANK(C26),\"\",B26)","v":"MOB_MS_EFiets"},61772.00129266132,1461.6944286047169,0]
[21,"MOB_MS_OV",2221.7755314791698,null,null,"MOB_MS_OV",59550.225761182148,2221.7755314791698,0]
[22,"MOB_BS_EV",2998.4692163331465,null,null,"MOB_BS_EV",56551.756544848999,2998.4692163331465,0]
[23,"MOB_BS_H2",974.46295240314475,null,null,"MOB_BS_H2",55577.293592445851,974.46295240314475,0]
[24,"LEN_PV",2496.1528794587502,null,null,"LEN_PV",53081.1407129871,2496.1528794587502,0]
[25,"LEN_Wind",2640.3267641378893,null,null,"LEN_Wind",{"$f":"IF(ISBLANK(C31),\"\",IF(G30-C31>=0,G30-C31,IF(G30>0,0,G30+H30)))","v":50440.813948849209},{"$f":"IF(ISBLANK(C31),\"\",IF(C31=0,1,C31))*IF(G31>0,1,-1)+I31","v":2640.3267641378893},0]
[26,"LB_HER_WP",110.59984862347436,null,null,{"$f":"IF(ISBLANK(C32),\"\",B32)","v":"LB_HER_WP"},{"$f":"IF(ISBLANK(C32),\"\",IF(G31-C32>=0,G31-C32,IF(G31>0,0,G31+H31)))","v":50330.214100225734},110.59984862347436,0]
[27,"LB_HER_PocV",5.5185386970951855,null,null,{"$f":"IF(ISBLANK(C33),\"\",B33)","v":"LB_HER_PocV"},50324.695561528642,5.5185386970951855,0]
[28,"LB_HER_BMK",47.483938690326838,null,null,"LB_HER_BMK",50277.211622838317,47.483938690326838,0]
[29,"LB_EE_ENS",13.953882808094843,null,null,{"$f":"IF(ISBLANK(C35),\"\",B35)","v":"LB_EE_ENS"},50263.257740030225,13.953882808094843,0]
[30,"BLANCO_1",0,null,null,{"$f":"IF(ISBLANK(C36),\"\",B36)","v":"BLANCO_1"},50263.257740030225,1,0]
[31,"BLANCO_2",0,null,null,{"$f":"IF(ISBLANK(C37),\"\",B37)","v":"BLANCO_2"},50263.257740030225,1,0]
[32,"BLANCO_3",0,null,null,{"$f":"IF(ISBLANK(C38),\"\",B38)","v":"BLANCO_3"},50263.257740030225,1,0]

{"sheet":"Fig_Bijdrage in te behalen red","index":17,"n_rows":8,"n_cols":17,"rows_kept":8,"cut":false,"hidden":false,"merged":[]}
[null,"Klik op \"Alles vernieuwen\" in menubalk (Gegevens) om de resultaten te laden na wijzigingen in Dashboard of rekenblad Scenario's."]
[]
[]
[]
[null,null,null,null,"<< Naar Fig_Overzicht CO2 totaal",null,null,null,null,null,null,null,null,null,null,null,"Naar Tabel_Overzicht CO2 per sector >>"]
[]
[null,null,null,null,{"$f":"CONCATENATE(\"Bijdrage per \",Pivot_detailmaatregelen!$C$2, \" in het behalen van het CO2-emissieplafond voor 2030, vertrekkend vanuit \",P_Maatregelen_Referentie,\" voor het jaar \",P_Maatregelen_Jaar)","v":"Bijdrage per maatregel in het behalen van het CO2-emissieplafond voor 2030, vertrekkend vanuit BAU voor het jaar 2030"}]
[null,null,null,null,"Cijfers in ton CO2 reductie"]

{"sheet":"Tabel4overzichtsector","index":18,"n_rows":11,"n_cols":5,"rows_kept":11,"cut":false,"hidden":true,"merged":[]}
["Sector","CO2-plafond 2030",{"$f":"CONCATENATE(\"Referentie maatregelen: \",P_Maatregelen_Referentie,\" \",P_Maatregelen_Jaar)","v":"Referentie maatregelen: BAU 2030"},"Scenario 1","Scenario 2"]
["Huishoudens",null,{"$f":"IF(P_Check_Input=FALSE,0,SUMIFS(tblResultaatSector[ton CO2],tblResultaatSector[Situatie],\"Referentiesituatie\",tblResultaatSector[Jaar],P_Maatregelen_Jaar,tblResultaatSector[Sector],Tabel4overzichtsector!A2,tblResultaatSector[Maatregel],\"Totaal\",tblResultaatSector[Type],\"Totale emissie\"))","v":95656.249277971205},{"$f":"IF(P_Check_Input=FALSE,0,SUMIFS(tblResultaatSector[ton CO2],tblResultaatSector[Situatie],\"Scenario 1\",tblResultaatSector[Jaar],2030,tblResultaatSector[Sector],Tabel4overzichtsector!A2,tblResultaatSector[Maatregel],\"Totaal\",tblResultaatSector[Type],\"Totale emissie\"))","v":55285.036566246992},{"$f":"IF(P_Check_Input=FALSE,0,SUMIFS(tblResultaatSector[ton CO2],tblResultaatSector[Situatie],\"Scenario 2\",tblResultaatSector[Jaar],2030,tblResultaatSector[Sector],Tabel4overzichtsector!A2,tblResultaatSector[Maatregel],\"Totaal\",tblResultaatSector[Type],\"Totale emissie\"))","v":23670.979547273731}]
["Industrie (niet-ETS)",null,{"$f":"IF(P_Check_Input=FALSE,0,SUMIFS(tblResultaatSector[ton CO2],tblResultaatSector[Situatie],\"Referentiesituatie\",tblResultaatSector[Jaar],P_Maatregelen_Jaar,tblResultaatSector[Sector],Tabel4overzichtsector!A3,tblResultaatSector[Maatregel],\"Totaal\",tblResultaatSector[Type],\"Totale emissie\"))","v":35989.870245523103},{"$f":"IF(P_Check_Input=FALSE,0,SUMIFS(tblResultaatSector[ton CO2],tblResultaatSector[Situatie],\"Scenario 1\",tblResultaatSector[Jaar],2030,tblResultaatSector[Sector],Tabel4overzichtsector!A3,tblResultaatSector[Maatregel],\"Totaal\",tblResultaatSector[Type],\"Totale emissie\"))","v":35075.314121717543},{"$f":"IF(P_Check_Input=FALSE,0,SUMIFS(tblResultaatSector[ton CO2],tblResultaatSector[Situatie],\"Scenario 2\",tblResultaatSector[Jaar],2030,tblResultaatSector[Sector],Tabel4overzichtsector!A3,tblResultaatSector[Maatregel],\"Totaal\",tblResultaatSector[Type],\"Totale emissie\"))","v":33539.527027508368}]
["Tertiair",null,{"$f":"IF(P_Check_Input=FALSE,0,SUMIFS(tblResultaatSector[ton CO2],tblResultaatSector[Situatie],\"Referentiesituatie\",tblResultaatSector[Jaar],P_Maatregelen_Jaar,tblResultaatSector[Sector],Tabel4overzichtsector!A4,tblResultaatSector[Maatregel],\"Totaal\",tblResultaatSector[Type],\"Totale emissie\"))","v":87269.992104577585},{"$f":"IF(P_Check_Input=FALSE,0,SUMIFS(tblResultaatSector[ton CO2],tblResultaatSector[Situatie],\"Scenario 1\",tblResultaatSector[Jaar],2030,tblResultaatSector[Sector],Tabel4overzichtsector!A4,tblResultaatSector[Maatregel],\"Totaal\",tblResultaatSector[Type],\"Totale emissie\"))","v":74529.968538785441},{"$f":"IF(P_Check_Input=FALSE,0,SUMIFS(tblResultaatSector[ton CO2],tblResultaatSector[Situatie],\"Scenario 2\",tblResultaatSector[Jaar],2030,tblResultaatSector[Sector],Tabel4overzichtsector!A4,tblResultaatSector[Maatregel],\"Totaal\",tblResultaatSector[Type],\"Totale emissie\"))","v":57543.270451062599}]
["Landbouw",null,{"$f":"IF(P_Check_Input=FALSE,0,SUMIFS(tblResultaatSector[ton CO2],tblResultaatSector[Situatie],\"Referentiesituatie\",tblResultaatSector[Jaar],P_Maatregelen_Jaar,tblResultaatSector[Sector],Tabel4overzichtsector!A5,tblResultaatSector[Maatregel],\"Totaal\",tblResultaatSector[Type],\"Totale emissie\"))","v":2178.6947894009973},{"$f":"IF(P_Check_Input=FALSE,0,SUMIFS(tblResultaatSector[ton CO2],tblResultaatSector[Situatie],\"Scenario 1\",tblResultaatSector[Jaar],2030,tblResultaatSector[Sector],Tabel4overzichtsector!A5,tblResultaatSector[Maatregel],\"Totaal\",tblResultaatSector[Type],\"Totale emissie\"))","v":2001.1385805820059},{"$f":"IF(P_Check_Input=FALSE,0,SUMIFS(tblResultaatSector[ton CO2],tblResultaatSector[Situatie],\"Scenario 2\",tblResultaatSector[Jaar],2030,tblResultaatSector[Sector],Tabel4overzichtsector!A5,tblResultaatSector[Maatregel],\"Totaal\",tblResultaatSector[Type],\"Totale emissie\"))","v":1604.6097065387632}]
["Particulier en commercieel vervoer",null,{"$f":"IF(P_Check_Input=FALSE,0,SUMIFS(tblResultaatSector[ton CO2],tblResultaatSector[Situatie],\"Referentiesituatie\",tblResultaatSector[Jaar],P_Maatregelen_Jaar,tblResultaatSector[Sector],Tabel4overzichtsector!A6,tblResultaatSector[Maatregel],\"Totaal\",tblResultaatSector[Type],\"Totale emissie\"))","v":100210.09400600841},{"$f":"IF(P_Check_Input=FALSE,0,SUMIFS(tblResultaatSector[ton CO2],tblResultaatSector[Situatie],\"Scenario 1\",tblResultaatSector[Jaar],2030,tblResultaatSector[Sector],Tabel4overzichtsector!A6,tblResultaatSector[Maatregel],\"Totaal\",tblResultaatSector[Type],\"Totale emissie\"))","v":90692.583646907224},{"$f":"IF(P_Check_Input=FALSE,0,SUMIFS(tblResultaatSector[ton CO2],tblResultaatSector[Situatie],\"Scenario 2\",tblResultaatSector[Jaar],2030,tblResultaatSector[Sector],Tabel4overzichtsector!A6,tblResultaatSector[Maatregel],\"Totaal\",tblResultaatSector[Type],\"Totale emissie\"))","v":52622.542210502492}]
["Openbaar vervoer",null,{"$f":"IF(P_Check_Input=FALSE,0,SUMIFS(tblResultaatSector[ton CO2],tblResultaatSector[Situatie],\"Referentiesituatie\",tblResultaatSector[Jaar],P_Maatregelen_Jaar,tblResultaatSector[Sector],Tabel4overzichtsector!A7,tblResultaatSector[Maatregel],\"Totaal\",tblResultaatSector[Type],\"Totale emissie\"))","v":3562.1960098022601},{"$f":"IF(P_Check_Input=FALSE,0,SUMIFS(tblResultaatSector[ton CO2],tblResultaatSector[Situatie],\"Scenario 1\",tblResultaatSector[Jaar],2030,tblResultaatSector[Sector],Tabel4overzichtsector!A7,tblResultaatSector[Maatregel],\"Totaal\",tblResultaatSector[Type],\"Totale emissie\"))","v":3562.1960098022601},{"$f":"IF(P_Check_Input=FALSE,0,SUMIFS(tblResultaatSector[ton CO2],tblResultaatSector[Situatie],\"Scenario 2\",tblResultaatSector[Jaar],2030,tblResultaatSector[Sector],Tabel4overzichtsector!A7,tblResultaatSector[Maatregel],\"Totaal\",tblResultaatSector[Type],\"Totale emissie\"))","v":3562.1960098022601}]
["Openbare verlichting",null,{"$f":"IF(P_Check_Input=FALSE,0,SUMIFS(tblResultaatSector[ton CO2],tblResultaatSector[Situatie],\"Referentiesituatie\",tblResultaatSector[Jaar],P_Maatregelen_Jaar,tblResultaatSector[Sector],Tabel4overzichtsector!A8,tblResultaatSector[Maatregel],\"Totaal\",tblResultaatSector[Type],\"Totale emissie\"))","v":894.19398411202997},{"$f":"IF(P_Check_Input=FALSE,0,SUMIFS(tblResultaatSector[ton CO2],tblResultaatSector[Situatie],\"Scenario 1\",tblResultaatSector[Jaar],2030,tblResultaatSector[Sector],Tabel4overzichtsector!A8,tblResultaatSector[Maatregel],\"Totaal\",tblResultaatSector[Type],\"Totale emissie\"))","v":679.28161358257648},{"$f":"IF(P_Check_Input=FALSE,0,SUMIFS(tblResultaatSector[ton CO2],tblResultaatSector[Situatie],\"Scenario 2\",tblResultaatSector[Jaar],2030,tblResultaatSector[Sector],Tabel4overzichtsector!A8,tblResultaatSector[Maatregel],\"Totaal\",tblResultaatSector[Type],\"Totale emissie\"))","v":392.73178620997174}]
["Lokale energieproductie",null,null,{"$f":"IF(P_Check_Input=FALSE,0,SUMIFS(tblResultaatSector[ton CO2],tblResultaatSector[Situatie],\"Scenario 1\",tblResultaatSector[Jaar],2030,tblResultaatSector[Sector],Tabel4overzichtsector!A9,tblResultaatSector[Maatregel],\"Totaal\",tblResultaatSector[Type],\"Totale emissie\"))","v":-5136.47964359664},{"$f":"IF(P_Check_Input=FALSE,0,SUMIFS(tblResultaatSector[ton CO2],tblResultaatSector[Situatie],\"Scenario 2\",tblResultaatSector[Jaar],2030,tblResultaatSector[Sector],Tabel4overzichtsector!A9,tblResultaatSector[Maatregel],\"Totaal\",tblResultaatSector[Type],\"Totale emissie\"))","v":-25682.398217983198}]
["Alle sectoren",{"$f":"IF(P_Check_Input=FALSE,0,SUMIFS(tblResultaatSector[ton CO2],tblResultaatSector[Situatie],\"CO2-plafond 2030\",tblResultaatSector[Jaar],2030,tblResultaatSector[Sector],A10,tblResultaatSector[Maatregel],\"Totaal\",tblResultaatSector[Type],\"Totale emissie\"))","v":211351.48074924041}]
["Totale CO2-uitstoot",{"$f":"SUM(B2:B10)","v":211351.48074924041},{"$f":"SUM(C2:C10)","v":325761.29041739553},256689.03943402742,147253.45852091498]

{"sheet":"Tabel_Overzicht CO2 per sector","index":19,"n_rows":25,"n_cols":6,"rows_kept":25,"cut":false,"hidden":false,"merged":[]}
[null,"Klik op \"Alles vernieuwen\" in menubalk (Gegevens) om de resultaten te laden na wijzigingen in Dashboard of rekenblad Scenario's."]
[]
[]
[null,null,"<< Naar Fig_Overzicht CO2 totaal",null,null,"Naar Tabel_Overzicht red per sector >>"]
[]
[null,null,"Overzicht totale CO2-uitstoot per sector"]
[null,null,{"$f":"CONCATENATE(\"Impact in scenario's berekend vertrekkend vanuit \",P_Maatregelen_Referentie,\" voor het jaar \",P_Maatregelen_Jaar)","v":"Impact in scenario's berekend vertrekkend vanuit BAU voor het jaar 2030"}]
[null,null,"Type","Totale emissie"]
[null,null,"Jaar",2030]
[]
[null,null,"ton CO2 "]
[null,null,null,"CO2-plafond 2030","Scenario 1","Scenario 2"]
[null,null,"Huishoudens",null,54399.860683578649,21605.569154380952]
[null,null,"Industrie (niet-ETS)",null,35075.314121717543,33539.527027508368]
[null,null,"Tertiair",null,74529.968538785441,57543.270451062599]
[null,null,"Landbouw",null,2001.1385805820059,1604.6097065387632]
[null,null,"Particulier en commercieel vervoer",null,141600.26078620649,103958.51901362312]
[null,null,"Openbaar vervoer",null,3562.1960098022601,3562.1960098022601]
[null,null,"Openbare verlichting",null,679.28161358257648,392.73178620997174]
[null,null,"Niet toegekend",null,5703.8000219561645,5703.8000219561645]
[null,null,"Lokale energieproductie",null,-5136.47964359664,-25682.398217983198]
[null,null,"Alle sectoren",242270.47322027298]
[null,null,"Totaal",242270.47322027298,312415.34071261453,202227.82495309899]
[null,null,"CO2-plafond bereikt",null,{"$f":"IF(GETPIVOTDATA(\"ton CO2\",$C$11,\"Situatie\",\"Scenario 1\")<=GETPIVOTDATA(\"ton CO2\",$C$11,\"Situatie\",\"CO2-plafond 2030\"),\"Ja\",\"Nee\")","v":"Nee"},{"$f":"IF(GETPIVOTDATA(\"ton CO2\",$C$11,\"Situatie\",\"Scenario 2\")<=GETPIVOTDATA(\"ton CO2\",$C$11,\"Situatie\",\"CO2-plafond 2030\"),\"Ja\",\"Nee\")","v":"Ja"}]
[null,null,"Verdere reductie van CO2-uitstoot nodig met (ton):",null,{"$f":"IF(E24=\"Nee\",GETPIVOTDATA(\"ton CO2\",$C$11,\"Situatie\",\"Scenario 1\")-GETPIVOTDATA(\"ton CO2\",$C$11,\"Situatie\",\"CO2-plafond 2030\"),\"\")","v":70144.867492341553},{"$f":"IF(F24=\"Nee\",GETPIVOTDATA(\"ton CO2\",$C$11,\"Situatie\",\"Scenario 2\")-GETPIVOTDATA(\"ton CO2\",$C$11,\"Situatie\",\"CO2-plafond 2030\"),\"\")","v":""}]

{"sheet":"Tabel_Overzicht red per sector","index":20,"n_rows":21,"n_cols":7,"rows_kept":21,"cut":false,"hidden":false,"merged":[]}
[null,"Klik op \"Alles vernieuwen\" in menubalk (Gegevens) om de resultaten te laden na wijzigingen in Dashboard of rekenblad Scenario's."]
[]
[]
[null,null,"<< Naar Tabel_Overzicht CO2 per sector",null,null,null,"Naar Tabel_Red per sector en maatreg >>"]
[]
[null,null,"Overzicht CO2-reductie per sector"]
[null,null,{"$f":"CONCATENATE(\"Impact in scenario's berekend vertrekkend vanuit \",P_Maatregelen_Referentie,\" voor het jaar \",P_Maatregelen_Jaar)","v":"Impact in scenario's berekend vertrekkend vanuit BAU voor het jaar 2030"}]
[null,null,"Type","Reductie"]
[null,null,"Jaar",2030]
[]
[null,null,"ton CO2 "]
[null,null,null,"Te behalen reductie","Scenario 1","Scenario 2"]
[null,null,"Huishoudens",0,41256.388594392556,74050.680123590253]
[null,null,"Industrie (niet-ETS)",0,914.55612380555613,2450.3432180147338]
[null,null,"Tertiair",0,12740.023565792138,29726.721653514986]
[null,null,"Landbouw",0,177.55620881899122,574.085082862234]
[null,null,"Particulier en commercieel vervoer",0,9410.4354431458378,47052.177215729193]
[null,null,"Openbare verlichting",0,214.91237052945354,501.46219790205822]
[null,null,"Lokale energieproductie",0,5136.47964359664,25682.398217983198]
[null,null,"Alle sectoren",139995.21944242273]
[null,null,"Totaal",139995.21944242273,69850.351950081167,180037.86770959667]

{"sheet":"Tabel_Red per sector en maatreg","index":21,"n_rows":21,"n_cols":13,"rows_kept":21,"cut":false,"hidden":false,"merged":[]}
[null,"Klik op \"Alles vernieuwen\" in menubalk (Gegevens) om de resultaten te laden na wijzigingen in Dashboard of rekenblad Scenario's."]
[]
[]
[null,null,null,null,null,"<< Naar Tabel_Overzicht red per sector"]
[]
[null,null,null,null,null,"Filterbare resultaten: CO2-reductie per sector en maatregel"]
[null,null,null,null,null,{"$f":"CONCATENATE(\"Impact in scenario's berekend vertrekkend vanuit \",P_Maatregelen_Referentie,\" voor het jaar \",P_Maatregelen_Jaar)","v":"Impact in scenario's berekend vertrekkend vanuit BAU voor het jaar 2030"}]
[null,null,null,null,null,"Type","Reductie"]
[null,null,null,null,null,"Jaar",2030]
[]
[null,null,null,null,null,null,null,"Te behalen reductie","Te behalen reductie","Scenario 1","Scenario 1","Scenario 2","Scenario 2"]
[null,null,null,null,null,null,null,"                           ton CO2 ","         % in totale reductie","                           ton CO2 ","         % in totale reductie","                           ton CO2 ","         % in totale reductie"]
[null,null,null,null,null,"Huishoudens",null,0,0,41256.388594392556,0.59063966669597601,74050.680123590253,0.41130613834548924]
[null,null,null,null,null,"Industrie (niet-ETS)",null,0,0,914.55612380555613,1.3093078249042286E-2,2450.3432180147338,1.3610154625732226E-2]
[null,null,null,null,null,"Tertiair",null,0,0,12740.023565792138,0.18239025588442057,29726.721653514986,0.16511371764002758]
[null,null,null,null,null,"Landbouw",null,0,0,177.55620881899122,2.5419515272576219E-3,574.085082862234,3.1886907469279762E-3]
[null,null,null,null,null,"Particulier en commercieel vervoer",null,0,0,9410.4354431458378,0.13472280640577219,47052.177215729193,0.26134600356201143]
[null,null,null,null,null,"Openbare verlichting",null,0,0,214.91237052945354,3.0767542972874569E-3,501.46219790205822,2.7853151355409465E-3]
[null,null,null,null,null,"Lokale energieproductie",null,0,0,5136.47964359664,7.3535486940243991E-2,25682.398217983198,0.14264997994427053]
[null,null,null,null,null,"Alle sectoren","Totaal",139995.21944242273,1,null,0,null,0]
[null,null,null,null,null,"Totaal selectie",null,139995.21944242273,1,69850.351950081167,1,180037.86770959667,1]

{"sheet":"BAU-->","index":22,"n_rows":34,"n_cols":18,"rows_kept":34,"cut":false,"hidden":false,"merged":[]}
[]
[]
[null,null,"<< Naar Dashboard",null,null,null,null,null,null,null,null,null,null,null,null,null,null,"Naar Resultaat >>"]
[]
[null,null,"BAU (business-as-usual scenario)"]
[]
[null,null,"Handleiding"]
[]
[]
[null,null,null,"De BAU rekenbladen geven over alle sectoren heen (totaal) en per sector een overzicht van de business-as-usual scenario's voor 2030 en dit voor de gemeente die geselecteerd werd in het Dashboard."]
[null,null,null,"Let wel: indien de geselecteerde gemeente in het dashboard aangepast wordt, moeten de rekenbladen vernieuwd worden via \"Alle vernieuwen\" (cf. menubalk Gegevens)."]
[]
[null,null,null,"Het BAU-scenario voor 2030 wordt in de BAU-rekenbladen opgemaakt, uitgaande van de inventaris van Dept. Omgeving voor het jaar 2017."]
[null,null,null,"Het BAU-scenario geeft de evolutie van de CO2-emissies tussen 2017 en 2030 \"business-as-usual\". "]
[null,null,null,"Het scenario rekent de impact door van verschil in graaddagen (kouder/warmer jaar),  autonome evoluties (bv. bevolkingsgroei, economische groei) en beslist beleid op federaal / Vlaams niveau tussen 2017 en 2030."]
[]
[null,null,null,"In rekenblad BAU_TOTAAL wordt een overzicht gegeven van het energieverbruik en de gerelateerde CO2-emissies per sector en per energiedrager in 2030 volgens het \"business-as-usual\" scenario."]
[null,null,null,"Dit is een samenvattende tabel die is samengesteld op basis van de BAU-resultaten in de sector rekenbladen."]
[null,null,null,"Onderaan dit rekenblad vindt de gebruiker eveneens een tabel en grafiek met de absolute en procentuele evolutie in CO2-emissies per sector voor 2017 en 2030."]
[null,null,null,"De CO2-emissies voor het jaar 2017 zijn afkomstig uit de inventaris van Dept. Omgeving voor het jaar 2017 (rekenblad INV)."]
[null,null,null,"Opm.: voor de sectoren \"Landbouw\", \"Openbare verlichting\" en \"niet-toegekend\" wordt geen sectorspecifiek BAU-scenario opgemaakt."]
[null,null,null,"De evolutie in CO2-emissies voor de sectoren \"Landbouw\", \"Openbare verlichting\" en \"Niet-toegekend\" kan verklaard worden door de evolutie in de CO2-emissiefactor voor elektriciteit (rekenblad BAU-ENE)."]
[]
[null,null,null,"In de rekenbladen BAU_afkorting sector (verborgen) wordt voor een specifieke sector een overzicht gegeven van het energieverbruik en de gerelateerde CO2-emissies per energiedrager."]
[null,null,null,"In deze rekenbladen wordt een overzicht gegeven van de achterliggende aannames en berekeningen. "]
[null,null,null,"Het merendeel van deze rekenbladen is verborgen. De verborgen rekenbladen kunnen opnieuw zichtbaar gemaakt worden. De gebruiker gaat in een rekenblad staan, klikt op rechter muisknop en selecteert vervolgens  \"zichtbaar maken\" ."]
[null,null,null,"RES= residentiële sector of huishoudens",null,null,null,null,null,"MOB= transportsector (particulier en commercieel vervoer over de weg en openbaar vervoer, incl. eigen vloot gemeente)"]
[null,null,null,"TER= tertiaire sector of dienstensector (excl. openbare verlichting, incl. eigen gebouwen gemeente)",null,null,null,null,null,"LBO= landbouwsector (energiegerelateerde CO2-emissies)"]
[null,null,null,"IND= industriële sector (niet-ETS)",null,null,null,null,null,"ENE= lokale energieproductie (CO2-emissiefactor elektriciteit en warmte)"]
[null,null,null,"Indien in het Dashboard gekozen wordt om snelwegen (niet) mee te nemen in de CO2-uitstoot, wordt ook het BAU-scenario incl. (excl.) snelwegen opgemaakt."]
[null,null,null,"De aannames die gemaakt worden over de autonome evolutie en beslist Federaal/Vlaams Beleid tussen 2017 en 2030 zijn grotendeels generiek (of voor alle gemeenten hetzelfde)."]
[null,null,null,"Enkel de evolutie van het aantal huishoudens tussen 2017 en 2030 is gemeentespecifiek (cf. rekenblad BAU_RES, rij 50)."]
[]
[null,null,null,"De BAU-scenario's kunnen als gegeven beschouwd worden. Indien gewenst, kunnen aannames en doorrekeningen overschreven worden door de gebruiker in de sector rekenbladen."]

{"sheet":"BAU_TOTAAL","index":23,"n_rows":69,"n_cols":17,"rows_kept":69,"cut":false,"hidden":false,"merged":[[53,2,53,5],[11,16,12,16],[11,6,11,14],[34,6,34,14],[30,2,30,5]]}
[]
[]
[null,null,"BAU-scenario 2030 - Totaal"]
[]
[null,null,"Gemeente:",null,null,{"$f":"D_gemeente","v":"VITO"}]
[null,null,"Referentiejaar:",null,null,{"$f":"P_Maatregelen_Jaar_Inventaris","v":2017}]
[]
[null,null,"Overzicht van energieverbruik en gerelateerde CO2-emissies per energiedrager en per sector voor BAU-scenario 2030."]
[null,null,"Overzicht is samengesteld op basis van de BAU-resultaten in de sector rekenbladen."]
[null,null,"Indien de geselecteerde gemeente in het dashboard aangepast wordt, moeten de rekenbladen vernieuwd worden via \"Alles vernieuwen\" (cf. menubalk Gegevens)."]
[]
[null,null,null,null,null,null,"ENERGIEVERBRUIK [MWh] - BAU 2030",null,null,null,null,null,null,null,null,null,"Emissiefactoren [ton/MWh] "]
[null,null,null,null,null,null,"Huishoudens","Tertiair","Industrie (niet-ETS)","Particulier en commercieel vervoer","Landbouw","Openbare verlichting","Openbaar vervoer","Niet toegekend","TOTAAL"]
[null,null,"Elektriciteit",null,null,null,{"$f":"BAU_RES!L14","v":104020.41647473136},{"$f":"BAU_TER!I12","v":224385.40510925499},{"$f":"BAU_IND!I12","v":58326.406977209241},{"$f":"BAU_MOB!M15","v":1036.0378179069285},{"$f":"BAU_LBO!I12","v":1577.6787409999999},{"$f":"INV!D18","v":5050.3500000000004},{"$f":"BAU_MOB!O15","v":5.2615881561440485},{"$f":"INV!D23","v":9036.4562999999998},{"$f":"SUM(G14:N14)","v":403438.01300825871},null,{"$f":"BAU_ENE!Q14","v":0.17705584446860712}]
[null,null,"Warmte/ Koude",null,null,null,{"$f":"BAU_RES!L15","v":0},{"$f":"BAU_TER!I13","v":2948.7857142857101},{"$f":"BAU_IND!I13","v":345.21989022711983},{"$f":"BAU_MOB!M16","v":"nvt"},{"$f":"BAU_LBO!I13","v":0},null,{"$f":"BAU_MOB!O16","v":"nvt"},{"$f":"INV!E$23","v":0},{"$f":"SUM(G15:N15)","v":3294.0056045128299},null,{"$f":"BAU_ENE!Q15","v":0.23764705882352966}]
[null,null,null,"Fossiele brandstoffen",null,null,null,null,null,null,null,null,null,null,0]
[null,null,null,null,"Aardgas",null,{"$f":"BAU_RES!L17","v":303142.77817624382},{"$f":"BAU_TER!I15","v":200115.41471201644},{"$f":"BAU_IND!I15","v":79388.446680131194},{"$f":"BAU_MOB!M18","v":3392.7135525585277},{"$f":"BAU_LBO!I15","v":1215.8444056000001},null,{"$f":"BAU_MOB!O18","v":"nvt"},{"$f":"INV!F$23","v":20316.052577999999},607571.25010455004,null,{"$f":"BAU_ENE!Q17","v":0.20200000000000001}]
[null,null,null,null,"Vloeibaar gas",null,{"$f":"BAU_RES!L18","v":19987.740510201453},{"$f":"BAU_TER!I16","v":2719.2620452027145},{"$f":"BAU_IND!I16","v":8268.4376886240007},{"$f":"BAU_MOB!M19","v":575.53017032486844},{"$f":"BAU_LBO!I16","v":49.238833252343902},null,{"$f":"BAU_MOB!O19","v":"nvt"},{"$f":"INV!G$23","v":0},31600.209247605384,null,{"$f":"BAU_ENE!Q18","v":0.22700000000000001}]
[null,null,null,null,"Stookolie",null,{"$f":"BAU_RES!L19","v":42946.697788930462},{"$f":"BAU_TER!I17","v":21722.057446859293},{"$f":"BAU_IND!I17","v":28417.294994903423},{"$f":"BAU_MOB!M20","v":"nvt"},{"$f":"BAU_LBO!I17","v":5575.6914412303204},null,{"$f":"BAU_MOB!O20","v":"nvt"},{"$f":"INV!H$23","v":0},98661.74167192349,null,{"$f":"BAU_ENE!Q19","v":0.26700000000000002}]
[null,null,null,null,"Diesel",null,{"$f":"BAU_RES!L20","v":0},{"$f":"BAU_TER!I18","v":0},{"$f":"BAU_IND!I18","v":0},{"$f":"BAU_MOB!M21","v":210173.55382438359},{"$f":"BAU_LBO!I18","v":0},null,{"$f":"BAU_MOB!O21","v":13338.068969543176},{"$f":"INV!I$23","v":0},223511.62279392677,null,{"$f":"BAU_ENE!Q20","v":0.26700000000000002}]
[null,null,null,null,"Benzine",null,{"$f":"BAU_RES!L21","v":0},{"$f":"BAU_TER!I19","v":0},{"$f":"BAU_IND!I19","v":0},{"$f":"BAU_MOB!M22","v":173069.6590275763},{"$f":"BAU_LBO!I19","v":0},null,{"$f":"BAU_MOB!O22","v":"nvt"},{"$f":"INV!J$23","v":0},173069.6590275763,null,{"$f":"BAU_ENE!Q21","v":0.249}]
[null,null,null,null,"Bruinkool",null,{"$f":"BAU_RES!L22","v":0},{"$f":"BAU_TER!I20","v":0},{"$f":"BAU_IND!I20","v":0},{"$f":"BAU_MOB!M23","v":"nvt"},{"$f":"BAU_LBO!I20","v":0},null,{"$f":"BAU_MOB!O23","v":"nvt"},{"$f":"INV!K$23","v":0},0,null,{"$f":"BAU_ENE!Q22","v":0.35099999999999998}]
[null,null,null,null,"Steenkool",null,{"$f":"BAU_RES!L23","v":0},{"$f":"BAU_TER!I21","v":0.279293862491925},{"$f":"BAU_IND!I21","v":225.92984025548253},{"$f":"BAU_MOB!M24","v":"nvt"},{"$f":"BAU_LBO!I21","v":434.66143425168201},null,{"$f":"BAU_MOB!O24","v":"nvt"},{"$f":"INV!L$23","v":0},660.87056836965644,null,{"$f":"BAU_ENE!Q23","v":0.35399999999999998}]
[null,null,null,null,"Andere fossiele brandstoffen",null,{"$f":"BAU_RES!L24","v":0},{"$f":"BAU_TER!I22","v":0},{"$f":"BAU_IND!I22","v":0},{"$f":"BAU_MOB!M25","v":"nvt"},{"$f":"BAU_LBO!I22","v":0},null,{"$f":"BAU_MOB!O25","v":"nvt"},{"$f":"INV!M$23","v":0},0,null,{"$f":"BAU_ENE!Q24","v":0.26400000000000001}]
[null,null,null,"Hernieuwbare brandstoffen",null,null,null,null,null,null,null,null,null,null,0]
[null,null,null,null,"Plantaardige oliën",null,{"$f":"BAU_RES!L26","v":0},{"$f":"BAU_TER!I24","v":0},{"$f":"BAU_IND!I24","v":0},{"$f":"BAU_MOB!M27","v":"nvt"},{"$f":"BAU_LBO!I24","v":0},null,{"$f":"BAU_MOB!O27","v":"nvt"},{"$f":"INV!N$23","v":0},0,null,{"$f":"BAU_ENE!Q26","v":0}]
[null,null,null,null,"Bio-brandstof ",null,{"$f":"BAU_RES!L27","v":0},{"$f":"BAU_TER!I25","v":0},{"$f":"BAU_IND!I25","v":0},{"$f":"BAU_MOB!M28","v":33034.188306945594},{"$f":"BAU_LBO!I25","v":0},null,{"$f":"BAU_MOB!O28","v":769.33390622843626},{"$f":"INV!O$23","v":0},33803.52221317403,null,{"$f":"BAU_ENE!Q27","v":0}]
[null,null,null,null,"Overige biomassa",null,{"$f":"BAU_RES!L28","v":33637.940227415864},{"$f":"BAU_TER!I26","v":7957.0281815387498},{"$f":"BAU_IND!I26","v":5343.5712167187212},{"$f":"BAU_MOB!M29","v":"nvt"},{"$f":"BAU_LBO!I26","v":0},null,{"$f":"BAU_MOB!O29","v":"nvt"},{"$f":"INV!P$23","v":0},46938.539625673337,null,{"$f":"BAU_ENE!Q28","v":0}]
[null,null,null,null,"Zonne-/ thermische energie",null,{"$f":"BAU_RES!L29","v":1692.3671331121764},{"$f":"BAU_TER!I27","v":39.178086126729198},{"$f":"BAU_IND!I27","v":0},{"$f":"BAU_MOB!M30","v":"nvt"},{"$f":"BAU_LBO!I27","v":0},null,{"$f":"BAU_MOB!O30","v":"nvt"},{"$f":"INV!Q$23","v":0},1731.5452192389055,null,{"$f":"BAU_ENE!Q29","v":0}]
[null,null,null,null,"Geo-thermische energie",null,{"$f":"BAU_RES!L30","v":6404.6321844930108},{"$f":"BAU_TER!I28","v":735.54793629093001},{"$f":"BAU_IND!I28","v":0},{"$f":"BAU_MOB!M31","v":"nvt"},{"$f":"BAU_LBO!I28","v":0},null,{"$f":"BAU_MOB!O31","v":"nvt"},{"$f":"INV!R$23","v":0},7140.1801207839408,null,{"$f":"BAU_ENE!Q30","v":0}]
[null,null,"TOTAAL",null,null,null,{"$f":"SUM(G14:G30)","v":511832.57249512809},{"$f":"SUM(H14:H30)","v":460622.95852543809},180315.30728806919,{"$f":"SUM(J14:J30)","v":421281.68269969581},8853.1148553343464,5050.3500000000004,14112.664463927755,29352.508878000001,{"$f":"SUM(G31:N31)","v":1631421.1592055936}]
[]
[null,null,"CO2-emissies zijn berekend door het energieverbruik per energiedrager in MWh te vermenigvuldigen met overeenkomstige CO2-emissiefactor in ton CO2 per MWh."]
[]
[null,null,null,null,null,null,"CO2-EMISSIES [ton] - BAU 2030"]
[null,null,null,null,null,null,"Huishoudens","Tertiair","Industrie (niet-ETS)","Particulier en commercieel vervoer","Landbouw","Openbare verlichting","Openbaar vervoer","Niet toegekend","TOTAAL"]
[null,null,"Elektriciteit",null,null,null,{"$f":"G14*$Q14","v":18417.422680909774},39728.747388049655,10327.03124216944,183.43655075092423,279.33724178792386,894.19398411202997,0.93159493423210593,1599.9574012001649,{"$f":"SUM(G37:N37)","v":71431.058083914148}]
[null,null,"Warmte/ Koude",null,null,null,{"$f":"G15*$Q15","v":0},{"$f":"H15*$Q15","v":700.77025210084003},{"$f":"I15*$Q15","v":82.040491559856804},null,{"$f":"K15*$Q15","v":0},{"$f":"L15*$Q15","v":0},null,{"$f":"N15*$Q15","v":0},{"$f":"SUM(G38:N38)","v":782.81074366069686}]
[null,null,null,"Fossiele brandstoffen",null,null,null,null,null,null,null,null,null,0,0]
[null,null,null,null,"Aardgas",null,{"$f":"G17*$Q17","v":61234.841191601256},40423.313771827321,16036.466229386502,685.32813761682269,245.60056993120003,0,null,{"$f":"N17*$Q17","v":4103.8426207559996},122729.39252111908]
[null,null,null,null,"Vloeibaar gas",null,4537.2170958157303,617.27248426101619,1876.9353553176481,130.64534866374515,11.177215148282066,0,null,0,7173.2474992064217]
[null,null,null,null,"Stookolie",null,11466.768309644434,5799.7893383114315,7587.4177636392142,null,1488.7096148084956,0,null,0,26342.685026403575]
[null,null,null,null,"Diesel",null,0,0,0,{"$f":"J20*$Q20","v":56116.33887111042},0,0,{"$f":"M20*$Q20","v":3561.2644148680279},0,59677.603285978446]
[null,null,null,null,"Benzine",null,0,0,0,{"$f":"J21*$Q21","v":43094.345097866499},0,0,null,0,43094.345097866499]
[null,null,null,null,"Bruinkool",null,0,0,0,null,0,0,null,0,0]
[null,null,null,null,"Steenkool",null,0,9.8870027322141452E-2,79.979163450440808,null,153.87014772509542,0,null,0,233.94818120285836]
[null,null,null,null,"Andere fossiele brandstoffen",null,0,0,0,null,0,0,null,0,0]
[null,null,null,"Hernieuwbare brandstoffen",null,null,null,null,null,null,null,null,null,0,0]
[null,null,null,null,"Plantaardige oliën",null,{"$f":"G26*$Q26","v":0},0,0,null,{"$f":"K26*$Q26","v":0},0,null,0,0]
[null,null,null,null,"Bio-brandstof ",null,0,0,0,{"$f":"J27*$Q27","v":0},0,0,{"$f":"M27*$Q27","v":0},0,0]
[null,null,null,null,"Overige biomassa",null,0,0,0,null,0,0,null,0,0]
[null,null,null,null,"Zonne-/ thermische energie",null,0,0,0,null,0,0,null,0,0]
[null,null,null,null,"Geo-thermische energie",null,0,0,0,null,0,0,null,0,0]
[null,null,"TOTAAL",null,null,null,{"$f":"SUM(G37:G53)","v":95656.249277971205},{"$f":"SUM(H37:H53)","v":87269.992104577585},35989.870245523103,{"$f":"SUM(J37:J53)","v":100210.09400600841},{"$f":"SUM(K37:K53)","v":2178.6947894009973},894.19398411202997,3562.1960098022601,{"$f":"SUM(N37:N53)","v":5703.8000219561645},{"$f":"SUM(G54:N54)","v":331465.0904393518}]
[]
[]
[]
[null,null,"Evolutie INV 2017 en BAU 2030"]
[]
[null,null,null,null,null,null,"CO2-EMISSIES [ton] -INV 2017","CO2-EMISSIES [ton] - BAU 2030","% evolutie"]
[null,null,"Huishoudens",null,null,null,{"$f":"INV!S31","v":104807.0973270574},{"$f":"G54","v":95656.249277971205},{"$f":"(H61-G61)/G61","v":-8.7311339427046414E-2}]
[null,null,"Tertiair",null,null,null,{"$f":"INV!S32","v":89225.819107026153},{"$f":"H54","v":87269.992104577585},{"$f":"(H62-G62)/G62","v":-2.1919966911175773E-2}]
[null,null,"Openbare verlichting",null,null,null,{"$f":"INV!S33","v":997.44493251006998},{"$f":"L54","v":894.19398411202997},-0.10351543732665924]
[null,null,"Landbouw",null,null,null,{"$f":"INV!S34","v":2210.9493512186323},{"$f":"K54","v":2178.6947894009973},-1.4588557535185931E-2]
[null,null,"Industrie (niet-ETS)",null,null,null,{"$f":"INV!S35","v":34619.841775266155},{"$f":"I54","v":35989.870245523103},3.9573504672564763E-2]
[null,null,"Particulier en commercieel vervoer",null,null,null,{"$f":"INV!S36","v":99932.280072084803},{"$f":"J54","v":100210.09400600841},2.780021968108907E-3]
[null,null,"Openbaar vervoer",null,null,null,{"$f":"INV!S37","v":4149.9469788373299},{"$f":"M54","v":3562.1960098022601},-0.14162854899889277]
[null,null,"Niet toegekend",null,null,null,{"$f":"INV!S38","v":5888.5441848621895},{"$f":"N54","v":5703.8000219561645},-3.1373486740738199E-2]
[null,null,null,null,null,"TOTAAL",{"$f":"SUM(G61:G68)","v":341831.92372886272},{"$f":"SUM(H61:H68)","v":331465.0904393518},-3.0327282415359709E-2]

{"sheet":"BAU_RES","index":24,"n_rows":102,"n_cols":19,"rows_kept":102,"cut":false,"hidden":true,"merged":[[11,18,12,18],[10,15,10,18],[10,13,12,13],[11,17,12,17],[11,15,11,16],[10,6,12,6],[11,8,11,9],[11,10,12,10],[11,11,12,11],[10,8,10,11]]}
[]
[]
[null,null,"BAU-scenario 2030 - Residentieel"]
[null,null,null,null,null,null,null,null,null,null,null,"Berekeningen + celverwijzing binnen hetzelfde rekenblad"]
[null,null,"Gemeente:",null,null,{"$f":"D_gemeente","v":"VITO"},null,null,null,null,null,"Verwijzing ander rekenblad"]
[null,null,"Referentiejaar:",null,null,{"$f":"P_Maatregelen_Jaar_Inventaris","v":2017},null,null,null,null,null,"Vaste parameters uit externe gegevensbronnen, literatuur"]
[]
[null,null,"Berekening van energieverbruik en gerelateerde CO2-emissies per energiedrager"]
[null,null,"Indien de geselecteerde gemeente in het dashboard aangepast wordt, moeten de rekenbladen vernieuwd worden via \"Alles vernieuwen\" (cf. menubalk Gegevens)."]
[]
[null,null,null,null,null,null,{"$f":"CONCATENATE(\"REFERENTIEJAAR [MWh]\",\" - \",F6)","v":"REFERENTIEJAAR [MWh] - 2017"},null,"ENERGIEVERBRUIK [MWh] - BAU 2030",null,null,null,null,"Emissiefactoren [ton/MWh] ",null,"CO2-EMISSIES [ton] - BAU 2030"]
[null,null,null,null,null,null,null,null,"SWW & verwarming",null,"Elektrische toestellen en verlichting","Totaal",null,null,null,"SWW & verwarming",null,"Elektrische toestellen en verlichting","Totaal"]
[null,null,null,null,null,null,null,null,"Bestaande woningen","Nieuwbouw",null,null,null,null,null,"Bestaande woningen","Nieuwbouw"]
[null,null,null,"Elektriciteit",null,null,{"$f":"INV!D$16","v":127526.537307762},null,{"$f":"((G14*(1-I63)*I53*I56)*($I$57*($J$59/$I$59)^I60+$I$58))*((I71/$J$71))","v":30306.282565460533},{"$f":"(J50-I50+I50*I63)*AVERAGE(I94:J94)*\n((AVERAGE(I81:J81)*AVERAGE(I84:J84)+AVERAGE(I82:J82))-AVERAGE(I90:J90))\n/I88:J88/1000","v":1634.5112874124998},{"$f":"(G14*I53*I55+G14*(1-I53))\n*(J50/I50)*(1-I102)","v":72079.622621858332},{"$f":"SUM(I14:K14)","v":104020.41647473136},null,{"$f":"BAU_ENE!Q14","v":0.17705584446860712},null,{"$f":"I14*N14","v":5365.9044523318398},{"$f":"J14*N14","v":289.39977628629032},{"$f":"K14*N14","v":12762.118452291645},{"$f":"SUM(P14:R14)","v":18417.422680909774}]
[null,null,null,"Warmte/ Koude",null,null,{"$f":"INV!E$16","v":0},null,{"$f":"((G15*(1-$I$63))*(($J$59/$I$59)^$I$60))","v":0},null,null,{"$f":"SUM(I15:K15)","v":0},null,{"$f":"BAU_ENE!Q15","v":0.23764705882352966},null,{"$f":"I15*N15","v":0},{"$f":"J15*N15","v":0},null,{"$f":"SUM(P15:R15)","v":0}]
[null,null,null,null,"Fossiele brandstoffen"]
[null,null,null,null,null,"Aardgas",{"$f":"INV!F$16","v":306032.476479401},null,{"$f":"((G17*(1-$I$63))*(($J$59/$I$59)^$I$60)*($I$71/$J$71))","v":275122.58467774384},{"$f":"(J50-I50+I50*I63)*AVERAGE(I93:J93)*\n((AVERAGE(I81:J81)*AVERAGE(I84:J84)+AVERAGE(I82:J82))-AVERAGE(I90:J90))\n/I87:J87/1000","v":28020.193498500001},null,{"$f":"SUM(I17:K17)","v":303142.77817624382},null,{"$f":"'AA_Energieprijs&Discontovoet'!F98","v":0.20200000000000001},null,{"$f":"I17*N17","v":55574.762104904257},{"$f":"J17*N17","v":5660.0790866970001},null,61234.841191601256]
[null,null,null,null,null,"Vloeibaar gas",{"$f":"INV!G$16","v":22233.353669345001},null,{"$f":"((G18*(1-$I$63))*(($J$59/$I$59)^$I$60)*($I$71/$J$71))","v":19987.740510201453},null,null,19987.740510201453,null,{"$f":"'AA_Energieprijs&Discontovoet'!F99","v":0.22700000000000001},null,4537.2170958157303,0,null,4537.2170958157303]
[null,null,null,null,null,"Stookolie",{"$f":"INV!H$16","v":47771.738900874101},null,42946.697788930462,null,null,42946.697788930462,null,{"$f":"'AA_Energieprijs&Discontovoet'!F100","v":0.26700000000000002},null,11466.768309644434,0,null,11466.768309644434]
[null,null,null,null,null,"Diesel",{"$f":"INV!I$16","v":0},null,0,null,null,0,null,{"$f":"'AA_Energieprijs&Discontovoet'!F101","v":0.26700000000000002},null,0,0,null,0]
[null,null,null,null,null,"Benzine",{"$f":"INV!J$16","v":0},null,0,null,null,0,null,{"$f":"'AA_Energieprijs&Discontovoet'!F102","v":0.249},null,0,0,null,0]
[null,null,null,null,null,"Bruinkool",{"$f":"INV!K$16","v":0},null,0,null,null,0,null,{"$f":"'AA_Energieprijs&Discontovoet'!F103","v":0.35099999999999998},null,0,0,null,0]
[null,null,null,null,null,"Steenkool",{"$f":"INV!L$16","v":0},null,0,null,null,0,null,{"$f":"'AA_Energieprijs&Discontovoet'!F104","v":0.35399999999999998},null,0,0,null,0]
[null,null,null,null,null,"Andere fossiele brandstoffen",{"$f":"INV!M$16","v":0},null,0,null,null,0,null,{"$f":"'AA_Energieprijs&Discontovoet'!F105","v":0.26400000000000001},null,0,0,null,0]
[null,null,null,null,"Hernieuwbare brandstoffen"]
[null,null,null,null,null,"Plantaardige oliën",{"$f":"INV!N$16","v":0},null,{"$f":"((G26*(1-$I$63))*(($J$59/$I$59)^$I$60)*($I$71/$J$71))","v":0},null,null,0,null,{"$f":"'AA_Energieprijs&Discontovoet'!H106","v":0},null,{"$f":"I26*N26","v":0},{"$f":"J26*N26","v":0},null,0]
[null,null,null,null,null,"Bio-brandstof ",{"$f":"INV!O$16","v":0},null,{"$f":"((G27*(1-$I$63))*(($J$59/$I$59)^$I$60)*($I$71/$J$71))","v":0},null,null,0,null,{"$f":"'AA_Energieprijs&Discontovoet'!H107","v":0},null,{"$f":"I27*N27","v":0},{"$f":"J27*N27","v":0},null,0]
[null,null,null,null,null,"Overige biomassa",{"$f":"INV!P$16","v":37071.393579026102},null,{"$f":"((G28*(1-$I$63))*(($J$59/$I$59)^$I$61)*($I$71/$J$71))","v":33637.940227415864},null,null,33637.940227415864,null,{"$f":"'AA_Energieprijs&Discontovoet'!H108","v":0},null,{"$f":"I28*N28","v":0},{"$f":"J28*N28","v":0},null,0]
[null,null,null,null,null,"Zonne-/ thermische energie",{"$f":"INV!Q$16","v":1543.51949468311},null,{"$f":"((G29*(1-$I$63))*(($J$59/$I$59)^$I$60))","v":1529.9410371121764},{"$f":"(J50-I50+I50*I63)*AVERAGE(I90:J90)/1000","v":162.42609600000003},null,1692.3671331121764,null,{"$f":"'AA_Energieprijs&Discontovoet'!H109","v":0},null,{"$f":"I29*N29","v":0},{"$f":"J29*N29","v":0},null,0]
[null,null,null,null,null,"Geo-thermische energie",{"$f":"INV!R$16","v":2833.6350537672702},null,{"$f":"((G30*(1-$I$63))*(($J$59/$I$59)^$I$60))","v":2808.7073521855109},{"$f":"J14*(J88-100%)","v":3595.9248323074999},null,6404.6321844930108,null,{"$f":"'AA_Energieprijs&Discontovoet'!H110","v":0},null,{"$f":"I30*N30","v":0},{"$f":"J30*N30","v":0},null,0]
[null,null,null,"Totaal",null,null,{"$f":"SUM(G14:G30)","v":545012.6544848585},null,{"$f":"SUM(I14:I30)","v":406339.89415904979},{"$f":"SUM(J14:J30)","v":33413.055714219998},{"$f":"SUM(K14:K30)","v":72079.622621858332},{"$f":"SUM(I31:K31)","v":511832.57249512809},null,null,null,{"$f":"SUM(P14:P30)","v":76944.651962696254},{"$f":"SUM(Q14:Q30)","v":5949.4788629832901},{"$f":"SUM(R14:R30)","v":12762.118452291645},{"$f":"SUM(P31:R31)","v":95656.24927797119}]
[]
[]
[null,null,"Residentiële sector- verwachte evolutie door:"]
[null,null,"0. Demografische evolutie en sloop (autonome evolutie)"]
[null,null,"1. Verwachte evolutie in de energiegerelateerde emissies in bestaande woningen"]
[null,null,null,"a. Evolutie energieverbruik verwarming en sanitair warm water (SWW)"]
[null,null,null,"b. Evolutie in brandstofmix verwarming en sanitair warm water (SWW)"]
[null,null,"2. Verwachte evolutie in de energiegerelateerde emissies in nieuwbouw woningen"]
[null,null,null,"a. Evolutie energieverbruik verwarming en sanitair warm water (SWW)"]
[null,null,null,"b. Evolutie in brandstofmix verwarming en sanitair warm water (SWW)"]
[null,null,"3. Verwachte evolutie energieverbruik elektrische toestellen en verlichting"]
[null,null,null,"Besparing energieverbruik door Ecodesign Richtlijn"]
[]
[]
[null,null,"0. Algemene parameters"]
[]
[null,null,null,null,null,null,null,"eenheid",{"$f":"F6","v":2017},2030,null,null,"[Informatie]",null,"[Bron]"]
[]
[null,null,null,"Demografische evolutie",null,null,null,"#HH",{"$f":"tbl_AA_Res_HH_REFJaar['# Huishoudens]","v":35124},{"$f":"tbl_AA_Res_HH_2030['# Huishoudens]","v":38266},{"$f":"J50/I50-1","v":8.9454504042819627E-2},null,"groei HH= groei nieuwbouw",null,"inventaris tool Burgemeestersconvenant (Studiedienst van de Vlaamse Regering)"]
[null,null,null,"Aandeel woningen die verwarmen op ELE",null,null,null,"%",0.08,null,null,null,null,null,"Energiebalans Vlaanderen (2017)","https://leefmilieu.brussels/sites/default/files/user_files/pres_20151023_diag_1_4elec_nl.pdf","https://www.milieurapport.be/sectoren/huishoudens/brongebruik/energiegebruik"]
[null,null,null,"Verbruiksfactor ELE voor woningen die verwarmen op ELE",null,null,null,null,{"$f":"20000/3500","v":5.7142857142857144},null,null,null,null,null,"VREG","https://www.vreg.be/nl/evolutie-energieverbruik#1"]
[null,null,null,"Aandeel van de totale gemeentelijke residentiele ELE verbruik van HH die verwarmen op ELE",null,null,null,"%",{"$f":"I51*I52/(I51*I52+1*(1-I51))","v":0.33195020746887965}]
[]
[null,null,null,"Aandeel in ELE verbruik - Elektrische toestellen en verlichting (HH die verwarmen op ELE)",null,null,null,"%",0.2,null,null,null,null,null,"Energiebalans Vlaanderen 1990 - 2017 (januari 2019)"]
[null,null,null,"Aandeel in ELE verbruik - Verwarming en SWW (HH die verwarmen op ELE)",null,null,null,"%",0.8,null,null,null,null,null,"Energiebalans Vlaanderen 1990 - 2017 (januari 2019)"]
[null,null,null,"Aandeel in warmte verbruik - Verwarming (HH die verwarmen op ELE)",null,null,null,"%",0.85,null,null,null,null,null,"Energiebalans Vlaanderen 1990 - 2017 (januari 2019)"]
[null,null,null,"Aandeel in warmte verbruik - SWW (HH die verwarmen op ELE)",null,null,null,"%",0.15,null,null,null,null,null,"Energiebalans Vlaanderen 1990 - 2017 (januari 2019)"]
[null,null,null,"Graaddagen (15/15)",null,null,null,null,{"$f":"VLOOKUP(I48+0,'AA_Energieprijs&Discontovoet'!E8:F15,2,FALSE)","v":1776},{"$f":"'AA_Energieprijs&Discontovoet'!F16","v":1870},null,null,"correctie energieverbruik verwarming en SWW ",null,"Energiebalans Vlaanderen 1990 - 2017 (januari 2019) en Nationaal Energie- en klimaatplan (NECP) 2021 - 2030 (parameters WEM/WAM scenario)"]
[null,null,null,"Elasticiteit (aardgas, stookolie, elektriciteit, LPG)",null,null,null,null,0.6,null,null,null,"correctie energieverbruik verwarming en SWW ",null,"Energiebalans Vlaanderen 1990 - 2017 (januari 2019)"]
[null,null,null,"Elasticiteit (hout, steenkool)",null,null,null,null,0.78,null,null,null,"correctie energieverbruik verwarming en SWW ",null,"Energiebalans Vlaanderen 1990 - 2017 (januari 2019)"]
[null,null,null,"Sloop",null,null,null,"% per jaar",3.0000000000000001E-3,null,null,null,"berekening o.b.v. het gemiddelde aantal uitgereikte bouwvergunningen voor renovatie in het Vlaams Gewest over de periode 2014-2017",null," https://statbel.fgov.be"]
[null,null,null,null,null,"Verwachte sloop % referentiejaar-2030",null,"%",{"$f":"I62*(J48-I48)","v":3.9E-2}]
[]
[]
[null,null,"1. Evolutie energieverbruik en brandstofmixverwarming en SWW - Bestaande woningen"]
[]
[null,null,null,null,null,null,null,"eenheid",{"$f":"F6","v":2017},2030,null,null,"[Informatie]",null,"[Bron]"]
[null,null,null,"Evolutie energieverbruik "]
[null,null,null,null,"Autonome ketelvervanging - verbetering gemiddeld installatierendement"]
[null,null,null,null,null,null,"Gemiddelde installatierendement","%",0.78,0.86,null,null,"gemiddeld rendement (regeling, distributie, afgifte)",null,"VITO en Econotec (januari 2011) "]
[null,null,null,null,null,null,null,null,null,null,null,null,null,null,"(bron nog actueel:    ̴ gemiddeld rendement (2016) in REBUS-model voor woningen tem bouwjaar 2006)"]
[null,null,null,"Evolutie brandstofmix"]
[null,null,null,null,"Aanname: geen (verwaarloosbare) wijziging ten opzichte van huidige brandstofmix"]
[]
[]
[null,null,"2. Evolutie energieverbruik en brandstofmix verwarming en SWW- Nieuwbouw woningen"]
[]
[null,null,null,null,null,null,null,null,{"$f":"F6","v":2017},2030,null,null,"[Informatie]",null,"[Bron]"]
[null,null,null,"Evolutie energieverbruik"]
[null,null,null,null,"Evolutie E-peil naar E30",null,"NEB voor verwarming per m² ","kWh/m²",46,27,null,null,"op basis van netto energiebehoefte voor verwarming EPB-aangifte 2010 - 2017 en overeenkomstig E-peil",null,"VEA (2019)","https://www.energiesparen.be/sites/default/files/atoms/files/EPB-cijferrapport-2006-2018.pdf"]
[null,null,null,null,null,null,"NEB voor SWW ","kWh/HH",1200,1200,null,null,"Cte 2017 - 2030 (Cte comfortniveau)",null,"Energiebesluit Bijlage V (November 2010) "]
[]
[null,null,null,null,"Bruto Vloeroppervlakte BVO",null,null,"m²/HH",160,{"$f":"I84-(I84*(1%*(J79-I79)))","v":139.19999999999999},null,null,"2017= gemiddelde brutovloeropp per indienjaar EPB-aangifte voor 2010 - 2017",null,"VEA (2019)"]
[null,null,null,null,null,null,null,null,null,null,null,null,"-1% per jaar= gemiddelde groei/daling totaaloppervlak per wooneenheidop basis van bouwvergunningen (1996 - 2017)"]
[null,null,null,null,"Installatie rendement nieuwbouw"]
[null,null,null,null,null,"Aardgasketel",null,"%",0.88,0.88,null,null,"aardgasketel (condenserend) (regeling, distributie, afgifte)"]
[null,null,null,null,null,"Warmtepomp (lucht en grond) ",null,"%",3.2,3.2,null,null,"warmtepomp (lucht en grond) "]
[null,null,null,null,null,"Gemiddeld inst.rendement nieuwbouw",null,"%",{"$f":"I87*I93+I88*I94","v":0.996},{"$f":"J93*J87+J94*J88","v":1.5760000000000001}]
[null,null,null,null,null,"Benutte zonne-energie per gemiddeld HH ",null,"kWh/HH",{"$f":"I82*I95*50%","v":36},{"$f":"J82*J95*50%","v":36},null,null,"40% - 60% van NEB-SWW wordt opgewekt door zonneboiler",null,"https://www.livios.be/nl/bouwinformatie/techniek/centrale-verwarming/op-energiedieet-deel-3-verwarmen-zonder-te-verspillen/ (01/10/2018)"]
[]
[null,null,null,"Evolutie brandstofmix: Installatiemix nieuwbouw"]
[null,null,null,null,"Aardgas",null,"Aandeel % van HH","%",0.95,0.7,null,null,"2017= op basis van aantal nieuwbouw woningen aardgas en en andere brandstoffen in REBUS-model; 2030= 2.750 warmtepompen per jaar tov 10.000 nieuwbouw per jaar",null,"VEA (2019); Vlaams Energieactieplan"]
[null,null,null,null,"Warmtepomp (mix lucht en grond)",null,"Aandeel % van HH","%",0.05,0.3,null,null,"2017= op basis van aantal nieuwbouw woningen WP in REBUS-model",null,"VEA (2019); Vlaams Energieactieplan"]
[null,null,null,null,"Zonneboiler",null,"Aandeel % van HH","%",0.06,0.06,null,null,"EPB-cijfers en statistiek voor EPB-aangiften ingediend tot en met 31/12/2018 (Cte 2016-2030)",null,"(VEA, februari 2019)"]
[]
[]
[null,null,"3.  Evolutie energieverbruik - Elektrische toestellen en verlichting"]
[]
[null,null,null,"Evolutie energieverbruik elektriciteit (elektrische toestellen en verlichting)",null,null,null,null,null,null,null,null,"[Informatie]",null,"[Bron]"]
[null,null,null,null,"Verwachte, autonome besparing bij HH (per jaar)",null,null,"%",0.02,null,null,null,"besparing tgv Europese Ecodesign Richtlijn (incl. groei)",null,"Ecodesign Impact Accounting - status report (Europese Commissie, december 2018)"]
[null,null,null,null,"Verwachte, autonome besparing bij HH (referentiejaar-2030)",null,null,"%",{"$f":"((1+I101)^(2030-F6)-1)","v":0.29360663045379609}]

{"sheet":"BAU_TER","index":25,"n_rows":55,"n_cols":15,"rows_kept":55,"cut":false,"hidden":true,"merged":[]}
[]
[]
[null,null,"BAU-scenario 2030 - Tertiair (incl. eigen gebouwen, excl. openbare verlichting)"]
[null,null,null,null,null,null,null,null,null,null,null,"Berekeningen + celverwijzing binnen hetzelfde rekenblad"]
[null,null,"Gemeente:",null,null,{"$f":"D_gemeente","v":"VITO"},null,null,null,null,null,"Verwijzing ander rekenblad"]
[null,null,"Referentiejaar:",null,null,{"$f":"P_Maatregelen_Jaar_Inventaris","v":2017},null,null,null,null,null,"Vaste parameters uit externe gegevensbronnen, literatuur"]
[]
[null,null,"Berekening van energieverbruik en gerelateerde CO2-emissies per energiedrager"]
[null,null,"Indien de geselecteerde gemeente in het dashboard aangepast wordt, moeten de rekenbladen vernieuwd worden via \"Alles vernieuwen\" (cf. menubalk Gegevens)."]
[]
[null,null,null,null,null,null,{"$f":"CONCATENATE(\"REFERENTIEJAAR [MWh]\",\" - \",F6)","v":"REFERENTIEJAAR [MWh] - 2017"},null,"FINAAL ENERGIEVERBRUIK [MWh] - BAU 2030",null,"Emissiefactoren [ton/MWh] ",null,"CO2-EMISSIES [ton] - BAU 2030"]
[null,null,null,"Elektriciteit",null,null,{"$f":"INV!D$17","v":203063.715031},null,{"$f":"G12*(1+I50)","v":224385.40510925499},null,{"$f":"BAU_ENE!Q14","v":0.17705584446860712},null,{"$f":"I12*K12","v":39728.747388049655}]
[null,null,null,"Warmte/ Koude",null,null,{"$f":"INV!E$17","v":2948.7857142857101},null,{"$f":"G13","v":2948.7857142857101},null,{"$f":"BAU_ENE!Q15","v":0.23764705882352966},null,{"$f":"I13*K13","v":700.77025210084003}]
[null,null,null,null,"Fossiele brandstoffen"]
[null,null,null,null,null,"Aardgas",{"$f":"INV!F$17","v":206863.29540823301},null,{"$f":"G15*(1+$I$43)","v":200115.41471201644},null,{"$f":"'AA_Energieprijs&Discontovoet'!F98","v":0.20200000000000001},null,{"$f":"I15*K15","v":40423.313771827321}]
[null,null,null,null,null,"Vloeibaar gas",{"$f":"INV!G$17","v":2810.9554106997398},null,{"$f":"G16*(1+$I$43)","v":2719.2620452027145},null,{"$f":"'AA_Energieprijs&Discontovoet'!F99","v":0.22700000000000001},null,617.27248426101619]
[null,null,null,null,null,"Stookolie",{"$f":"INV!H$17","v":22454.524020404901},null,21722.057446859293,null,{"$f":"'AA_Energieprijs&Discontovoet'!F100","v":0.26700000000000002},null,5799.7893383114315]
[null,null,null,null,null,"Diesel",{"$f":"INV!I$17","v":0},null,0,null,{"$f":"'AA_Energieprijs&Discontovoet'!F101","v":0.26700000000000002},null,0]
[null,null,null,null,null,"Benzine",{"$f":"INV!J$17","v":0},null,0,null,{"$f":"'AA_Energieprijs&Discontovoet'!F102","v":0.249},null,0]
[null,null,null,null,null,"Bruinkool",{"$f":"INV!K$17","v":0},null,0,null,{"$f":"'AA_Energieprijs&Discontovoet'!F103","v":0.35099999999999998},null,0]
[null,null,null,null,null,"Steenkool",{"$f":"INV!L$17","v":0.288711636060209},null,0.279293862491925,null,{"$f":"'AA_Energieprijs&Discontovoet'!F104","v":0.35399999999999998},null,9.8870027322141452E-2]
[null,null,null,null,null,"Andere fossiele brandstoffen",{"$f":"INV!M$17","v":0},null,0,null,{"$f":"'AA_Energieprijs&Discontovoet'!F105","v":0.26400000000000001},null,0]
[null,null,null,null,"Hernieuwbare brandstoffen"]
[null,null,null,null,null,"Plantaardige oliën",{"$f":"INV!N$17","v":0},null,{"$f":"G24","v":0},null,{"$f":"'AA_Energieprijs&Discontovoet'!F106","v":0},null,{"$f":"I24*K24","v":0}]
[null,null,null,null,null,"Bio-brandstof ",{"$f":"INV!O$17","v":0},null,{"$f":"G25","v":0},null,{"$f":"'AA_Energieprijs&Discontovoet'!F107","v":0},null,{"$f":"I25*K25","v":0}]
[null,null,null,null,null,"Overige biomassa",{"$f":"INV!P$17","v":7957.0281815387498},null,7957.0281815387498,null,{"$f":"'AA_Energieprijs&Discontovoet'!F108","v":0},null,{"$f":"I26*K26","v":0}]
[null,null,null,null,null,"Zonne-/ thermische energie",{"$f":"INV!Q$17","v":39.178086126729198},null,39.178086126729198,null,{"$f":"'AA_Energieprijs&Discontovoet'!F109","v":0},null,{"$f":"I27*K27","v":0}]
[null,null,null,null,null,"Geo-thermische energie",{"$f":"INV!R$17","v":735.54793629093001},null,735.54793629093001,null,{"$f":"'AA_Energieprijs&Discontovoet'!F110","v":0},null,{"$f":"I28*K28","v":0}]
[null,null,null,"Totaal",null,null,{"$f":"SUM(G12:G28)","v":446873.31850021583},null,{"$f":"SUM(I12:I28)","v":460622.95852543809},null,null,null,{"$f":"SUM(M12:M28)","v":87269.992104577585}]
[]
[]
[null,null,"Tertiaire sector- verwachte evolutie door:"]
[null,null,"1. Evolutie verbruik fossiele brandstoffen"]
[null,null,"2. Evolutie elektriciteitsverbruik"]
[null,null,"3. Evolutie brandstofmix"]
[]
[]
[null,null,"1. Evolutie verbruik fossiele brandstoffen"]
[null,null,null,null,null,null,null,"eenheid",null,null,null,null,"[Informatie]",null,"[Bron]"]
[null,null,null,null,"Fossiel energieverbruik"]
[null,null,null,null,null,"Periode (2011-2020)",null,"% per jaar",-6.4000000000000005E-4,null,null,null,"op basis van PRIMES referentie-scenario EU (representatief voor impact premies netbeheerders)",null,"Vlaams Energieplan 2021-2030"]
[null,null,null,null,null,"Periode (2021-2030)",null,"% per jaar",-3.0699999999999998E-3,null,null,null,"op basis van PRIMES referentie-scenario EU (representatief voor impact premies netbeheerders)",null,"Vlaams Energieplan 2021-2030"]
[null,null,null,null,null,null,null,{"$f":"CONCATENATE(\"% (\",F6,\"-2030)\")","v":"% (2017-2030)"},{"$f":"I41*(2020-F6)+I42*10","v":-3.2619999999999996E-2},null,null,null,"Aanname: evolutie incl. correctie voor graaddagen en autonome groei"]
[]
[null,null,"2. Evolutie elektriciteitsverbruik"]
[null,null,null,null,null,null,null,"eenheid",null,null,null,null,"[Informatie]",null,"[Bron]"]
[null,null,null,null,"Evolutie elektriciteitsverbruik"]
[null,null,null,null,null,"Periode (2011-2020)",null,"% per jaar",-1.4999999999999999E-2,null,null,null,"op basis van PRIMES referentie-scenario EU (representatief voor impact premies netbeheerders)",null,"Vlaams Energieplan 2021-2030"]
[null,null,null,null,null,"Periode (2021-2030)",null,"% per jaar",1.4999999999999999E-2,null,null,null,"op basis van PRIMES referentie-scenario EU (representatief voor impact premies netbeheerders)",null,"Vlaams Energieplan 2021-2030"]
[null,null,null,null,null,null,null,{"$f":"CONCATENATE(\"% (\",F6,\"-2030)\")","v":"% (2017-2030)"},{"$f":"I48*(2020-F6)+I49*10","v":0.105},null,null,null,"Aanname: evolutie incl. correctie voor graaddagen en autonome groei"]
[]
[null,null,"3. Evolutie brandstofmix"]
[null,null,null,null,null,null,null,null,null,null,null,null,"[Informatie]",null,"[Bron]"]
[]
[null,null,null,null,"Aanname: geen (verwaarloosbare) wijziging ten opzichte van huidige brandstofmix",null,null,null,null,null,null,null,"huidig beleidscenario",null,"Vlaams Energieplan 2021-2030"]

{"sheet":"BAU_IND","index":26,"n_rows":54,"n_cols":15,"rows_kept":54,"cut":false,"hidden":true,"merged":[]}
[]
[]
[null,null,"BAU-scenario 2030 - Industrie (niet-ETS)"]
[null,null,null,null,null,null,null,null,null,null,null,"Berekeningen + celverwijzing binnen hetzelfde rekenblad"]
[null,null,"Gemeente:",null,null,{"$f":"D_gemeente","v":"VITO"},null,null,null,null,null,"Verwijzing ander rekenblad"]
[null,null,"Referentiejaar:",null,null,{"$f":"P_Maatregelen_Jaar_Inventaris","v":2017},null,null,null,null,null,"Vaste parameters uit externe gegevensbronnen, literatuur"]
[]
[null,null,"Berekening van energieverbruik en gerelateerde CO2-emissies per energiedrager"]
[null,null,"Indien de geselecteerde gemeente in het dashboard aangepast wordt, moeten de rekenbladen vernieuwd worden via \"Alles vernieuwen\" (cf. menubalk Gegevens)."]
[]
[null,null,null,null,null,null,{"$f":"CONCATENATE(\"REFERENTIEJAAR [MWh]\",\" - \",F6)","v":"REFERENTIEJAAR [MWh] - 2017"},null,"ENERGIEVERBRUIK [MWh] - BAU 2030",null,"Emissiefactoren [ton/MWh] ",null,"CO2 EMISSIES [ton] - BAU 2030"]
[null,null,null,"Elektriciteit",null,null,{"$f":"INV!D20","v":54306.759841999999},null,{"$f":"G12*(1+$I$43)*(1+$I$49)","v":58326.406977209241},null,{"$f":"BAU_ENE!Q14","v":0.17705584446860712},null,{"$f":"I12*K12","v":10327.03124216944}]
[null,null,null,"Warmte/ Koude",null,null,{"$f":"INV!E$20","v":321.42857142857099},null,{"$f":"G13*(1+$I$43)*(1+$I$49)","v":345.21989022711983},null,{"$f":"BAU_ENE!Q15","v":0.23764705882352966},null,{"$f":"I13*K13","v":82.040491559856804}]
[null,null,null,null,"Fossiele brandstoffen",null,null,null,null,null,null,null,0]
[null,null,null,null,null,"Aardgas",{"$f":"INV!F$20","v":73917.279179770805},null,{"$f":"G15*(1+$I$43)*(1+$I$49)","v":79388.446680131194},null,{"$f":"'AA_Energieprijs&Discontovoet'!F98","v":0.20200000000000001},null,16036.466229386502]
[null,null,null,null,null,"Vloeibaar gas",{"$f":"INV!G$20","v":7698.60656769244},null,8268.4376886240007,null,{"$f":"'AA_Energieprijs&Discontovoet'!F99","v":0.22700000000000001},null,1876.9353553176481]
[null,null,null,null,null,"Stookolie",{"$f":"INV!H$20","v":26458.876770011},null,28417.294994903423,null,{"$f":"'AA_Energieprijs&Discontovoet'!F100","v":0.26700000000000002},null,7587.4177636392142]
[null,null,null,null,null,"Diesel",{"$f":"INV!I$20","v":0},null,0,null,{"$f":"'AA_Energieprijs&Discontovoet'!F101","v":0.26700000000000002},null,0]
[null,null,null,null,null,"Benzine",{"$f":"INV!J$20","v":0},null,0,null,{"$f":"'AA_Energieprijs&Discontovoet'!F102","v":0.249},null,0]
[null,null,null,null,null,"Bruinkool",{"$f":"INV!K$20","v":0},null,0,null,{"$f":"'AA_Energieprijs&Discontovoet'!F103","v":0.35099999999999998},null,0]
[null,null,null,null,null,"Steenkool",{"$f":"INV!L$20","v":210.359564591218},null,225.92984025548253,null,{"$f":"'AA_Energieprijs&Discontovoet'!F104","v":0.35399999999999998},null,79.979163450440808]
[null,null,null,null,null,"Andere fossiele brandstoffen",{"$f":"INV!M$20","v":0},null,0,null,{"$f":"'AA_Energieprijs&Discontovoet'!F105","v":0.26400000000000001},null,0]
[null,null,null,null,"Hernieuwbare brandstoffen",null,null,null,null,null,null,null,0]
[null,null,null,null,null,"Plantaardige oliën",{"$f":"INV!N$20","v":0},null,0,null,{"$f":"'AA_Energieprijs&Discontovoet'!F106","v":0},null,0]
[null,null,null,null,null,"Bio-brandstof ",{"$f":"INV!O$20","v":0},null,0,null,{"$f":"'AA_Energieprijs&Discontovoet'!F107","v":0},null,0]
[null,null,null,null,null,"Overige biomassa",{"$f":"INV!P$20","v":4975.3114207490698},null,5343.5712167187212,null,{"$f":"'AA_Energieprijs&Discontovoet'!F108","v":0},null,0]
[null,null,null,null,null,"Zonne-/ thermische energie",{"$f":"INV!Q$20","v":0},null,0,null,{"$f":"'AA_Energieprijs&Discontovoet'!F109","v":0},null,0]
[null,null,null,null,null,"Geo-thermische energie",{"$f":"INV!R$20","v":0},null,0,null,{"$f":"'AA_Energieprijs&Discontovoet'!F110","v":0},null,0]
[null,null,null,"Totaal",null,null,{"$f":"SUM(IF(ISERROR(G12:G28),\"\",G12:G28))","v":167888.62191624311},null,{"$f":"SUM(IF(ISERROR(I12:I28),\"\",I12:I28))","v":180315.30728806919},null,null,null,{"$f":"SUM(M12:M28)","v":35989.870245523103}]
[]
[]
[null,null,"Industrie (niet-ETS) - verwachte evolutie door:"]
[null,null,"0. Economische groei (autonome evolutie)"]
[null,null,"1. Evolutie energieverbruik"]
[null,null,"2. Evolutie brandstofmix"]
[]
[]
[]
[null,null,"0. Algemene parameters"]
[]
[null,null,null,"Economische groei",null,null,null,null,null,null,null,null,"[Informatie]",null,"[Bron]"]
[null,null,null,null,null,"jaarlijkse groei",null,"% per jaar",1.7000000000000001E-2]
[null,null,null,null,null,{"$f":"CONCATENATE(\"groei over periode \",F6,\"-2030\")","v":"groei over periode 2017-2030"},null,"%",{"$f":"((1+I42)^(2030-F6))-1","v":0.24500870500423022},null,null,null,"BAU-scenario",null,"Vlaams Klimaatbeleidsplan 2021-2030"]
[]
[null,null,"1. Evolutie energieverbruik"]
[null,null,null,null,null,null,null,null,null,null,null,null,"[Informatie]",null,"[Bron]"]
[null,null,null,"Verderzetting huidig beleid optimalisering energie-efficiëntie"]
[null,null,null,null,null,"jaarlijkse verbetering energie-intensiteit",null,"% per jaar",-1.1299999999999999E-2,null,null,null,"BAU-scenario (bv. verderzetting energiebeleidsovereenkomsten (EBO), mini-EBO)",null,"Vlaams Klimaatbeleidsplan 2021-2030"]
[null,null,null,null,null,{"$f":"CONCATENATE(\"verbetering energie-intensiteit over periode \",F6,\"-2030\")","v":"verbetering energie-intensiteit over periode 2017-2030"},null,"%",{"$f":"((1+I48)^(2030-F6))-1","v":-0.13734142424449725}]
[]
[null,null,"2. Evolutie brandstofmix"]
[null,null,null,null,null,null,null,null,null,null,null,null,"[Informatie]",null,"[Bron]"]
[null,null,null,"Aanname: geen/verwaarloosbare wijziging ten opzichte van huidige brandstofmix"]
[null,null,null,null,null,null,null,null,null,null,null,null,"BAU-scenario",null,"Vlaams Klimaatbeleidsplan 2021-2030"]

{"sheet":"BAU_MOB","index":27,"n_rows":96,"n_cols":20,"rows_kept":96,"cut":false,"hidden":true,"merged":[[11,18,12,18],[12,13,12,14],[10,17,10,18],[43,15,43,16],[11,13,11,14],[10,6,10,14],[11,6,11,12],[11,16,12,16],[11,17,12,17]]}
[]
[]
[null,null,"BAU-scenario 2030 - Transport over de weg (particulier en commercieel vervoer, bus, tram, incl. eigen vloot)"]
[null,null,null,null,null,null,null,null,null,null,null,null,"Berekeningen + celverwijzing binnen hetzelfde rekenblad"]
[null,null,"Gemeente:",null,null,{"$f":"D_gemeente","v":"VITO"},null,null,null,null,null,null,"Verwijzing ander rekenblad"]
[null,null,"Referentiejaar:",null,null,{"$f":"P_Maatregelen_Jaar_Inventaris","v":2017},null,null,null,null,null,null,"Vaste parameters uit externe gegevensbronnen, literatuur"]
[]
[null,null,"Berekening van energieverbruik en gerelateerde CO2-emissies per energiedrager"]
[null,null,"Indien de geselecteerde gemeente in het dashboard aangepast wordt, moeten de rekenbladen vernieuwd worden via \"Alles vernieuwen\" (cf. menubalk Gegevens)."]
[]
[null,null,null,null,null,null,"ENERGIEVERBRUIK PER ENERGIEDRAGER - BAU 2030",null,null,null,null,null,null,null,null,null,null,"CO2-EMISSIES - BAU 2030"]
[null,null,null,null,null,null,"Particulier en commercieel vervoer",null,null,null,null,null,null,"Openbaar vervoer",null,null,"Emissiefactoren ","Particulier en commercieel vervoer","Openbaar vervoer"]
[null,null,null,null,null,null,"Lichte voertuigen_Genummerd","Zware voertuigen_Genummerd","Lichte voertuigen_Niet-genummerd","Zware voertuigen_Niet-genummerd","Lichte voertuigen_Snelweg","Zware voertuigen_Snelweg","Totaal","Bussen en Trams"]
[null,null,null,null,null,null,"(PJ)","(PJ)","(PJ)","(PJ)","(PJ)","(PJ)","(MWh)","(PJ)","(MWh)",null,"(ton/MWh)","(ton CO2)","(ton CO2)"]
[null,null,null,"Elektriciteit",null,null,{"$f":"$K46*SUMIFS(TableVerdeelsleutelVkm[ELECTRIC],TableVerdeelsleutelVkm[Voertuigtype],\"Lichte voertuigen\")*SUMIFS(tbl_AA_ECF_Transport_2030[EnergieConsumptieFactor (PJ per km)],tbl_AA_ECF_Transport_2030[Index],CONCATENATE(G$13,\"_ELECTRIC_ELECTRIC\"))\n+$K46*SUMIFS(TableVerdeelsleutelVkm[DIESEL HYBRID PHEV],TableVerdeelsleutelVkm[Voertuigtype],\"Lichte voertuigen\")*SUMIFS(tbl_AA_ECF_Transport_2030[EnergieConsumptieFactor (PJ per km)],tbl_AA_ECF_Transport_2030[Index],CONCATENATE(G$13,\"_DIESEL HYBRID PHEV_ELECTRIC\"))\n+$K46*SUMIFS(TableVerdeelsleutelVkm[PETROL HYBRID PHEV],TableVerdeelsleutelVkm[Voertuigtype],\"Lichte voertuigen\")*SUMIFS(tbl_AA_ECF_Transport_2030[EnergieConsumptieFactor (PJ per km)],tbl_AA_ECF_Transport_2030[Index],CONCATENATE(G$13,\"_PETROL HYBRID PHEV_ELECTRIC\"))","v":2.8568053013312881E-3},{"$f":"$K46*SUMIFS(TableVerdeelsleutelVkm[ELECTRIC],TableVerdeelsleutelVkm[Voertuigtype],\"Zware voertuigen\")*SUMIFS(tbl_AA_ECF_Transport_2030[EnergieConsumptieFactor (PJ per km)],tbl_AA_ECF_Transport_2030[Index],CONCATENATE(H$13,\"_ELECTRIC_ELECTRIC\"))\n+$K46*SUMIFS(TableVerdeelsleutelVkm[DIESEL HYBRID PHEV],TableVerdeelsleutelVkm[Voertuigtype],\"Zware voertuigen\")*SUMIFS(tbl_AA_ECF_Transport_2030[EnergieConsumptieFactor (PJ per km)],tbl_AA_ECF_Transport_2030[Index],CONCATENATE(H$13,\"_DIESEL HYBRID PHEV_ELECTRIC\"))\n+$K46*SUMIFS(TableVerdeelsleutelVkm[PETROL HYBRID PHEV],TableVerdeelsleutelVkm[Voertuigtype],\"Zware voertuigen\")*SUMIFS(tbl_AA_ECF_Transport_2030[EnergieConsumptieFactor (PJ per km)],tbl_AA_ECF_Transport_2030[Index],CONCATENATE(H$13,\"_PETROL HYBRID PHEV_ELECTRIC\"))","v":8.637165994567076E-5},{"$f":"$K48*SUMIFS(TableVerdeelsleutelVkm[ELECTRIC],TableVerdeelsleutelVkm[Voertuigtype],\"Lichte voertuigen\")*SUMIFS(tbl_AA_ECF_Transport_2030[EnergieConsumptieFactor (PJ per km)],tbl_AA_ECF_Transport_2030[Index],CONCATENATE(I13,\"_ELECTRIC_ELECTRIC\"))\n+$K48*SUMIFS(TableVerdeelsleutelVkm[DIESEL HYBRID PHEV],TableVerdeelsleutelVkm[Voertuigtype],\"Lichte voertuigen\")*SUMIFS(tbl_AA_ECF_Transport_2030[EnergieConsumptieFactor (PJ per km)],tbl_AA_ECF_Transport_2030[Index],CONCATENATE(I13,\"_DIESEL HYBRID PHEV_ELECTRIC\"))\n+$K48*SUMIFS(TableVerdeelsleutelVkm[PETROL HYBRID PHEV],TableVerdeelsleutelVkm[Voertuigtype],\"Lichte voertuigen\")*SUMIFS(tbl_AA_ECF_Transport_2030[EnergieConsumptieFactor (PJ per km)],tbl_AA_ECF_Transport_2030[Index],CONCATENATE(I13,\"_PETROL HYBRID PHEV_ELECTRIC\"))","v":7.8643500687406852E-4},{"$f":"K49*SUMIFS(TableVerdeelsleutelVkm[ELECTRIC],TableVerdeelsleutelVkm[Voertuigtype],\"Zware voertuigen\")*SUMIFS(tbl_AA_ECF_Transport_2030[EnergieConsumptieFactor (PJ per km)],tbl_AA_ECF_Transport_2030[Index],CONCATENATE(J13,\"_ELECTRIC_ELECTRIC\"))\n+K49*SUMIFS(TableVerdeelsleutelVkm[DIESEL HYBRID PHEV],TableVerdeelsleutelVkm[Voertuigtype],\"Zware voertuigen\")*SUMIFS(tbl_AA_ECF_Transport_2030[EnergieConsumptieFactor (PJ per km)],tbl_AA_ECF_Transport_2030[Index],CONCATENATE(J13,\"_DIESEL HYBRID PHEV_ELECTRIC\"))\n+K49*SUMIFS(TableVerdeelsleutelVkm[PETROL HYBRID PHEV],TableVerdeelsleutelVkm[Voertuigtype],\"Zware voertuigen\")*SUMIFS(tbl_AA_ECF_Transport_2030[EnergieConsumptieFactor (PJ per km)],tbl_AA_ECF_Transport_2030[Index],CONCATENATE(J13,\"_PETROL HYBRID PHEV_ELECTRIC\"))","v":1.2417631391505963E-7},{"$f":"K50*SUMIFS(TableVerdeelsleutelVkm[ELECTRIC],TableVerdeelsleutelVkm[Voertuigtype],\"Lichte voertuigen\")*SUMIFS(tbl_AA_ECF_Transport_2030[EnergieConsumptieFactor (PJ per km)],tbl_AA_ECF_Transport_2030[Index],CONCATENATE(K13,\"_ELECTRIC_ELECTRIC\"))\n+K50*SUMIFS(TableVerdeelsleutelVkm[DIESEL HYBRID PHEV],TableVerdeelsleutelVkm[Voertuigtype],\"Lichte voertuigen\")*SUMIFS(tbl_AA_ECF_Transport_2030[EnergieConsumptieFactor (PJ per km)],tbl_AA_ECF_Transport_2030[Index],CONCATENATE(K13,\"_DIESEL HYBRID PHEV_ELECTRIC\"))\n+K50*SUMIFS(TableVerdeelsleutelVkm[PETROL HYBRID PHEV],TableVerdeelsleutelVkm[Voertuigtype],\"Lichte voertuigen\")*SUMIFS(tbl_AA_ECF_Transport_2030[EnergieConsumptieFactor (PJ per km)],tbl_AA_ECF_Transport_2030[Index],CONCATENATE(K13,\"_PETROL HYBRID PHEV_ELECTRIC\"))","v":0},{"$f":"K51*SUMIFS(TableVerdeelsleutelVkm[ELECTRIC],TableVerdeelsleutelVkm[Voertuigtype],\"Zware voertuigen\")*SUMIFS(tbl_AA_ECF_Transport_2030[EnergieConsumptieFactor (PJ per km)],tbl_AA_ECF_Transport_2030[Index],CONCATENATE(L13,\"_ELECTRIC_ELECTRIC\"))\n+K51*SUMIFS(TableVerdeelsleutelVkm[DIESEL HYBRID PHEV],TableVerdeelsleutelVkm[Voertuigtype],\"Zware voertuigen\")*SUMIFS(tbl_AA_ECF_Transport_2030[EnergieConsumptieFactor (PJ per km)],tbl_AA_ECF_Transport_2030[Index],CONCATENATE(L13,\"_DIESEL HYBRID PHEV_ELECTRIC\"))\n+K51*SUMIFS(TableVerdeelsleutelVkm[PETROL HYBRID PHEV],TableVerdeelsleutelVkm[Voertuigtype],\"Zware voertuigen\")*SUMIFS(tbl_AA_ECF_Transport_2030[EnergieConsumptieFactor (PJ per km)],tbl_AA_ECF_Transport_2030[Index],CONCATENATE(L13,\"_PETROL HYBRID PHEV_ELECTRIC\"))","v":0},{"$f":"SUM(G15:L15)*10^9/3600","v":1036.0378179069285},{"$f":"$I80*50%*SUMIFS(TableVerdeelsleutelVkm18[ELECTRIC],TableVerdeelsleutelVkm18[Voertuigtype],\"bussen\")*SUMIFS(tbl_AA_ECF_Transport_2030[EnergieConsumptieFactor (PJ per km)],tbl_AA_ECF_Transport_2030[Index],\"BUS_Genummerd_Electric_Electric\")\n+$I80*50%*SUMIFS(TableVerdeelsleutelVkm18[ELECTRIC],TableVerdeelsleutelVkm18[Voertuigtype],\"bussen\")*SUMIFS(tbl_AA_ECF_Transport_2030[EnergieConsumptieFactor (PJ per km)],tbl_AA_ECF_Transport_2030[Index],\"BUS_Niet-genummerd_Electric_Electric\")\n+I81*SUMIFS(tbl_AA_ECF_Transport_2030[EnergieConsumptieFactor (PJ per km)],tbl_AA_ECF_Transport_2030[Index],\"Tram_gemiddeld_Electric_Electric\")","v":1.8941717362118574E-5},{"$f":"N15*10^9/3600","v":5.2615881561440485},null,{"$f":"BAU_ENE!Q14","v":0.17705584446860712},{"$f":"M15*Q15","v":183.43655075092423},{"$f":"O15*Q15","v":0.93159493423210593}]
[null,null,null,"Warmte/ Koude",null,null,"nvt","nvt","nvt","nvt","nvt","nvt","nvt","nvt","nvt",null,{"$f":"BAU_ENE!Q15","v":0.23764705882352966}]
[null,null,null,null,"Fossiele brandstoffen"]
[null,null,null,null,null,"Aardgas",{"$f":"K46*SUMIFS(TableVerdeelsleutelVkm[CNG],TableVerdeelsleutelVkm[Voertuigtype],\"Lichte voertuigen\")*SUMIFS(tbl_AA_ECF_Transport_2030[EnergieConsumptieFactor (PJ per km)],tbl_AA_ECF_Transport_2030[Index],CONCATENATE(G13,\"_CNG_CNG\"))","v":6.6651815219135645E-3},{"$f":"K47*SUMIFS(TableVerdeelsleutelVkm[CNG],TableVerdeelsleutelVkm[Voertuigtype],\"Zware voertuigen\")*SUMIFS(tbl_AA_ECF_Transport_2030[EnergieConsumptieFactor (PJ per km)],tbl_AA_ECF_Transport_2030[Index],CONCATENATE(H13,\"_CNG_CNG\"))","v":2.1261270409668018E-3},{"$f":"K48*SUMIFS(TableVerdeelsleutelVkm[CNG],TableVerdeelsleutelVkm[Voertuigtype],\"Lichte voertuigen\")*SUMIFS(tbl_AA_ECF_Transport_2030[EnergieConsumptieFactor (PJ per km)],tbl_AA_ECF_Transport_2030[Index],CONCATENATE(I13,\"_CNG_CNG\"))","v":3.3792562204442446E-3},{"$f":"K49*SUMIFS(TableVerdeelsleutelVkm[CNG],TableVerdeelsleutelVkm[Voertuigtype],\"Zware voertuigen\")*SUMIFS(tbl_AA_ECF_Transport_2030[EnergieConsumptieFactor (PJ per km)],tbl_AA_ECF_Transport_2030[Index],CONCATENATE(J13,\"_CNG_CNG\"))","v":4.3204005886088073E-5},{"$f":"K50*SUMIFS(TableVerdeelsleutelVkm[CNG],TableVerdeelsleutelVkm[Voertuigtype],\"Lichte voertuigen\")*SUMIFS(tbl_AA_ECF_Transport_2030[EnergieConsumptieFactor (PJ per km)],tbl_AA_ECF_Transport_2030[Index],CONCATENATE(K13,\"_CNG_CNG\"))","v":0},{"$f":"K51*SUMIFS(TableVerdeelsleutelVkm[CNG],TableVerdeelsleutelVkm[Voertuigtype],\"Zware voertuigen\")*SUMIFS(tbl_AA_ECF_Transport_2030[EnergieConsumptieFactor (PJ per km)],tbl_AA_ECF_Transport_2030[Index],CONCATENATE(L13,\"_CNG_CNG\"))","v":0},{"$f":"SUM(G18:L18)*10^9/3600","v":3392.7135525585277},"nvt","nvt",null,{"$f":"'AA_Energieprijs&Discontovoet'!F98","v":0.20200000000000001},{"$f":"M18*Q18","v":685.32813761682269}]
[null,null,null,null,null,"Vloeibaar gas",{"$f":"K46*SUMIFS(TableVerdeelsleutelVkm[LPG],TableVerdeelsleutelVkm[Voertuigtype],\"Lichte voertuigen\")*SUMIFS(tbl_AA_ECF_Transport_2030[EnergieConsumptieFactor (PJ per km)],tbl_AA_ECF_Transport_2030[Index],CONCATENATE(G13,\"_LPG_LPG\"))","v":1.4185039682774229E-3},{"$f":"K47*SUMIFS(TableVerdeelsleutelVkm[LPG],TableVerdeelsleutelVkm[Voertuigtype],\"Zware voertuigen\")*SUMIFS(tbl_AA_ECF_Transport_2030[EnergieConsumptieFactor (PJ per km)],tbl_AA_ECF_Transport_2030[Index],CONCATENATE(H13,\"_LPG_LPG\"))","v":0},{"$f":"K48*SUMIFS(TableVerdeelsleutelVkm[LPG],TableVerdeelsleutelVkm[Voertuigtype],\"Lichte voertuigen\")*SUMIFS(tbl_AA_ECF_Transport_2030[EnergieConsumptieFactor (PJ per km)],tbl_AA_ECF_Transport_2030[Index],CONCATENATE(I13,\"_LPG_LPG\"))","v":6.5340464489210359E-4},{"$f":"K49*SUMIFS(TableVerdeelsleutelVkm[LPG],TableVerdeelsleutelVkm[Voertuigtype],\"Zware voertuigen\")*SUMIFS(tbl_AA_ECF_Transport_2030[EnergieConsumptieFactor (PJ per km)],tbl_AA_ECF_Transport_2030[Index],CONCATENATE(J13,\"_LPG_LPG\"))","v":0},{"$f":"K50*SUMIFS(TableVerdeelsleutelVkm[LPG],TableVerdeelsleutelVkm[Voertuigtype],\"Lichte voertuigen\")*SUMIFS(tbl_AA_ECF_Transport_2030[EnergieConsumptieFactor (PJ per km)],tbl_AA_ECF_Transport_2030[Index],CONCATENATE(K13,\"_LPG_LPG\"))","v":0},{"$f":"K51*SUMIFS(TableVerdeelsleutelVkm[LPG],TableVerdeelsleutelVkm[Voertuigtype],\"Zware voertuigen\")*SUMIFS(tbl_AA_ECF_Transport_2030[EnergieConsumptieFactor (PJ per km)],tbl_AA_ECF_Transport_2030[Index],CONCATENATE(L13,\"_LPG_LPG\"))","v":0},{"$f":"SUM(G19:L19)*10^9/3600","v":575.53017032486844},"nvt","nvt",null,{"$f":"'AA_Energieprijs&Discontovoet'!F99","v":0.22700000000000001},{"$f":"M19*Q19","v":130.64534866374515}]
[null,null,null,null,null,"Stookolie","nvt","nvt","nvt","nvt","nvt","nvt","nvt","nvt","nvt",null,{"$f":"'AA_Energieprijs&Discontovoet'!F100","v":0.26700000000000002}]
[null,null,null,null,null,"Diesel",{"$f":"(K46*SUMIFS(TableVerdeelsleutelVkm[DIESEL],TableVerdeelsleutelVkm[Voertuigtype],\"Lichte voertuigen\")*SUMIFS(tbl_AA_ECF_Transport_2030[EnergieConsumptieFactor (PJ per km)],tbl_AA_ECF_Transport_2030[Index],CONCATENATE(G13,\"_DIESEL_DIESEL\"))\n+K46*SUMIFS(TableVerdeelsleutelVkm[DIESEL HYBRID PHEV],TableVerdeelsleutelVkm[Voertuigtype],\"Lichte voertuigen\")*SUMIFS(tbl_AA_ECF_Transport_2030[EnergieConsumptieFactor (PJ per km)],tbl_AA_ECF_Transport_2030[Index],CONCATENATE(G13,\"_DIESEL HYBRID PHEV_DIESEL\"))\n+K46*SUMIFS(TableVerdeelsleutelVkm[DIESEL HYBRID CS],TableVerdeelsleutelVkm[Voertuigtype],\"Lichte voertuigen\")*SUMIFS(tbl_AA_ECF_Transport_2030[EnergieConsumptieFactor (PJ per km)],tbl_AA_ECF_Transport_2030[Index],CONCATENATE(G13,\"_DIESEL HYBRID CS_DIESEL\")))*(1-H66)","v":0.29015827970596691},{"$f":"(K47*SUMIFS(TableVerdeelsleutelVkm[DIESEL],TableVerdeelsleutelVkm[Voertuigtype],\"Zware voertuigen\")*SUMIFS(tbl_AA_ECF_Transport_2030[EnergieConsumptieFactor (PJ per km)],tbl_AA_ECF_Transport_2030[Index],CONCATENATE(H13,\"_DIESEL_DIESEL\"))\n+K47*SUMIFS(TableVerdeelsleutelVkm[DIESEL HYBRID PHEV],TableVerdeelsleutelVkm[Voertuigtype],\"Zware voertuigen\")*SUMIFS(tbl_AA_ECF_Transport_2030[EnergieConsumptieFactor (PJ per km)],tbl_AA_ECF_Transport_2030[Index],CONCATENATE(H13,\"_DIESEL HYBRID PHEV_DIESEL\"))\n+K47*SUMIFS(TableVerdeelsleutelVkm[DIESEL HYBRID CS],TableVerdeelsleutelVkm[Voertuigtype],\"Zware voertuigen\")*SUMIFS(tbl_AA_ECF_Transport_2030[EnergieConsumptieFactor (PJ per km)],tbl_AA_ECF_Transport_2030[Index],CONCATENATE(H13,\"_DIESEL HYBRID CS_DIESEL\")))*(1-H66)","v":0.3390823093131729},{"$f":"(K48*SUMIFS(TableVerdeelsleutelVkm[DIESEL],TableVerdeelsleutelVkm[Voertuigtype],\"Lichte voertuigen\")*SUMIFS(tbl_AA_ECF_Transport_2030[EnergieConsumptieFactor (PJ per km)],tbl_AA_ECF_Transport_2030[Index],CONCATENATE(I13,\"_DIESEL_DIESEL\"))\n+K48*SUMIFS(TableVerdeelsleutelVkm[DIESEL HYBRID PHEV],TableVerdeelsleutelVkm[Voertuigtype],\"Lichte voertuigen\")*SUMIFS(tbl_AA_ECF_Transport_2030[EnergieConsumptieFactor (PJ per km)],tbl_AA_ECF_Transport_2030[Index],CONCATENATE(I13,\"_DIESEL HYBRID PHEV_DIESEL\"))\n+K48*SUMIFS(TableVerdeelsleutelVkm[DIESEL HYBRID CS],TableVerdeelsleutelVkm[Voertuigtype],\"Lichte voertuigen\")*SUMIFS(tbl_AA_ECF_Transport_2030[EnergieConsumptieFactor (PJ per km)],tbl_AA_ECF_Transport_2030[Index],CONCATENATE(I13,\"_DIESEL HYBRID CS_DIESEL\")))*(1-H66)","v":0.12053039124903868},{"$f":"(K49*SUMIFS(TableVerdeelsleutelVkm[DIESEL],TableVerdeelsleutelVkm[Voertuigtype],\"Zware voertuigen\")*SUMIFS(tbl_AA_ECF_Transport_2030[EnergieConsumptieFactor (PJ per km)],tbl_AA_ECF_Transport_2030[Index],CONCATENATE(J13,\"_DIESEL_DIESEL\"))\n+K49*SUMIFS(TableVerdeelsleutelVkm[DIESEL HYBRID PHEV],TableVerdeelsleutelVkm[Voertuigtype],\"Zware voertuigen\")*SUMIFS(tbl_AA_ECF_Transport_2030[EnergieConsumptieFactor (PJ per km)],tbl_AA_ECF_Transport_2030[Index],CONCATENATE(J13,\"_DIESEL HYBRID PHEV_DIESEL\"))\n+K49*SUMIFS(TableVerdeelsleutelVkm[DIESEL HYBRID CS],TableVerdeelsleutelVkm[Voertuigtype],\"Zware voertuigen\")*SUMIFS(tbl_AA_ECF_Transport_2030[EnergieConsumptieFactor (PJ per km)],tbl_AA_ECF_Transport_2030[Index],CONCATENATE(J13,\"_DIESEL HYBRID CS_DIESEL\")))*(1-H66)","v":6.853813499602417E-3},{"$f":"(K50*SUMIFS(TableVerdeelsleutelVkm[DIESEL],TableVerdeelsleutelVkm[Voertuigtype],\"Lichte voertuigen\")*SUMIFS(tbl_AA_ECF_Transport_2030[EnergieConsumptieFactor (PJ per km)],tbl_AA_ECF_Transport_2030[Index],CONCATENATE(K13,\"_DIESEL_DIESEL\"))\n+K50*SUMIFS(TableVerdeelsleutelVkm[DIESEL HYBRID PHEV],TableVerdeelsleutelVkm[Voertuigtype],\"Lichte voertuigen\")*SUMIFS(tbl_AA_ECF_Transport_2030[EnergieConsumptieFactor (PJ per km)],tbl_AA_ECF_Transport_2030[Index],CONCATENATE(K13,\"_DIESEL HYBRID PHEV_DIESEL\"))\n+K50*SUMIFS(TableVerdeelsleutelVkm[DIESEL HYBRID CS],TableVerdeelsleutelVkm[Voertuigtype],\"Lichte voertuigen\")*SUMIFS(tbl_AA_ECF_Transport_2030[EnergieConsumptieFactor (PJ per km)],tbl_AA_ECF_Transport_2030[Index],CONCATENATE(K13,\"_DIESEL HYBRID CS_DIESEL\")))*(1-H66)","v":0},{"$f":"(K51*SUMIFS(TableVerdeelsleutelVkm[DIESEL],TableVerdeelsleutelVkm[Voertuigtype],\"Zware voertuigen\")*SUMIFS(tbl_AA_ECF_Transport_2030[EnergieConsumptieFactor (PJ per km)],tbl_AA_ECF_Transport_2030[Index],CONCATENATE(L13,\"_DIESEL_DIESEL\"))\n+K51*SUMIFS(TableVerdeelsleutelVkm[DIESEL HYBRID PHEV],TableVerdeelsleutelVkm[Voertuigtype],\"Zware voertuigen\")*SUMIFS(tbl_AA_ECF_Transport_2030[EnergieConsumptieFactor (PJ per km)],tbl_AA_ECF_Transport_2030[Index],CONCATENATE(L13,\"_DIESEL HYBRID PHEV_DIESEL\"))\n+K51*SUMIFS(TableVerdeelsleutelVkm[DIESEL HYBRID CS],TableVerdeelsleutelVkm[Voertuigtype],\"Zware voertuigen\")*SUMIFS(tbl_AA_ECF_Transport_2030[EnergieConsumptieFactor (PJ per km)],tbl_AA_ECF_Transport_2030[Index],CONCATENATE(L13,\"_DIESEL HYBRID CS_DIESEL\")))*(1-H66)","v":0},{"$f":"SUM(G21:L21)*10^9/3600","v":210173.55382438359},{"$f":"$I80*50%*SUMIFS(TableVerdeelsleutelVkm18[DIESEL],TableVerdeelsleutelVkm18[Voertuigtype],\"bussen\")*SUMIFS(tbl_AA_ECF_Transport_2030[EnergieConsumptieFactor (PJ per km)],tbl_AA_ECF_Transport_2030[Index],\"BUS_Genummerd_Diesel_Diesel\")\n+$I80*50%*SUMIFS(TableVerdeelsleutelVkm18[DIESEL HYBRID CS],TableVerdeelsleutelVkm18[Voertuigtype],\"bussen\")*SUMIFS(tbl_AA_ECF_Transport_2030[EnergieConsumptieFactor (PJ per km)],tbl_AA_ECF_Transport_2030[Index],\"BUS_Genummerd_DIESEL HYBRID CS_Diesel\")\n+$I80*50%*SUMIFS(TableVerdeelsleutelVkm18[DIESEL],TableVerdeelsleutelVkm18[Voertuigtype],\"bussen\")*SUMIFS(tbl_AA_ECF_Transport_2030[EnergieConsumptieFactor (PJ per km)],tbl_AA_ECF_Transport_2030[Index],\"BUS_Niet-genummerd_Diesel_Diesel\")\n+$I80*50%*SUMIFS(TableVerdeelsleutelVkm18[DIESEL HYBRID CS],TableVerdeelsleutelVkm18[Voertuigtype],\"bussen\")*SUMIFS(tbl_AA_ECF_Transport_2030[EnergieConsumptieFactor (PJ per km)],tbl_AA_ECF_Transport_2030[Index],\"BUS_Niet-genummerd_DIESEL HYBRID CS_Diesel\")","v":4.8017048290355427E-2},{"$f":"N21*10^9/3600","v":13338.068969543176},null,{"$f":"'AA_Energieprijs&Discontovoet'!F101","v":0.26700000000000002},{"$f":"M21*Q21","v":56116.33887111042},{"$f":"O21*Q21","v":3561.2644148680279}]
[null,null,null,null,null,"Benzine",{"$f":"(K46*SUMIFS(TableVerdeelsleutelVkm[PETROL],TableVerdeelsleutelVkm[Voertuigtype],\"Lichte voertuigen\")*SUMIFS(tbl_AA_ECF_Transport_2030[EnergieConsumptieFactor (PJ per km)],tbl_AA_ECF_Transport_2030[Index],CONCATENATE(G13,\"_PETROL_PETROL\"))\n+K46*SUMIFS(TableVerdeelsleutelVkm[PETROL HYBRID PHEV],TableVerdeelsleutelVkm[Voertuigtype],\"Lichte voertuigen\")*SUMIFS(tbl_AA_ECF_Transport_2030[EnergieConsumptieFactor (PJ per km)],tbl_AA_ECF_Transport_2030[Index],CONCATENATE(G13,\"_PETROL HYBRID PHEV_PETROL\"))\n+K46*SUMIFS(TableVerdeelsleutelVkm[PETROL HYBRID CS],TableVerdeelsleutelVkm[Voertuigtype],\"Lichte voertuigen\")*SUMIFS(tbl_AA_ECF_Transport_2030[EnergieConsumptieFactor (PJ per km)],tbl_AA_ECF_Transport_2030[Index],CONCATENATE(G13,\"_PETROL HYBRID CS_PETROL\")))*(1-H67)","v":0.42168158757414098},{"$f":"(K47*SUMIFS(TableVerdeelsleutelVkm[PETROL],TableVerdeelsleutelVkm[Voertuigtype],\"Zware voertuigen\")*SUMIFS(tbl_AA_ECF_Transport_2030[EnergieConsumptieFactor (PJ per km)],tbl_AA_ECF_Transport_2030[Index],CONCATENATE(H13,\"_PETROL_PETROL\"))\n+K47*SUMIFS(TableVerdeelsleutelVkm[PETROL HYBRID PHEV],TableVerdeelsleutelVkm[Voertuigtype],\"Zware voertuigen\")*SUMIFS(tbl_AA_ECF_Transport_2030[EnergieConsumptieFactor (PJ per km)],tbl_AA_ECF_Transport_2030[Index],CONCATENATE(H13,\"_PETROL HYBRID PHEV_PETROL\"))\n+K47*SUMIFS(TableVerdeelsleutelVkm[PETROL HYBRID CS],TableVerdeelsleutelVkm[Voertuigtype],\"Zware voertuigen\")*SUMIFS(tbl_AA_ECF_Transport_2030[EnergieConsumptieFactor (PJ per km)],tbl_AA_ECF_Transport_2030[Index],CONCATENATE(H13,\"_PETROL HYBRID CS_PETROL\")))*(1-H67)","v":3.2071722554284914E-4},{"$f":"(K48*SUMIFS(TableVerdeelsleutelVkm[PETROL],TableVerdeelsleutelVkm[Voertuigtype],\"Lichte voertuigen\")*SUMIFS(tbl_AA_ECF_Transport_2030[EnergieConsumptieFactor (PJ per km)],tbl_AA_ECF_Transport_2030[Index],CONCATENATE(I13,\"_PETROL_PETROL\"))\n+K48*SUMIFS(TableVerdeelsleutelVkm[PETROL HYBRID PHEV],TableVerdeelsleutelVkm[Voertuigtype],\"Lichte voertuigen\")*SUMIFS(tbl_AA_ECF_Transport_2030[EnergieConsumptieFactor (PJ per km)],tbl_AA_ECF_Transport_2030[Index],CONCATENATE(I13,\"_PETROL HYBRID PHEV_PETROL\"))\n+K48*SUMIFS(TableVerdeelsleutelVkm[PETROL HYBRID CS],TableVerdeelsleutelVkm[Voertuigtype],\"Lichte voertuigen\")*SUMIFS(tbl_AA_ECF_Transport_2030[EnergieConsumptieFactor (PJ per km)],tbl_AA_ECF_Transport_2030[Index],CONCATENATE(I13,\"_PETROL HYBRID CS_PETROL\")))*(1-H67)","v":0.20104244569858548},{"$f":"(K49*SUMIFS(TableVerdeelsleutelVkm[PETROL],TableVerdeelsleutelVkm[Voertuigtype],\"Zware voertuigen\")*SUMIFS(tbl_AA_ECF_Transport_2030[EnergieConsumptieFactor (PJ per km)],tbl_AA_ECF_Transport_2030[Index],CONCATENATE(J13,\"_PETROL_PETROL\"))\n+K49*SUMIFS(TableVerdeelsleutelVkm[PETROL HYBRID PHEV],TableVerdeelsleutelVkm[Voertuigtype],\"Zware voertuigen\")*SUMIFS(tbl_AA_ECF_Transport_2030[EnergieConsumptieFactor (PJ per km)],tbl_AA_ECF_Transport_2030[Index],CONCATENATE(J13,\"_PETROL HYBRID PHEV_PETROL\"))\n+K49*SUMIFS(TableVerdeelsleutelVkm[PETROL HYBRID CS],TableVerdeelsleutelVkm[Voertuigtype],\"Zware voertuigen\")*SUMIFS(tbl_AA_ECF_Transport_2030[EnergieConsumptieFactor (PJ per km)],tbl_AA_ECF_Transport_2030[Index],CONCATENATE(J13,\"_PETROL HYBRID CS_PETROL\")))*(1-H67)","v":6.0220010055527265E-6},{"$f":"(K50*SUMIFS(TableVerdeelsleutelVkm[PETROL],TableVerdeelsleutelVkm[Voertuigtype],\"Lichte voertuigen\")*SUMIFS(tbl_AA_ECF_Transport_2030[EnergieConsumptieFactor (PJ per km)],tbl_AA_ECF_Transport_2030[Index],CONCATENATE(K13,\"_PETROL_PETROL\"))\n+K50*SUMIFS(TableVerdeelsleutelVkm[PETROL HYBRID PHEV],TableVerdeelsleutelVkm[Voertuigtype],\"Lichte voertuigen\")*SUMIFS(tbl_AA_ECF_Transport_2030[EnergieConsumptieFactor (PJ per km)],tbl_AA_ECF_Transport_2030[Index],CONCATENATE(K13,\"_PETROL HYBRID PHEV_PETROL\"))\n+K50*SUMIFS(TableVerdeelsleutelVkm[PETROL HYBRID CS],TableVerdeelsleutelVkm[Voertuigtype],\"Lichte voertuigen\")*SUMIFS(tbl_AA_ECF_Transport_2030[EnergieConsumptieFactor (PJ per km)],tbl_AA_ECF_Transport_2030[Index],CONCATENATE(K13,\"_PETROL HYBRID CS_PETROL\")))*(1-H67)","v":0},{"$f":"(K51*SUMIFS(TableVerdeelsleutelVkm[PETROL],TableVerdeelsleutelVkm[Voertuigtype],\"Zware voertuigen\")*SUMIFS(tbl_AA_ECF_Transport_2030[EnergieConsumptieFactor (PJ per km)],tbl_AA_ECF_Transport_2030[Index],CONCATENATE(L13,\"_PETROL_PETROL\"))\n+K51*SUMIFS(TableVerdeelsleutelVkm[PETROL HYBRID PHEV],TableVerdeelsleutelVkm[Voertuigtype],\"Zware voertuigen\")*SUMIFS(tbl_AA_ECF_Transport_2030[EnergieConsumptieFactor (PJ per km)],tbl_AA_ECF_Transport_2030[Index],CONCATENATE(L13,\"_PETROL HYBRID PHEV_PETROL\"))\n+K51*SUMIFS(TableVerdeelsleutelVkm[PETROL HYBRID CS],TableVerdeelsleutelVkm[Voertuigtype],\"Zware voertuigen\")*SUMIFS(tbl_AA_ECF_Transport_2030[EnergieConsumptieFactor (PJ per km)],tbl_AA_ECF_Transport_2030[Index],CONCATENATE(L13,\"_PETROL HYBRID CS_PETROL\")))*(1-H67)","v":0},{"$f":"SUM(G22:L22)*10^9/3600","v":173069.6590275763},"nvt","nvt",null,{"$f":"'AA_Energieprijs&Discontovoet'!F102","v":0.249},{"$f":"M22*Q22","v":43094.345097866499}]
[null,null,null,null,null,"Bruinkool","nvt","nvt","nvt","nvt","nvt","nvt","nvt","nvt","nvt",null,{"$f":"'AA_Energieprijs&Discontovoet'!F103","v":0.35099999999999998}]
[null,null,null,null,null,"Steenkool","nvt","nvt","nvt","nvt","nvt","nvt","nvt","nvt","nvt",null,{"$f":"'AA_Energieprijs&Discontovoet'!F104","v":0.35399999999999998}]
[null,null,null,null,null,"Andere fossiele brandstoffen","nvt","nvt","nvt","nvt","nvt","nvt","nvt","nvt","nvt",null,{"$f":"'AA_Energieprijs&Discontovoet'!F105","v":0.26400000000000001}]
[null,null,null,null,"Hernieuwbare brandstoffen"]
[null,null,null,null,null,"Plantaardige oliën","nvt","nvt","nvt","nvt","nvt","nvt","nvt","nvt","nvt",null,{"$f":"'AA_Energieprijs&Discontovoet'!F106","v":0}]
[null,null,null,null,null,"Bio-brandstof ",{"$f":"(K46*SUMIFS(TableVerdeelsleutelVkm[DIESEL],TableVerdeelsleutelVkm[Voertuigtype],\"Lichte voertuigen\")*SUMIFS(tbl_AA_ECF_Transport_2030[EnergieConsumptieFactor (PJ per km)],tbl_AA_ECF_Transport_2030[Index],CONCATENATE(G13,\"_PETROL_PETROL\"))\n+K46*SUMIFS(TableVerdeelsleutelVkm[DIESEL HYBRID PHEV],TableVerdeelsleutelVkm[Voertuigtype],\"Lichte voertuigen\")*SUMIFS(tbl_AA_ECF_Transport_2030[EnergieConsumptieFactor (PJ per km)],tbl_AA_ECF_Transport_2030[Index],CONCATENATE(G13,\"_PETROL HYBRID PHEV_PETROL\"))\n+K46*SUMIFS(TableVerdeelsleutelVkm[DIESEL HYBRID CS],TableVerdeelsleutelVkm[Voertuigtype],\"Lichte voertuigen\")*SUMIFS(tbl_AA_ECF_Transport_2030[EnergieConsumptieFactor (PJ per km)],tbl_AA_ECF_Transport_2030[Index],CONCATENATE(G13,\"_PETROL HYBRID CS_PETROL\")))*(H66)\n\n+(K46*SUMIFS(TableVerdeelsleutelVkm[PETROL],TableVerdeelsleutelVkm[Voertuigtype],\"Lichte voertuigen\")*SUMIFS(tbl_AA_ECF_Transport_2030[EnergieConsumptieFactor (PJ per km)],tbl_AA_ECF_Transport_2030[Index],CONCATENATE(G13,\"_PETROL_PETROL\"))\n+K46*SUMIFS(TableVerdeelsleutelVkm[PETROL HYBRID PHEV],TableVerdeelsleutelVkm[Voertuigtype],\"Lichte voertuigen\")*SUMIFS(tbl_AA_ECF_Transport_2030[EnergieConsumptieFactor (PJ per km)],tbl_AA_ECF_Transport_2030[Index],CONCATENATE(G13,\"_PETROL HYBRID PHEV_PETROL\"))\n+K46*SUMIFS(TableVerdeelsleutelVkm[PETROL HYBRID CS],TableVerdeelsleutelVkm[Voertuigtype],\"Lichte voertuigen\")*SUMIFS(tbl_AA_ECF_Transport_2030[EnergieConsumptieFactor (PJ per km)],tbl_AA_ECF_Transport_2030[Index],CONCATENATE(G13,\"_PETROL HYBRID CS_PETROL\")))*(H67)","v":6.0348587235656115E-2},{"$f":"(K47*SUMIFS(TableVerdeelsleutelVkm[DIESEL],TableVerdeelsleutelVkm[Voertuigtype],\"Zware voertuigen\")*SUMIFS(tbl_AA_ECF_Transport_2030[EnergieConsumptieFactor (PJ per km)],tbl_AA_ECF_Transport_2030[Index],CONCATENATE(H13,\"_DIESEL_DIESEL\"))\n+K47*SUMIFS(TableVerdeelsleutelVkm[DIESEL HYBRID PHEV],TableVerdeelsleutelVkm[Voertuigtype],\"Zware voertuigen\")*SUMIFS(tbl_AA_ECF_Transport_2030[EnergieConsumptieFactor (PJ per km)],tbl_AA_ECF_Transport_2030[Index],CONCATENATE(H13,\"_DIESEL HYBRID PHEV_DIESEL\"))\n+K47*SUMIFS(TableVerdeelsleutelVkm[DIESEL HYBRID CS],TableVerdeelsleutelVkm[Voertuigtype],\"Zware voertuigen\")*SUMIFS(tbl_AA_ECF_Transport_2030[EnergieConsumptieFactor (PJ per km)],tbl_AA_ECF_Transport_2030[Index],CONCATENATE(H13,\"_DIESEL HYBRID CS_DIESEL\")))*(H66)\n\n+(K47*SUMIFS(TableVerdeelsleutelVkm[PETROL],TableVerdeelsleutelVkm[Voertuigtype],\"Zware voertuigen\")*SUMIFS(tbl_AA_ECF_Transport_2030[EnergieConsumptieFactor (PJ per km)],tbl_AA_ECF_Transport_2030[Index],CONCATENATE(H13,\"_PETROL_PETROL\"))\n+K47*SUMIFS(TableVerdeelsleutelVkm[PETROL HYBRID PHEV],TableVerdeelsleutelVkm[Voertuigtype],\"Zware voertuigen\")*SUMIFS(tbl_AA_ECF_Transport_2030[EnergieConsumptieFactor (PJ per km)],tbl_AA_ECF_Transport_2030[Index],CONCATENATE(H13,\"_PETROL HYBRID PHEV_PETROL\"))\n+K47*SUMIFS(TableVerdeelsleutelVkm[PETROL HYBRID CS],TableVerdeelsleutelVkm[Voertuigtype],\"Zware voertuigen\")*SUMIFS(tbl_AA_ECF_Transport_2030[EnergieConsumptieFactor (PJ per km)],tbl_AA_ECF_Transport_2030[Index],CONCATENATE(H13,\"_PETROL HYBRID CS_PETROL\")))*(H67)","v":2.9112746033179742E-2},{"$f":"(K48*SUMIFS(TableVerdeelsleutelVkm[DIESEL],TableVerdeelsleutelVkm[Voertuigtype],\"Lichte voertuigen\")*SUMIFS(tbl_AA_ECF_Transport_2030[EnergieConsumptieFactor (PJ per km)],tbl_AA_ECF_Transport_2030[Index],CONCATENATE(I13,\"_PETROL_PETROL\"))\n+K48*SUMIFS(TableVerdeelsleutelVkm[DIESEL HYBRID PHEV],TableVerdeelsleutelVkm[Voertuigtype],\"Lichte voertuigen\")*SUMIFS(tbl_AA_ECF_Transport_2030[EnergieConsumptieFactor (PJ per km)],tbl_AA_ECF_Transport_2030[Index],CONCATENATE(I13,\"_PETROL HYBRID PHEV_PETROL\"))\n+K48*SUMIFS(TableVerdeelsleutelVkm[DIESEL HYBRID CS],TableVerdeelsleutelVkm[Voertuigtype],\"Lichte voertuigen\")*SUMIFS(tbl_AA_ECF_Transport_2030[EnergieConsumptieFactor (PJ per km)],tbl_AA_ECF_Transport_2030[Index],CONCATENATE(I13,\"_PETROL HYBRID CS_PETROL\")))*(H66)\n\n+(K48*SUMIFS(TableVerdeelsleutelVkm[PETROL],TableVerdeelsleutelVkm[Voertuigtype],\"Lichte voertuigen\")*SUMIFS(tbl_AA_ECF_Transport_2030[EnergieConsumptieFactor (PJ per km)],tbl_AA_ECF_Transport_2030[Index],CONCATENATE(I13,\"_PETROL_PETROL\"))\n+K48*SUMIFS(TableVerdeelsleutelVkm[PETROL HYBRID PHEV],TableVerdeelsleutelVkm[Voertuigtype],\"Lichte voertuigen\")*SUMIFS(tbl_AA_ECF_Transport_2030[EnergieConsumptieFactor (PJ per km)],tbl_AA_ECF_Transport_2030[Index],CONCATENATE(I13,\"_PETROL HYBRID PHEV_PETROL\"))\n+K48*SUMIFS(TableVerdeelsleutelVkm[PETROL HYBRID CS],TableVerdeelsleutelVkm[Voertuigtype],\"Lichte voertuigen\")*SUMIFS(tbl_AA_ECF_Transport_2030[EnergieConsumptieFactor (PJ per km)],tbl_AA_ECF_Transport_2030[Index],CONCATENATE(I13,\"_PETROL HYBRID CS_PETROL\")))*(H67)","v":2.8873333122001028E-2},{"$f":"(K49*SUMIFS(TableVerdeelsleutelVkm[DIESEL],TableVerdeelsleutelVkm[Voertuigtype],\"Zware voertuigen\")*SUMIFS(tbl_AA_ECF_Transport_2030[EnergieConsumptieFactor (PJ per km)],tbl_AA_ECF_Transport_2030[Index],CONCATENATE(J13,\"_DIESEL_DIESEL\"))\n+K49*SUMIFS(TableVerdeelsleutelVkm[DIESEL HYBRID PHEV],TableVerdeelsleutelVkm[Voertuigtype],\"Zware voertuigen\")*SUMIFS(tbl_AA_ECF_Transport_2030[EnergieConsumptieFactor (PJ per km)],tbl_AA_ECF_Transport_2030[Index],CONCATENATE(J13,\"_DIESEL HYBRID PHEV_DIESEL\"))\n+K49*SUMIFS(TableVerdeelsleutelVkm[DIESEL HYBRID CS],TableVerdeelsleutelVkm[Voertuigtype],\"Zware voertuigen\")*SUMIFS(tbl_AA_ECF_Transport_2030[EnergieConsumptieFactor (PJ per km)],tbl_AA_ECF_Transport_2030[Index],CONCATENATE(J13,\"_DIESEL HYBRID CS_DIESEL\")))*(H66)\n\n+(K49*SUMIFS(TableVerdeelsleutelVkm[PETROL],TableVerdeelsleutelVkm[Voertuigtype],\"Zware voertuigen\")*SUMIFS(tbl_AA_ECF_Transport_2030[EnergieConsumptieFactor (PJ per km)],tbl_AA_ECF_Transport_2030[Index],CONCATENATE(J13,\"_PETROL_PETROL\"))\n+K49*SUMIFS(TableVerdeelsleutelVkm[PETROL HYBRID PHEV],TableVerdeelsleutelVkm[Voertuigtype],\"Zware voertuigen\")*SUMIFS(tbl_AA_ECF_Transport_2030[EnergieConsumptieFactor (PJ per km)],tbl_AA_ECF_Transport_2030[Index],CONCATENATE(J13,\"_PETROL HYBRID PHEV_PETROL\"))\n+K49*SUMIFS(TableVerdeelsleutelVkm[PETROL HYBRID CS],TableVerdeelsleutelVkm[Voertuigtype],\"Zware voertuigen\")*SUMIFS(tbl_AA_ECF_Transport_2030[EnergieConsumptieFactor (PJ per km)],tbl_AA_ECF_Transport_2030[Index],CONCATENATE(J13,\"_PETROL HYBRID CS_PETROL\")))*(H67)","v":5.8841151416724172E-4},{"$f":"(K50*SUMIFS(TableVerdeelsleutelVkm[DIESEL],TableVerdeelsleutelVkm[Voertuigtype],\"Lichte voertuigen\")*SUMIFS(tbl_AA_ECF_Transport_2030[EnergieConsumptieFactor (PJ per km)],tbl_AA_ECF_Transport_2030[Index],CONCATENATE(K13,\"_PETROL_PETROL\"))\n+K50*SUMIFS(TableVerdeelsleutelVkm[DIESEL HYBRID PHEV],TableVerdeelsleutelVkm[Voertuigtype],\"Lichte voertuigen\")*SUMIFS(tbl_AA_ECF_Transport_2030[EnergieConsumptieFactor (PJ per km)],tbl_AA_ECF_Transport_2030[Index],CONCATENATE(K13,\"_PETROL HYBRID PHEV_PETROL\"))\n+K50*SUMIFS(TableVerdeelsleutelVkm[DIESEL HYBRID CS],TableVerdeelsleutelVkm[Voertuigtype],\"Lichte voertuigen\")*SUMIFS(tbl_AA_ECF_Transport_2030[EnergieConsumptieFactor (PJ per km)],tbl_AA_ECF_Transport_2030[Index],CONCATENATE(K13,\"_PETROL HYBRID CS_PETROL\")))*(H66)\n\n+(K50*SUMIFS(TableVerdeelsleutelVkm[PETROL],TableVerdeelsleutelVkm[Voertuigtype],\"Lichte voertuigen\")*SUMIFS(tbl_AA_ECF_Transport_2030[EnergieConsumptieFactor (PJ per km)],tbl_AA_ECF_Transport_2030[Index],CONCATENATE(K13,\"_PETROL_PETROL\"))\n+K50*SUMIFS(TableVerdeelsleutelVkm[PETROL HYBRID PHEV],TableVerdeelsleutelVkm[Voertuigtype],\"Lichte voertuigen\")*SUMIFS(tbl_AA_ECF_Transport_2030[EnergieConsumptieFactor (PJ per km)],tbl_AA_ECF_Transport_2030[Index],CONCATENATE(K13,\"_PETROL HYBRID PHEV_PETROL\"))\n+K50*SUMIFS(TableVerdeelsleutelVkm[PETROL HYBRID CS],TableVerdeelsleutelVkm[Voertuigtype],\"Lichte voertuigen\")*SUMIFS(tbl_AA_ECF_Transport_2030[EnergieConsumptieFactor (PJ per km)],tbl_AA_ECF_Transport_2030[Index],CONCATENATE(K13,\"_PETROL HYBRID CS_PETROL\")))*(H67)","v":0},{"$f":"(K51*SUMIFS(TableVerdeelsleutelVkm[DIESEL],TableVerdeelsleutelVkm[Voertuigtype],\"Zware voertuigen\")*SUMIFS(tbl_AA_ECF_Transport_2030[EnergieConsumptieFactor (PJ per km)],tbl_AA_ECF_Transport_2030[Index],CONCATENATE(L13,\"_DIESEL_DIESEL\"))\n+K51*SUMIFS(TableVerdeelsleutelVkm[DIESEL HYBRID PHEV],TableVerdeelsleutelVkm[Voertuigtype],\"Zware voertuigen\")*SUMIFS(tbl_AA_ECF_Transport_2030[EnergieConsumptieFactor (PJ per km)],tbl_AA_ECF_Transport_2030[Index],CONCATENATE(L13,\"_DIESEL HYBRID PHEV_DIESEL\"))\n+K51*SUMIFS(TableVerdeelsleutelVkm[DIESEL HYBRID CS],TableVerdeelsleutelVkm[Voertuigtype],\"Zware voertuigen\")*SUMIFS(tbl_AA_ECF_Transport_2030[EnergieConsumptieFactor (PJ per km)],tbl_AA_ECF_Transport_2030[Index],CONCATENATE(L13,\"_DIESEL HYBRID CS_DIESEL\")))*(H66)\n\n+(K51*SUMIFS(TableVerdeelsleutelVkm[PETROL],TableVerdeelsleutelVkm[Voertuigtype],\"Zware voertuigen\")*SUMIFS(tbl_AA_ECF_Transport_2030[EnergieConsumptieFactor (PJ per km)],tbl_AA_ECF_Transport_2030[Index],CONCATENATE(L13,\"_PETROL_PETROL\"))\n+K51*SUMIFS(TableVerdeelsleutelVkm[PETROL HYBRID PHEV],TableVerdeelsleutelVkm[Voertuigtype],\"Zware voertuigen\")*SUMIFS(tbl_AA_ECF_Transport_2030[EnergieConsumptieFactor (PJ per km)],tbl_AA_ECF_Transport_2030[Index],CONCATENATE(L13,\"_PETROL HYBRID PHEV_PETROL\"))\n+K51*SUMIFS(TableVerdeelsleutelVkm[PETROL HYBRID CS],TableVerdeelsleutelVkm[Voertuigtype],\"Zware voertuigen\")*SUMIFS(tbl_AA_ECF_Transport_2030[EnergieConsumptieFactor (PJ per km)],tbl_AA_ECF_Transport_2030[Index],CONCATENATE(L13,\"_PETROL HYBRID CS_PETROL\")))*(H67)","v":0},{"$f":"SUM(G28:L28)*10^9/3600","v":33034.188306945594},{"$f":"($I80*SUMIFS(TableVerdeelsleutelVkm18[DIESEL],TableVerdeelsleutelVkm18[Voertuigtype],\"bussen\")*SUMIFS(tbl_AA_ECF_Transport_2030[EnergieConsumptieFactor (PJ per km)],tbl_AA_ECF_Transport_2030[Index],\"BUS_Genummerd_Diesel_Diesel\")\n+$I80*SUMIFS(TableVerdeelsleutelVkm18[DIESEL HYBRID CS],TableVerdeelsleutelVkm18[Voertuigtype],\"bussen\")*SUMIFS(tbl_AA_ECF_Transport_2030[EnergieConsumptieFactor (PJ per km)],tbl_AA_ECF_Transport_2030[Index],\"BUS_Genummerd_DIESEL HYBRID CS_Diesel\"))*H95","v":2.7696020624223706E-3},{"$f":"N28*10^9/3600","v":769.33390622843626},null,{"$f":"'AA_Energieprijs&Discontovoet'!F107","v":0},{"$f":"M28*Q28","v":0},{"$f":"O28*Q28","v":0}]
[null,null,null,null,null,"Overige biomassa","nvt","nvt","nvt","nvt","nvt","nvt","nvt","nvt","nvt",null,{"$f":"'AA_Energieprijs&Discontovoet'!F108","v":0}]
[null,null,null,null,null,"Zonne-/ thermische energie","nvt","nvt","nvt","nvt","nvt","nvt","nvt","nvt","nvt",null,{"$f":"'AA_Energieprijs&Discontovoet'!F109","v":0}]
[null,null,null,null,null,"Geo-thermische energie","nvt","nvt","nvt","nvt","nvt","nvt","nvt","nvt","nvt",null,{"$f":"'AA_Energieprijs&Discontovoet'!F110","v":0}]
[null,null,null,"Totaal",null,null,{"$f":"SUM(IF(ISERROR(G15:G31),\"\",G15:G31))","v":0.78312894530728627},{"$f":"SUM(IF(ISERROR(H15:H31),\"\",H15:H31))","v":0.37072827127280794},{"$f":"SUM(IF(ISERROR(I15:I31),\"\",I15:I31))","v":0.35526526594183561},{"$f":"SUM(IF(ISERROR(J15:J31),\"\",J15:J31))","v":7.4915751969752142E-3},{"$f":"SUM(IF(ISERROR(K15:K31),\"\",K15:K31))","v":0},{"$f":"SUM(IF(ISERROR(L15:L31),\"\",L15:L31))","v":0},{"$f":"SUM(M15:M31)","v":421281.68269969581},{"$f":"SUM(N15:N31)","v":5.0805592070139911E-2},{"$f":"SUM(O15:O31)","v":14112.664463927755},null,null,{"$f":"SUM(R15:R31)","v":100210.09400600841},{"$f":"SUM(S15:S31)","v":3562.1960098022601}]
[]
[]
[null,null,"Particulier en commercieel vervoer - verwachte evolutie door:"]
[null,null,"1. Evolutie voertuigkilometers per wegtype en voertuigtype "]
[null,null,"2. Verdeling van voertuigkilometers over brandstoftechnologie "]
[null,null,"3. Aandeel biobrandstoffen"]
[]
[]
[]
[null,null,"1. Verwachte evolutie voertuigkilometers per wegtype en voertuigtype",null,null,null,null,null,null,null,null,null,"FASTRACE (BAU 2030)"]
[]
[null,null,null,null,null,null,null,null,null,null,null,null,"[Informatie]","[Bron]"]
[null,null,null,null,null,"WegType","VoertuigType",{"$f":"CONCATENATE(\"Voertuigkms referentiejaar\",\" - \",F6)","v":"Voertuigkms referentiejaar - 2017"},"Groei (%) voertuigkms 2015-2020 (obv BAU)","Groei (%) voertuigkms 2020-2030 (obv BAU)","Voertuigkms referentiejaar-2030"]
[null,null,null,null,null,"Genummerde wegen","Lichte voertuigen",{"$f":"tbl_AA_MOB_vkm_REF[LV_GENUM]","v":386456377},3.0393214694094395E-2,2.5510298243665908E-2,{"$f":"(1+J46+(I46/5*(2020-$F$6)))*H46","v":403362385.41707432},null,"verwachte groei in voertuigkilometers per voertuigcategorie in Vlaanderen","FASTRACE (BAU 2030)"]
[null,null,null,null,null,"Genummerde wegen","Zware voertuigen",{"$f":"tbl_AA_MOB_vkm_REF[ZV_GENUM]","v":27594555},9.6836879653133812E-2,0.2784490451775814,{"$f":"(1+J47+(I47/5*(2020-$F$6)))*H47","v":36881534.852820322},null,"verwachte groei in voertuigkilometers per voertuigcategorie in Vlaanderen","FASTRACE (BAU 2030)"]
[null,null,null,null,null,"Niet-genummerde wegen","Lichte voertuigen",{"$f":"tbl_AA_MOB_vkm_REF[LV_NIETGENUM]","v":107510524},3.8623388641738865E-2,9.6506587928384402E-3,111039523.83468068,null,"verwachte groei in voertuigkilometers per voertuigcategorie in Vlaanderen","FASTRACE (BAU 2030)"]
[null,null,null,null,null,"Niet-genummerde wegen","Zware voertuigen",{"$f":"tbl_AA_MOB_vkm_REF[ZV_NIETGENUM]","v":492248},7.4119304078952286E-2,0.12097544387006165,573688.96781070379,null,"verwachte groei in voertuigkilometers per voertuigcategorie in Vlaanderen","FASTRACE (BAU 2030)"]
[null,null,null,null,null,"Snelwegen","Lichte voertuigen",{"$f":"(tbl_AA_MOB_vkm_REF[LV_SNEL])*P_Snelwegen","v":0},3.5109062268119384E-2,-6.5871410041300482E-3,0,null,"Snelwegen worden niet meegenomen"]
[null,null,null,null,null,"Snelwegen","Zware voertuigen",{"$f":"(tbl_AA_MOB_vkm_REF[ZV_SNEL])*P_Snelwegen","v":0},4.6803572019198159E-2,7.4030510024554408E-2,0,null,"Snelwegen worden niet meegenomen"]
[]
[]
[null,null,"2. Verdeling van voertuigkilometers over brandstoftechnologie ",null,null,null,null,null,null,null,null,null,"FASTRACE (BAU 2030)"]
[]
[null,null,null,null,null,null,null,null,null,null,null,null,null,null,null,null,null,null,"[Informatie]","[Bron]"]
[null,null,null,null,null,"Voertuigtype","CNG","DIESEL","DIESEL HYBRID CS","DIESEL HYBRID PHEV","E85","ELECTRIC","FUEL CELL H2","LPG","PETROL","PETROL HYBRID CS","PETROL HYBRID PHEV"]
[null,null,null,null,null,"Lichte voertuigen",7.8048953100125192E-3,0.38905250693921806,2.9507700744657302E-4,1.2917899237819481E-3,2.0155412326561004E-6,6.1289047904842563E-3,0,1.6578808758668112E-3,0.55894636485956661,2.0472405081857971E-2,1.4348159670532733E-2,{"$f":"SUM(TableVerdeelsleutelVkm[[#This Row],[CNG]:[PETROL HYBRID PHEV]])","v":1.0000000000000002},"Houdt rekening met vastgelegd beleid zoals Euronormen voor personenwagens, bestelwagens en vrachtwagens","FASTRACE (BAU 2030)"]
[null,null,null,null,null,"Zware voertuigen",5.8182857345079452E-3,0.99032946670379229,8.0214314489138346E-4,0,0,4.698656049476059E-5,1.5088206372112221E-3,0,1.4942972191024208E-3,0,0,{"$f":"SUM(TableVerdeelsleutelVkm[[#This Row],[CNG]:[PETROL HYBRID PHEV]])","v":1},"Houdt rekening met vastgelegd beleid zoals Euronormen voor personenwagens, bestelwagens en vrachtwagens","FASTRACE (BAU 2030)"]
[]
[]
[null,null,"3. Aandeel biobrandstoffen"]
[]
[null,null,null,null,null,null,null,null,null,null,"[Informatie]","[Bron]"]
[null,null,null,null,null,null,null,2030]
[null,null,null,null,null,"biodiesel","J%",7.9000000000000001E-2]
[null,null,null,null,null,"bioethanol","J%",7.9000000000000001E-2,null,null,"i.e. verwachte bijmenging van biobrandstoffen in de toekomst","COPERT"]
[]
[]
[null,null,"Openbaar vervoer - verwachte evolutie door:"]
[null,null,"1. Evolutie voertuigkilometers "]
[null,null,"1. Verdeling van buskilometers over brandstoftechnologie "]
[null,null,"2. Aandeel biobrandstoffen"]
[]
[]
[null,null,"1. Evolutie voertuigkilometers "]
[]
[null,null,null,null,null,null,null,null,null,null,"[Informatie]","[Bron]"]
[null,null,null,null,null,"WegType",{"$f":"CONCATENATE(\"Voertuigkms referentiejaar\",\" - \",F6)","v":"Voertuigkms referentiejaar - 2017"},"Groei (%) voertuigkms","Voertuigkms referentiejaar-2030"]
[null,null,null,null,null,"bussen",{"$f":"tbl_AA_MOB_vkm_REF[OV-bus]","v":4558004},0,{"$f":"G80*(1+H80)","v":4558004},null,"geen evolutie in aantal voertuigkilometers "]
[null,null,null,null,null,"trams",{"$f":"tbl_AA_MOB_vkm_REF[tram]","v":0},0,{"$f":"G81*(1+H81)","v":0},null,"geen evolutie in aantal voertuigkilometers "]
[]
[]
[null,null,"2. Verdeling van buskilometers over brandstoftechnologie "]
[]
[null,null,null,null,null,null,null,null,null,null,null,null,null,null,null,null,null,null,"[Informatie]","[Bron]"]
[null,null,null,null,null,"Voertuigtype","CNG","DIESEL","DIESEL HYBRID CS","DIESEL HYBRID PHEV","E85","ELECTRIC","FUEL CELL H2","LPG","PETROL","PETROL HYBRID CS","PETROL HYBRID PHEV"]
[null,null,null,null,null,"bussen",null,0.96624553122071422,3.2866497749702066E-2,null,null,8.8797102958360595E-4,null,null,null,null,null,{"$f":"SUM(TableVerdeelsleutelVkm18[[CNG]:[PETROL HYBRID PHEV]])","v":0.99999999999999989},"Houdt rekening met vastgelegd beleid zoals Euronormen voor personenwagens, bestelwagens en vrachtwagens","FASTRACE (BAU 2030)"]
[]
[]
[null,null,"2. Aandeel biobrandstoffen"]
[]
[null,null,null,null,null,null,null,null,null,null,"[Informatie]","[Bron]"]
[null,null,null,null,null,null,"kg/l",2030,"GJ/kg"]
[null,null,null,null,null,"biodiesel","J%",7.9000000000000001E-2]
[null,null,null,null,null,"bioethanol","J%",7.9000000000000001E-2,null,null,"i.e. verwachte bijmenging van biobrandstoffen in de toekomst","COPERT"]

{"sheet":"BAU_LBO","index":28,"n_rows":34,"n_cols":13,"rows_kept":34,"cut":false,"hidden":true,"merged":[]}
[]
[]
[null,null,"BAU-scenario 2030 - Landbouw (energetische emissies)"]
[null,null,null,null,null,null,null,null,null,null,null,"Berekeningen + celverwijzing binnen hetzelfde rekenblad"]
[null,null,"Gemeente:",null,null,{"$f":"D_gemeente","v":"VITO"},null,null,null,null,null,"Verwijzing ander rekenblad"]
[null,null,"Referentiejaar:",null,null,{"$f":"P_Maatregelen_Jaar_Inventaris","v":2017},null,null,null,null,null,"Vaste parameters uit externe gegevensbronnen, literatuur"]
[]
[null,null,"Berekening van energieverbruik en gerelateerde CO2-emissies per energiedrager"]
[null,null,"Indien de geselecteerde gemeente in het dashboard aangepast wordt, moeten de rekenbladen vernieuwd worden via \"Alles vernieuwen\" (cf. menubalk Gegevens)."]
[]
[null,null,null,null,null,null,{"$f":"CONCATENATE(\"REFERENTIEJAAR [MWh]\",\" - \",F6)","v":"REFERENTIEJAAR [MWh] - 2017"},null,"ENERGIEVERBRUIK [MWh] - BAU 2030",null,"Emissiefactoren [ton/MWh] ",null,"CO2-EMISSIES [ton] - BAU 2030"]
[null,null,null,"Elektriciteit",null,null,{"$f":"INV!D19","v":1577.6787409999999},null,{"$f":"G12","v":1577.6787409999999},null,{"$f":"BAU_ENE!Q14","v":0.17705584446860712},null,{"$f":"I12*K12","v":279.33724178792386}]
[null,null,null,"Warmte/ Koude",null,null,{"$f":"INV!E$19","v":0},null,{"$f":"G13","v":0},null,{"$f":"BAU_ENE!Q15","v":0.23764705882352966},null,{"$f":"I13*K13","v":0}]
[null,null,null,null,"Fossiele brandstoffen"]
[null,null,null,null,null,"Aardgas",{"$f":"INV!F$19","v":1215.8444056000001},null,1215.8444056000001,null,{"$f":"'AA_Energieprijs&Discontovoet'!F98","v":0.20200000000000001},null,{"$f":"I15*K15","v":245.60056993120003}]
[null,null,null,null,null,"Vloeibaar gas",{"$f":"INV!G$19","v":49.238833252343902},null,49.238833252343902,null,{"$f":"'AA_Energieprijs&Discontovoet'!F99","v":0.22700000000000001},null,11.177215148282066]
[null,null,null,null,null,"Stookolie",{"$f":"INV!H$19","v":5575.6914412303204},null,5575.6914412303204,null,{"$f":"'AA_Energieprijs&Discontovoet'!F100","v":0.26700000000000002},null,1488.7096148084956]
[null,null,null,null,null,"Diesel",{"$f":"INV!I$19","v":0},null,0,null,{"$f":"'AA_Energieprijs&Discontovoet'!F101","v":0.26700000000000002},null,0]
[null,null,null,null,null,"Benzine",{"$f":"INV!J$19","v":0},null,0,null,{"$f":"'AA_Energieprijs&Discontovoet'!F102","v":0.249},null,0]
[null,null,null,null,null,"Bruinkool",{"$f":"INV!K19","v":0},null,0,null,{"$f":"'AA_Energieprijs&Discontovoet'!F103","v":0.35099999999999998},null,0]
[null,null,null,null,null,"Steenkool",{"$f":"INV!L$19","v":434.66143425168201},null,434.66143425168201,null,{"$f":"'AA_Energieprijs&Discontovoet'!F104","v":0.35399999999999998},null,153.87014772509542]
[null,null,null,null,null,"Andere fossiele brandstoffen",{"$f":"INV!M$19","v":0},null,0,null,{"$f":"'AA_Energieprijs&Discontovoet'!F105","v":0.26400000000000001},null,0]
[null,null,null,null,"Hernieuwbare brandstoffen"]
[null,null,null,null,null,"Plantaardige oliën",{"$f":"INV!N$19","v":0},null,0,null,{"$f":"'AA_Energieprijs&Discontovoet'!F106","v":0},null,{"$f":"I24*K24","v":0}]
[null,null,null,null,null,"Bio-brandstof ",{"$f":"INV!O$19","v":0},null,0,null,{"$f":"'AA_Energieprijs&Discontovoet'!F107","v":0},null,{"$f":"I25*K25","v":0}]
[null,null,null,null,null,"Overige biomassa",{"$f":"INV!P$19","v":0},null,0,null,{"$f":"'AA_Energieprijs&Discontovoet'!F108","v":0},null,{"$f":"I26*K26","v":0}]
[null,null,null,null,null,"Zonne-/ thermische energie",{"$f":"INV!Q$19","v":0},null,0,null,{"$f":"'AA_Energieprijs&Discontovoet'!F109","v":0},null,{"$f":"I27*K27","v":0}]
[null,null,null,null,null,"Geo-thermische energie",{"$f":"INV!R$19","v":0},null,0,null,{"$f":"'AA_Energieprijs&Discontovoet'!F110","v":0},null,{"$f":"I28*K28","v":0}]
[null,null,null,"Totaal",null,null,{"$f":"SUM(G12:G28)","v":8853.1148553343464},null,{"$f":"SUM(I12:I28)","v":8853.1148553343464},null,null,null,{"$f":"SUM(M12:M28)","v":2178.6947894009973}]
[]
[]
[]
[null,null,"Landbouw - verwachte evolutie door:"]
[null,null,"onvoldoende informatie in Vlaams Energie en Vlaams Klimaatplan 2021 - 2030 om autonome evolutie en impact beslist beleid door te rekenen"]

{"sheet":"BAU_ENE","index":29,"n_rows":54,"n_cols":19,"rows_kept":54,"cut":false,"hidden":true,"merged":[[10,16,12,16],[10,18,12,18],[10,6,10,14],[11,9,11,10],[11,6,12,6],[11,7,12,7],[11,8,12,8],[11,11,12,11],[11,12,12,12],[11,14,12,14],[11,13,12,13]]}
[]
[]
[null,null,"BAU-scenario 2030 - Lokale energieproductie"]
[null,null,null,null,null,null,null,null,null,null,null,"Berekeningen + celverwijzing binnen hetzelfde rekenblad"]
[null,null,"Gemeente:",null,null,{"$f":"D_gemeente","v":"VITO"},null,null,null,null,null,"Verwijzing ander rekenblad"]
[null,null,"Referentiejaar:",null,null,{"$f":"P_Maatregelen_Jaar_Inventaris","v":2017},null,null,null,null,null,"Vaste parameters uit externe gegevensbronnen, literatuur"]
[]
[null,null,"Berekening van energieverbruik en gerelateerde CO2-emissies per energiedrager"]
[null,null,"Indien de geselecteerde gemeente in het dashboard aangepast wordt, moeten de rekenbladen vernieuwd worden via \"Alles vernieuwen\" (cf. menubalk Gegevens)."]
[]
[null,null,null,null,null,null,"ENERGIEVERBRUIK [MWh] - BAU 2030",null,null,null,null,null,null,null,null,null,"Emissiefactoren [ton/MWh] ",null,"CO2-EMISSIES [ton] - BAU 2030"]
[null,null,null,null,null,null,"Huishoudens","Tertiair","Industrie (niet-ETS)","Mobiliteit",null,"Landbouw","Openbare verlichting","Niet toegekend","Totaal"]
[null,null,null,null,null,null,null,null,null,"Particulier en commercieel vervoer","Openbaar vervoer"]
[null,null,null,"Elektriciteit",null,null,{"$f":"SUM(BAU_RES!I14:K14)","v":104020.41647473136},{"$f":"BAU_TER!I12","v":224385.40510925499},{"$f":"BAU_IND!I12","v":58326.406977209241},{"$f":"BAU_MOB!M15","v":1036.0378179069285},{"$f":"BAU_MOB!O15","v":5.2615881561440485},{"$f":"BAU_LBO!I12","v":1577.6787409999999},{"$f":"INV!D18","v":5050.3500000000004},{"$f":"INV!D23","v":9036.4562999999998},{"$f":"SUM(G14:N14)","v":403438.01300825871},null,{"$f":"L47","v":0.17705584446860712},null,{"$f":"O14*Q14","v":71431.058083914148}]
[null,null,null,"Warmte/ Koude",null,null,{"$f":"SUM(BAU_RES!I15:K15)","v":0},{"$f":"BAU_TER!I13","v":2948.7857142857101},{"$f":"BAU_IND!I13","v":345.21989022711983},{"$f":"BAU_MOB!M16","v":"nvt"},{"$f":"BAU_MOB!O16","v":"nvt"},{"$f":"BAU_LBO!I13","v":0},null,{"$f":"INV!E$23","v":0},{"$f":"SUM(G15:N15)","v":3294.0056045128299},null,{"$f":"J54","v":0.23764705882352966},null,{"$f":"O15*Q15","v":782.81074366069686}]
[null,null,null,null,"Fossiele brandstoffen",null,null,null,null,null,null,null,null,null,{"$f":"SUM(G16:N16)","v":0}]
[null,null,null,null,null,"Aardgas",{"$f":"SUM(BAU_RES!I17:K17)","v":303142.77817624382},{"$f":"BAU_TER!I15","v":200115.41471201644},{"$f":"BAU_IND!I15","v":79388.446680131194},{"$f":"BAU_MOB!M18","v":3392.7135525585277},{"$f":"BAU_MOB!O18","v":"nvt"},{"$f":"BAU_LBO!I15","v":1215.8444056000001},null,{"$f":"INV!F$23","v":20316.052577999999},607571.25010455004,null,{"$f":"'AA_Energieprijs&Discontovoet'!F98","v":0.20200000000000001},null,{"$f":"O17*Q17","v":122729.39252111911}]
[null,null,null,null,null,"Vloeibaar gas",{"$f":"SUM(BAU_RES!I18:K18)","v":19987.740510201453},{"$f":"BAU_TER!I16","v":2719.2620452027145},{"$f":"BAU_IND!I16","v":8268.4376886240007},{"$f":"BAU_MOB!M19","v":575.53017032486844},{"$f":"BAU_MOB!O19","v":"nvt"},{"$f":"BAU_LBO!I16","v":49.238833252343902},null,{"$f":"INV!G$23","v":0},31600.209247605384,null,{"$f":"'AA_Energieprijs&Discontovoet'!F99","v":0.22700000000000001},null,7173.2474992064226]
[null,null,null,null,null,"Stookolie",{"$f":"SUM(BAU_RES!I19:K19)","v":42946.697788930462},{"$f":"BAU_TER!I17","v":21722.057446859293},{"$f":"BAU_IND!I17","v":28417.294994903423},{"$f":"BAU_MOB!M20","v":"nvt"},{"$f":"BAU_MOB!O20","v":"nvt"},{"$f":"BAU_LBO!I17","v":5575.6914412303204},null,{"$f":"INV!H$23","v":0},98661.74167192349,null,{"$f":"'AA_Energieprijs&Discontovoet'!F100","v":0.26700000000000002},null,26342.685026403575]
[null,null,null,null,null,"Diesel",{"$f":"SUM(BAU_RES!I20:K20)","v":0},{"$f":"BAU_TER!I18","v":0},{"$f":"BAU_IND!I18","v":0},{"$f":"BAU_MOB!M21","v":210173.55382438359},{"$f":"BAU_MOB!O21","v":13338.068969543176},{"$f":"BAU_LBO!I18","v":0},null,{"$f":"INV!I$23","v":0},223511.62279392677,null,{"$f":"'AA_Energieprijs&Discontovoet'!F101","v":0.26700000000000002},null,59677.603285978454]
[null,null,null,null,null,"Benzine",{"$f":"SUM(BAU_RES!I21:K21)","v":0},{"$f":"BAU_TER!I19","v":0},{"$f":"BAU_IND!I19","v":0},{"$f":"BAU_MOB!M22","v":173069.6590275763},{"$f":"BAU_MOB!O22","v":"nvt"},{"$f":"BAU_LBO!I19","v":0},null,{"$f":"INV!J$23","v":0},173069.6590275763,null,{"$f":"'AA_Energieprijs&Discontovoet'!F102","v":0.249},null,43094.345097866499]
[null,null,null,null,null,"Bruinkool",{"$f":"SUM(BAU_RES!I22:K22)","v":0},{"$f":"BAU_TER!I20","v":0},{"$f":"BAU_IND!I20","v":0},{"$f":"BAU_MOB!M23","v":"nvt"},{"$f":"BAU_MOB!O23","v":"nvt"},{"$f":"BAU_LBO!I20","v":0},null,{"$f":"INV!K$23","v":0},0,null,{"$f":"'AA_Energieprijs&Discontovoet'!F103","v":0.35099999999999998},null,0]
[null,null,null,null,null,"Steenkool",{"$f":"SUM(BAU_RES!I23:K23)","v":0},{"$f":"BAU_TER!I21","v":0.279293862491925},{"$f":"BAU_IND!I21","v":225.92984025548253},{"$f":"BAU_MOB!M24","v":"nvt"},{"$f":"BAU_MOB!O24","v":"nvt"},{"$f":"BAU_LBO!I21","v":434.66143425168201},null,{"$f":"INV!L$23","v":0},660.87056836965644,null,{"$f":"'AA_Energieprijs&Discontovoet'!F104","v":0.35399999999999998},null,233.94818120285836]
[null,null,null,null,null,"Andere fossiele brandstoffen",{"$f":"SUM(BAU_RES!I24:K24)","v":0},{"$f":"BAU_TER!I22","v":0},{"$f":"BAU_IND!I22","v":0},{"$f":"BAU_MOB!M25","v":"nvt"},{"$f":"BAU_MOB!O25","v":"nvt"},{"$f":"BAU_LBO!I22","v":0},null,{"$f":"INV!M$23","v":0},0,null,{"$f":"'AA_Energieprijs&Discontovoet'!F105","v":0.26400000000000001},null,0]
[null,null,null,null,"Hernieuwbare brandstoffen",null,null,null,null,null,null,null,null,null,0]
[null,null,null,null,null,"Plantaardige oliën",{"$f":"SUM(BAU_RES!I26:K26)","v":0},{"$f":"BAU_TER!I24","v":0},{"$f":"BAU_IND!I24","v":0},{"$f":"BAU_MOB!M27","v":"nvt"},{"$f":"BAU_MOB!O27","v":"nvt"},{"$f":"BAU_LBO!I24","v":0},null,{"$f":"INV!N$23","v":0},0,null,{"$f":"'AA_Energieprijs&Discontovoet'!F106","v":0},null,{"$f":"O26*Q26","v":0}]
[null,null,null,null,null,"Bio-brandstof ",{"$f":"SUM(BAU_RES!I27:K27)","v":0},{"$f":"BAU_TER!I25","v":0},{"$f":"BAU_IND!I25","v":0},{"$f":"BAU_MOB!M28","v":33034.188306945594},{"$f":"BAU_MOB!O28","v":769.33390622843626},{"$f":"BAU_LBO!I25","v":0},null,{"$f":"INV!O$23","v":0},33803.52221317403,null,{"$f":"'AA_Energieprijs&Discontovoet'!F107","v":0},null,{"$f":"O27*Q27","v":0}]
[null,null,null,null,null,"Overige biomassa",{"$f":"SUM(BAU_RES!I28:K28)","v":33637.940227415864},{"$f":"BAU_TER!I26","v":7957.0281815387498},{"$f":"BAU_IND!I26","v":5343.5712167187212},{"$f":"BAU_MOB!M29","v":"nvt"},{"$f":"BAU_MOB!O29","v":"nvt"},{"$f":"BAU_LBO!I26","v":0},null,{"$f":"INV!P$23","v":0},46938.539625673337,null,{"$f":"'AA_Energieprijs&Discontovoet'!F108","v":0},null,{"$f":"O28*Q28","v":0}]
[null,null,null,null,null,"Zonne-/ thermische energie",{"$f":"SUM(BAU_RES!I29:K29)","v":1692.3671331121764},{"$f":"BAU_TER!I27","v":39.178086126729198},{"$f":"BAU_IND!I27","v":0},{"$f":"BAU_MOB!M30","v":"nvt"},{"$f":"BAU_MOB!O30","v":"nvt"},{"$f":"BAU_LBO!I27","v":0},null,{"$f":"INV!Q$23","v":0},1731.5452192389055,null,{"$f":"'AA_Energieprijs&Discontovoet'!F109","v":0},null,{"$f":"O29*Q29","v":0}]
[null,null,null,null,null,"Geo-thermische energie",{"$f":"SUM(BAU_RES!I30:K30)","v":6404.6321844930108},{"$f":"BAU_TER!I28","v":735.54793629093001},{"$f":"BAU_IND!I28","v":0},{"$f":"BAU_MOB!M31","v":"nvt"},{"$f":"BAU_MOB!O31","v":"nvt"},{"$f":"BAU_LBO!I28","v":0},null,{"$f":"INV!R$23","v":0},7140.1801207839408,null,{"$f":"'AA_Energieprijs&Discontovoet'!F110","v":0},null,{"$f":"O30*Q30","v":0}]
[null,null,null,"Totaal",null,null,{"$f":"SUM(G14:G30)","v":511832.57249512809},{"$f":"SUM(H14:H30)","v":460622.95852543809},{"$f":"SUM(I14:I30)","v":180315.30728806919},421281.68269969581,14112.664463927755,8853.1148553343464,5050.3500000000004,{"$f":"SUM(N14:N30)","v":29352.508878000001},{"$f":"SUM(O14:O30)","v":1631421.1592055934},null,null,null,{"$f":"SUM(S14:S30)","v":331465.09043935174}]
[]
[]
[null,null,"Lokale energieproductie - verwachte evolutie emissiefactor elektriciteit en warmte door:"]
[null,null,"1. Evolutie emissiefactor (EF) elektriciteit als gevolg van vergroening nationaal park"]
[null,null,"2. Evolutie emissiefactor (EF) warmte"]
[]
[]
[]
[null,null,"1. Evolutie lokale elektriciteitsproductie"]
[]
[null,null,null,null,null,null,null,null,null,null,null,null,null,null,"[Informatie]",null,"[Bron]"]
[null,null,null,null,null,null,null,"eenheid",{"$f":"F6","v":2017},2015,2020,2030]
[null,null,null,"Vergroening elektriciteitsproductie"]
[null,null,null,null,null,"aandeel hernieuwbare elektriciteitsproductie in totale elektriciteitsproductie",null,"%",{"$f":"J45+((K45-J45)/(K43-J43))*(I43-J43)","v":0.26104314910355098},0.22947649118694233,0.30839313597846402,0.3375365906896281,null,null,"hernieuwbare productie i.e. wind, water, geothermie, biomassa en zon"]
[null,null,null,null,null,"EF (nationale)",null,"ton/MWh",{"$f":"'AA_Energieprijs&Discontovoet'!F97","v":0.221},{"$f":"$I$46*(1-J45)/(1-$I$45)","v":0.23044064784176158},{"$f":"$I$46*(1-K45)/(1-$I$45)","v":0.20683902823735759},{"$f":"$I$46*(1-L45)/(1-$I$45)","v":0.19812308835080819},null,null,"aandeel 2017 op basis van lineaire interpolatie 2015-2020"]
[null,null,null,null,null,"EF (gemeentelijke)",null,"ton/MWh",{"$f":"INV!D26","v":0.19750015989190264},{"$f":"$I$47*(1-J45)/(1-$I$45)","v":0.20593694477077623},{"$f":"$I$47*(1-K45)/(1-$I$45)","v":0.18484498257359228},{"$f":"$I$47*(1-L45)/(1-$I$45)","v":0.17705584446860712}]
[]
[]
[null,null,"2. Evolutie lokale warmteproductie"]
[]
[null,null,null,"Autonome vergroening warmteproductie",null,null,null,null,{"$f":"F6","v":2017},2030]
[]
[null,null,null,null,null,"EF (gemeentelijke)",null,"ton/MWh",{"$f":"INV!E26","v":0.23764705882352966},{"$f":"I54","v":0.23764705882352966},null,null,null,null,"aanname: geen evolutie "]

{"sheet":"Maatregelenfiches-->","index":30,"n_rows":84,"n_cols":17,"rows_kept":84,"cut":false,"hidden":false,"merged":[]}
[]
[]
[null,null,"<< Naar Scenario's ",null,null,null,null,null,null,null,null,null,null,null,null,null,"Naar Selectiecriteria >>"]
[]
[null,null,"Maatregelenfiches"]
[]
[null,null,"Handleiding"]
[]
[]
[null,null,"In deze tool ligt de focus op technische maatregelen (vraagreductie, efficiëntieverbetering, elektrificatie en hernieuwbare energieproductie) waarmee de CO2-uitstoot op het grondgebied van een gemeente of stad kan gereduceerd wordt."]
[null,null,"Deze 30 maatregelen werden geselecteerd in samenspraak met Departement Omgeving en vertegenwoordigers uit lokale en bovenlokale besturen."]
[null,null,"Bij de selectie werd o.a. rekening gehouden met het CO2-reductiepotentieel van de maatregelen en de slagkracht (autonomie) van de gemeente om de maatregel te realiseren."]
[null,null,"Deze selectie van maatregelen is geen unieke oplossing voor elke stad of gemeente maar geeft wel een eerste indicatie van de inspanningen die nodig zijn om de CO2-uitstoot tegen 2030 te reduceren op het schaalniveau van een gemeente of stad."]
[]
[null,null,"De Maatregelenfiches geven een gedetailleerde beschrijving van elke maatregel die in het rekenblad Scenario's kan geselecteerd worden."]
[null,null,"De naamgeving van de rekenbladen komt overeen met de maatregelcode die tevens in het rekenblad Scenario's (kolom F) gebruikt wordt."]
[null,null,"Naast een beschrijving van de maatregel wordt in de fiche ook een overzicht gegeven van:\n"]
[null,null,"- relatie met andere maatregelen:  bij de doorrekening van het potentieel wordt rekening gehouden met de optelbaarheid van individuele maatregelen zodat (bv. Isolatie dak, isolatie muur, isolatie vloer, betere beglazing)"]
[null,null,"- betekenis van maatregel op lange termijn voor energie-/klimaattransitie"]
[null,null,"- aannames die gemaakt zijn bij doorrekening van impact maatregel"]
[null,null,"- berekening van bijkomend potentieel maatregel en gerealiseerde CO2-reductie, voor elk ambitieniveau dat gebruiker in rekenblad Scenario's kan selecteren (\"niet\", \"laag\", \"medium\", \"hoog\")"]
[null,null,"- kenmerken/parameters van maatregel en referentiesituatie"]
[null,null,"- referenties"]
[null,null,"We rekenen met weloverwogen gemiddeldes voor inschatting van bijkomend potentieel van maatregelen. Deze generieke benadering kan afwijken van gemeentespecifieke situatie."]
[null,null,"De gebruiker kan in de maatregelenfiches de generieke aannames, om het potentieel en de ambitieniveaus van de scenario's te bepalen, overschrijven met gemeentespecifeke data. ",null,null,null,null,null,null,null,"(cf. cellen)"]
[]
[null,null,"Er zijn 3 blanco maatregelenfiches (BLANCO) voorzien voor het uitwerken van 'niet-voor-gedefinieerde' lokale maatregelen. "]
[null,null,"De blanco maatregelenfiches kunnen enkel doorgerekend worden voor sectoren die vallen binnen de scope van het Burgemeestersconvenant."]
[null,null,"Opdat de maatregel binnen de scope van het Burgemeestersconvenant zou vallen, moet de gebruiker een sector uit het dropdown menu (cel D9) selecteren."]
[null,null,"De gebruiker moet in de blanco fiches een sector selecteren (cel D9) en CO2-reductie invullen (cel F25 en G25)."]
[null,null,"Let op: de CO2-reductie van BLANCO maatregelen wordt enkel in rekening gebracht indien in het rekenblad Scenario's het ambitieniveau= \"ja\" gekozen wordt en de rekenbladen vernieuwd worden."]
[]
[null,null,"Het rekenblad Selectiecriteria kan de gebruiker raadplegen voor bijkomende ondersteuning bij de selectie van de maatregelen en ambitieniveaus in de scenario's."]
[null,null,"Het rekenblad geeft een overzicht van alle maatregelen en evalueert de maatregelen aan de hand van volgende criteria:"]
[null,null,"- direct CO2-reductiepotentieel (+, ++, +++): relatieve vergelijking van het CO2-reductiepotentieel tussen verschillende maatregelen."]
[null,null,"- kosteneffectiviteit (euro per ton CO2 reductie) (de meest kosteneffectieve maatregel is de maatregel met de laagste euro per ton CO2-reductie)"]
[null,null,"- slagkracht/autonomie lokale overheid om maatregel te implementeren en ambitieniveau te realiseren (laag, gemiddeld, hoog)"]
[null,null,"- type maatregel (vraagreductie, efficiëntieverbetering, hernieuwbare energieproductie, elektrificatie)"]
[null,null,"De gebruiker kan ambitieniveaus definiëren en prioriteiten stellen tussen maatregelen in functie van één of meerdere criteria."]
[null,null,"Bv. meest kosteneffectieve maatregelen (i.e. laagste maatschappelijke kost per ton CO2-reductie) of maatregelen met kosteneffectiviteit <=0 krijgen ambitieniveau \"hoog\""]
[null,null,"Bv. indien maatregelen die inspelen op vraagreductie prioriteit krijgen, kan voor deze maatregelen \"ambitieniveau \"hoog\" gekozen worden."]
[]
[]
[null,null,"Berekening maatschappelijke kost en kosteneffectiviteit in de maatregelenfiches"]
[]
[null,null,"Voor elke maatregel berekenen we in de maatregelenfiches een jaarlijkse meerkost in euro per ton CO2-reductie versus een referentiesituatie in het jaar 2030. "]
[null,null,"De referentiesituatie wordt door gebruiker geselecteerd in het Dashboard, namelijk inventaris Dept. Omgeving voor 2017 (INV), eigen inventaris voor 2017 (EIG) of BAU-scenario."]
[null,null,"De kosteneffectiviteit van een individuele maatregel verandert niet bij wijziging van het ambitieniveau (laag <--> medium <--> hoog) aangezien de jaarlijkse kost per ton CO2-reductie dezelfde blijft."]
[null,null,"De berekende kosteneffectiviteit zegt niets over bv. de steun die nodig is om maatregelen kostenneutraal te maken, of over de effectieve kostprijs voor de betalende actor. "]
[]
[null,null,"In de Maatregelenfiches bepalen we de meerkost/opbrengst van een maatregel ten opzichte van de ‘standaard technologie’. "]
[null,null,"De kosten van de standaard technologie zijn terug te vinden in het rekenblad AA_Energieprijs&discontovoet."]
[null,null,"Er wordt gerekend met de meest voorkomende standaard technologie(ën) om eenduidigheid en eenvoud van berekeningen te behouden."]
[null,null,"We rekenen met weloverwogen gemiddeldes en brengen geen onzekerheden/ranges van cijfers in rekening."]
[]
[null,null,"Voor een groot deel van de maatregelen bestaan de kosten uit investeringskosten (CAPEX), operationele kosten (OPEX) en brandstofkosten."]
[null,null,"Indirecte effecten, macro-economische effecten of externe kosten/baten die voortkomen uit een maatregel worden niet meegenomen."]
[null,null,"De kosten en opbrengsten worden berekend vanuit een maatschappelijk standpunt. "]
[null,null,"Door vanuit maatschappelijk standpunt naar kosten en opbrengsten te kijken, kunnen verschillend types maatregelen, in verschillende sectoren, objectief met elkaar vergeleken worden. "]
[null,null,"In de praktijk zal de implementatie van maatregelen leiden tot winnaars en verliezers. Ter compensatie is het best mogelijk dat bijkomende beleidsinstrumenten noodzakelijk zijn. "]
[null,null,"Belastingen en subsidies maken geen deel uit van de maatschappelijke kosten maar zijn enkel transfers tussen overheden en doelgroepen in de samenleving (bv. huishoudens, industrie, landbouw, ...). "]
[null,null,"De maatschappelijke rentevoet is typisch lager dan de private rentevoet, ervan uitgaand dat de maatschappij als geheel meer belang hecht aan toekomstige inkomsten dan individuele gezinnen of bedrijven."]
[]
[null,null,"De éénmalige investeringskosten van een maatregel worden omgerekend naar een jaarlijkse kost.                                     "]
[null,null,"De jaarlijkse kapitaalkosten worden berekend door de investeringsuitgaven over de levensduur van de maatregel met een annuïteitenfactor te vermenigvuldigen.      "]
[null,null,"Een discontovoet wordt gebruikt om de annuïteit te berekenen van deze éénmalige uitgave. Aangezien de prijzen uitgedrukt worden in reële termen, wordt een reële rentevoet gebruikt. "]
[null,null,"De keuze van een rentevoet kan een aanzienlijke invloed hebben op het resultaat van de berekeningen: hoe hoger de rentevoet, hoe meer waarde aan het heden gehecht wordt en dus minder aan de toekomst. "]
[null,null,"De som van de afschrijvingen en de rentekost worden als een constant bedrag over de levensduur van de maatregel beschouwd:                                           "]
[]
[]
[]
[null,null,"                                                                                           "]
[null,null,"                                                                                           "]
[null,null,"Met:                                                                                 "]
[null,null,"JK           jaarlijkse kapitaalkost in euro per jaar                                           "]
[null,null,"I0            éénmalig investeringsbedrag in euro                           "]
[null,null,"r             discontovoet in %            (in het Dashboard stellen we een (reële) maatschappelijke discontovoet van 4% voor; de gebruiker kan deze aanname in het Dashboard overschrijven)                                         "]
[null,null,"n            levensduur in jaren                                                                      "]
[null,null,"                                                                                           "]
[null,null,"De jaarlijkse investeringskosten worden opgeteld bij de andere jaarlijkse kosten en/of opbrengsten (bv. onderhoud, brandstofbesparing)."]
[null,null,"De investeringsuitgaven en netto-operationele kosten worden allemaal uitgedrukt in prijzen van één bepaald referentiejaar (i.e. reële prijzen) door inflatie in rekening te brengen."]
[null,null,"We drukken in de maatregelenfiches alle prijzen uit in euros 2018."]
[null,null,"Voor de omrekening van nominale (of lopende) prijzen naar reële prijzen, gebruiken we de \"reference rates\" zoals deze door de Commissie werden vastgelegd (rekenblad AA_Energieprijs&discontovoet)."]
[null,null,"Er wordt geen rekening gehouden met de verwachte kostprijsevoluties tussen nu en 2030."]

{"sheet":"Selectiecriteria","index":31,"n_rows":44,"n_cols":10,"rows_kept":44,"cut":false,"hidden":false,"merged":[]}
[]
[]
[null,null,"<< Naar Scenario's "]
[]
[null,null,"Maatregelen - Totaal overzicht en selectiecriteria"]
[]
[null,null,"De gebruiker kan ambitieniveaus definiëren en prioriteiten stellen tussen maatregelen in functie van één of meerdere criteria. Via filteren of sorteren van kolommen (cf. menubalk Gegevens) kan de gebruiker bepaalde scores of criteria laten doorwegen."]
[null,null,"Indien er geen potentieel is voor een maatregel in de geselecteerde gemeente, kan de kosteneffectiviteit niet berekend worden."]
[]
[null,null,"nr.","Maatregel","Maatregelcode","Sector","Direct CO2 reductiepotentieel","Kosteneffectiviteit (euro per ton CO2)","Slagkracht/autonomie lokale overheid","Type maatregel"]
[null,null,1,"Isolatie: dak (*)","RES_ISO_DAK","Huishoudens","+++",{"$f":"IFERROR(INDIRECT(CONCATENATE(\"MK_\",Table1120[[#This Row],[Maatregelcode]])), \"geen potentieel\")","v":-130.13173712675027},"hoog","vraagreductie"]
[null,null,2,"Isolatie: muur (*)","RES_ISO_MUUR","Huishoudens","+++",{"$f":"IFERROR(INDIRECT(CONCATENATE(\"MK_\",Table1120[[#This Row],[Maatregelcode]])), \"geen potentieel\")","v":-218.24236231469712},"hoog","vraagreductie"]
[null,null,3,"Isolatie: vloer","RES_ISO_VL","Huishoudens","++",{"$f":"IFERROR(INDIRECT(CONCATENATE(\"MK_\",Table1120[[#This Row],[Maatregelcode]])), \"geen potentieel\")","v":-350.34997630790741},"hoog","vraagreductie"]
[null,null,4,"Isolatie: beglazing (*)","RES_ISO_BG","Huishoudens","++",{"$f":"IFERROR(INDIRECT(CONCATENATE(\"MK_\",Table1120[[#This Row],[Maatregelcode]])), \"geen potentieel\")","v":100.30550273671912},"hoog","vraagreductie"]
[null,null,5,"Warmtepomp (*)","RES_HER_WP","Huishoudens","++",{"$f":"IFERROR(INDIRECT(CONCATENATE(\"MK_\",Table1120[[#This Row],[Maatregelcode]])), \"geen potentieel\")","v":594.38856207966978},"hoog","elektrificatie"]
[null,null,6,"Zonneboiler (*)","RES_HER_ZB","Huishoudens","+",{"$f":"IFERROR(INDIRECT(CONCATENATE(\"MK_\",Table1120[[#This Row],[Maatregelcode]])), \"geen potentieel\")","v":364.13417846804498},"hoog","hernieuwbare"]
[null,null,7,"Warmtepompboiler","RES_HER_WPB","Huishoudens","++",{"$f":"IFERROR(INDIRECT(CONCATENATE(\"MK_\",Table1120[[#This Row],[Maatregelcode]])), \"geen potentieel\")","v":3832.7639808589047},"hoog","elektrificatie"]
[null,null,8,"Elektriciteitsgebruik: verhogen efficiëntie","RES_EE_ELE","Huishoudens","+",{"$f":"IFERROR(INDIRECT(CONCATENATE(\"MK_\",Table1120[[#This Row],[Maatregelcode]])), \"geen potentieel\")","v":-421.90235046691208},"hoog","hernieuwbare"]
[null,null,9,"Stimuleren sloop energieverslindende woningen","RES_EE_SLOOP","Huishoudens","++",{"$f":"IFERROR(INDIRECT(CONCATENATE(\"MK_\",Table1120[[#This Row],[Maatregelcode]])), \"geen potentieel\")","v":75.08972842274413},"hoog","vraagreductie"]
[null,null,10,"Verhoogde isolatiegraad (*)","TER_EE_ISO","Tertiair","++",{"$f":"IFERROR(INDIRECT(CONCATENATE(\"MK_\",Table1120[[#This Row],[Maatregelcode]])), \"geen potentieel\")","v":-64.430170682208626},"gemiddeld","vraagreductie"]
[null,null,11,"Warmtepomp (*)","TER_HER_WP","Tertiair","++",{"$f":"IFERROR(INDIRECT(CONCATENATE(\"MK_\",Table1120[[#This Row],[Maatregelcode]])), \"geen potentieel\")","v":415.22528257601743},"gemiddeld","elektrificatie"]
[null,null,12,"Zonneboiler","TER_HER_ZB","Tertiair","+",{"$f":"IFERROR(INDIRECT(CONCATENATE(\"MK_\",Table1120[[#This Row],[Maatregelcode]])), \"geen potentieel\")","v":220.88044609344982},"gemiddeld","hernieuwbare"]
[null,null,13,"Warmtepompboiler","TER_HER_WPB","Tertiair","+",{"$f":"IFERROR(INDIRECT(CONCATENATE(\"MK_\",Table1120[[#This Row],[Maatregelcode]])), \"geen potentieel\")","v":2827.8569735815418},"gemiddeld","elektrificatie"]
[null,null,14,"Elektriciteitsgebruik: verhogen efficiëntie (LED, relighting, koeling, etc.)","TER_EE_ELE","Tertiair","++",{"$f":"IFERROR(INDIRECT(CONCATENATE(\"MK_\",Table1120[[#This Row],[Maatregelcode]])), \"geen potentieel\")","v":-356.99429654892566},"gemiddeld","efficiëntieverbetering"]
[null,null,15,"Openbare verlichting","OV_LED_EE","Openbare verlichting","+",{"$f":"IFERROR(INDIRECT(CONCATENATE(\"MK_\",Table1120[[#This Row],[Maatregelcode]])), \"geen potentieel\")","v":-313.39861436586216},"hoog","efficiëntieverbetering"]
[null,null,16,"Warmtepomp","IND_HER_WP","Industrie (niet-ETS)","++",{"$f":"IFERROR(INDIRECT(CONCATENATE(\"MK_\",Table1120[[#This Row],[Maatregelcode]])), \"geen potentieel\")","v":349.26243085389399},"laag","elektrificatie"]
[null,null,17,"Zonneboiler","IND_HER_ZB","Industrie (niet-ETS)","+",{"$f":"IFERROR(INDIRECT(CONCATENATE(\"MK_\",Table1120[[#This Row],[Maatregelcode]])), \"geen potentieel\")","v":211.36574419713239},"laag","hernieuwbare"]
[null,null,18,"Elektriciteitsgebruik: verhogen efficiëntie elektrische aandrijfsystemen","IND_EE_EEA","Industrie (niet-ETS)","+",{"$f":"IFERROR(INDIRECT(CONCATENATE(\"MK_\",Table1120[[#This Row],[Maatregelcode]])), \"geen potentieel\")","v":-282.85049962638408},"laag","efficiëntieverbetering"]
[null,null,19,"Modal Shift_Voet + Fiets (*)","MOB_MS_voet","Particulier en commercieel vervoer","+",{"$f":"IFERROR(INDIRECT(CONCATENATE(\"MK_\",Table1120[[#This Row],[Maatregelcode]])), \"geen potentieel\")","v":-508.26984277671426},"hoog","vraagreductie"]
[null,null,20,"Modal Shift_Elektrische Fiets","MOB_MS_EFiets","Particulier en commercieel vervoer","+",{"$f":"IFERROR(INDIRECT(CONCATENATE(\"MK_\",Table1120[[#This Row],[Maatregelcode]])), \"geen potentieel\")","v":1130.3314479502076},"hoog","vraagreductie"]
[null,null,21,"Modal Shift_Openbaar vervoer","MOB_MS_OV","Particulier en commercieel vervoer","++",{"$f":"IFERROR(INDIRECT(CONCATENATE(\"MK_\",Table1120[[#This Row],[Maatregelcode]])), \"geen potentieel\")","v":1646.678914581159},"gemiddeld","efficiëntieverbetering"]
[null,null,22,"Brandstofshift_Elektrische voertuigen (*)","MOB_BS_EV","Particulier en commercieel vervoer","++",{"$f":"IFERROR(INDIRECT(CONCATENATE(\"MK_\",Table1120[[#This Row],[Maatregelcode]])), \"geen potentieel\")","v":176.78532744221491},"gemiddeld","elektrificatie"]
[null,null,23,"Brandstofshift_Waterstof","MOB_BS_H2","Particulier en commercieel vervoer","+",{"$f":"IFERROR(INDIRECT(CONCATENATE(\"MK_\",Table1120[[#This Row],[Maatregelcode]])), \"geen potentieel\")","v":519.96457227836561},"laag","hernieuwbare"]
[null,null,24,"Elektriciteit_PV","LEN_PV","Lokale energieproductie","++",{"$f":"IFERROR(INDIRECT(CONCATENATE(\"MK_\",Table1120[[#This Row],[Maatregelcode]])), \"geen potentieel\")","v":-224.29314811155513},"hoog","hernieuwbare"]
[null,null,25,"Elektriciteit_Wind","LEN_Wind","Lokale energieproductie","+++",{"$f":"IFERROR(INDIRECT(CONCATENATE(\"MK_\",Table1120[[#This Row],[Maatregelcode]])), \"geen potentieel\")","v":-332.14395559731906},"hoog","hernieuwbare"]
[null,null,26,"Warmtepomp","LB_HER_WP","Landbouw","++",{"$f":"IFERROR(INDIRECT(CONCATENATE(\"MK_\",Table1120[[#This Row],[Maatregelcode]])), \"geen potentieel\")","v":241.74242267418009},"gemiddeld","elektrificatie"]
[null,null,27,"Hernieuwbare energie_Pocketvergisters","LB_HER_PocV","Landbouw","+",{"$f":"IFERROR(INDIRECT(CONCATENATE(\"MK_\",Table1120[[#This Row],[Maatregelcode]])), \"geen potentieel\")","v":128.10723049968598},"gemiddeld","hernieuwbare"]
[null,null,28,"Hernieuwbare energie_Biomassaketels","LB_HER_BMK","Landbouw","++",{"$f":"IFERROR(INDIRECT(CONCATENATE(\"MK_\",Table1120[[#This Row],[Maatregelcode]])), \"geen potentieel\")","v":-147.22909570272225},"gemiddeld","hernieuwbare"]
[null,null,29,"Energieschermen","LB_EE_ENS","Landbouw","+",{"$f":"IFERROR(INDIRECT(CONCATENATE(\"MK_\",Table1120[[#This Row],[Maatregelcode]])), \"geen potentieel\")","v":-95.426880559849778},"gemiddeld","vraagreductie"]
[null,null,30,"zelf aanvullen","BLANCO_1",{"$f":"BLANCO_1!D9","v":"Huishoudens"},"zelf aanvullen","zelf aanvullen","zelf aanvullen","zelf aanvullen"]
[null,null,31,"zelf aanvullen","BLANCO_2",{"$f":"BLANCO_2!D9","v":"Huishoudens"},"zelf aanvullen","zelf aanvullen","zelf aanvullen","zelf aanvullen"]
[null,null,32,"zelf aanvullen","BLANCO_3",{"$f":"BLANCO_3!D9","v":"Huishoudens"},"zelf aanvullen","zelf aanvullen","zelf aanvullen","zelf aanvullen"]
[]
[null,null,"(*) ook aanwezig in vorige versie maatregelentool"]

{"sheet":"BLANCO_1","index":32,"n_rows":62,"n_cols":9,"rows_kept":62,"cut":false,"hidden":false,"merged":[[10,1,10,7],[19,1,19,7],[21,1,21,7]]}
[null,"<< Naar Scenario's"]
[]
[null,"Blanco template kan gebruikt worden voor het uitwerken van een eigen 'niet-voor-gedefinieerde' lokale maatregel."]
[null,"Let op: maatregelen moeten binnen scope Burgemeestersconvenant vallen zodat impact op CO2-emissies kan doorgerekend worden."]
[null,"Opdat de maatregel binnen scope van Burgemeestersconvenant zou vallen, moet sector uit drop down menu geselecteerd worden. "]
[null,"De maatregelentool wijst de CO2-besparing (door gebruiker ingevuld in cel F25 en cel G25) automatisch toe aan de geselecteerde sector."]
[]
[]
[null,30,null,"Huishoudens",null,{"$f":"IF('Scenario''s'!I39=\"Niet\",0,F25)","v":0},{"$f":"IF('Scenario''s'!M39=\"Niet\",0,G25)","v":0}]
[null,"Beschrijving van de maatregel"]
[]
[null,"Relatie met andere maatregelen"]
[null,"nr maatregel",null,"maatregel"]
[null,"beschrijving (overlappend potentieel)"]
[null,"nr maatregel",null,"maatregel"]
[null,"beschrijving (overlappend potentieel)"]
[null,"nr maatregel",null,"maatregel"]
[null,"beschrijving (overlappend potentieel)"]
[null,"Betekenis lange termijn voor energie-/klimaattransitie"]
[]
[null,"Aannames/onzekerheden/hypothesen"]
[]
[null,"Berekeningen"]
[null,"Resultaat",null,null,null,"Scenario1","Scenario2"]
[null,"totale CO2eq reductie",null,"ton CO2"]
[null,"Maatschappelijke kost per ton CO2eq reductie",null,"€/ton CO2"]
[]
[null,"Parameters"]
[null,"Vrij veld voor berekeningen"]
[]
[]
[]
[]
[]
[]
[]
[]
[]
[]
[]
[]
[]
[]
[]
[]
[]
[]
[]
[]
[]
[]
[]
[]
[]
[]
[]
[null,"Referenties"]
[null,null,null,null,null,null,null,null," "]
[null,null,null,null,null,null,null,null," "]
[null,null,null,null,null,null,null,null," "]
[null,null,null,null,null,null,null,null," "]
[null,null,null,null,null,null,null,null," "]

{"sheet":"BLANCO_2","index":33,"n_rows":62,"n_cols":9,"rows_kept":62,"cut":false,"hidden":false,"merged":[[10,1,10,7],[19,1,19,7],[21,1,21,7]]}
[null,"<< Naar Scenario's"]
[]
[null,"Blanco template kan gebruikt worden voor het uitwerken van een eigen 'niet-voor-gedefinieerde' lokale maatregel."]
[null,"Let op: maatregelen moeten binnen scope Burgemeestersconvenant vallen zodat impact op CO2-emissies kan doorgerekend worden."]
[null,"Opdat de maatregel binnen scope van Burgemeestersconvenant zou vallen, moet sector uit drop down menu geselecteerd worden. "]
[null,"De maatregelentool wijst de CO2-besparing (door gebruiker ingevuld in cel F25 en cel G25) automatisch toe aan de geselecteerde sector."]
[]
[]
[null,31,null,"Huishoudens",null,{"$f":"IF('Scenario''s'!I40=\"Niet\",0,F25)","v":0},{"$f":"IF('Scenario''s'!M40=\"Niet\",0,G25)","v":0}]
[null,"Beschrijving van de maatregel"]
[]
[null,"Relatie met andere maatregelen"]
[null,"nr maatregel",null,"maatregel"]
[null,"beschrijving (overlappend potentieel)"]
[null,"nr maatregel",null,"maatregel"]
[null,"beschrijving (overlappend potentieel)"]
[null,"nr maatregel",null,"maatregel"]
[null,"beschrijving (overlappend potentieel)"]
[null,"Betekenis lange termijn voor energie-/klimaattransitie"]
[]
[null,"Aannames/onzekerheden/hypothesen"]
[]
[null,"Berekeningen"]
[null,"Resultaat",null,null,null,"Scenario1","Scenario2"]
[null,"totale CO2eq reductie",null,"ton CO2"]
[null,"Maatschappelijke kost per ton CO2eq reductie",null,"€/ton CO2"]
[]
[null,"Parameters"]
[null,"Vrij veld voor berekeningen"]
[]
[]
[]
[]
[]
[]
[]
[]
[]
[]
[]
[]
[]
[]
[]
[]
[]
[]
[]
[]
[]
[]
[]
[]
[]
[]
[]
[null,"Referenties"]
[null,null,null,null,null,null,null,null," "]
[null,null,null,null,null,null,null,null," "]
[null,null,null,null,null,null,null,null," "]
[null,null,null,null,null,null,null,null," "]
[null,null,null,null,null,null,null,null," "]

{"sheet":"BLANCO_3","index":34,"n_rows":62,"n_cols":9,"rows_kept":62,"cut":false,"hidden":false,"merged":[[10,1,10,7],[19,1,19,7],[21,1,21,7]]}
[null,"<< Naar Scenario's"]
[]
[null,"Blanco template kan gebruikt worden voor het uitwerken van een eigen 'niet-voor-gedefinieerde' lokale maatregel."]
[null,"Let op: maatregelen moeten binnen scope Burgemeestersconvenant vallen zodat impact op CO2-emissies kan doorgerekend worden."]
[null,"Opdat de maatregel binnen scope van Burgemeestersconvenant zou vallen, moet sector uit drop down menu geselecteerd worden. "]
[null,"De maatregelentool wijst de CO2-besparing (door gebruiker ingevuld in cel F25 en cel G25) automatisch toe aan de geselecteerde sector."]
[]
[]
[null,32,null,"Huishoudens",null,{"$f":"IF('Scenario''s'!I41=\"Niet\",0,F25)","v":0},{"$f":"IF('Scenario''s'!M41=\"Niet\",0,G25)","v":0}]
[null,"Beschrijving van de maatregel"]
[]
[null,"Relatie met andere maatregelen"]
[null,"nr maatregel",null,"maatregel"]
[null,"beschrijving (overlappend potentieel)"]
[null,"nr maatregel",null,"maatregel"]
[null,"beschrijving (overlappend potentieel)"]
[null,"nr maatregel",null,"maatregel"]
[null,"beschrijving (overlappend potentieel)"]
[null,"Betekenis lange termijn voor energie-/klimaattransitie"]
[]
[null,"Aannames/onzekerheden/hypothesen"]
[]
[null,"Berekeningen"]
[null,"Resultaat",null,null,null,"Scenario1","Scenario2"]
[null,"totale CO2eq reductie",null,"ton CO2"]
[null,"Maatschappelijke kost per ton CO2eq reductie",null,"€/ton CO2"]
[]
[null,"Parameters"]
[null,"Vrij veld voor berekeningen"]
[]
[]
[]
[]
[]
[]
[]
[]
[]
[]
[]
[]
[]
[]
[]
[]
[]
[]
[]
[]
[]
[]
[]
[]
[]
[]
[]
[null,"Referenties"]
[null,null,null,null,null,null,null,null," "]
[null,null,null,null,null,null,null,null," "]
[null,null,null,null,null,null,null,null," "]
[null,null,null,null,null,null,null,null," "]
[null,null,null,null,null,null,null,null," "]

{"sheet":"RES_EE_SLOOP","index":35,"n_rows":99,"n_cols":23,"rows_kept":99,"cut":false,"hidden":false,"merged":[[22,1,22,7],[17,1,17,7],[19,1,19,7],[5,1,5,7],[14,1,14,7],[16,1,16,7],[18,1,18,7],[20,1,20,7],[21,1,21,7]]}
[null,"<< Naar Scenario's",null,null,null,null,null,null,null,null,"Berekeningen + verwijzing andere cel"]
[null,null,null,null,null,null,null,null,null,null,"Verwijzing andere tab (nulmeting/data)"]
[null,"Verder stimuleren sloop van energieverslindende gebouwen",null,null,null,null,null,null,"Opmerkingen",null,"Overschrijfbaar: Vaste parameters uit externe bronnen, literatuur, rebus model"]
[null,null,null,"Residentieel",null,null,null,null,null,null,"Algemene aannames, overschrijfbaar vanuit centrale dashboard"]
[null,"Beschrijving van de maatregel"]
[null,"Maatregel: Promoten van sloop/nieuwbouw i.p.v. renovatie van energieverslindende gebouwen \n\nIn de residentiële sector gaat veel aandacht naar de energieprestatie van nieuwe gebouwen. Echter, het energieverbruik en de broeikasgasuitstoot van de residentiële sector zal nooit substantieel afnemen als er niet tegelijk iets wordt gedaan aan het bestaande energieverslindende woningenpark. Voor de verduurzaming van dit woningpark dienen we naast de stimulering van renovaties eveneens te streven naar een versnelde vervanging van oude woningen naar nieuwbouw. Het bevorderen van sloop van woningen is echter een ingrijpende actie die doordacht moet worden aangepakt om ongewenste secundaire effecten, zoals speculatie, het verzwakken van sociale cohesie, het aantasten van waardevol stedelijk weefsel, etc. te vermijden. Het aanzetten tot afbraak van oude woningen met een slechte energieprestatie moet dan ook in een ruimer maatschappelijk, economisch, politiek en stedenbouwkundig kader worden bekeken dan enkel vanuit het standpunt van de verbetering van de energieprestatie."]
[null,"Relatie met andere maatregelen"]
[null,"nr maatregel",null,"maatregel"]
[null,"beschrijving (overlappend potentieel)"]
[null,"nr maatregel",null,"maatregel"]
[null,"beschrijving (overlappend potentieel)"]
[null,"nr maatregel",null,"maatregel"]
[null,"beschrijving (overlappend potentieel)"]
[null,"Betekenis lange termijn voor energie-/klimaattransitie"]
[null,"Op lang termijn kan een weldoordachte stimulering van sloop in combinatie met een veranderende en sturende ruimtelijke ordening de organisatie van wijken, dorpskernen en woonunits duurzaam op elkaar afstemmen."]
[null,"Aannames/onzekerheden/hypothesen"]
[null,"Aanname: Alle gedefinieerde kosten zijn bepaald vanuit een maatschappelijk standpunt (exl. taksen, subsidies, etc.) en zeggen niets over de kost vanuit een actor standpunt. De kosten dienen dus ook niet als dusdanig geïnterpreteerd te worden. De maatschappelijke kost wordt enkel gebruikt om een relatieve volgorde te kunnen opmaken om te bepalen welke maatregelen vanuit maatschappelijke standpunt goedkoper zijn dan andere."]
[null,"Aanname: Hier is aangenomen dat de sloop zich voornamelijk bevind in de meest energieverslindendste woningen ('laagste' categorie) gebouwd voor 1970, dit komt overeen met +/-6% woningen [a]. "]
[null,"Aanname: Er wordt verondersteld dat als een gebouw wordt afgebroken, een woning van een zelfde woonoppervlakte wordt opgetrokken. Hierbij veronderstellen we dat het verwarmingsgedrag van de bewoners niet wijzigt, wat tot een onderschatting kan leiden van het ingeschatte technische potentieel."]
[null,"Aanname: In een vergelijkende studie van de Vlaamse Overheid  worden de resultaten voor energiebesparing, financiële kost en milieu-impact naast elkaar gelegd voor slopen en renoveren. Daaruit blijkt duidelijk dat energiebesparing alleen, geen voldoende argument is om massaal woningen te slopen. Enerzijds is de realiseerbare extra energiebesparing door sloop/nieuwbouw t.o.v. renovatie beperkt, anderzijds is de kostprijs te hoog. Enkel voor woningen die qua woonkwaliteit echt ondermaats presteren en die een zeer grondige en dure renovatie vergen om tot een aanvaardbaar kwaliteitsniveau te komen, is sloop/nieuwbouw een goede optie. Algemeen kan gesteld worden dat wanneer renovatie 80% bedraagt van de kost van sloop/nieuwbouw, de laatste optie te prefereren is. Dit zal in praktijk neerkomen op een 20.000 tot 100.000 woningen in Vlaanderen. Bovendien heeft de analyse van de milieu-impact ook aangetoond dat de milieubelasting voor deze woningen niet negatiever zal zijn voor sloop/nieuwbouw t.o.v. renovatie, niet wat betreft energie en ook niet wat betreft grondstoffengebruik. Belangrijk is wel dat bij de sloopafvalwerking maximaal voor hergebruik en recyclage wordt gekozen [a]."]
[null,"Aanname: Een woning voor 1970 verbruikt +/-5 keer meer energie dan een nieuwbouw (E30) woning [d]. Er wordt verondersteld dat de woningen die in aanmerking komen voor sloop/nieuwbouw, 2 keer meer energie verbruiken dan het gemiddelde energiegebruik van een woning in de specifieke gemeente."]
[null,"Aanname: Er wordt verondersteld dat Energie Efficiëntie maatregelen (isolatie), tot 75% kan besparen van het totaal warmtegebruik in huishoudens."]
[null,"Aanname: Bij de prijsvergelijking tussen renovatie en sloop/nieuwbouw, wordt enkel rekening gehouden met de zuivere kostprijs (exl. belasting). Gezien renovatie lager belast wordt (6%) dan sloop/nieuwbouw (21%), zal het potentieel afnemen ten gunste van renovatie."]
[]
[null,"Berekeningen"]
[null,"Resultaat",null,null,null,"Scenario1","Scenario2"]
[null,"totale besparing",null,"MWh",null,{"$f":"F54","v":18668.757305940697},{"$f":"G54","v":33603.763150693252}]
[null,"totale CO2 reductie",null,"ton CO2",null,{"$f":"F27*F75","v":3938.9310326914874},{"$f":"G27*F75","v":7090.075858844677}]
[null,"Maatschappelijke kost per ton CO2 reductie",null,"€/ton CO2",null,{"$f":"(F71-F87)/F28","v":75.08972842274413}]
[]
[null,"Potentieel maatregel",null,"Eenheid","Jaar","Waarde",null,"Bron"]
[null,"Capaciteitsmeter: #HH",null,"#HH",null,{"$f":"IF(F91=\"BAU\",tbl_AA_Res_HH_REFJaar['# Huishoudens]*(1-BAU_RES!I63),tbl_AA_Res_HH_REFJaar['# Huishoudens])","v":33754.163999999997},null,"nulmeting"]
[null,"Activiteitsmeter: Brandstofgebruik",null,"MWh",null,{"$f":"IF(F91=J75,K75,IF(F91=J76,K76,K77))","v":439752.94987326977}]
[null,"Activiteitsmeter: gem. besparing door sloop",null,"kWh/jaar per HH",null,{"$f":"(F33*1000/F32)*2*F36","v":19542.164481096457},null,"[d]"]
[null,"Bijkomend potentieel"]
[null,null,"Effect isolatie op brandstofverbruik","%",null,0.75,null,"Aanname"]
[null,null,null,"MWh",null,{"$f":"F33*F36","v":329814.71240495233}]
[null,null,"Aandeel van HH die in aanmerking komen","%",null,0.06,null,"[a] - p24","we veronderstellen hier een gelijk verbruik voor elk HH"]
[null,null,null,"#HH",null,{"$f":"F32*F38","v":2025.2498399999997}]
[null,null,null,"MWh",null,{"$f":"(F37*F38*2/(1+F38))","v":37337.514611881394}]
[null,null,"Aandeel van potentieel reeds vervuld","%",null,0]
[null,null,"Bijkomend potentieel","#HH",null,{"$f":"F39*(1-F41)","v":2025.2498399999997}]
[null,null,"Bijkomend potentieel","MWh",null,{"$f":"F40*(1-F41)","v":37337.514611881394}]
[]
[null,"Implementatiegraad maatregel",null,null,null,"Min.","Max"]
[null,null,{"$f":"dropdowns!$R$4","v":"Niet"},null,null,1.0000000000000001E-17]
[null,null,{"$f":"dropdowns!$R$5","v":"Laag"},null,null,0.4,0.6,null,"aanpassen obv gemeente specifieke eigenschappen"]
[null,null,{"$f":"dropdowns!$R$6","v":"Medium"},null,null,0.6,0.8,null,"aanpassen obv gemeente specifieke eigenschappen"]
[null,null,{"$f":"dropdowns!$R$7","v":"Hoog"},null,null,0.8,1,null,"aanpassen obv gemeente specifieke eigenschappen"]
[]
[null,"Bijkomende implementatie",null,null,null,"Scenario1","Scenario2"]
[null,"Bijkomende invulling van potentieel",null,"% van de HH (2030)",null,{"$f":"IF('Scenario''s'!I18=C46,F46,IF('Scenario''s'!I18=C47,AVERAGE(F47,G47),IF('Scenario''s'!I18=C48,AVERAGE(F48,G48),AVERAGE(F49,G49))))","v":0.5},{"$f":"IF('Scenario''s'!M18=C46,F46,IF('Scenario''s'!M18=C47,AVERAGE(F47,G47),IF('Scenario''s'!M18=C48,AVERAGE(F48,G48),AVERAGE(F49,G49))))","v":0.9},null,"Keuze via scenario's"]
[null,"Bijkomende invulling van potentieel",null,"# HH",null,{"$f":"F42*F52","v":1012.6249199999999},{"$f":"F42*G52","v":1822.7248559999998}]
[null,null,null,"MWh",null,{"$f":"F43*F52","v":18668.757305940697},{"$f":"F43*G52","v":33603.763150693252}]
[]
[null,"Parameters"]
[null,"Kenmerken maatregel",null,"Eenheid","Jaar","Waarde",null,"Bron"]
[null,"Gemiddelde emissiefactoren"]
[null,null,"Bestaande woningen - SWW en verwarming","ton CO2/MWh",null,"n.a."]
[null,"Installatie kenmerken"]
[null,null,"gem. rendement fossiele installatie - SWW en verwarming","Input/Output",null,"n.a."]
[null,null,"Technische levensduur","jaar",null,50,null,"[b]"]
[null,null,"gem bewoonbare opp HH","m²",null,89,null,"[b]"]
[null,"Kosten"]
[null,null,"CAPEX","€/m²",null,1500,null,"[a] - p26"]
[null,null,null,"€/totaal",null,{"$f":"F65*F63*F53","v":135185426.81999999}]
[null,null,"Vaste OPEX","€/HH/jaar",null,0]
[null,null,null,"€/totaal/jaar",null,{"$f":"F67*F53","v":0}]
[null,null,"Variabele OPEX (brandstofkosten)","€/kWh/jaar",null,"n.a."]
[null,null,null,"€/totaal/jaar",null,"n.a."]
[null,null,"Totale jaarlijkse kost (aflossing CAPEX+OPEX+brandstofkost)","€/totaal/jaar",null,{"$f":"(-PMT(F90,F62,F66))+F68","v":6292908.7163278284}]
[]
[null,"Kenmerken referentiesituatie",null,null,null,null,null,null,null,null,"Brandstofgebruik (warmtevraag)","Verdeling van de fossiele residentiële energievectoren voor verwarming (obv het gekozen referentiejaar)",null,null,null,null,null,null,null,null,null,"Emissiefactoren"]
[null,"Gemiddelde emissiefactoren",null,null,null,null,null,null,null,"Bron","MWh","Elektriciteit","Warmte/ Koude","Aardgas","Vloeibaar gas","Stookolie","Diesel","Benzine","Bruinkool","Steenkool","Rest","EF_verw","EF_ELE"]
[null,null,"Bestaande woningen - SWW en verwarming","ton CO2/MWh",null,{"$f":"IF($F$91=J75,V75,IF($F$91=J76,V76,V77))","v":0.21099053183567054},null,null,null,"BAU",{"$f":"SUM(BAU_RES!I31:J31)","v":439752.94987326977},{"$f":"SUM(BAU_RES!I14:J14)/$K$75","v":7.2633495379798796E-2},{"$f":"SUM(BAU_RES!I15:J15)/$K$75","v":0},{"$f":"SUM(BAU_RES!I17:J17)/$K$75","v":0.68934791287609343},{"$f":"SUM(BAU_RES!I18:J18)/$K$75","v":4.5452203370009506E-2},{"$f":"SUM(BAU_RES!I19:J19)/$K$75","v":9.7660965779324635E-2},{"$f":"SUM(BAU_RES!I20:J20)/$K$75","v":0},{"$f":"SUM(BAU_RES!I21:J21)/$K$75","v":0},{"$f":"SUM(BAU_RES!I22:J22)/$K$75","v":0},{"$f":"SUM(BAU_RES!I23:J23)/$K$75","v":0},{"$f":"100%-SUM(L75:T75)","v":9.4905422594773636E-2},{"$f":"SUMPRODUCT(M75:T75,$M$78:$T$78)/SUM(M75:T75)","v":0.21099053183567054},{"$f":"BAU_TOTAAL!$Q$14","v":0.17705584446860712}]
[null,null,"Elektrische verwarming","ton CO2/MWh",null,{"$f":"IF($F$91=J75,W75,IF($F$91=J76,W76,W77))","v":0.17705584446860712},null,null,null,"INV",{"$f":"INV!S16-INV!D16","v":417486.11717709649},null,{"$f":"INV!E16/$K76","v":0},{"$f":"INV!F16/$K76","v":0.73303629483224908},{"$f":"INV!G16/$K76","v":5.3255312583037756E-2},{"$f":"INV!H16/$K76","v":0.11442713167060704},{"$f":"INV!I16/$K76","v":0},{"$f":"INV!J16/$K76","v":0},{"$f":"INV!K16/$K76","v":0},{"$f":"INV!L16/$K76","v":0},{"$f":"100%-SUM(L76:T76)","v":9.9281260914106162E-2},{"$f":"SUMPRODUCT(M76:T76,$M$78:$T$78)/SUM(M76:T76)","v":0.21173572103325497},{"$f":"INV!$D$26","v":0.19750015989190264}]
[null,"Installatie kenmerken",null,null,null,null,null,null,null,"EIG",{"$f":"SUM(EIG!$E$16:$R$16)","v":0},null,{"$f":"EIG!E16/$K$77","v":{"$error":"#DIV/0!"}},{"$f":"EIG!F16/$K$77","v":{"$error":"#DIV/0!"}},{"$f":"EIG!G16/$K$77","v":{"$error":"#DIV/0!"}},{"$f":"EIG!H16/$K$77","v":{"$error":"#DIV/0!"}},{"$f":"EIG!I16/$K$77","v":{"$error":"#DIV/0!"}},{"$f":"EIG!J16/$K$77","v":{"$error":"#DIV/0!"}},{"$f":"EIG!K16/$K$77","v":{"$error":"#DIV/0!"}},{"$f":"EIG!L16/$K$77","v":{"$error":"#DIV/0!"}},{"$f":"100%-SUM(L77:T77)","v":{"$error":"#DIV/0!"}},{"$f":"SUMPRODUCT(M77:T77,$M$78:$T$78)/SUM(M77:T77)","v":{"$error":"#DIV/0!"}},{"$f":"EIG!$D$26","v":0}]
[null,null,"gem. rendement fossiele installatie - SWW en verwarming","Input/Output",null,{"$f":"IF(F91=J75,(N75*'AA_Energieprijs&Discontovoet'!$F$40+O75*'AA_Energieprijs&Discontovoet'!$F$41+P75*'AA_Energieprijs&Discontovoet'!$F$42)/SUM(N75:P75),IF(F91=J76,(N76*'AA_Energieprijs&Discontovoet'!$F$40+O76*'AA_Energieprijs&Discontovoet'!$F$41+P76*'AA_Energieprijs&Discontovoet'!$F$42)/SUM(N76:P76),(N77*'AA_Energieprijs&Discontovoet'!$F$40+O77*'AA_Energieprijs&Discontovoet'!$F$41+P77*'AA_Energieprijs&Discontovoet'!$F$42)/SUM(N77:P77)))","v":1.2406989450868868},null,null,null,"EF_vector",null,null,{"$f":"BAU_TOTAAL!$Q$15","v":0.23764705882352966},{"$f":"'AA_Energieprijs&Discontovoet'!$F$98","v":0.20200000000000001},{"$f":"'AA_Energieprijs&Discontovoet'!$F$99","v":0.22700000000000001},{"$f":"'AA_Energieprijs&Discontovoet'!$F$100","v":0.26700000000000002},{"$f":"'AA_Energieprijs&Discontovoet'!$F$101","v":0.26700000000000002},{"$f":"'AA_Energieprijs&Discontovoet'!$F$102","v":0.249},{"$f":"'AA_Energieprijs&Discontovoet'!$F$103","v":0.35099999999999998},{"$f":"'AA_Energieprijs&Discontovoet'!$F$104","v":0.35399999999999998}]
[null,null,"gem. Technische levensduur","jaar",null,50,null,"[b]"]
[null,"Kosten"]
[null,null,"CAPEX","€/kW",null,1200,null,"[c]"]
[null,null,null,"€/totaal",null,{"$f":"F81*F63*F53","v":108148341.45599999}]
[null,null,"Vaste Opex","€/kW/jaar",null,0]
[null,null,null,"€/totaal/jaar",null,0]
[null,null,"Variabele OPEX (Brandstofprijzen)","€/kWh",null,{"$f":"'AA_Energieprijs&Discontovoet'!F58","v":3.9215E-2}]
[null,null,null,"€/totaal/jaar",null,{"$f":"F85*(F34*F78)*F53","v":962808.48174484365}]
[null,null,"Totale jaarlijkse kost (aflossing CAPEX+OPEX+brandstofkost)","€/totaal/jaar",null,{"$f":"(-PMT(F90,F79,F82))+F84+F86","v":5997135.4548071055}]
[]
[null,"Algemene aannames"]
[null,"Discontovoet",null,"%",null,{"$f":"P_Discontovoet","v":0.04}]
[null,"Referentiesituatie",null,null,null,{"$f":"P_Maatregelen_Referentie","v":"BAU"},null,null,"Keuze via dashboard"]
[null,null,"jaar",null,null,{"$f":"P_Maatregelen_Jaar_Inventaris","v":2017}]
[null,"Andere"]
[]
[null,"Referenties"]
[null,"[a]","Verbeeck et.al., 2009. Actieplan voor de bevordering van de vernieuwing van het deel van het Vlaamse woningbestand dat niet meer in aanmerking komt voor een zinvolle energierenovatie",null," ","https://www.energiesparen.be/sites/default/files/atoms/files/erp2020_sloopennieuwbouw.pdf",null,null," ","https://www.energiesparen.be/sites/default/files/atoms/files/erp2020_sloopennieuwbouw.pdf"]
[null,"[b]","Meynaerts et al., 2017. Ondersteuning burgemeesterconvenant: BAU en maatregelen tool"]
[null,"[c]","Bosmans, 2016, Renoveren of Sloop?",null,null,"http://www.woonwoord.be/Portals/43/Objects/Zoeken/ww38/Renovatie_of_sloophamer_herfst2016.pdf",null,null," "]
[null,"[d]","VCB, E60-woning verbruikt een derde minder energie dan een E100-woning",null,null,"https://static.tijd.be/upload/energieverbruik-230401.pdf",null,null," "]

{"sheet":"RES_ISO_DAK","index":36,"n_rows":109,"n_cols":23,"rows_kept":109,"cut":false,"hidden":false,"merged":[[16,1,16,7],[18,1,18,7],[23,1,23,7],[5,1,5,7],[12,1,12,7],[15,1,15,7],[14,1,14,7],[17,1,17,7],[21,1,21,7],[19,1,19,7],[20,1,20,7],[8,1,8,4],[10,1,10,4],[22,1,22,7]]}
[null,"<< Naar Scenario's",null,null,null,null,null,null,null,null,"Berekeningen + verwijzing andere cel"]
[null,null,null,null,null,null,null,null,null,null,"Verwijzing andere tab (nulmeting/data)"]
[null,"Plaatsen van dakisolatie",null,null,null,null,null,null,"Opmerkingen",null,"Overschrijfbaar: Vaste parameters uit externe bronnen, literatuur, rebus model"]
[null,null,null,"Residentieel",null,null,null,null,null,null,"Algemene aannames, overschrijfbaar vanuit centrale dashboard"]
[null,"Beschrijving van de maatregel"]
[null,"Maatregel: Stimuleren van het plaatsten van dakisolatie bij huishoudens in bestaande woningen.\n\nDe isolatievereisten zijn gedefinieerd en vastgelegd door de energieprestatieregelgeving (EPB) te gebruiken als leidraad (gewenste isolatieniveau vanaf 2018)."]
[null,"Relatie met andere maatregelen"]
[null,null,{"$f":"RES_EE_SLOOP!B3","v":"Verder stimuleren sloop van energieverslindende gebouwen"},null,null,"Sc1","Sc2"]
[null,"Overlappend potentieel met andere Energie Efficiëntie maatregel in de huishoudsector",null,null,null,{"$f":"RES_EE_SLOOP!F27","v":18668.757305940697},{"$f":"RES_EE_SLOOP!G27","v":33603.763150693252},"MWh"]
[null,null,"Isolatiemaatregelen: Muur, Vloer en Beglazing"]
[null,"Overlappend potentieel met andere Energie Efficiëntie maatregel in de huishoudsector"]
[null,"Betekenis lange termijn voor energie-/klimaattransitie"]
[null,"De algemene energievraag voor de productie van warmte (ruimteverwarming) kan door een doorgedreven isolatiebeleid op termijn sterk teruggedrongen worden."]
[null,"Aannames/onzekerheden/hypothesen"]
[null,"Aanname: Alle gedefinieerde kosten zijn bepaald vanuit een maatschappelijk standpunt (exl. taksen, subsidies, etc.) en zeggen niets over de kost vanuit een actor standpunt. De kosten dienen dus ook niet als dusdanig geïnterpreteerd te worden. De maatschappelijke kost wordt enkel gebruikt om een relatieve volgorde te kunnen opmaken om te bepalen welke maatregelen vanuit maatschappelijke standpunt goedkoper zijn dan andere."]
[null,"Aanname: Voor de eenvoud wordt er gerekend met de waarden van het 'gemiddelde' huis in Vlaanderen. Zo worden gemiddelden bepaald van een aantal technische gegevens van een gemiddelde woning in Vlaanderen (gemiddelde oppervlakte, gem. u-waarde, gem. energieverbruik). "]
[null,"Aanname: We rekenen hier met de technische levensduur van de isolatiematerialen. Dit zal zorgen dat de maatregel een negatieve kost per CO2eq reductie heeft. Vanuit het perspectief van de investeerder (huiseigenaar) zal de investering zich sneller moeten terugverdienen dan de vooropgestelde technische levensduur. Dit maakt dat in realiteit de kost per reductie-eenheid hoger zal liggen dan vanuit maatschappelijk perspectief."]
[null,"Aanname: Deze maatregel wordt verondersteld een renovatiemaatregel te zijn, waardoor de maatregel enkel van toepassing is op bestaande woningen."]
[null,"Aanname: Bij het bepalen van het potentieel sluiten we alle daken uit van het potentieel die een U-waarde halen van 0,50 W/m²K (reeds recent gerenoveerd) en de daken die de vereiste U-waarde al halen (0,24  W/m²K).  Slechts 39% van het aantal woningen komen hier voor in aanmerking."]
[null,"Aanname: Er wordt verondersteld dat Energie Efficiëntie maatregelen (alle isolatie maatregelen samen), tot 75% kan besparen van het totaal warmtegebruik in huishoudens."]
[null,"Aanname: Een woning voor 1970 verbruikt +/-5 keer meer energie dan een nieuwbouw (E30) woning [j]. Er wordt verondersteld dat de woningen die in aanmerking komen voor renovatiemaatregelen, 2 keer meer energie verbruiken dan het gemiddelde energiegebruik van een woning die reeds de isolatienorm halen."]
[null,"Aanname: Bij de INV cijfers, veronderstellen we dat alle elektrisch verbruik van de residentiële sector verbruikt wordt door elektrische apparaten (geen elektrische verwarming)."]
[null,"Aanname: Er worden een aanname gedaan betreffende elke individuele isolatiemaatregel op het energieverbruik van een woning. Dit om de optelbaarheid van isolatie maatregelen in de residentiële sector te garanderen en te vermijden dat bij een 100% ambitie van alle isolatiemaatregelen er meer wordt gereduceerd dan het totale brandstofverbruik in de residentiële sector. Zo wordt aangenomen dat een dakisolatie tot 50% van de resterende brandstofverbruik kan reduceren, muur- 49%, vloer- 28% en beglazing 28% [i]."]
[]
[null,"Berekeningen"]
[null,"Resultaat",null,null,null,"Scenario1","Scenario2"]
[null,"totale besparing",null,"MWh",null,{"$f":"F45*F46*F55","v":45740.387983126755},{"$f":"G45*F46*G55","v":87089.69871987334}]
[null,"totale CO2 reductie",null,"ton CO2",null,{"$f":"F27*F76","v":9650.7887869298283},{"$f":"G27*F76","v":18375.101850314393}]
[null,"Maatschappelijke kost per ton CO2 reductie",null,"€/ton CO2",null,{"$f":"(F72-F87)*F56/F28","v":-130.13173712675027}]
[]
[null,"Potentieel maatregel",null,"Eenheid","Jaar","Waarde",null,"Bron"]
[null,"Capaciteitsmeter: aantal huishoudens",null,"#HH",null,{"$f":"IF(F95=\"BAU\",tbl_AA_Res_HH_REFJaar['# Huishoudens]*(1-BAU_RES!I63),tbl_AA_Res_HH_REFJaar['# Huishoudens])","v":33754.163999999997},null,"[d]"]
[null,"Activiteitsmeter: Brandstofverbruik",null,"MWh",null,{"$f":"IF(F95=J76,K76,IF(F95=J77,K77,K78))","v":439752.94987326977}]
[]
[null,"Bijkomend potentieel"]
[null,null,"Effect Totaal isolatie op brandstofverbruik","%",null,0.75,null,"Aanname"]
[null,null,null,"MWh",null,{"$f":"F33*F36","v":329814.71240495233}]
[null,null,"Rest potentieel na overlappende maatregel","MWh",null,{"$f":"$F$37-F9","v":311145.95509901165},{"$f":"$F$37-G9","v":296210.94925425906}]
[]
[null,null,"Aandeel van HH die in aanmerking komen","%",null,0.97,null,"[h] - p53"]
[null,null,null,"#HH",null,{"$f":"F32*F40","v":32741.539079999995}]
[null,null,null,"MWh",null,{"$f":"F38*F40","v":301811.57644604129},{"$f":"G38*F40","v":287324.62077663129}]
[null,null,"Aandeel van potentieel reeds vervuld","% van potentieel reeds vervuld",null,0.39,null,"[h] - p53"]
[null,null,"Bijkomend potentieel","#HH",null,{"$f":"F41*(1-F43)","v":19972.338838799995}]
[null,null,"Bijkomend potentieel","MWh",null,{"$f":"F42*((1-F43)*2/(1+(1-F43)))","v":228701.93991563376},{"$f":"G42*((1-F43)*2/(1+(1-F43)))","v":217724.24679968334}]
[null,null,"Effect Dak isolatie op brandstofverbruik",null,null,0.5,null,"[i] - p64"]
[]
[null,"Implementatiegraad maatregel",null,null,null,"Min.","Max"]
[null,null,{"$f":"dropdowns!$R$4","v":"Niet"},null,null,1.0000000000000001E-17]
[null,null,{"$f":"dropdowns!$R$5","v":"Laag"},null,null,0.3,0.5,"[e] - p16; [f]","aanpassen obv gemeente specifieke eigenschappen"]
[null,null,{"$f":"dropdowns!$R$6","v":"Medium"},null,null,0.5,0.7,"[e] - p16; [f]","aanpassen obv gemeente specifieke eigenschappen"]
[null,null,{"$f":"dropdowns!$R$7","v":"Hoog"},null,null,0.7,0.9,"[e] - p16; [f]","aanpassen obv gemeente specifieke eigenschappen"]
[]
[null,"Bijkomende implementatie",null,null,null,"Scenario1","Scenario2"]
[null,"Bijkomende invulling van potentieel",null,"% van de HH (2030)",null,{"$f":"IF('Scenario''s'!I10=C49,F49,IF('Scenario''s'!I10=C50,AVERAGE(F50,G50),IF('Scenario''s'!I10=C51,AVERAGE(F51,G51),AVERAGE(F52,G52))))","v":0.4},{"$f":"IF('Scenario''s'!M10=C49,F49,IF('Scenario''s'!M10=C50,AVERAGE(F50,G50),IF('Scenario''s'!M10=C51,AVERAGE(F51,G51),AVERAGE(F52,G52))))","v":0.8},null,"Keuze via scenario's"]
[null,"Bijkomende invulling van potentieel",null,"# HH",null,{"$f":"F44*F55","v":7988.9355355199987},{"$f":"F44*G55","v":15977.871071039997}]
[]
[null,"Parameters"]
[null,"Kenmerken maatregel",null,"Eenheid","Jaar","Waarde",null,"Bron"]
[null,"Installatie kenmerken"]
[null,null,"Gemiddelde dakopp. van de bestaande woningen","m²/HH",null,100,null,"[g]","gemiddelde dakoppervlakte van de bestaande woningen"]
[null,null,"Technische gegevens: u-waarde (2030)","w/m²K",null,0.24,null,"[c]"]
[null,null,"Warmte verliezen (2030)","kWh/jaar per HH",null,{"$f":"(F92*24*60*60)*F62*F61/3600000","v":1077.1199999999999}]
[null,null,"Technische levensduur","jaar",null,50]
[null,null,"gem. rendement fossiele installatie - SWW en verwarming","Input/Output",null,{"$f":"IF(F95=J76,(N76*'AA_Energieprijs&Discontovoet'!$F$40+O76*'AA_Energieprijs&Discontovoet'!$F$41+P76*'AA_Energieprijs&Discontovoet'!$F$42)/SUM(N76:P76),IF(F95=J77,(N77*'AA_Energieprijs&Discontovoet'!$F$40+O77*'AA_Energieprijs&Discontovoet'!$F$41+P77*'AA_Energieprijs&Discontovoet'!$F$42)/SUM(N77:P77),(N78*'AA_Energieprijs&Discontovoet'!$F$40+O78*'AA_Energieprijs&Discontovoet'!$F$41+P78*'AA_Energieprijs&Discontovoet'!$F$42)/SUM(N78:P78)))","v":1.2406989450868868}]
[null,"Kosten"]
[null,null,"Capex","€/m²",null,26.3,null,"[g]","excl. taks & premies, incl. plaatsing"]
[null,null,null,"€/HH",null,{"$f":"F67*F61","v":2630}]
[null,null,"Vaste OPEX","€/HH/jaar",null,0,null,null,"geen jaarlijkse onderhoudskost"]
[null,null,"Variabele OPEX (brandstofkosten)","€/kWh",null,{"$f":"IF(F95=J76,(N76*'AA_Energieprijs&Discontovoet'!F58+O76*'AA_Energieprijs&Discontovoet'!F59+P76*'AA_Energieprijs&Discontovoet'!F60)/SUM(N76:P76),IF(F95=J77,(N77*'AA_Energieprijs&Discontovoet'!F58+O77*'AA_Energieprijs&Discontovoet'!F59+P77*'AA_Energieprijs&Discontovoet'!F60)/SUM(N77:P77),(N78*'AA_Energieprijs&Discontovoet'!F58+O78*'AA_Energieprijs&Discontovoet'!F59+P78*'AA_Energieprijs&Discontovoet'!F60)/SUM(N78:P78)))","v":4.3687447100671573E-2},null,null,"gemiddelde prijs in functie van de brandstofmix van de verwarming bij huishoudens"]
[null,null,null,"€/HH/jaar (warmteverliezen)",null,{"$f":"F70*F63*F65","v":58.383102541599513}]
[null,null,"Totale jaarlijkse kost (aflossing CAPEX+OPEX+brandstofkost)",null,null,{"$f":"(-PMT(F94,F64,F68)+F69+F71)","v":180.81012972389374}]
[]
[null,"Kenmerken referentiesituatie",null,null,null,null,null,null,null,null,"Brandstofgebruik (warmtevraag)","Verdeling van de fossiele residentiële energievectoren voor verwarming (obv het gekozen referentiejaar)",null,null,null,null,null,null,null,null,null,"Emissiefactoren"]
[null,"Gemiddelde emissiefactoren",null,null,null,null,null,null,null,"Bron","MWh","Elektriciteit","Warmte/ Koude","Aardgas","Vloeibaar gas","Stookolie","Diesel","Benzine","Bruinkool","Steenkool","Rest","EF_verw","EF_ELE"]
[null,null,"Bestaande woningen - SWW en verwarming","ton CO2/MWh",null,{"$f":"IF($F$95=J76,V76,IF($F$95=J77,V77,V78))","v":0.21099053183567054},null,null,null,"BAU",{"$f":"SUM(BAU_RES!I31:J31)","v":439752.94987326977},{"$f":"SUM(BAU_RES!I14:J14)/$K$76","v":7.2633495379798796E-2},{"$f":"SUM(BAU_RES!I15:J15)/$K$76","v":0},{"$f":"SUM(BAU_RES!I17:J17)/$K$76","v":0.68934791287609343},{"$f":"SUM(BAU_RES!I18:J18)/$K$76","v":4.5452203370009506E-2},{"$f":"SUM(BAU_RES!I19:J19)/$K$76","v":9.7660965779324635E-2},{"$f":"SUM(BAU_RES!I20:J20)/$K$76","v":0},{"$f":"SUM(BAU_RES!I21:J21)/$K$76","v":0},{"$f":"SUM(BAU_RES!I22:J22)/$K$76","v":0},{"$f":"SUM(BAU_RES!I23:J23)/$K$76","v":0},{"$f":"100%-SUM(L76:T76)","v":9.4905422594773636E-2},{"$f":"SUMPRODUCT(M76:T76,$M$79:$T$79)/SUM(M76:T76)","v":0.21099053183567054},{"$f":"BAU_TOTAAL!$Q$14","v":0.17705584446860712}]
[null,null,"Elektrische verwarming","ton CO2/MWh",null,{"$f":"IF($F$95=J76,W76,IF($F$95=J77,W77,W78))","v":0.17705584446860712},null,null,null,"INV",{"$f":"INV!S16-INV!D16","v":417486.11717709649},null,{"$f":"INV!E16/$K77","v":0},{"$f":"INV!F16/$K77","v":0.73303629483224908},{"$f":"INV!G16/$K77","v":5.3255312583037756E-2},{"$f":"INV!H16/$K77","v":0.11442713167060704},{"$f":"INV!I16/$K77","v":0},{"$f":"INV!J16/$K77","v":0},{"$f":"INV!K16/$K77","v":0},{"$f":"INV!L16/$K77","v":0},{"$f":"100%-SUM(L77:T77)","v":9.9281260914106162E-2},{"$f":"SUMPRODUCT(M77:T77,$M$79:$T$79)/SUM(M77:T77)","v":0.21173572103325497},{"$f":"INV!$D$26","v":0.19750015989190264}]
[null,"Installatie kenmerken",null,null,null,null,null,null,null,"EIG",{"$f":"SUM(EIG!$E$16:$R$16)","v":0},null,{"$f":"EIG!E16/SUM(EIG!$E$16:$R$16)","v":{"$error":"#DIV/0!"}},{"$f":"EIG!F16/SUM(EIG!$E$16:$R$16)","v":{"$error":"#DIV/0!"}},{"$f":"EIG!G16/SUM(EIG!$E$16:$R$16)","v":{"$error":"#DIV/0!"}},{"$f":"EIG!H16/SUM(EIG!$E$16:$R$16)","v":{"$error":"#DIV/0!"}},{"$f":"EIG!I16/SUM(EIG!$E$16:$R$16)","v":{"$error":"#DIV/0!"}},{"$f":"EIG!J16/SUM(EIG!$E$16:$R$16)","v":{"$error":"#DIV/0!"}},{"$f":"EIG!K16/SUM(EIG!$E$16:$R$16)","v":{"$error":"#DIV/0!"}},{"$f":"EIG!L16/SUM(EIG!$E$16:$R$16)","v":{"$error":"#DIV/0!"}},{"$error":"#DIV/0!"},{"$f":"SUMPRODUCT(M78:T78,$M$79:$T$79)/SUM(M78:T78)","v":{"$error":"#DIV/0!"}},{"$f":"EIG!$D$26","v":0}]
[null,null,"Gemiddelde dakoppervlakte van de bestaande woningen","m²/HH",null,100,null,"[g]",null,"EF_vector",null,null,{"$f":"BAU_TOTAAL!$Q$15","v":0.23764705882352966},{"$f":"'AA_Energieprijs&Discontovoet'!$F$98","v":0.20200000000000001},{"$f":"'AA_Energieprijs&Discontovoet'!$F$99","v":0.22700000000000001},{"$f":"'AA_Energieprijs&Discontovoet'!$F$100","v":0.26700000000000002},{"$f":"'AA_Energieprijs&Discontovoet'!$F$101","v":0.26700000000000002},{"$f":"'AA_Energieprijs&Discontovoet'!$F$102","v":0.249},{"$f":"'AA_Energieprijs&Discontovoet'!$F$103","v":0.35099999999999998},{"$f":"'AA_Energieprijs&Discontovoet'!$F$104","v":0.35399999999999998}]
[null,null,"Technische gegevens: u-waarde (referentiesituatie)","w/m²K",null,{"$f":"N84","v":1.4630344827586208}]
[null,null,"Transmissie verliezen (referentiesituatie)","kWh/jaar per HH",null,{"$f":"(F91*24*60*60)*F80*F79/3600000","v":6236.0381793103452}]
[null,"Kosten",null,null,null,null,null,null,null,null,"Geen isolatie","deels isolatie","Volledige isolatie","gemiddeld"]
[null,null,"CAPEX","€/HH",null,0,null,null,null,"aandeel",0.13600000000000001,0.08,{"$f":"N83-K83-L83","v":0.36399999999999993},{"$f":"100%-(100%-F40)-F43","v":0.57999999999999996},"[h] - p53"]
[null,null,"Vaste OPEX","€/HH/jaar",null,0,null,null,null,"U-waarde",2.96,1.48,0.9,{"$f":"K84*(K83/N83)+L84*(L83/N83)+M84*(M83/N83)","v":1.4630344827586208},"[a] - p7"]
[null,null,"Variabele OPEX","€/kWh",null,{"$f":"(N76*'AA_Energieprijs&Discontovoet'!F58+O76*'AA_Energieprijs&Discontovoet'!F59+P76*'AA_Energieprijs&Discontovoet'!F60)/SUM(N76:P76)","v":4.3687447100671573E-2}]
[null,null,null,"€/HH/jaar",null,{"$f":"F85*F81*F65","v":338.01178742944649}]
[null,null,"Totale jaarlijkse kost (aflossing CAPEX+OPEX+brandstofkost)",null,null,{"$f":"F83+F84+F86","v":338.01178742944649}]
[]
[null,"Algemene aannames"]
[null,"Graaddagen (15/15)"]
[null,null,"Referentiejaar",null,{"$f":"F96","v":2017},{"$f":"VLOOKUP(E91+0,'AA_Energieprijs&Discontovoet'!E8:F16,2,FALSE)","v":1776}]
[null,null,2030,null,2030,{"$f":"'AA_Energieprijs&Discontovoet'!F16","v":1870}]
[null,null,"Elasticiteit",null,null,0.6]
[null,"Discontovoet",null,"%",null,{"$f":"P_Discontovoet","v":0.04},null,null,"Keuze via dashboard"]
[null,"Referentiesituatie",null,null,null,{"$f":"P_Maatregelen_Referentie","v":"BAU"},null,null,"Keuze via dashboard"]
[null,null,"jaar",null,null,{"$f":"P_Maatregelen_Jaar_Inventaris","v":2017}]
[]
[null,"Referenties",null,null,null,null,null,null," "]
[null,"[a]","Verbeeck et al., 2016.De isolatie-index: Evaluatie en herziening van een indicator voor het isolatieniveau",null,null,"https://steunpuntwonen.be/Documenten_2012-2015/Onderzoek_Werkpakketten/WP6-isolatie-index-eind.pdf",null,null," "]
[null,"[b]","Cyx W., 2011. IEE TABULA - Typology Approach for Building Stock Energy Assessment",null,null,"http://episcope.eu/fileadmin/tabula/public/docs/scientific/BE_TABULA_ScientificReport_VITO.pdf",null,null," "]
[null,"[c]","Vlaamse Overheid, 2018. U-waarden vanaf 2018",null,null,"http://www.energiesparen.be/sites/default/files/atoms/files/epbuwaarden2018.pdf",null,null," "]
[null,"[d]","Studiedienst van de Vlaamse Regering"]
[null,"[e]","REG-enquête 2017",null,null,"https://www.energiesparen.be/sites/default/files/atoms/files/beknopte%20resultaten%20REG%20enqu%C3%AAte%202017.pdf",null,null," "]
[null,"[f]","Woonsurvey 2018",null,null,"https://steunpuntwonen.be/Documenten_2016-2020/Onderzoek_Werkpakketten/WP_1_Nieuwe_woonsurvey_en_woningschouwing/WP1-2_RAPPORT",null,null," "]
[null,"[g]","VEA, 2018. Energiewinstcalculator",null,null,"https://www.energiesparen.be/bouwen-en-verbouwen/energiewinstcalculators/energiewinst-isolatie-hellend-dak",null,null," "]
[null,"[h]","Verbeeck et al., 2015. Analyse van de EPC databank: resultaten tot en met 2012",null,null,"https://www.energiesparen.be/sites/default/files/atoms/files/Analyse_EPCdatabank.pdf",null,null," "]
[null,"[i]","CCC, 2013. Reducing emissions from buildings",null,null,"https://www.theccc.org.uk/wp-content/uploads/2013/12/1785b-CCC_TechRep_Singles_Chap3_1.pdf",null,null," "]
[null,"[j]","VCB, E60-woning verbruikt een derde minder energie dan een E100-woning",null,null,"https://static.tijd.be/upload/energieverbruik-230401.pdf",null,null," "]
[null,null,null,null,null,null,null,null," "]

{"sheet":"RES_ISO_MUUR","index":37,"n_rows":109,"n_cols":23,"rows_kept":109,"cut":false,"hidden":false,"merged":[[23,1,23,7],[17,1,17,7],[5,1,5,7],[12,1,12,7],[14,1,14,7],[15,1,15,7],[16,1,16,7],[18,1,18,7],[21,1,21,7],[19,1,19,7],[20,1,20,7],[8,1,8,4],[10,1,10,4],[22,1,22,7]]}
[null,"<< Naar Scenario's",null,null,null,null,null,null,null,null,"Berekeningen + verwijzing andere cel"]
[null,null,null,null,null,null,null,null,null,null,"Verwijzing andere tab (nulmeting/data)"]
[null,"Plaatsen van muurisolatie",null,null,null,null,null,null,"Opmerkingen",null,"Overschrijfbaar: Vaste parameters uit externe bronnen, literatuur, rebus model"]
[null,null,null,"Residentieel",null,null,null,null,null,null,"Algemene aannames, overschrijfbaar vanuit centrale dashboard"]
[null,"Beschrijving van de maatregel"]
[null,"Maatregel: Stimuleren van het plaatsten van muurisolatie bij huishoudens die niet aan de isolatienormen voldoen.\n\nDe isolatievereisten zijn gedefinieerd en vastgelegd door de energieprestatieregelgeving (EPB) te gebruiken als leidraad (gewenste isolatieniveau)."]
[null,"Relatie met andere maatregelen"]
[null,null,{"$f":"RES_EE_SLOOP!B3","v":"Verder stimuleren sloop van energieverslindende gebouwen"},null,null,"Sc1","Sc2"]
[null,"Overlappend potentieel met andere Energie Efficiëntie maatregel in de huishoudsector",null,null,null,{"$f":"RES_EE_SLOOP!F27","v":18668.757305940697},{"$f":"RES_EE_SLOOP!G27","v":33603.763150693252},"MWh"]
[null,null,"Isolatiemaatregelen: Dak"]
[null,"Overlappend potentieel met andere Energie Efficiëntie maatregel in de huishoudsector",null,null,null,{"$f":"RES_ISO_DAK!F27","v":45740.387983126755},{"$f":"RES_ISO_DAK!G27","v":87089.69871987334},"MWh"]
[null,"Betekenis lange termijn voor energie-/klimaattransitie"]
[null,"De algemene energievraag voor de productie van warmte (ruimteverwarming) kan door een doorgedreven isolatiebeleid op termijn sterk teruggedrongen worden."]
[null,"Aannames/onzekerheden/hypothesen"]
[null,"Aanname: Alle gedefinieerde kosten zijn bepaald vanuit een maatschappelijk standpunt (exl. taksen, subsidies, etc.) en zeggen niets over de kost vanuit een actor standpunt. De kosten dienen dus ook niet als dusdanig geïnterpreteerd te worden. De maatschappelijke kost wordt enkel gebruikt om een relatieve volgorde te kunnen opmaken om te bepalen welke maatregelen vanuit maatschappelijke standpunt goedkoper zijn dan andere."]
[null,"Aanname: Voor de eenvoud wordt er gerekend met de waarden van het 'gemiddelde' huis in Vlaanderen. Zo worden gemiddelden bepaald van een aantal technische gegevens van een gemiddelde woning in Vlaanderen (gemiddelde oppervlakte, gem. u-waarde, gem. energieverbruik). "]
[null,"Aanname: We rekenen hier met de technische levensduur van de isolatiematerialen. Dit zal zorgen dat de maatregel een negatieve kost per CO2eq reductie heeft. Vanuit het perspectief van de investeerder (huiseigenaar) zal de investering zich sneller moeten terugverdienen dan de vooropgestelde technische levensduur. Dit maakt dat in realiteit de kost per reductie-eenheid hoger zal liggen dan vanuit het maatschappelijk perspectief."]
[null,"Aanname: Deze maatregel wordt verondersteld een renovatiemaatregel te zijn, waardoor de maatregel enkel van toepassing is op bestaande woningen."]
[null,"Aanname: Bij het bepalen van het potentieel sluiten we alle muurisolaties uit van het potentieel die een U-waarde halen van 0,50 W/m²K (reeds recent gerenoveerd) en de muurisolatie die de vereiste U-waarde al halen (0,24  W/m²K). Slechts 4% van het aantal woningen komen hier voor in aanmerking."]
[null,"Aanname: Er wordt verondersteld dat Energie Efficiëntie maatregelen (alle isolatie maatregelen samen), tot 75% kan besparen van het totaal warmtegebruik in huishoudens."]
[null,"Aanname: Een woning voor 1970 verbruikt +/-5 keer meer energie dan een nieuwbouw (E30) woning [j]. Er wordt verondersteld dat de woningen die in aanmerking komen voor renovatiemaatregelen, 2 keer meer energie verbruiken dan het gemiddelde energiegebruik van een woning die reeds de isolatienorm halen."]
[null,"Aanname: Bij de INV cijfers, veronderstellen we dat alle elektrisch verbruik van de residentiële sector verbruikt wordt door elektrische apparaten (geen elektrische verwarming)."]
[null,"Aanname: Er worden een aanname gedaan betreffende elke individuele isolatiemaatregel op het energieverbruik van een woning. Dit om de optelbaarheid van isolatie maatregelen in de residentiële sector te garanderen en te vermijden dat bij een 100% ambitie van alle isolatiemaatregelen er meer wordt gereduceerd dan het totale brandstofverbruik in de residentiële sector. Zo wordt aangenomen dat een dakisolatie tot 50% van de resterende brandstofverbruik kan reduceren, muur- 49%, vloer- 28% en beglazing 28% [i]."]
[]
[null,"Berekeningen"]
[null,"Resultaat",null,null,null,"Scenario1","Scenario2"]
[null,"totale besparing",null,"MWh",null,{"$f":"F45*$F$46*F55","v":50957.868886249897},{"$f":"G45*$F$46*G55","v":80302.560205204121}]
[null,"totale CO2 reductie",null,"ton CO2",null,{"$f":"F27*F76","v":10751.627857522235},{"$f":"G27*F76","v":16943.079885461972}]
[null,"Maatschappelijke kost per ton CO2 reductie",null,"€/ton CO2",null,{"$f":"(F72-F87)*F56/F28","v":-218.24236231469712}]
[]
[null,"Potentieel maatregel",null,"Eenheid","Jaar","Waarde",null,"Bron"]
[null,"Capaciteitsmeter: gem. muuropp/HH",null,"#HH",null,{"$f":"IF(F95=\"BAU\",tbl_AA_Res_HH_REFJaar['# Huishoudens]*(1-BAU_RES!I63),tbl_AA_Res_HH_REFJaar['# Huishoudens])","v":33754.163999999997},null,"[d]"]
[null,"Activiteitsmeter: Brandstofverbruik",null,"MWh",null,{"$f":"IF(F95=J76,K76,IF(F95=J77,K77,K78))","v":439752.94987326977}]
[]
[null,"Bijkomend potentieel"]
[null,null,"Effect Totaal isolatie op brandstofverbruik","%",null,0.75,null,"Aanname"]
[null,null,null,"MWh",null,{"$f":"F33*F36","v":329814.71240495233}]
[null,null,"Rest potentieel na overlappende maatregel","MWh",null,{"$f":"$F$37-SUM(F9,F11)","v":265405.56711588486},{"$f":"$F$37-SUM(G9,G11)","v":209121.25053438573}]
[]
[null,null,"Aandeel van HH die in aanmerking komen","% ",null,1,null,"[h] - p90"]
[null,null,null,"#HH",null,{"$f":"F32*F40","v":33754.163999999997}]
[null,null,null,"MWh",null,{"$f":"F38*$F$40","v":265405.56711588486},{"$f":"G38*$F$40","v":209121.25053438573}]
[null,null,"Aandeel van potentieel reeds vervuld","%",null,0.04,null,"[h] - p90"]
[null,null,"Bijkomend potentieel","#HH",null,{"$f":"F32*(1-F43)","v":32403.997439999996}]
[null,null,"Bijkomend potentieel","MWh",null,{"$f":"F42*((1-$F$43)*2/(1+(1-$F$43)))","v":259989.12697066271},{"$f":"G42*((1-$F$43)*2/(1+(1-$F$43)))","v":204853.46991123501}]
[null,null,"Effect Muur isolatie op brandstofverbruik","%",null,0.49,null,"[i] - p 64"]
[]
[null,"Implementatiegraad maatregel",null,null,null,"Min.","Max"]
[null,null,{"$f":"dropdowns!$R$4","v":"Niet"},null,null,1.0000000000000001E-17]
[null,null,{"$f":"dropdowns!$R$5","v":"Laag"},null,null,0.3,0.5,"[e] - p16; [f]","aanpassen obv gemeente specifieke eigenschappen"]
[null,null,{"$f":"dropdowns!$R$6","v":"Medium"},null,null,0.5,0.7,"[e] - p16; [f]","aanpassen obv gemeente specifieke eigenschappen"]
[null,null,{"$f":"dropdowns!$R$7","v":"Hoog"},null,null,0.7,0.9,"[e] - p16; [f]","aanpassen obv gemeente specifieke eigenschappen"]
[]
[null,"Bijkomende implementatie",null,null,null,"Scenario1","Scenario2"]
[null,"Bijkomende invulling van potentieel",null,"% van de HH (2030)",null,{"$f":"IF('Scenario''s'!I11=C49,F49,IF('Scenario''s'!I11=C50,AVERAGE(F50,G50),IF('Scenario''s'!I11=C51,AVERAGE(F51,G51),AVERAGE(F52,G52))))","v":0.4},{"$f":"IF('Scenario''s'!M11=C49,F49,IF('Scenario''s'!M11=C50,AVERAGE(F50,G50),IF('Scenario''s'!M11=C51,AVERAGE(F51,G51),AVERAGE(F52,G52))))","v":0.8},null,"Keuze via scenario's"]
[null,"Bijkomende invulling van potentieel",null,"# HH",null,{"$f":"F44*F55","v":12961.598975999999},{"$f":"F44*G55","v":25923.197951999999}]
[]
[null,"Parameters"]
[null,"Kenmerken maatregel",null,"Eenheid","Jaar","Waarde",null,"Bron"]
[null,"Installatie kenmerken"]
[null,null,"Gemiddelde muuroppervlakte van de bestaande woningen","m²/HH",null,100,null,"[g]","gemiddelde dakoppervlakte van de bestaande woningen"]
[null,null,"Technische gegevens: u-waarde (2030)","w/m²K",null,0.24,null,"[c]"]
[null,null,"Transmissie verliezen (2030)","kWh/jaar per HH",null,{"$f":"(F92*24*60*60)*F62*F61/3600000","v":1077.1199999999999}]
[null,null,"Technische levensduur","jaar",null,50]
[null,null,"gem. rendement fossiele installatie - SWW en verwarming","Input/Output",null,{"$f":"IF(F95=J76,(N76*'AA_Energieprijs&Discontovoet'!$F$40+O76*'AA_Energieprijs&Discontovoet'!$F$41+P76*'AA_Energieprijs&Discontovoet'!$F$42)/SUM(N76:P76),IF(F95=J77,(N77*'AA_Energieprijs&Discontovoet'!$F$40+O77*'AA_Energieprijs&Discontovoet'!$F$41+P77*'AA_Energieprijs&Discontovoet'!$F$42)/SUM(N77:P77),(N78*'AA_Energieprijs&Discontovoet'!$F$40+O78*'AA_Energieprijs&Discontovoet'!$F$41+P78*'AA_Energieprijs&Discontovoet'!$F$42)/SUM(N78:P78)))","v":1.2406989450868868}]
[null,"Kosten"]
[null,null,"Capex","€/m²",null,{"$f":"30","v":30},null,"[b] - p55","excl. taks & premies, incl. plaatsing"]
[null,null,null,"€/HH",null,{"$f":"F67*F61","v":3000}]
[null,null,"Vaste OPEX","€/HH/jaar",null,0,null,null,"geen jaarlijkse onderhoudskost"]
[null,null,"Variabele OPEX (brandstofkosten)","€/kWh",null,{"$f":"IF(F95=J76,(N76*'AA_Energieprijs&Discontovoet'!F58+O76*'AA_Energieprijs&Discontovoet'!F59+P76*'AA_Energieprijs&Discontovoet'!F60)/SUM(N76:P76),IF(F95=J77,(N77*'AA_Energieprijs&Discontovoet'!F58+O77*'AA_Energieprijs&Discontovoet'!F59+P77*'AA_Energieprijs&Discontovoet'!F60)/SUM(N77:P77),(N78*'AA_Energieprijs&Discontovoet'!F58+O78*'AA_Energieprijs&Discontovoet'!F59+P78*'AA_Energieprijs&Discontovoet'!F60)/SUM(N78:P78)))","v":4.3687447100671573E-2},null,null,"gemiddelde prijs in functie van de brandstofmix van de verwarming bij huishoudens"]
[null,null,null,"€/HH/jaar aan transmissieverliezen",null,{"$f":"F70*F63*F65","v":58.383102541599513}]
[null,null,"Totale jaarlijkse kost (aflossing CAPEX+OPEX+brandstofkost)",null,null,{"$f":"(-PMT(F94,F64,F68)+F69+F71)","v":198.0337038902241}]
[]
[null,"Kenmerken referentiesituatie",null,null,null,null,null,null,null,null,"Brandstofgebruik (warmtevraag)","Verdeling van de fossiele residentiële energievectoren voor verwarming (obv het gekozen referentiejaar)",null,null,null,null,null,null,null,null,null,"Emissiefactoren"]
[null,"Gemiddelde emissiefactoren",null,null,null,null,null,null,null,"Bron","MWh","Elektriciteit","Warmte/ Koude","Aardgas","Vloeibaar gas","Stookolie","Diesel","Benzine","Bruinkool","Steenkool","Rest","EF_verw","EF_ELE"]
[null,null,"Bestaande woningen - SWW en verwarming","ton CO2/MWh",null,{"$f":"IF($F$95=J76,V76,IF($F$95=J77,V77,V78))","v":0.21099053183567054},null,null,null,"BAU",{"$f":"SUM(BAU_RES!I31:J31)","v":439752.94987326977},{"$f":"SUM(BAU_RES!I14:J14)/$K$76","v":7.2633495379798796E-2},{"$f":"SUM(BAU_RES!I15:J15)/$K$76","v":0},{"$f":"SUM(BAU_RES!I17:J17)/K76","v":0.68934791287609343},{"$f":"SUM(BAU_RES!I18:J18)/$K$76","v":4.5452203370009506E-2},{"$f":"SUM(BAU_RES!I19:J19)/$K$76","v":9.7660965779324635E-2},{"$f":"SUM(BAU_RES!I20:J20)/$K$76","v":0},{"$f":"SUM(BAU_RES!I21:J21)/$K$76","v":0},{"$f":"SUM(BAU_RES!I22:J22)/$K$76","v":0},{"$f":"SUM(BAU_RES!I23:J23)/$K$76","v":0},{"$f":"100%-SUM(L76:T76)","v":9.4905422594773636E-2},{"$f":"SUMPRODUCT(M76:T76,$M$79:$T$79)/SUM(M76:T76)","v":0.21099053183567054},{"$f":"BAU_TOTAAL!$Q$14","v":0.17705584446860712}]
[null,null,"Elektrische verwarming","ton CO2/MWh",null,{"$f":"IF($F$95=J76,W76,IF($F$95=J77,W77,W78))","v":0.17705584446860712},null,null,null,"INV",{"$f":"INV!S16-INV!D16","v":417486.11717709649},null,{"$f":"INV!E16/$K77","v":0},{"$f":"INV!F16/$K77","v":0.73303629483224908},{"$f":"INV!G16/$K77","v":5.3255312583037756E-2},{"$f":"INV!H16/$K77","v":0.11442713167060704},{"$f":"INV!I16/$K77","v":0},{"$f":"INV!J16/$K77","v":0},{"$f":"INV!K16/$K77","v":0},{"$f":"INV!L16/$K77","v":0},{"$f":"100%-SUM(L77:T77)","v":9.9281260914106162E-2},{"$f":"SUMPRODUCT(M77:T77,$M$79:$T$79)/SUM(M77:T77)","v":0.21173572103325497},{"$f":"INV!$D$26","v":0.19750015989190264}]
[null,"Installatie kenmerken",null,null,null,null,null,null,null,"EIG",{"$f":"SUM(EIG!$E$16:$R$16)","v":0},null,{"$f":"EIG!E16/$K$78","v":{"$error":"#DIV/0!"}},{"$f":"EIG!F16/$K$78","v":{"$error":"#DIV/0!"}},{"$f":"EIG!G16/$K$78","v":{"$error":"#DIV/0!"}},{"$f":"EIG!H16/$K$78","v":{"$error":"#DIV/0!"}},{"$f":"EIG!I16/$K$78","v":{"$error":"#DIV/0!"}},{"$f":"EIG!J16/$K$78","v":{"$error":"#DIV/0!"}},{"$f":"EIG!K16/$K$78","v":{"$error":"#DIV/0!"}},{"$f":"EIG!L16/$K$78","v":{"$error":"#DIV/0!"}},{"$error":"#DIV/0!"},{"$f":"SUMPRODUCT(M78:T78,$M$79:$T$79)/SUM(M78:T78)","v":{"$error":"#DIV/0!"}},{"$f":"EIG!$D$26","v":0}]
[null,null,"Gemiddelde muuroppervlakte van de bestaande woningen","m²/HH",null,100,null,"[g]",null,"EF_vector",null,null,{"$f":"BAU_TOTAAL!$Q$15","v":0.23764705882352966},{"$f":"'AA_Energieprijs&Discontovoet'!$F$98","v":0.20200000000000001},{"$f":"'AA_Energieprijs&Discontovoet'!$F$99","v":0.22700000000000001},{"$f":"'AA_Energieprijs&Discontovoet'!$F$100","v":0.26700000000000002},{"$f":"'AA_Energieprijs&Discontovoet'!$F$101","v":0.26700000000000002},{"$f":"'AA_Energieprijs&Discontovoet'!$F$102","v":0.249},{"$f":"'AA_Energieprijs&Discontovoet'!$F$103","v":0.35099999999999998},{"$f":"'AA_Energieprijs&Discontovoet'!$F$104","v":0.35399999999999998}]
[null,null,"Technische gegevens: u-waarde (referentiesituatie)","w/m²K",null,{"$f":"N84","v":1.6407291666666666}]
[null,null,"Transmissie verliezen (referentiesituatie)","kWh/jaar per HH",null,{"$f":"(F91*24*60*60)*F80*F79/3600000","v":6993.4440000000004}]
[null,"Kosten",null,null,null,null,null,null,null,null,"Geen isolatie","deels isolatie","Volledige isolatie","gemiddeld"]
[null,null,"CAPEX","€/HH",null,0,null,null,null,"aandeel",0.35899999999999999,0.14899999999999999,{"$f":"N83-K83-L83","v":0.45199999999999996},{"$f":"100%-(100%-F40)-F43","v":0.96},"[h] - p90"]
[null,null,"Vaste OPEX","€/HH/jaar",null,0,null,null,null,"U-waarde",2.15,1.69,1.22,{"$f":"K84*(K83/N83)+L84*(L83/N83)+M84*(M83/N83)","v":1.6407291666666666},"[a] - p7"]
[null,null,"Variabele OPEX","€/kWh",null,{"$f":"(N76*'AA_Energieprijs&Discontovoet'!F58+O76*'AA_Energieprijs&Discontovoet'!F59+P76*'AA_Energieprijs&Discontovoet'!F60)/SUM(N76:P76)","v":4.3687447100671573E-2}]
[null,null,null,"€/HH/jaar",null,{"$f":"F85*F81*F65","v":379.06543205114929}]
[null,null,"Totale jaarlijkse kost (aflossing CAPEX+OPEX+brandstofkost)",null,null,{"$f":"F83+F84+F86","v":379.06543205114929}]
[]
[null,"Algemene aannames"]
[null,"Graaddagen (15/15)"]
[null,null,"Referentiejaar",null,{"$f":"F96","v":2017},{"$f":"VLOOKUP(E91+0,'AA_Energieprijs&Discontovoet'!E8:F16,2,FALSE)","v":1776}]
[null,null,2030,null,2030,{"$f":"'AA_Energieprijs&Discontovoet'!F16","v":1870}]
[null,null,"Elasticiteit",null,null,0.6]
[null,"Discontovoet",null,"%",null,{"$f":"P_Discontovoet","v":0.04},null,null,"Keuze via dashboard"]
[null,"Referentiesituatie",null,null,null,{"$f":"P_Maatregelen_Referentie","v":"BAU"},null,null,"Keuze via dashboard"]
[null,null,"jaar",null,null,{"$f":"P_Maatregelen_Jaar_Inventaris","v":2017}]
[]
[null,"Referenties",null,null,null,null,null,null," "]
[null,"[a]","Verbeeck et al., 2016.De isolatie-index: Evaluatie en herziening van een indicator voor het isolatieniveau",null,null,"https://steunpuntwonen.be/Documenten_2012-2015/Onderzoek_Werkpakketten/WP6-isolatie-index-eind.pdf",null,null," "]
[null,"[b]","Cyx W., 2011. IEE TABULA - Typology Approach for Building Stock Energy Assessment",null,null,"http://episcope.eu/fileadmin/tabula/public/docs/scientific/BE_TABULA_ScientificReport_VITO.pdf",null,null," "]
[null,"[c]","Vlaamse Overheid, 2018. U-waarden vanaf 2018",null,null,"http://www.energiesparen.be/sites/default/files/atoms/files/epbuwaarden2018.pdf",null,null," "]
[null,"[d]","Studiedienst van de Vlaamse Regering"]
[null,"[e]","REG-enquête 2017",null,null,"https://www.energiesparen.be/sites/default/files/atoms/files/beknopte%20resultaten%20REG%20enqu%C3%AAte%202017.pdf",null,null," "]
[null,"[f]","Woonsurvey 2018",null,null,"https://steunpuntwonen.be/Documenten_2016-2020/Onderzoek_Werkpakketten/WP_1_Nieuwe_woonsurvey_en_woningschouwing/WP1-2_RAPPORT",null,null," "]
[null,"[g]","VEA, 2018. Energiewinstcalculator",null,null,"https://www.energiesparen.be/bouwen-en-verbouwen/energiewinstcalculators/energiewinst-spouwmuurisolatie",null,null," "]
[null,"[h]","Verbeeck et al., 2015. Analyse van de EPC databank: resultaten tot en met 2012",null,null,"https://www.energiesparen.be/sites/default/files/atoms/files/Analyse_EPCdatabank.pdf",null,null," "]
[null,"[i]","CCC, 2013. Reducing emissions from buildings",null,null,"https://www.theccc.org.uk/wp-content/uploads/2013/12/1785b-CCC_TechRep_Singles_Chap3_1.pdf",null,null," "]
[null,"[j]","VCB, E60-woning verbruikt een derde minder energie dan een E100-woning",null,null,"https://static.tijd.be/upload/energieverbruik-230401.pdf",null,null," "]
[null,null,null,null,null,null,null,null," "]

{"sheet":"RES_ISO_VL","index":38,"n_rows":111,"n_cols":23,"rows_kept":111,"cut":false,"hidden":false,"merged":[[20,1,20,7],[25,1,25,7],[5,1,5,7],[14,1,14,7],[16,1,16,7],[17,1,17,7],[18,1,18,7],[19,1,19,7],[23,1,23,7],[21,1,21,7],[22,1,22,7],[8,1,8,4],[10,1,10,4],[12,1,12,4],[24,1,24,7]]}
[null,"<< Naar Scenario's",null,null,null,null,null,null,null,null,"Berekeningen + verwijzing andere cel"]
[null,null,null,null,null,null,null,null,null,null,"Verwijzing andere tab (nulmeting/data)"]
[null,"Plaatsen van vloerisolatie",null,null,null,null,null,null,"Opmerkingen",null,"Overschrijfbaar: Vaste parameters uit externe bronnen, literatuur, rebus model"]
[null,null,null,"Residentieel",null,null,null,null,null,null,"Algemene aannames, overschrijfbaar vanuit centrale dashboard"]
[null,"Beschrijving van de maatregel"]
[null,"Maatregel: Stimuleren van het plaatsten van vloerisolatie bij huishoudens die niet aan de isolatienormen voldoen.\n\nDe isolatievereisten zijn gedefinieerd en vastgelegd door de energieprestatieregelgeving (EPB) te gebruiken als leidraad (gewenste isolatieniveau)."]
[null,"Relatie met andere maatregelen"]
[null,null,{"$f":"RES_EE_SLOOP!B3","v":"Verder stimuleren sloop van energieverslindende gebouwen"},null,null,"Sc1","Sc2"]
[null,"Overlappend potentieel met andere Energie Efficiëntie maatregel in de huishoudsector",null,null,null,{"$f":"RES_EE_SLOOP!F27","v":18668.757305940697},{"$f":"RES_EE_SLOOP!G27","v":33603.763150693252},"MWh"]
[null,null,"Isolatiemaatregelen: Dak"]
[null,"Overlappend potentieel met andere Energie Efficiëntie maatregel in de huishoudsector",null,null,null,{"$f":"RES_ISO_DAK!F27","v":45740.387983126755},{"$f":"RES_ISO_DAK!G27","v":87089.69871987334},"MWh"]
[null,null,"Isolatiemaatregelen: Muur"]
[null,"Overlappend potentieel met andere Energie Efficiëntie maatregel in de huishoudsector",null,null,null,{"$f":"RES_ISO_MUUR!F27","v":50957.868886249897},{"$f":"RES_ISO_MUUR!G27","v":80302.560205204121},"MWh"]
[null,"Betekenis lange termijn voor energie-/klimaattransitie"]
[null,"De algemene energievraag voor de productie van warmte (ruimteverwarming) kan door een doorgedreven isolatiebeleid op termijn sterk teruggedrongen worden."]
[null,"Aannames/onzekerheden/hypothesen"]
[null,"Aanname: Alle gedefinieerde kosten zijn bepaald vanuit een maatschappelijk standpunt (exl. taksen, subsidies, etc.) en zeggen niets over de kost vanuit een actor standpunt. De kosten dienen dus ook niet als dusdanig geïnterpreteerd te worden. De maatschappelijke kost wordt enkel gebruikt om een relatieve volgorde te kunnen opmaken om te bepalen welke maatregelen vanuit maatschappelijke standpunt goedkoper zijn dan andere."]
[null,"Aanname: Voor de eenvoud wordt er gerekend met de waarden van het 'gemiddelde' huis in Vlaanderen. Zo worden gemiddelden bepaald van een aantal technische gegevens van een gemiddelde woning in Vlaanderen (gemiddelde oppervlakte, gem. u-waarde, gem. energieverbruik). "]
[null,"Aanname: We rekenen hier met de technische levensduur van de isolatiematerialen. Dit zal zorgen dat de maatregel een negatieve kost per CO2eq reductie heeft. Vanuit het perspectief van de investeerder (huiseigenaar) zal de investering zich sneller moeten terugverdienen dan de vooropgestelde technische levensduur. Dit maakt dat in realiteit de kost per reductie-eenheid hoger zal liggen dan vanuit maatschappelijk perspectief."]
[null,"Aanname: Deze maatregel wordt verondersteld een renovatiemaatregel te zijn, waardoor de maatregel enkel van toepassing is op bestaande woningen."]
[null,"Aanname: Bij het bepalen van het potentieel sluiten we alle vloerisolaties uit van het potentieel die een U-waarde halen van 0,50 W/m²K (reeds recent gerenoveerd) en de vloerisolatie die de vereiste U-waarde al halen (0,24  W/m²K). Slechts 3% van het aantal woningen komen hier voor in aanmerking."]
[null,"Aanname: Er wordt verondersteld dat Energie Efficiëntie maatregelen (alle isolatie maatregelen samen), tot 75% kan besparen van het totaal warmtegebruik in huishoudens."]
[null,"Aanname: Een woning voor 1970 verbruikt +/-5 keer meer energie dan een nieuwbouw (E30) woning [j]. Er wordt verondersteld dat de woningen die in aanmerking komen voor renovatiemaatregelen, 2 keer meer energie verbruiken dan het gemiddelde energiegebruik van een woning die reeds de isolatienorm halen."]
[null,"Aanname: Bij de INV cijfers, veronderstellen we dat alle elektrisch verbruik van de residentiële sector verbruikt wordt door elektrische apparaten (geen elektrische verwarming)."]
[null,"Aanname: Er worden een aanname gedaan betreffende elke individuele isolatiemaatregel op het energieverbruik van een woning. Dit om de optelbaarheid van isolatie maatregelen in de residentiële sector te garanderen en te vermijden dat bij een 100% ambitie van alle isolatiemaatregelen er meer wordt gereduceerd dan het totale brandstofverbruik in de residentiële sector. Zo wordt aangenomen dat een dakisolatie tot 50% van de resterende brandstofverbruik kan reduceren, muur- 49%, vloer- 28% en beglazing 28% [i]."]
[]
[null,"Berekeningen"]
[null,"Resultaat",null,null,null,"Scenario1","Scenario2"]
[null,"totale besparing",null,"MWh",null,{"$f":"$F$47*F48*F57","v":23652.383691033039},{"$f":"G47*$F$48*G57","v":28415.964502258459}]
[null,"totale CO2 reductie",null,"ton CO2",null,{"$f":"F29*F78","v":4990.4290141524016},{"$f":"G29*F78","v":5995.4994629550474}]
[null,"Maatschappelijke kost per ton CO2 reductie",null,"€/ton CO2",null,{"$f":"(F74-F89)*F58/F30","v":-350.34997630790741}]
[]
[null,"Potentieel maatregel",null,"Eenheid","Jaar","Waarde",null,"Bron"]
[null,"Capaciteitsmeter: gem. vloeropp/HH",null,"#HH",null,{"$f":"IF(F97=\"BAU\",tbl_AA_Res_HH_REFJaar['# Huishoudens]*(1-BAU_RES!I63),tbl_AA_Res_HH_REFJaar['# Huishoudens])","v":33754.163999999997},null,"[d]"]
[null,"Activiteitsmeter: Brandstofverbruik",null,"MWh",null,{"$f":"IF(F97=J78,K78,IF(F97=J79,K79,K80))","v":439752.94987326977}]
[]
[null,"Bijkomend potentieel"]
[null,null,"Effect Totaal isolatie op brandstofverbruik","%",null,0.75,null,"Aanname"]
[null,null,null,"MWh",null,{"$f":"F35*F38","v":329814.71240495233}]
[null,null,"Rest potentieel na overlappende maatregel","MWh",null,{"$f":"$F$39-SUM(F9,F11,F13)","v":214447.69822963496},{"$f":"$F$39-SUM(G9,G11,G13)","v":128818.69032918161}]
[]
[null,null,"Aandeel van HH die in aanmerking komen","% van #HH komen in aanmerking",null,1]
[null,null,null,"#HH",null,{"$f":"F34*F42","v":33754.163999999997}]
[null,null,null,"MWh",null,{"$f":"F40*$F$42","v":214447.69822963496},{"$f":"G40*$F$42","v":128818.69032918161}]
[null,null,"Aandeel van potentieel reeds vervuld","% van potentieel reeds vervuld",null,0.03,null,"[h] - p123"]
[null,null,"Bijkomend potentieel","#HH",null,{"$f":"F34*(1-F45)","v":32741.539079999995}]
[null,null,"Bijkomend potentieel","MWh",null,{"$f":"F44*((1-$F$45)*2/(1+(1-$F$45)))","v":211181.99724136639},{"$f":"G44*((1-$F$45)*2/(1+(1-$F$45)))","v":126856.9843850824}]
[null,null,"Effect Vloer isolatie op brandstofverbruik","%",null,0.28000000000000003,null,"[i] - p64"]
[]
[null,"Implementatiegraad maatregel",null,null,null,"Min.","Max"]
[null,null,{"$f":"dropdowns!$R$4","v":"Niet"},null,null,1.0000000000000001E-17]
[null,null,{"$f":"dropdowns!$R$5","v":"Laag"},null,null,0.3,0.5,"[e] - p16; [f]","aanpassen obv gemeente specifieke eigenschappen"]
[null,null,{"$f":"dropdowns!$R$6","v":"Medium"},null,null,0.5,0.7,"[e] - p16; [f]","aanpassen obv gemeente specifieke eigenschappen"]
[null,null,{"$f":"dropdowns!$R$7","v":"Hoog"},null,null,0.7,0.9,"[e] - p16; [f]","aanpassen obv gemeente specifieke eigenschappen"]
[]
[null,"Bijkomende implementatie",null,null,null,"Scenario1","Scenario2"]
[null,"Bijkomende invulling van potentieel",null,"% van de HH (2030)",null,{"$f":"IF('Scenario''s'!I12=C51,F51,IF('Scenario''s'!I12=C52,AVERAGE(F52,G52),IF('Scenario''s'!I12=C53,AVERAGE(F53,G53),AVERAGE(F54,G54))))","v":0.4},{"$f":"IF('Scenario''s'!M12=C51,F51,IF('Scenario''s'!M12=C52,AVERAGE(F52,G52),IF('Scenario''s'!M12=C53,AVERAGE(F53,G53),AVERAGE(F54,G54))))","v":0.8},null,"Keuze via scenario's"]
[null,"Bijkomende invulling van potentieel",null,"# HH",null,{"$f":"F46*F57","v":13096.615631999999},{"$f":"F46*G57","v":26193.231263999998}]
[]
[null,"Parameters"]
[null,"Kenmerken maatregel",null,"Eenheid","Jaar","Waarde",null,"Bron"]
[null,"Installatie kenmerken"]
[null,null,"Gemiddelde vloeroppervlakte van de bestaande woningen","m²/HH",null,89,null,null,"gemiddelde dakoppervlakte van de bestaande woningen"]
[null,null,"Technische gegevens: u-waarde (2030)","w/m²K",null,0.24,null,"[c]"]
[null,null,"Transmissie verliezen (2030)","kWh/jaar per HH",null,{"$f":"(F94*24*60*60)*F64*F63/3600000","v":958.63679999999999}]
[null,null,"Technische levensduur","jaar",null,50]
[null,null,"gem. rendement fossiele installatie - SWW en verwarming","Input/Output",null,{"$f":"IF(F97=J78,(N78*'AA_Energieprijs&Discontovoet'!$F$40+O78*'AA_Energieprijs&Discontovoet'!$F$41+P78*'AA_Energieprijs&Discontovoet'!$F$42)/SUM(N78:P78),IF(F97=J79,(N79*'AA_Energieprijs&Discontovoet'!$F$40+O79*'AA_Energieprijs&Discontovoet'!$F$41+P79*'AA_Energieprijs&Discontovoet'!$F$42)/SUM(N79:P79),(N80*'AA_Energieprijs&Discontovoet'!$F$40+O80*'AA_Energieprijs&Discontovoet'!$F$41+P80*'AA_Energieprijs&Discontovoet'!$F$42)/SUM(N80:P80)))","v":1.2406989450868868}]
[null,"Kosten"]
[null,null,"CAPEX","€/m²",null,13,null,null,"excl. taks & premies, incl. plaatsing"]
[null,null,null,"€/HH",null,{"$f":"F69*F63","v":1157},null,"[b] - p55"]
[null,null,"Vaste OPEX","€/HH/jaar",null,0,null,null,"geen jaarlijkse onderhoudskost"]
[null,null,"Variabele OPEX (brandstofkosten)","€/kWh",null,{"$f":"IF(F97=J78,(N78*'AA_Energieprijs&Discontovoet'!F58+O78*'AA_Energieprijs&Discontovoet'!F59+P78*'AA_Energieprijs&Discontovoet'!F60)/SUM(N78:P78),IF(F97=J79,(N79*'AA_Energieprijs&Discontovoet'!F58+O79*'AA_Energieprijs&Discontovoet'!F59+P79*'AA_Energieprijs&Discontovoet'!F60)/SUM(N79:P79),(N80*'AA_Energieprijs&Discontovoet'!F58+O80*'AA_Energieprijs&Discontovoet'!F59+P80*'AA_Energieprijs&Discontovoet'!F60)/SUM(N80:P80)))","v":4.3687447100671573E-2},null,null,"gemiddelde prijs in functie van de brandstofmix van de verwarming bij huishoudens"]
[null,null,null,"€/HH/jaar aan transmissieverliezen",null,{"$f":"F72*F65*F67","v":51.960961262023574}]
[null,null,"Totale jaarlijkse kost (aflossing CAPEX+OPEX+brandstofkost)",null,null,{"$f":"(-PMT(F96,F66,F70)+F71+F73)","v":105.81954318214314}]
[]
[null,"Kenmerken referentiesituatie",null,null,null,null,null,null,null,null,"Brandstofgebruik (warmtevraag)","Verdeling van de fossiele residentiële energievectoren voor verwarming (obv het gekozen referentiejaar)",null,null,null,null,null,null,null,null,null,"Emissiefactoren"]
[null,"Gemiddelde emissiefactoren",null,null,null,null,null,null,null,"Bron","MWh","Elektriciteit","Warmte/ Koude","Aardgas","Vloeibaar gas","Stookolie","Diesel","Benzine","Bruinkool","Steenkool","Rest","EF_verw","EF_ELE"]
[null,null,"Bestaande woningen - SWW en verwarming","ton CO2/MWh",null,{"$f":"IF($F$97=J78,V78,IF($F$97=J79,V79,V80))","v":0.21099053183567054},null,null,null,"BAU",{"$f":"SUM(BAU_RES!I31:J31)","v":439752.94987326977},{"$f":"SUM(BAU_RES!I14:J14)/$K$78","v":7.2633495379798796E-2},{"$f":"SUM(BAU_RES!I15:J15)/$K$78","v":0},{"$f":"SUM(BAU_RES!I17:J17)/$K$78","v":0.68934791287609343},{"$f":"SUM(BAU_RES!I18:J18)/$K$78","v":4.5452203370009506E-2},{"$f":"SUM(BAU_RES!I19:J19)/$K$78","v":9.7660965779324635E-2},{"$f":"SUM(BAU_RES!I20:J20)/$K$78","v":0},{"$f":"SUM(BAU_RES!I21:J21)/$K$78","v":0},{"$f":"SUM(BAU_RES!I22:J22)/$K$78","v":0},{"$f":"SUM(BAU_RES!I23:J23)/$K$78","v":0},{"$f":"100%-SUM(L78:T78)","v":9.4905422594773636E-2},{"$f":"SUMPRODUCT(M78:T78,$M$81:$T$81)/SUM(M78:T78)","v":0.21099053183567054},{"$f":"BAU_TOTAAL!$Q$14","v":0.17705584446860712}]
[null,null,"Elektrische verwarming","ton CO2/MWh",null,{"$f":"IF($F$97=J78,W78,IF($F$97=J79,W79,W80))","v":0.17705584446860712},null,null,null,"INV",{"$f":"INV!S16-INV!D16","v":417486.11717709649},null,{"$f":"INV!E16/$K79","v":0},{"$f":"INV!F16/$K79","v":0.73303629483224908},{"$f":"INV!G16/$K79","v":5.3255312583037756E-2},{"$f":"INV!H16/$K79","v":0.11442713167060704},{"$f":"INV!I16/$K79","v":0},{"$f":"INV!J16/$K79","v":0},{"$f":"INV!K16/$K79","v":0},{"$f":"INV!L16/$K79","v":0},{"$f":"100%-SUM(L79:T79)","v":9.9281260914106162E-2},{"$f":"SUMPRODUCT(M79:T79,$M$81:$T$81)/SUM(M79:T79)","v":0.21173572103325497},{"$f":"INV!$D$26","v":0.19750015989190264}]
[null,"Installatie kenmerken",null,null,null,null,null,null,null,"EIG",{"$f":"SUM(EIG!$E$16:$R$16)","v":0},null,{"$f":"EIG!E16/$K$80","v":{"$error":"#DIV/0!"}},{"$f":"EIG!F16/$K$80","v":{"$error":"#DIV/0!"}},{"$f":"EIG!G16/$K$80","v":{"$error":"#DIV/0!"}},{"$f":"EIG!H16/$K$80","v":{"$error":"#DIV/0!"}},{"$f":"EIG!I16/$K$80","v":{"$error":"#DIV/0!"}},{"$f":"EIG!J16/$K$80","v":{"$error":"#DIV/0!"}},{"$f":"EIG!K16/$K$80","v":{"$error":"#DIV/0!"}},{"$f":"EIG!L16/$K$80","v":{"$error":"#DIV/0!"}},{"$error":"#DIV/0!"},{"$f":"SUMPRODUCT(M80:T80,$M$81:$T$81)/SUM(M80:T80)","v":{"$error":"#DIV/0!"}},{"$f":"EIG!$D$26","v":0}]
[null,null,"Gemiddelde vloeroppervlakte van de bestaande woningen","m²/HH",null,89,null,"[b]",null,"EF_vector",null,null,{"$f":"BAU_TOTAAL!$Q$15","v":0.23764705882352966},{"$f":"'AA_Energieprijs&Discontovoet'!$F$98","v":0.20200000000000001},{"$f":"'AA_Energieprijs&Discontovoet'!$F$99","v":0.22700000000000001},{"$f":"'AA_Energieprijs&Discontovoet'!$F$100","v":0.26700000000000002},{"$f":"'AA_Energieprijs&Discontovoet'!$F$101","v":0.26700000000000002},{"$f":"'AA_Energieprijs&Discontovoet'!$F$102","v":0.249},{"$f":"'AA_Energieprijs&Discontovoet'!$F$103","v":0.35099999999999998},{"$f":"'AA_Energieprijs&Discontovoet'!$F$104","v":0.35399999999999998}]
[null,null,"Technische gegevens: u-waarde (referentiesituatie)","w/m²K",null,{"$f":"N86","v":1.1638865979381445}]
[null,null,"Transmissie verliezen (referentiesituatie)","kWh/jaar per HH",null,{"$f":"(F93*24*60*60)*F82*F81/3600000","v":4415.2457091958768}]
[null,"Kosten",null,null,null,null,null,null,null,null,"Geen isolatie","deels isolatie","Volledige isolatie","gemiddeld"]
[null,null,"CAPEX","€/HH",null,0,null,null,null,"aandeel",0.52700000000000002,0.13900000000000001,{"$f":"N85-K85-L85","v":0.30399999999999994},{"$f":"100%-(100%-F42)-F45","v":0.97},"[h] - p123"]
[null,null,"Vaste OPEX","€/HH/jaar",null,0,null,null,null,"U-waarde",1.3,1.05,0.98,{"$f":"K86*(K85/N85)+L86*(L85/N85)+M86*(M85/N85)","v":1.1638865979381445},"[a] - p7"]
[null,null,"Variabele OPEX","€/kWh",null,{"$f":"(N78*'AA_Energieprijs&Discontovoet'!F58+O78*'AA_Energieprijs&Discontovoet'!F59+P78*'AA_Energieprijs&Discontovoet'!F60)/SUM(N78:P78)","v":4.3687447100671573E-2}]
[null,null,null,"€/HH/jaar",null,{"$f":"F87*F83*F67","v":239.31942864893435}]
[null,null,"Totale jaarlijkse kost (aflossing CAPEX+OPEX+brandstofkost)",null,null,{"$f":"F85+F86+F88","v":239.31942864893435}]
[]
[null,"Algemene aannames"]
[null,"Graaddagen (15/15)"]
[null,null,"Referentiejaar",null,{"$f":"F98","v":2017},{"$f":"VLOOKUP(E93+0,'AA_Energieprijs&Discontovoet'!E8:F16,2,FALSE)","v":1776}]
[null,null,2030,null,2030,{"$f":"'AA_Energieprijs&Discontovoet'!F16","v":1870}]
[null,null,"Elasticiteit",null,null,0.6]
[null,"Discontovoet",null,"%",null,{"$f":"P_Discontovoet","v":0.04},null,null,"Keuze via dashboard"]
[null,"Referentiesituatie",null,null,null,{"$f":"P_Maatregelen_Referentie","v":"BAU"},null,null,"Keuze via dashboard"]
[null,null,"jaar",null,null,{"$f":"P_Maatregelen_Jaar_Inventaris","v":2017}]
[]
[null,"Referenties",null,null,null,null,null,null," "]
[null,"[a]","Verbeeck et al., 2016.De isolatie-index: Evaluatie en herziening van een indicator voor het isolatieniveau",null,null,"https://steunpuntwonen.be/Documenten_2012-2015/Onderzoek_Werkpakketten/WP6-isolatie-index-eind.pdf",null,null," "]
[null,"[b]","Cyx W., 2011. IEE TABULA - Typology Approach for Building Stock Energy Assessment",null,null,"http://episcope.eu/fileadmin/tabula/public/docs/scientific/BE_TABULA_ScientificReport_VITO.pdf",null,null," "]
[null,"[c]","Vlaamse Overheid, 2018. U-waarden vanaf 2018",null,null,"http://www.energiesparen.be/sites/default/files/atoms/files/epbuwaarden2018.pdf",null,null," "]
[null,"[d]","Studiedienst van de Vlaamse Regering"]
[null,"[e]","REG-enquête 2017",null,null,"https://www.energiesparen.be/sites/default/files/atoms/files/beknopte%20resultaten%20REG%20enqu%C3%AAte%202017.pdf",null,null," "]
[null,"[f]","Woonsurvey 2018",null,null,"https://steunpuntwonen.be/Documenten_2016-2020/Onderzoek_Werkpakketten/WP_1_Nieuwe_woonsurvey_en_woningschouwing/WP1-2_RAPPORT",null,null," "]
[null,"[g]","VEA, 2018. Energiewinstcalculator",null,null,"https://www.energiesparen.be/bouwen-en-verbouwen/energiewinstcalculators/energiewinst-isolatie-hellend-dak",null,null," "]
[null,"[h]","Verbeeck et al., 2015. Analyse van de EPC databank: resultaten tot en met 2012",null,null,"https://www.energiesparen.be/sites/default/files/atoms/files/Analyse_EPCdatabank.pdf",null,null," "]
[null,"[i]","CCC, 2013. Reducing emissions from buildings",null,null,"https://www.theccc.org.uk/wp-content/uploads/2013/12/1785b-CCC_TechRep_Singles_Chap3_1.pdf",null,null," "]
[null,"[j]","VCB, E60-woning verbruikt een derde minder energie dan een E100-woning",null,null,"https://static.tijd.be/upload/energieverbruik-230401.pdf",null,null," "]
[null,null,null,null,null,null,null,null," "]

{"sheet":"RES_ISO_BG","index":39,"n_rows":112,"n_cols":23,"rows_kept":112,"cut":false,"hidden":false,"merged":[[27,1,27,7],[21,1,21,7],[5,1,5,7],[16,1,16,7],[18,1,18,7],[19,1,19,7],[20,1,20,7],[22,1,22,7],[25,1,25,7],[23,1,23,7],[24,1,24,7],[8,1,8,4],[10,1,10,4],[12,1,12,4],[14,1,14,4],[26,1,26,7]]}
[null,"<< Naar Scenario's",null,null,null,null,null,null,null,null,"Berekeningen + verwijzing andere cel"]
[null,null,null,null,null,null,null,null,null,null,"Verwijzing andere tab (nulmeting/data)"]
[null,"Plaatsen van betere beglazing",null,null,null,null,null,null,"Opmerkingen",null,"Overschrijfbaar: Vaste parameters uit externe bronnen, literatuur, rebus model"]
[null,null,null,"Residentieel",null,null,null,null,null,null,"Algemene aannames, overschrijfbaar vanuit centrale dashboard"]
[null,"Beschrijving van de maatregel"]
[null,"Maatregel: Stimuleren van het plaatsen van betere beglazing bij huishoudens die niet aan de isolatienormen voldoen.\n\nDe isolatievereisten zijn gedefinieerd en vastgelegd door de energieprestatieregelgeving (EPB) te gebruiken als leidraad (gewenste isolatieniveau) [c]."]
[null,"Relatie met andere maatregelen"]
[null,null,{"$f":"RES_EE_SLOOP!B3","v":"Verder stimuleren sloop van energieverslindende gebouwen"},null,null,"Sc1","Sc2"]
[null,"Overlappend potentieel met andere Energie Efficiëntie maatregel in de huishoudsector",null,null,null,{"$f":"RES_EE_SLOOP!F27","v":18668.757305940697},{"$f":"RES_EE_SLOOP!G27","v":33603.763150693252},"MWh"]
[null,null,"Isolatiemaatregelen: Dak"]
[null,"Overlappend potentieel met andere Energie Efficiëntie maatregel in de huishoudsector",null,null,null,{"$f":"RES_ISO_DAK!F27","v":45740.387983126755},{"$f":"RES_ISO_DAK!G27","v":87089.69871987334},"MWh"]
[null,null,"Isolatiemaatregelen: Muur"]
[null,"Overlappend potentieel met andere Energie Efficiëntie maatregel in de huishoudsector",null,null,null,{"$f":"RES_ISO_MUUR!F27","v":50957.868886249897},{"$f":"RES_ISO_MUUR!G27","v":80302.560205204121},"MWh"]
[null,null,"Isolatiemaatregelen: Vloer"]
[null,"Overlappend potentieel met andere Energie Efficiëntie maatregel in de huishoudsector",null,null,null,{"$f":"RES_ISO_VL!F29","v":23652.383691033039},{"$f":"RES_ISO_VL!G29","v":28415.964502258459},"MWh"]
[null,"Betekenis lange termijn voor energie-/klimaattransitie"]
[null,"De algemene energievraag voor de productie van warmte (ruimteverwarming) kan door een doorgedreven isolatiebeleid op termijn sterk teruggedrongen worden."]
[null,"Aannames/onzekerheden/hypothesen"]
[null,"Aanname: Alle gedefinieerde kosten zijn bepaald vanuit een maatschappelijk standpunt (exl. taksen, subsidies, etc.) en zeggen niets over de kost vanuit een actor standpunt. De kosten dienen dus ook niet als dusdanig geïnterpreteerd te worden. De maatschappelijke kost wordt enkel gebruikt om een relatieve volgorde te kunnen opmaken om te bepalen welke maatregelen vanuit maatschappelijke standpunt goedkoper zijn dan andere."]
[null,"Aanname: Voor de eenvoud wordt er gerekend met de waarden van het 'gemiddelde' huis in Vlaanderen. Zo worden gemiddelden bepaald van een aantal technische gegevens van een gemiddelde woning in Vlaanderen (gemiddelde oppervlakte, gem. u-waarde, gem. energieverbruik). "]
[null,"Aanname: We rekenen hier met de technische levensduur van de isolatie-/raammaterialen. Dit zal zorgen dat de maatregel een negatieve kost per CO2eq reductie heeft. Vanuit het perspectief van de investeerder (huiseigenaar) zal de investering zich sneller moeten terugverdienen dan de vooropgestelde technische levensduur. Dit maakt dat in realiteit de kost per reductie-eenheid hoger zal liggen dan vanuit maatschappelijk perspectief."]
[null,"Aanname: Deze maatregel wordt verondersteld een renovatiemaatregel te zijn, waardoor de maatregel enkel van toepassing is op bestaande woningen."]
[null,"Aanname: Bij het bepalen van het potentieel sluiten we alle beglazingisolaties uit van het potentieel die een U-waarde halen van 1,50 W/m²K (reeds recent gerenoveerd) en de beglazingisolatie die de vereiste U-waarde al halen (1,1  W/m²K). Bij gebrek aan detail informatie veronderstellen we dat alle woningen die niet en gedeeltelijk met dubbele beglazing zijn voorzien in aanmerking koen + de helft van de woningen waar reeds (laagwaardige) dubbele beglazing aanwezig is."]
[null,"Aanname: Er wordt verondersteld dat Energie Efficiëntie maatregelen (alle isolatie maatregelen samen), tot 75% kan besparen van het totaal warmtegebruik in huishoudens."]
[null,"Aanname: Een woning voor 1970 verbruikt +/-5 keer meer energie dan een nieuwbouw (E30) woning [j]. Er wordt verondersteld dat de woningen die in aanmerking komen voor renovatiemaatregelen, 2 keer meer energie verbruiken dan het gemiddelde energiegebruik van een woning die reeds de isolatienorm halen."]
[null,"Aanname: Bij de INV cijfers, veronderstellen we dat alle elektrisch verbruik van de residentiële sector verbruikt wordt door elektrische apparaten (geen elektrische verwarming)."]
[null,"Aanname: Er worden een aanname gedaan betreffende elke individuele isolatiemaatregel op het energieverbruik van een woning. Dit om de optelbaarheid van isolatie maatregelen in de residentiële sector te garanderen en te vermijden dat bij een 100% ambitie van alle isolatiemaatregelen er meer wordt gereduceerd dan het totale brandstofverbruik in de residentiële sector. Zo wordt aangenomen dat een dakisolatie tot 50% van de resterende brandstofverbruik kan reduceren, muur- 49%, vloer- 28% en beglazing 28% [i]."]
[]
[null,"Berekeningen"]
[null,"Resultaat",null,null,null,"Scenario1","Scenario2"]
[null,"totale besparing",null,"MWh",null,{"$f":"F48*$F$49*F58","v":15499.04882717148},{"$f":"G48*$F$49*G58","v":16312.211374118953}]
[null,"totale CO2 reductie",null,"ton CO2",null,{"$f":"F31*F79","v":3270.1525549919365},{"$f":"G31*F79","v":3441.7221532412323}]
[null,"Maatschappelijke kost per ton CO2 reductie",null,"€/ton CO2",null,{"$f":"(F75-F90)*F59/F32","v":100.30550273671912}]
[]
[null,"Potentieel maatregel",null,"Eenheid","Jaar","Waarde",null,"Bron"]
[null,"Capaciteitsmeter: gem. raamopp/HH",null,"#HH",null,{"$f":"IF(F98=\"BAU\",tbl_AA_Res_HH_REFJaar['# Huishoudens]*(1-BAU_RES!I63),tbl_AA_Res_HH_REFJaar['# Huishoudens])","v":33754.163999999997},null,"[d]"]
[null,"Activiteitsmeter: Brandstofverbruik",null,"MWh",null,{"$f":"IF(F98=J79,K79,IF(F98=J80,K80,K81))","v":439752.94987326977}]
[null,"Bijkomend potentieel"]
[null,null,"Effect Totaal isolatie op brandstofverbruik","%",null,0.75,null,"Aanname"]
[null,null,null,"MWh",null,{"$f":"F37*F39","v":329814.71240495233}]
[null,null,"Rest potentieel na overlappende maatregel","MWh",null,{"$f":"$F$40-SUM(F9,F11,F13,F15)","v":190795.31453860193},{"$f":"$F$40-SUM(G9,G11,G13,G15)","v":100402.72582692315}]
[]
[null,null,"Aandeel van HH die in aanmerking komen","% van #HH komen in aanmerking",null,1]
[null,null,null,"#HH",null,{"$f":"F36*F43","v":33754.163999999997}]
[null,null,null,"MWh",null,{"$f":"F41*$F$43","v":190795.31453860193},{"$f":"G41*$F$43","v":100402.72582692315}]
[null,null,"Aandeel van potentieel reeds vervuld","% van potentieel reeds vervuld",null,{"$f":"86.2%/2","v":0.43099999999999999},null,"[f] - p70; [h] - p152"]
[null,null,"Bijkomend potentieel","#HH",null,{"$f":"F36*(1-F46)","v":19206.119315999997}]
[null,null,"Bijkomend potentieel","MWh",null,{"$f":"F45*((1-$F$46)*2/(1+(1-$F$46)))","v":138384.36452831677},{"$f":"G45*((1-$F$46)*2/(1+(1-$F$46)))","v":72822.372205888183},null," "]
[null,null,"Effect Beglazing isolatie op brandstofverbruik","%",null,0.28000000000000003,null,"[I] - p64"]
[]
[null,"Implementatiegraad maatregel",null,null,null,"Min.","Max"]
[null,null,{"$f":"dropdowns!$R$4","v":"Niet"},null,null,9.9999999999999998E-17]
[null,null,{"$f":"dropdowns!$R$5","v":"Laag"},null,null,0.3,0.5,"[e] - p16; [f]","aan passen obv gemeente specifieke eigenschappen"]
[null,null,{"$f":"dropdowns!$R$6","v":"Medium"},null,null,0.5,0.7,"[e] - p16; [f]","aan passen obv gemeente specifieke eigenschappen"]
[null,null,{"$f":"dropdowns!$R$7","v":"Hoog"},null,null,0.7,0.9,"[e] - p16; [f]","aan passen obv gemeente specifieke eigenschappen"]
[]
[null,"Bijkomende implementatie",null,null,null,"Scenario1","Scenario2"]
[null,"Bijkomende invulling van potentieel",null,"% van de HH (2030)",null,{"$f":"IF('Scenario''s'!I13=C52,F52,IF('Scenario''s'!I13=C53,AVERAGE(F53,G53),IF('Scenario''s'!I13=C54,AVERAGE(F54,G54),AVERAGE(F55,G55))))","v":0.4},{"$f":"IF('Scenario''s'!M13=C52,F52,IF('Scenario''s'!M13=C53,AVERAGE(F53,G53),IF('Scenario''s'!M13=C54,AVERAGE(F54,G54),AVERAGE(F55,G55))))","v":0.8},null,"Keuze via scenario's"]
[null,"Bijkomende invulling van potentieel",null,"# HH",null,{"$f":"F47*F58","v":7682.4477263999988},{"$f":"F47*G58","v":15364.895452799998}]
[]
[null,"Parameters"]
[null,"Kenmerken maatregel",null,"Eenheid","Jaar","Waarde",null,"Bron"]
[null,"Installatie kenmerken"]
[null,null,"Gemiddelde raamoppervlakte van de bestaande woningen","m²/HH",null,20,null,"[g]","gemiddelde dakoppervlakte van de bestaande woningen"]
[null,null,"Technische gegevens: u-waarde (2030)","w/m²K",null,1.1000000000000001,null,"[c]"]
[null,null,"Transmissie verliezen (2030)","kWh/jaar per HH",null,{"$f":"(F95*24*60*60)*F65*F64/3600000","v":987.36}]
[null,null,"Technische levensduur","jaar",null,50]
[null,null,"gem. rendement fossiele installatie - SWW en verwarming","Input/Output",null,{"$f":"IF(F98=J79,(N79*'AA_Energieprijs&Discontovoet'!$F$40+O79*'AA_Energieprijs&Discontovoet'!$F$41+P79*'AA_Energieprijs&Discontovoet'!$F$42)/SUM(N79:P79),IF(F98=J80,(N80*'AA_Energieprijs&Discontovoet'!$F$40+O80*'AA_Energieprijs&Discontovoet'!$F$41+P80*'AA_Energieprijs&Discontovoet'!$F$42)/SUM(N80:P80),(N81*'AA_Energieprijs&Discontovoet'!$F$40+O81*'AA_Energieprijs&Discontovoet'!$F$41+P81*'AA_Energieprijs&Discontovoet'!$F$42)/SUM(N81:P81)))","v":1.2406989450868868}]
[null,"Kosten"]
[null,null,"Capex","€/m²",null,140,null,"[g]","(alleen glas, excl. kader)"]
[null,null,null,"€/HH",null,{"$f":"F70*F64","v":2800},null,"[b] - p55","excl. taks & premies, incl. plaatsing"]
[null,null,"Vaste OPEX","€/HH/jaar",null,0,null,null,"geen jaarlijkse onderhoudskost"]
[null,null,"Variabele OPEX (brandstofkosten)","€/kWh",null,{"$f":"IF(F98=J79,(N79*'AA_Energieprijs&Discontovoet'!F58+O79*'AA_Energieprijs&Discontovoet'!F59+P79*'AA_Energieprijs&Discontovoet'!F60)/SUM(N79:P79),IF(F98=J80,(N80*'AA_Energieprijs&Discontovoet'!F58+O80*'AA_Energieprijs&Discontovoet'!F59+P80*'AA_Energieprijs&Discontovoet'!F60)/SUM(N80:P80),(N81*'AA_Energieprijs&Discontovoet'!F58+O81*'AA_Energieprijs&Discontovoet'!F59+P81*'AA_Energieprijs&Discontovoet'!F60)/SUM(N81:P81)))","v":4.3687447100671573E-2},null,null,"gemiddelde prijs in functie van de brandstofmix van de verwarming bij huishoudens"]
[null,null,null,"€/HH/jaar aan transmissieverliezen",null,{"$f":"F73*F66*F68","v":53.517843996466226}]
[null,null,"Totale jaarlijkse kost (aflossing CAPEX+OPEX+brandstofkost)",null,null,{"$f":"(-PMT(F97,F67,F71)+F72+F74)","v":183.8584052551825}]
[]
[null,"Kenmerken referentiesituatie",null,null,null,null,null,null,null,null,"Brandstofgebruik (warmtevraag)","Verdeling van de fossiele residentiële energievectoren voor verwarming (obv het gekozen referentiejaar)",null,null,null,null,null,null,null,null,null,"Emissiefactoren"]
[null,"Gemiddelde emissiefactoren",null,null,null,null,null,null,null,"Bron","MWh","Elektriciteit","Warmte/ Koude","Aardgas","Vloeibaar gas","Stookolie","Diesel","Benzine","Bruinkool","Steenkool","Rest","EF_verw","EF_ELE"]
[null,null,"Bestaande woningen - SWW en verwarming","ton CO2/MWh",null,{"$f":"IF($F$98=J79,V79,IF($F$98=J80,V80,V81))","v":0.21099053183567054},null,null,null,"BAU",{"$f":"SUM(BAU_RES!I31:J31)","v":439752.94987326977},{"$f":"SUM(BAU_RES!I14:J14)/$K$79","v":7.2633495379798796E-2},{"$f":"SUM(BAU_RES!I15:J15)/$K$79","v":0},{"$f":"SUM(BAU_RES!I17:J17)/$K$79","v":0.68934791287609343},{"$f":"SUM(BAU_RES!I18:J18)/$K$79","v":4.5452203370009506E-2},{"$f":"SUM(BAU_RES!I19:J19)/$K$79","v":9.7660965779324635E-2},{"$f":"SUM(BAU_RES!I20:J20)/$K$79","v":0},{"$f":"SUM(BAU_RES!I21:J21)/$K$79","v":0},{"$f":"SUM(BAU_RES!I22:J22)/$K$79","v":0},{"$f":"SUM(BAU_RES!I23:J23)/$K$79","v":0},{"$f":"100%-SUM(L79:T79)","v":9.4905422594773636E-2},{"$f":"SUMPRODUCT(M79:T79,$M$82:$T$82)/SUM(M79:T79)","v":0.21099053183567054},{"$f":"BAU_TOTAAL!$Q$14","v":0.17705584446860712}]
[null,null,"Elektrische verwarming","ton CO2/MWh",null,{"$f":"IF($F$98=J79,W79,IF($F$98=J80,W80,W81))","v":0.17705584446860712},null,null,null,"INV",{"$f":"INV!S16-INV!D16","v":417486.11717709649},null,{"$f":"INV!E16/$K80","v":0},{"$f":"INV!F16/$K80","v":0.73303629483224908},{"$f":"INV!G16/$K80","v":5.3255312583037756E-2},{"$f":"INV!H16/$K80","v":0.11442713167060704},{"$f":"INV!I16/$K80","v":0},{"$f":"INV!J16/$K80","v":0},{"$f":"INV!K16/$K80","v":0},{"$f":"INV!L16/$K80","v":0},{"$f":"100%-SUM(L80:T80)","v":9.9281260914106162E-2},{"$f":"SUMPRODUCT(M80:T80,$M$82:$T$82)/SUM(M80:T80)","v":0.21173572103325497},{"$f":"INV!$D$26","v":0.19750015989190264}]
[null,"Installatie kenmerken",null,null,null,null,null,null,null,"EIG",{"$f":"SUM(EIG!$E$16:$R$16)","v":0},null,{"$f":"EIG!E16/$K$81","v":{"$error":"#DIV/0!"}},{"$f":"EIG!F16/$K$81","v":{"$error":"#DIV/0!"}},{"$f":"EIG!G16/$K$81","v":{"$error":"#DIV/0!"}},{"$f":"EIG!H16/$K$81","v":{"$error":"#DIV/0!"}},{"$f":"EIG!I16/$K$81","v":{"$error":"#DIV/0!"}},{"$f":"EIG!J16/$K$81","v":{"$error":"#DIV/0!"}},{"$f":"EIG!K16/$K$81","v":{"$error":"#DIV/0!"}},{"$f":"EIG!L16/$K$81","v":{"$error":"#DIV/0!"}},{"$error":"#DIV/0!"},{"$f":"SUMPRODUCT(M81:T81,$M$82:$T$82)/SUM(M81:T81)","v":{"$error":"#DIV/0!"}},{"$f":"EIG!$D$26","v":0}]
[null,null,"Gemiddelde raamoppervlakte van de bestaande woningen","m²/HH",null,20,null,"[g]",null,"EF_vector",null,null,{"$f":"BAU_TOTAAL!$Q$15","v":0.23764705882352966},{"$f":"'AA_Energieprijs&Discontovoet'!$F$98","v":0.20200000000000001},{"$f":"'AA_Energieprijs&Discontovoet'!$F$99","v":0.22700000000000001},{"$f":"'AA_Energieprijs&Discontovoet'!$F$100","v":0.26700000000000002},{"$f":"'AA_Energieprijs&Discontovoet'!$F$101","v":0.26700000000000002},{"$f":"'AA_Energieprijs&Discontovoet'!$F$102","v":0.249},{"$f":"'AA_Energieprijs&Discontovoet'!$F$103","v":0.35099999999999998},{"$f":"'AA_Energieprijs&Discontovoet'!$F$104","v":0.35399999999999998}]
[null,null,"Technische gegevens: u-waarde (referentiesituatie)","w/m²K",null,{"$f":"N87","v":3.0549912126537784}]
[null,null,"Transmissie verliezen (referentiesituatie)","kWh/jaar per HH",null,{"$f":"(F94*24*60*60)*F83*F82/3600000","v":2604.3189089630928}]
[null,"Kosten",null,null,null,null,null,null,null,null,"Geen isolatie","deels isolatie","Volledige isolatie","gemiddeld"]
[null,null,"CAPEX","€/HH",null,0,null,null,null,"aandeel",4.2999999999999997E-2,9.5000000000000001E-2,{"$f":"N86-K86-L86","v":0.43099999999999994},{"$f":"100%-(100%-F43)-F46","v":0.56899999999999995},"[f] - p70"]
[null,null,"Vaste OPEX","€/HH/jaar",null,0,null,null,null,"U-waarde",5.29,3.79,2.67,{"$f":"K87*(K86/N86)+L87*(L86/N86)+M87*(M86/N86)","v":3.0549912126537784},"[a] - p7"]
[null,null,"Variabele OPEX","€/kWh",null,{"$f":"(N79*'AA_Energieprijs&Discontovoet'!F58+O79*'AA_Energieprijs&Discontovoet'!F59+P79*'AA_Energieprijs&Discontovoet'!F60)/SUM(N79:P79)","v":4.3687447100671573E-2}]
[null,null,null,"€/HH/jaar",null,{"$f":"F88*F84*F68","v":141.16181847242538}]
[null,null,"Totale jaarlijkse kost (aflossing CAPEX+OPEX+brandstofkost)",null,null,{"$f":"F86+F87+F89","v":141.16181847242538}]
[]
[null,"Algemene aannames"]
[null,"Graaddagen (15/15)"]
[null,null,"Referentiejaar",null,{"$f":"F99","v":2017},{"$f":"VLOOKUP(E94+0,'AA_Energieprijs&Discontovoet'!E8:F16,2,FALSE)","v":1776}]
[null,null,2030,null,2030,{"$f":"'AA_Energieprijs&Discontovoet'!F16","v":1870}]
[null,null,"Elasticiteit",null,null,0.6]
[null,"Discontovoet",null,"%",null,{"$f":"P_Discontovoet","v":0.04},null,null,"Keuze via dashboard"]
[null,"Referentiesituatie",null,null,null,{"$f":"P_Maatregelen_Referentie","v":"BAU"},null,null,"Keuze via dashboard"]
[null,null,"jaar",null,null,{"$f":"P_Maatregelen_Jaar_Inventaris","v":2017}]
[]
[null,"Referenties",null,null,null,null,null,null," "]
[null,"[a]","Verbeeck et al., 2016.De isolatie-index: Evaluatie en herziening van een indicator voor het isolatieniveau",null,null,"https://steunpuntwonen.be/Documenten_2012-2015/Onderzoek_Werkpakketten/WP6-isolatie-index-eind.pdf",null,null," "]
[null,"[b]","Cyx W., 2011. IEE TABULA - Typology Approach for Building Stock Energy Assessment",null,null,"http://episcope.eu/fileadmin/tabula/public/docs/scientific/BE_TABULA_ScientificReport_VITO.pdf",null,null," "]
[null,"[c]","Vlaamse Overheid, 2018. U-waarden vanaf 2018",null,null,"http://www.energiesparen.be/sites/default/files/atoms/files/epbuwaarden2018.pdf",null,null," "]
[null,"[d]","Studiedienst van de Vlaamse Regering"]
[null,"[e]","REG-enquête 2017",null,null,"https://www.energiesparen.be/sites/default/files/atoms/files/beknopte%20resultaten%20REG%20enqu%C3%AAte%202017.pdf",null,null," "]
[null,"[f]","Woonsurvey 2018",null,null,"https://steunpuntwonen.be/Documenten_2016-2020/Onderzoek_Werkpakketten/WP_1_Nieuwe_woonsurvey_en_woningschouwing/WP1-2_RAPPORT",null,null," "]
[null,"[g]","VEA, 2018. Energiewinstcalculator",null,null,"https://www.energiesparen.be/bouwen-en-verbouwen/energiewinstcalculators/energiewinst-isolatie-hellend-dak",null,null," "]
[null,"[h]","Verbeeck et al., 2015. Analyse van de EPC databank: resultaten tot en met 2012",null,null,"https://www.energiesparen.be/sites/default/files/atoms/files/Analyse_EPCdatabank.pdf",null,null," "]
[null,"[i]","CCC, 2013. Reducing emissions from buildings",null,null,"https://www.theccc.org.uk/wp-content/uploads/2013/12/1785b-CCC_TechRep_Singles_Chap3_1.pdf",null,null," "]
[null,"[j]","VCB, E60-woning verbruikt een derde minder energie dan een E100-woning",null,null,"https://static.tijd.be/upload/energieverbruik-230401.pdf",null,null," "]
[null,null,null,null,null,null,null,null," "]

{"sheet":"RES_HER_WP","index":40,"n_rows":109,"n_cols":23,"rows_kept":109,"cut":false,"hidden":false,"merged":[[20,1,20,7],[18,1,18,7],[5,1,5,7],[12,1,12,7],[15,1,15,7],[16,1,16,7],[17,1,17,7],[14,1,14,7],[19,1,19,7],[8,1,8,4],[10,1,10,4]]}
[null,"<< Naar Scenario's",null,null,null,null,null,null,null,null,"Berekeningen + verwijzing andere cel"]
[null,null,null,null,null,null,null,null,null,null,"Verwijzing andere tab (nulmeting/data)"]
[null,"Plaatsen van een warmtepomp",null,null,null,null,null,null,"Opmerkingen",null,"Overschrijfbaar: Vaste parameters uit externe bronnen, literatuur, rebus model"]
[null,null,null,"Residentieel",null,null,null,null,null,null,"Algemene aannames, overschrijfbaar vanuit centrale dashboard"]
[null,"Beschrijving van de maatregel"]
[null,"Maatregel: De implementatie van warmtepompen in bestaande woningen in de residentiële sector voor de verwarming van sanitair warm water en ruimteverwarming.\n\nOm de implementatie van de diverse warmtepompen te versnellen tot het niveau van het maximum technische potentieel, dient men zich bewust te zijn van een aantal barrières die vlotte introductie kunnen belemmeren. De ontwikkeling van de lage temperatuur warmtepomp als (geloof)waardig alternatief hangt nauw samen met 3 andere maatregelen: (1) hernieuwbaar maken van de elektriciteitsproductie; (2) goed isoleren van de woningen en (3) overgaan van een hoge temperatuur distributiesysteem naar een lage temperatuur distributiesysteem. Bij het organiseren van beleidsmaatregelen voor de verdere uitrol van het gebruik van warmtepompen in de residentiële sector, kan het welslagen van deze maatregel afhangen van redenen die niet direct iets met de technologie zelf te maken hebben. Het risico dat de warmtepomp niet de gewenste uitstootreductie haalt is daardoor veel groter dan het risico inherent aan de technologie zelf [a]. Men mag bij de uitrol van deze maatregel deze 3 elementen niet uit het oog verliezen. Vaak volstaat het om bepaalde barrières uit de weg te werken om het succes van de warmtepomp te versnellen.\n"]
[null,"Relatie met andere maatregelen"]
[null,null,{"$f":"RES_EE_SLOOP!B3","v":"Verder stimuleren sloop van energieverslindende gebouwen"},null,null,"Sc1","Sc2"]
[null,"Overlappend potentieel met andere Energie Efficiëntie maatregel in de huishoudsector",null,null,null,{"$f":"RES_EE_SLOOP!F27","v":18668.757305940697},{"$f":"RES_EE_SLOOP!G27","v":33603.763150693252},"MWh"]
[null,null,"Isolatiemaatregelen: Dak, Muur, Vloer en Beglazing"]
[null,"Overlappend potentieel met andere Energie Efficiëntie maatregel in de huishoudsector",null,null,null,{"$f":"SUM(RES_ISO_DAK!F27,RES_ISO_MUUR!F27,RES_ISO_VL!F29,RES_ISO_BG!F31)","v":135849.68938758117},{"$f":"SUM(RES_ISO_DAK!G27,RES_ISO_MUUR!G27,RES_ISO_VL!G29,RES_ISO_BG!G31)","v":212120.43480145486},"MWh"]
[null,"Betekenis lange termijn voor energie-/klimaattransitie"]
[null,"Warmtepompen zijn een hernieuwbare warmtetechniek die in rechtstreekse concurrentie komt met een aantal andere hernieuwbare residentiële warmtetechnieken (zonneboilers, pelletketels, warmtenetten, etc.). De shift van fossiel naar hernieuwbaar kan beleidsmatig ondersteund worden, maar men dient toch op te letten niet de keuze tussen verschillende hernieuwbare technieken op te leggen. Het zou beter zijn een beleid te ontwikkelen die zich eerder toespitst op de verduurzaming van de warmteproductie in woningen eerder dan het naar voorschuiven/ondersteunen van één specifieke techniek. Het beleid voor de maatregel 'warmtepomp' zou dus beter geïntegreerd worden in een beleid waarbij de alternatieve en duurzame warmtetechnieken worden ondersteund, zonder vanuit het beleid de technologiekeuze op te leggen."]
[null,"Aannames/onzekerheden/hypothesen"]
[null,"Aanname: Alle gedefinieerde kosten zijn bepaald vanuit een maatschappelijk standpunt (exl. taksen, subsidies, etc.) en zeggen niets over de kost vanuit een actor standpunt. De kosten dienen dus ook niet als dusdanig geïnterpreteerd te worden. De maatschappelijke kost wordt enkel gebruikt om een relatieve volgorde te kunnen opmaken om te bepalen welke maatregelen vanuit maatschappelijke standpunt goedkoper zijn dan andere."]
[null,"Aanname: we weten dat het technische potentieel niet voor elke woning dezelfde is. De woning specifieke eigenschappen bepalen of de toepasbaarheid van een warmtepomp haalbaar is (betaalbaar is). De gedefinieerde technisch potentieel dient dan ook gelezen te worden als een bovengrens. Voor de bepaling van het technische potentieel wordt verondersteld 30% van de bestaande woningen die op niet elektrische manier verwarmen, in aanmerking komen. Bijkomend wordt verondersteld dat 0% van dat potentieel reeds is ingevuld."]
[null,"Aanname: Er kunnen diverse types van warmtepompen worden ingezet, zowel elektrisch aangedreven, hybride als gas warmtepompen. We rekenen hier voor de eenvoud enkel verder met elektrische aangedreven warmtepompen."]
[null,"Aanname: Er bestaan Grond/Water, Lucht/Water en Lucht/Lucht warmtepompen, elk met hun specifieke eigenschappen. We rekenen hier voor de eenvoud enkel verder met de kenmerken van een 'gemiddelde' installatie. "]
[null,"Aanname: We veronderstellen dat enkel de fossiele installaties van de referentiesituatie in aanmerking komen voor vervanging als WP."]
[null,"Aanname: Er wordt verondersteld dat Energie Efficiëntie maatregelen (isolatie), tot 75% kan besparen van het totaal warmtegebruik in huishoudens. De resterende warmtevraag komt in aanmerking om verduurzaamd te worden met hernieuwbare installaties."]
[null,"Aanname: Bij de INV cijfers, veronderstellen we dat alle elektrisch verbruik van de residentiële sector verbruikt wordt door elektrische apparaten (geen elektrische verwarming)."]
[null,"Berekeningen"]
[null,"Resultaat",null,null,null,"Scenario1","Scenario2"]
[null,"totale besparing",null,"MWh",null,{"$f":"F55/1000*F82-F55/1000*F62","v":15553.971401937855},{"$f":"G55/1000*F82-G55/1000*F62","v":37688.033552401772}]
[null,"totale CO2 reductie",null,"ton CO2",null,{"$f":"F55/1000*F82*F79-F55/1000*F62*F60","v":3453.6546423835571},{"$f":"G55/1000*F82*F79-G55/1000*F62*F60","v":8368.3741391181265}]
[null,"Maatschappelijke kost per ton CO2 reductie",null,"€/ton CO2",null,{"$f":"(F75-F91)/F25","v":594.38856207966978}]
[]
[null,"Potentieel maatregel",null,"Eenheid","Jaar","Waarde",null,"Bron"]
[null,"Capaciteitsmeter: aantal huishoudens in gemeente",null,"#HH",null,{"$f":"IF(F99=\"BAU\",tbl_AA_Res_HH_REFJaar['# Huishoudens]*(1-BAU_RES!I63),tbl_AA_Res_HH_REFJaar['# Huishoudens])","v":33754.163999999997},null,"[f]"]
[null,"Activiteitsmeter: Brandstofverbruik",null,"MWh",null,{"$f":"IF(F99=J79,K79,IF(F99=J80,K80,K81))","v":439752.94987326977}]
[null,"Activiteitsmeter: Warmtevraag in residentiële sector",null,"MWh (warmtevraag)",null,{"$f":"IF(F99=J79,(K79/F82),IF(F99=J80,(K80/F82),(K81/F82)))","v":354439.69031703629}]
[]
[null,"Bijkomend potentieel"]
[null,null,"Effect HER op resterend brandstofverbruik","%",null,{"$f":"1-75%","v":0.25},null,"Aanname"]
[null,null,"Rest potentieel na overlappende EE maatregel","%",null,{"$f":"(($F$30*75%)-SUM(F9,F11))/($F$30*75%)","v":0.53149923007739752},{"$f":"(($F$30*75%)-SUM(G9,G11))/($F$30*75%)","v":0.25496289671140082},"Aanname"]
[null,null,null,"MWh",null,{"$f":"$F$31*($F$34+F35)","v":276994.34509163507},{"$f":"$F$31*($F$34+G35)","v":178978.89273198249}]
[]
[null,null,null,"% van HH komen in aanmerking",null,0.3,null,"[a] - p21"]
[null,null,null,"#HH",null,{"$f":"F29*(1-L79)*F38","v":9390.7443255171074},null,null,"enkel het fossiele verbruik is meegenomen"]
[null,null,null,"MWh (warmtevraag)",null,{"$f":"F36*$F$38","v":83098.303527490512},{"$f":"G36*$F$38","v":53693.667819594746}]
[null,null,null,"% van potentieel reeds vervuld",null,0]
[null,null,"Bijkomend potentieel","#HH",null,{"$f":"F39*(1-F41)","v":9390.7443255171074}]
[null,null,"Bijkomend potentieel","MWh (warmtevraag)",null,{"$f":"F40*(1-$F$41)","v":83098.303527490512},{"$f":"G40*(1-$F$41)","v":53693.667819594746}]
[]
[null,"Implementatiegraad maatregel",null,null,null,"Min.","Max"]
[null,null,{"$f":"dropdowns!$R$4","v":"Niet"},null,null,1.0000000000000001E-17]
[null,null,{"$f":"dropdowns!$R$5","v":"Laag"},null,null,0.1,0.3,null,"aanpassen obv gemeente specifieke eigenschappen"]
[null,null,{"$f":"dropdowns!$R$6","v":"Medium"},null,null,0.3,0.6,null,"aanpassen obv gemeente specifieke eigenschappen"]
[null,null,{"$f":"dropdowns!$R$7","v":"Hoog"},null,null,0.6,0.9,null,"aanpassen obv gemeente specifieke eigenschappen"]
[]
[null,"Bijkomende implementatie",null,null,null,"Scenario1","Scenario2"]
[null,"Bijkomende invulling van potentieel",null,"% van de warmtevraag (2030)",null,{"$f":"IF('Scenario''s'!I14=C46,F46,IF('Scenario''s'!I14=C47,AVERAGE(F47,G47),IF('Scenario''s'!I14=C48,AVERAGE(F48,G48),AVERAGE(F49,G49))))","v":0.2},{"$f":"IF('Scenario''s'!M14=C46,F46,IF('Scenario''s'!M14=C47,AVERAGE(F47,G47),IF('Scenario''s'!M14=C48,AVERAGE(F48,G48),AVERAGE(F49,G49))))","v":0.75},null,"Keuze via scenario's"]
[null,"Bijkomende invulling van potentieel",null,"#HH",null,{"$f":"F42*F52","v":1878.1488651034215},{"$f":"F42*G52","v":7043.0582441378301}]
[null,null,null,"#kW theoretisch vermogen",null,{"$f":"F53*F65","v":19203.113906465594},{"$f":"G53*F65","v":72011.677149245981}]
[null,null,null,"#kWh (warmtevraag)",null,{"$f":"F43*F52*1000","v":16619660.705498103},{"$f":"G43*G52*1000","v":40270250.864696063}]
[]
[null,"Parameters"]
[null,"Kenmerken maatregel",null,"Eenheid","Jaar","Waarde",null,"Bron"]
[null,"Gemiddelde emissiefactoren (2030)"]
[null,null,"Gebruik warmtepomp (elektrische)","ton CO2/MWh",null,{"$f":"IF($F$99=J79,W79,IF($F$99=J80,W80,W81))","v":0.17705584446860712},null,null," "]
[null,"Installatie kenmerken",null,null,null,null,null,null,null,null,null,"G/W","L/W","L/L","Gem"]
[null,null,"gem. rendement WP","Input/Output",null,{"$f":"1/F63","v":0.30482115085536549},null,null,null,"verdeling per type WP",null,0.22,0.47,0.28999999999999998,null,"aannames [a]"]
[null,null,"SPF",null,null,{"$f":"O65","v":3.2806122448979589},null,null,null,"CAPEX","€/kW",2178,1681,1408,{"$f":"(L63*$L$62+M63*$M$62+N63*$N$62)/SUM($L$62:$N$62)","v":1711.7857142857142},"[c] - p145"]
[null,null,"HHP","uren",null,{"$f":"O67","v":1774.9999999999998},null,null,null,"OPEX","€/kW/jaar",null,null,null,17]
[null,null,"Gem vermogen warmtepomp","kW",null,{"$f":"O68","v":10.224489795918368},null,null,null,"Rendement: SPF",null,4.3499999999999996,3.2,2.6,{"$f":"(L65*$L$62+M65*$M$62+N65*$N$62)/SUM($L$62:$N$62)","v":3.2806122448979589},"[a] - p 16"]
[null,null,"Technische levensduur","jaar",null,{"$f":"O66","v":16.122448979591837},null,null,null,"levensduur","jaar",20,15,15,{"$f":"(L66*$L$62+M66*$M$62+N66*$N$62)/SUM($L$62:$N$62)","v":16.122448979591837},"[c] - p145"]
[null,null,null,null,null,null,null,null,null,"HHP","uren",2070,1640,1770,{"$f":"(L67*$L$62+M67*$M$62+N67*$N$62)/SUM($L$62:$N$62)","v":1774.9999999999998},"[a] - p 13"]
[null,"Kosten",null,null,null,null,null,null,null,"Gem Vermogen","kWth",11,10,10,{"$f":"(L68*$L$62+M68*$M$62+N68*$N$62)/SUM($L$62:$N$62)","v":10.224489795918368},"[a] - p 17"]
[null,null,"CAPEX","€/kW",null,{"$f":"O63","v":1711.7857142857142}]
[null,null,null,"€/ totaal (exl. Taks, premies, etc.)",null,{"$f":"F69*F54","v":32871616.054889139}]
[null,null,"Vaste OPEX","€/kW/jaar",null,{"$f":"O64","v":17}]
[null,null,null,"€/totaal/jaar",null,{"$f":"F71*F54","v":326452.9364099151}]
[null,null,"Variabel OPEX (brandstofkosten)","€/kWh/jaar",null,{"$f":"'AA_Energieprijs&Discontovoet'!F57","v":0.13574600000000001},null,null,"ELE prijs"]
[null,null,null,"€/totaal/jaar",null,{"$f":"F73*F55*F62","v":687692.50789610413}]
[null,null,"Totale jaarlijkse kost (aflossing CAPEX+OPEX+brandstofkost)","€/totaal/jaar",null,{"$f":"(-PMT(F98,F66,F70))+F72+F74","v":3819789.8061295217}]
[]
[null,"Kenmerken referentiesituatie",null,null,null,null,null,null,null,null,"Brandstofgebruik (warmtevraag)","Verdeling van de fossiele residentiële energievectoren voor verwarming (obv het gekozen referentiejaar)",null,null,null,null,null,null,null,null,null,"Emissiefactoren"]
[null,"Gemiddelde emissiefactoren",null,null,null,null,null,null,null,"Bron","MWh","Elektriciteit","Warmte/ Koude","Aardgas","Vloeibaar gas","Stookolie","Diesel","Benzine","Bruinkool","Steenkool","Rest","EF_verw","EF_ELE"]
[null,null,"Bestaande gebouwen - SWW en verwarming","ton CO2/MWh",null,{"$f":"IF($F$99=J79,V79,IF($F$99=J80,V80,V81))","v":0.21099053183567054},null,null,"Gemiddelde EF van maken op basis van ref jaar","BAU",{"$f":"SUM(BAU_RES!I31:J31)","v":439752.94987326977},{"$f":"SUM(BAU_RES!I14:J14)/$K$79","v":7.2633495379798796E-2},{"$f":"SUM(BAU_RES!I15:J15)/$K$79","v":0},{"$f":"SUM(BAU_RES!I17:J17)/$K$79","v":0.68934791287609343},{"$f":"SUM(BAU_RES!I18:J18)/$K$79","v":4.5452203370009506E-2},{"$f":"SUM(BAU_RES!I19:J19)/$K$79","v":9.7660965779324635E-2},{"$f":"SUM(BAU_RES!I20:J20)/$K$79","v":0},{"$f":"SUM(BAU_RES!I21:J21)/$K$79","v":0},{"$f":"SUM(BAU_RES!I22:J22)/$K$79","v":0},{"$f":"SUM(BAU_RES!I23:J23)/$K$79","v":0},{"$f":"100%-SUM(L79:T79)","v":9.4905422594773636E-2},{"$f":"SUMPRODUCT(M79:T79,$M$82:$T$82)/SUM(M79:T79)","v":0.21099053183567054},{"$f":"BAU_TOTAAL!$Q$14","v":0.17705584446860712}]
[null,null,"Elektrische verwarming","ton CO2/MWh",null,{"$f":"IF($F$99=J79,W79,IF($F$99=J80,W80,W81))","v":0.17705584446860712},null,null,null,"INV",{"$f":"INV!S16-INV!D16","v":417486.11717709649},null,{"$f":"INV!E16/$K80","v":0},{"$f":"INV!F16/$K80","v":0.73303629483224908},{"$f":"INV!G16/$K80","v":5.3255312583037756E-2},{"$f":"INV!H16/$K80","v":0.11442713167060704},{"$f":"INV!I16/$K80","v":0},{"$f":"INV!J16/$K80","v":0},{"$f":"INV!K16/$K80","v":0},{"$f":"INV!L16/$K80","v":0},{"$f":"100%-SUM(M80:T80)","v":9.9281260914106162E-2},{"$f":"SUMPRODUCT(M80:T80,$M$82:$T$82)/SUM(M80:T80)","v":0.21173572103325497},{"$f":"INV!$D$26","v":0.19750015989190264}]
[null,"Installatie kenmerken",null,null,null,null,null,null,null,"EIG",{"$f":"SUM(EIG!$E$16:$R$16)","v":0},null,{"$f":"EIG!E16/$K$81","v":{"$error":"#DIV/0!"}},{"$f":"EIG!F16/$K$81","v":{"$error":"#DIV/0!"}},{"$f":"EIG!G16/$K$81","v":{"$error":"#DIV/0!"}},{"$f":"EIG!H16/$K$81","v":{"$error":"#DIV/0!"}},{"$f":"EIG!I16/$K$81","v":{"$error":"#DIV/0!"}},{"$f":"EIG!J16/$K$81","v":{"$error":"#DIV/0!"}},{"$f":"EIG!K16/$K$81","v":{"$error":"#DIV/0!"}},{"$f":"EIG!L16/$K$81","v":{"$error":"#DIV/0!"}},{"$f":"100%-SUM(M81:T81)","v":{"$error":"#DIV/0!"}},{"$f":"SUMPRODUCT(M81:T81,$M$82:$T$82)/SUM(M81:T81)","v":{"$error":"#DIV/0!"}},{"$f":"EIG!$D$26","v":0}]
[null,null,"gem. rendement fossiele installatie - SWW en verwarming","Input/Output",null,{"$f":"IF(F99=J79,(N79*'AA_Energieprijs&Discontovoet'!$F$40+O79*'AA_Energieprijs&Discontovoet'!$F$41+P79*'AA_Energieprijs&Discontovoet'!$F$42)/SUM(N79:P79),IF(F99=J80,(N80*'AA_Energieprijs&Discontovoet'!$F$40+O80*'AA_Energieprijs&Discontovoet'!$F$41+P80*'AA_Energieprijs&Discontovoet'!$F$42)/SUM(N80:P80),(N81*'AA_Energieprijs&Discontovoet'!$F$40+O81*'AA_Energieprijs&Discontovoet'!$F$41+P81*'AA_Energieprijs&Discontovoet'!$F$42)/SUM(N81:P81)))","v":1.2406989450868868},null,null,null,"EF_vector",null,null,{"$f":"BAU_TOTAAL!$Q$15","v":0.23764705882352966},{"$f":"'AA_Energieprijs&Discontovoet'!$F$98","v":0.20200000000000001},{"$f":"'AA_Energieprijs&Discontovoet'!$F$99","v":0.22700000000000001},{"$f":"'AA_Energieprijs&Discontovoet'!$F$100","v":0.26700000000000002},{"$f":"'AA_Energieprijs&Discontovoet'!$F$101","v":0.26700000000000002},{"$f":"'AA_Energieprijs&Discontovoet'!$F$102","v":0.249},{"$f":"'AA_Energieprijs&Discontovoet'!$F$103","v":0.35099999999999998},{"$f":"'AA_Energieprijs&Discontovoet'!$F$104","v":0.35399999999999998}]
[null,null,"gem. Technische levensduur","jaar",null,{"$f":"IF(F99=J79,(N79*'AA_Energieprijs&Discontovoet'!F48+O79*'AA_Energieprijs&Discontovoet'!F49+P79*'AA_Energieprijs&Discontovoet'!F50)/SUM(N79:P79),IF(F99=J80,(N80*'AA_Energieprijs&Discontovoet'!F48+O80*'AA_Energieprijs&Discontovoet'!F49+P80*'AA_Energieprijs&Discontovoet'!F50)/SUM(N80:P80),(N81*'AA_Energieprijs&Discontovoet'!F48+O81*'AA_Energieprijs&Discontovoet'!F49+P81*'AA_Energieprijs&Discontovoet'!F50)/SUM(N81:P81)))","v":20}]
[null,"Kosten"]
[null,null,"CAPEX","€/HH",null,{"$f":"IF(F99=J79,(N79*'AA_Energieprijs&Discontovoet'!F21+O79*'AA_Energieprijs&Discontovoet'!F23+P79*'AA_Energieprijs&Discontovoet'!F25)/SUM(N79:P79),IF(F99=J80,(N80*'AA_Energieprijs&Discontovoet'!F21+O80*'AA_Energieprijs&Discontovoet'!F23+P80*'AA_Energieprijs&Discontovoet'!F25)/SUM(N80:P80),(N81*'AA_Energieprijs&Discontovoet'!F21+O81*'AA_Energieprijs&Discontovoet'!F23+P81*'AA_Energieprijs&Discontovoet'!F25)/SUM(N81:P81)))","v":4102.1071217740364}]
[null,null,null,"€/ totaal (exl. Taks, premies, etc.)",null,{"$f":"F85*F53","v":7704367.8352925694}]
[null,null,"Vaste Opex","€/kW/jaar",null,{"$f":"IF(F99=J79,(N79*'AA_Energieprijs&Discontovoet'!F31+O79*'AA_Energieprijs&Discontovoet'!F32+P79*'AA_Energieprijs&Discontovoet'!F33)/SUM(N79:P79),IF(F99=J80,(N80*'AA_Energieprijs&Discontovoet'!F31+O80*'AA_Energieprijs&Discontovoet'!F32+P80*'AA_Energieprijs&Discontovoet'!F33)/SUM(N80:P80),(N81*'AA_Energieprijs&Discontovoet'!F31+O81*'AA_Energieprijs&Discontovoet'!F32+P81*'AA_Energieprijs&Discontovoet'!F33)/SUM(N81:P81)))","v":15.582949590527148}]
[null,null,null,"€/totaal/jaar",null,{"$f":"F87*F54","v":299241.15598560421}]
[null,null,"Variabele OPEX (Brandstofprijzen)","€/kWh",null,{"$f":"IF(F99=J79,(N79*'AA_Energieprijs&Discontovoet'!F58+O79*'AA_Energieprijs&Discontovoet'!F59+P79*'AA_Energieprijs&Discontovoet'!F60)/SUM(N79:P79),IF(F99=J80,(N80*'AA_Energieprijs&Discontovoet'!F58+O80*'AA_Energieprijs&Discontovoet'!F59+P80*'AA_Energieprijs&Discontovoet'!F60)/SUM(N80:P80),(N81*'AA_Energieprijs&Discontovoet'!F58+O81*'AA_Energieprijs&Discontovoet'!F59+P81*'AA_Energieprijs&Discontovoet'!F60)/SUM(N81:P81)))","v":4.3687447100671573E-2}]
[null,null,null,"€/totaal/jaar",null,{"$f":"F55*F82*F89","v":900834.96284136199}]
[null,null,"Totale jaarlijkse kost (aflossing CAPEX+OPEX+brandstofkost)","€/totaal/jaar",null,{"$f":"(-PMT(F98,F83,F86))+F88+F90","v":1766976.989323383}]
[]
[null,"Algemene aannames"]
[null,"Graaddagen (15/15)"]
[null,null,"Referentiejaar",null,{"$f":"F100","v":2017},{"$f":"VLOOKUP(E95+0,'AA_Energieprijs&Discontovoet'!E8:F16,2,FALSE)","v":1776}]
[null,null,2030,null,2030,{"$f":"'AA_Energieprijs&Discontovoet'!F16","v":1870}]
[null,null,"Elasticiteit",null,null,0.6]
[null,"Discontovoet",null,"%",null,{"$f":"P_Discontovoet","v":0.04}]
[null,"Referentiesituatie",null,null,null,{"$f":"P_Maatregelen_Referentie","v":"BAU"},null,null,"Keuze via dashboard"]
[null,null,"jaar",null,null,{"$f":"P_Maatregelen_Jaar_Inventaris","v":2017}]
[null,"Andere"]
[]
[null,"Referenties"]
[null,"[a]","VEA, 2017. Steunpunt energie: nota potentieel 2030 warmtepompen",null,null,"http://www.energiesparen.be/sites/default/files/atoms/files/Potentieel_warmtepompen_2030.pdf",null,null," "]
[null,"[b]","Vlaamse regering, 2018. Ontwerp Vlaams Energieplan 2021-2030",null,null,"http://docs.vlaamsparlement.be/pfile?id=1418105",null,null," "]
[null,"[c]","Simoes et al., 2013. The JRC-EU-TIMES model: Assessing the long-term role of the SET Plan Energy technologies",null,null,"https://ec.europa.eu/jrc/en/publication/eur-scientific-and-technical-research-reports/jrc-eu-times-model-assessing-long-term-role-set-plan-energy-technologies",null,null," "]
[null,"[d]","VREG, 2019. Evolutie energieverbruik",null,null,"https://www.vreg.be/nl/evolutie-energieverbruik#2",null,null," "]
[null,"[e]","VEA, 2019. Jaarlijkse energieverbruik gezin",null,null,"https://www.energiesparen.be/jaarlijkse-energieverbruik-gezin",null,null," "]
[null,"[f]","Studienst van de Vlaamse Regering"]

{"sheet":"RES_HER_ZB","index":41,"n_rows":97,"n_cols":23,"rows_kept":97,"cut":false,"hidden":false,"merged":[[20,1,20,7],[5,1,5,7],[14,1,14,7],[17,1,17,7],[18,1,18,7],[19,1,19,7],[16,1,16,7]]}
[null,"<< Naar Scenario's",null,null,null,null,null,null,null,null,"Berekeningen + verwijzing andere cel"]
[null,null,null,null,null,null,null,null,null,null,"Verwijzing andere tab (nulmeting/data)"]
[null,"Plaatsen van een zonneboiler",null,null,null,null,null,null,"Opmerkingen",null,"Overschrijfbaar: Vaste parameters uit externe bronnen, literatuur, rebus model"]
[null,null,null,"Residentieel",null,null,null,null,null,null,"Algemene aannames, overschrijfbaar vanuit centrale dashboard"]
[null,"Beschrijving van de maatregel"]
[null,"Maatregel: Installatie van zonneboiler voor de verwarming van sanitair warm water in de residentiële sector"]
[null,"Relatie met andere maatregelen"]
[null,"nr maatregel",null,"maatregel"]
[null,"beschrijving (overlappend potentieel)"]
[null,"nr maatregel",null,"maatregel"]
[null,"beschrijving (overlappend potentieel)"]
[null,"nr maatregel",null,"maatregel"]
[null,"beschrijving (overlappend potentieel)"]
[null,"Betekenis lange termijn voor energie-/klimaattransitie"]
[null,"Zonneboilers zijn een hernieuwbare warmtetechniek die in rechtstreekse concurrentie komt met een aantal andere hernieuwbare residentiële warmtetechnieken (warmtepomp, pelletketels, warmtenetten, etc.). De shift van fossiel naar hernieuwbaar kan beleidsmatig ondersteund worden, maar men dient toch op te letten niet de keuze tussen verschillende hernieuwbare technieken op te leggen. In deze zou het beter zijn een beleid te ontwikkelen die zich eerder toespitst op de verduurzaming van de warmteproductie in huishoudens, eerder dan het naar voorschuiven/ondersteunen van één specifieke techniek. De maatregel 'zonneboilers' zou dus beter geïntegreerd worden in een beleid waarbij de alternatieve en duurzame warmtetechnieken worden ondersteund zonder vanuit het beleid de technologiekeuze op te leggen en op die manier een lock-in effect te vermijden."]
[null,"Aannames/onzekerheden/hypothesen"]
[null,"Aanname: Alle gedefinieerde kosten zijn bepaald vanuit een maatschappelijk standpunt (exl. taksen, subsidies, etc.) en zeggen niets over de kost vanuit een actor standpunt. De kosten dienen dus ook niet als dusdanig geïnterpreteerd te worden. De maatschappelijke kost wordt enkel gebruikt om een relatieve volgorde te kunnen opmaken om te bepalen welke maatregelen vanuit maatschappelijke standpunt goedkoper zijn dan andere."]
[null,"Aanname: De ruimte ingenomen door zonnecollectoren kan niet gebruikt worden voor PV, dit effect wordt hier niet meegenomen"]
[null,"Aanname: Het realistische technische potentieel is niet voor elke bestaande woning dezelfde. De woning specifieke eigenschappen bepalen of de toepasbaarheid van een zonneboiler haalbaar is (en betaalbaar is). De gedefinieerde technisch potentieel dient dan ook gelezen te worden als een bovengrens."]
[null,"Aanname: In een huis met een zonneboiler wordt gemiddeld tussen 40% en de 60% van het SWW verwarmt door de zonneboiler [c] . Je kan er ook tot 25% van het nodige water voor woningverwarming mee leveren, maar het interessants blijft het om een zonneboiler te gebruiken voor SWW, daarom wordt hier verondersteld dat de zonneboiler enkel wordt ingezet voor SWW productie."]
[null,"Aanname: Voor panelen (PV of zonneboilers) die geplaatst worden op een dak, corrigeren we het potentieel voor het feit dat niet het volledige dakoppervlak beschikbaar is voor een dergelijke installatie. Hier gelden o.a. de dakconstructie, schaduweffecten en de oriëntatie t.o.v. de zon als beperkingen. We baseren ons op de vuistregel van het International Energy Agency (International Energy Agency, 2002. Potential for Building Integrated Photovoltaics. IEA Report: PVPS T7-4, Paris) dat 40% van het totale dakoppervlak geschikt is voor het plaatsen van dergelijke installaties. Deze 40% wordt als parameter Ht in de dynamische EnergieAtlas ingevoerd. Voor niet-residentiële daken (aanname dat de meerderheid platte daken zijn) en voor grondgebonden systemen wordt een technische haalbaarheid van 55% toegepast."]
[]
[null,"Berekeningen"]
[null,"Resultaat",null,null,null,"Scenario1","Scenario2"]
[null,"totale besparing",null,"MWh",null,{"$f":"F47*F32/1000","v":6076.6313714611479},{"$f":"G47*F32/1000","v":14178.806533409341}]
[null,"totale CO2 reductie",null,"ton CO2",null,{"$f":"F25*(F67-F52)","v":1282.1116848339077},{"$f":"G25*(F67-F52)","v":2991.593931279117}]
[null,"Maatschappelijke kost per ton CO2 reductie",null,"€/ton CO2",null,{"$f":"(F63-F79)*F47/F26","v":364.13417846804498}]
[]
[null,"Potentieel maatregel",null,"Eenheid","Jaar","Waarde",null,"Bron"]
[null,"Capaciteitsmeter: #HH",null,"#HH",null,{"$f":"IF(F87=\"BAU\",tbl_AA_Res_HH_REFJaar['# Huishoudens]*(1-BAU_RES!I63),tbl_AA_Res_HH_REFJaar['# Huishoudens])","v":33754.163999999997},null,"nulmeting"]
[null,"Activiteitsmeter:  Brandstofverbruik",null,"MWh",null,{"$f":"IF(F87=J68,K68,IF(F87=J69,K69,K70))","v":439752.94987326977}]
[null,"Activiteitsmeter: gem. Warmteproductie per HH door zonneboiler",null,"kWh/jaar per HH",null,{"$f":"IF(F87=J68,K62*F70,K62*F70)","v":1515.3714285256751},null,null,"Hier wordt gerekend obv het effectieve verbruik van nulmeting en niet met het gemiddeld verbruik opgegeven door VREG (+/-23,000kWh per HH)."," "]
[null,"Bijkomend potentieel"]
[null,null,null,"% van #HH komen in aanmerking",null,0.4,null,"aanname"]
[null,null,null,"#HH",null,{"$f":"F30*F34","v":13501.6656}]
[null,null,null,"% van potentieel reeds vervuld",null,0.01]
[null,null,"Bijkomend potentieel","#HH",null,{"$f":"F35*(1-F36)","v":13366.648944}]
[]
[null,"Implementatiegraad maatregel",null,null,null,"Min.","Max"]
[null,null,{"$f":"dropdowns!$R$4","v":"Niet"},null,null,1.0000000000000001E-17]
[null,null,{"$f":"dropdowns!$R$5","v":"Laag"},null,null,0.2,0.4,null,"aanpassen obv gemeente specifieke eigenschappen"]
[null,null,{"$f":"dropdowns!$R$6","v":"Medium"},null,null,0.4,0.6,null,"aanpassen obv gemeente specifieke eigenschappen"]
[null,null,{"$f":"dropdowns!$R$7","v":"Hoog"},null,null,0.6,0.8,null,"aanpassen obv gemeente specifieke eigenschappen"]
[]
[null,"Bijkomende implementatie",null,null,null,"Scenario1","Scenario2"]
[null,"Bijkomende invulling van potentieel",null,"% van de HH (2030)",null,{"$f":"IF('Scenario''s'!I15=C40,F40,IF('Scenario''s'!I15=C41,AVERAGE(F41,G41),IF('Scenario''s'!I15=C42,AVERAGE(F42,G42),AVERAGE(F43,G43))))","v":0.30000000000000004},{"$f":"IF('Scenario''s'!M15=C40,F40,IF('Scenario''s'!M15=C41,AVERAGE(F41,G41),IF('Scenario''s'!M15=C42,AVERAGE(F42,G42),AVERAGE(F43,G43))))","v":0.7},null,"Keuze via scenario's"]
[null,"Bijkomende invulling van potentieel",null,"# HH",null,{"$f":"F37*F46","v":4009.994683200001},{"$f":"F37*G46","v":9356.6542608}]
[]
[null,"Parameters"]
[null,"Kenmerken maatregel",null,"Eenheid","Jaar","Waarde",null,"Bron"]
[null,"Gemiddelde emissiefactoren"]
[null,null,"Zonneboiler","ton CO2/MWh",null,{"$f":"'AA_Energieprijs&Discontovoet'!F109","v":0}]
[null,"Installatie kenmerken"]
[null,null,"gem. rendement zonneboiler","Input/Output",null,"n.a.",null,null,null,"(1) Gemiddeld warmtegebruik in HuisHoudens"]
[null,null,"Technische levensduur","jaar",null,20,null,"[d] - p139",null," ","SWW","RVW","Koken","Totaal","Bron"]
[null,"Kosten",null,null,null,null,null,null,null,"fractie",0.1875,0.75,6.25E-2,{"$f":"SUM(K56:M56)","v":1},"[a]"]
[null,null,"CAPEX","€/kW",null,2382,null,"[d] - p139",null,"kWh/HH",{"$f":"N57*K56","v":2442.7705601370571},{"$f":"N57*L56","v":9771.0822405482286},{"$f":"N57*M56","v":814.25685337901905},{"$f":"IF(F87=J68,K68,IF(F87=J69,K69,K70))*1000/F30","v":13028.109654064305},null,"We rekenen met de effectieve warmtevraag van de nulmeting, ondanks die aan een redelijke lage kant is (gem warmtevraag volgens VREG is +/-23.000kWh per HH)"]
[null,null,null,"€/HH",null,{"$f":"F57*(F32/F90)","v":2315.3397965029876}]
[null,null,"Vaste OPEX","€/kW/jaar",null,47.64,null,"[d] - p139",null,"(2) Aandeel zonneboiler"]
[null,null,null,"€/HH/jaar",null,{"$f":"F59*(F32/F90)","v":46.306795930059756},null,null,null,null,"SWW","RVW","Koken","Totaal"]
[null,null,"Variable OPEX (brandstofkosten)","€/kWh/jaar",null,0,null,null,null,"fractie",0.5,0,0,null,"[c]"]
[null,null,null,"€/HH/jaar",null,{"$f":"F61*F32","v":0},null,null,null,"kWh/HH",{"$f":"K61*K57","v":1221.3852800685286},{"$f":"L61*L57","v":0},{"$f":"M61*M57","v":0},{"$f":"SUM(K62:M62)","v":1221.3852800685286}]
[null,null,"Totale jaarlijkse kost (aflossing CAPEX+OPEX+brandstofkost)","€/HH/jaar",null,{"$f":"(-PMT(F86,F55,F58))+F60+F62","v":216.67355076228102}]
[]
[null,"Kenmerken referentiesituatie"]
[null,"Gemiddelde emissiefactoren",null,null,null,null,null,null,null,null,"Brandstofgebruik (warmtevraag)","Verdeling van de fossiele residentiële energievectoren voor verwarming (obv het gekozen referentiejaar)",null,null,null,null,null,null,null,null,null,"Emissiefactoren"]
[null,null,"Bestaande woningen - SWW en verwarming","ton CO2/MWh",null,{"$f":"IF($F$87=J68,V68,IF($F$87=J69,V69,V70))","v":0.21099053183567054},null,null,null,"Bron","MWh","Elektriciteit","Warmte/ Koude","Aardgas","Vloeibaar gas","Stookolie","Diesel","Benzine","Bruinkool","Steenkool","Rest","EF_verw","EF_ELE"]
[null,null,"Elektrische verwarming","ton CO2/MWh",null,{"$f":"IF($F$87=J68,W68,IF($F$87=J69,W69,W70))","v":0.17705584446860712},null,null,null,"BAU",{"$f":"SUM(BAU_RES!I31:J31)","v":439752.94987326977},{"$f":"SUM(BAU_RES!I14:J14)/$K$68","v":7.2633495379798796E-2},{"$f":"SUM(BAU_RES!I15:J15)/$K$68","v":0},{"$f":"SUM(BAU_RES!I17:J17)/$K$68","v":0.68934791287609343},{"$f":"SUM(BAU_RES!I18:J18)/$K$68","v":4.5452203370009506E-2},{"$f":"SUM(BAU_RES!I19:J19)/$K$68","v":9.7660965779324635E-2},{"$f":"SUM(BAU_RES!I20:J20)/$K$68","v":0},{"$f":"SUM(BAU_RES!I21:J21)/$K$68","v":0},{"$f":"SUM(BAU_RES!I22:J22)/$K$68","v":0},{"$f":"SUM(BAU_RES!I23:J23)/$K$68","v":0},{"$f":"100%-SUM(L68:T68)","v":9.4905422594773636E-2},{"$f":"SUMPRODUCT(M68:T68,$M$71:$T$71)/SUM(M68:T68)","v":0.21099053183567054},{"$f":"BAU_TOTAAL!$Q$14","v":0.17705584446860712}]
[null,"Installatie kenmerken",null,null,null,null,null,null,null,"INV",{"$f":"INV!S16-INV!D16","v":417486.11717709649},null,{"$f":"INV!E16/$K69","v":0},{"$f":"INV!F16/$K69","v":0.73303629483224908},{"$f":"INV!G16/$K69","v":5.3255312583037756E-2},{"$f":"INV!H16/$K69","v":0.11442713167060704},{"$f":"INV!I16/$K69","v":0},{"$f":"INV!J16/$K69","v":0},{"$f":"INV!K16/$K69","v":0},{"$f":"INV!L16/$K69","v":0},{"$f":"100%-SUM(L69:T69)","v":9.9281260914106162E-2},{"$f":"SUMPRODUCT(M69:T69,$M$71:$T$71)/SUM(M69:T69)","v":0.21173572103325497},{"$f":"INV!$D$26","v":0.19750015989190264}]
[null,null,"gem. rendement fossiele installatie - SWW en verwarming","Input/Output",null,{"$f":"IF(F87=J68,(N68*'AA_Energieprijs&Discontovoet'!$F$40+O68*'AA_Energieprijs&Discontovoet'!$F$41+P68*'AA_Energieprijs&Discontovoet'!$F$42)/SUM(N68:P68),IF(F87=J69,(N69*'AA_Energieprijs&Discontovoet'!$F$40+O69*'AA_Energieprijs&Discontovoet'!$F$41+P69*'AA_Energieprijs&Discontovoet'!$F$42)/SUM(N69:P69),(N70*'AA_Energieprijs&Discontovoet'!$F$40+O70*'AA_Energieprijs&Discontovoet'!$F$41+P70*'AA_Energieprijs&Discontovoet'!$F$42)/SUM(N70:P70)))","v":1.2406989450868868},null,null,null,"EIG",{"$f":"SUM(EIG!$E$16:$R$16)","v":0},null,{"$f":"EIG!E16/$K$70","v":{"$error":"#DIV/0!"}},{"$f":"EIG!F16/$K$70","v":{"$error":"#DIV/0!"}},{"$f":"EIG!G16/$K$70","v":{"$error":"#DIV/0!"}},{"$f":"EIG!H16/$K$70","v":{"$error":"#DIV/0!"}},{"$f":"EIG!I16/$K$70","v":{"$error":"#DIV/0!"}},{"$f":"EIG!J16/$K$70","v":{"$error":"#DIV/0!"}},{"$f":"EIG!K16/$K$70","v":{"$error":"#DIV/0!"}},{"$f":"EIG!L16/$K$70","v":{"$error":"#DIV/0!"}},{"$f":"100%-SUM(L70:T70)","v":{"$error":"#DIV/0!"}},{"$f":"SUMPRODUCT(M70:T70,$M$71:$T$71)/SUM(M70:T70)","v":{"$error":"#DIV/0!"}},{"$f":"EIG!$D$26","v":0}]
[null,null,"gem. Technische levensduur","jaar",null,{"$f":"IF(F87=J68,(N68*'AA_Energieprijs&Discontovoet'!$F$48+O68*'AA_Energieprijs&Discontovoet'!$F$49+P68*'AA_Energieprijs&Discontovoet'!$F$50)/SUM(N68:P68),IF(F87=J69,(N69*'AA_Energieprijs&Discontovoet'!$F$48+O69*'AA_Energieprijs&Discontovoet'!$F$49+P69*'AA_Energieprijs&Discontovoet'!$F$50)/SUM(N69:P69),(N70*'AA_Energieprijs&Discontovoet'!$F$48+O70*'AA_Energieprijs&Discontovoet'!$F$49+P70*'AA_Energieprijs&Discontovoet'!$F$50)/SUM(N70:P70)))","v":20},null,null,null,"EF_vector",null,null,{"$f":"BAU_TOTAAL!$Q$15","v":0.23764705882352966},{"$f":"'AA_Energieprijs&Discontovoet'!$F$98","v":0.20200000000000001},{"$f":"'AA_Energieprijs&Discontovoet'!$F$99","v":0.22700000000000001},{"$f":"'AA_Energieprijs&Discontovoet'!$F$100","v":0.26700000000000002},{"$f":"'AA_Energieprijs&Discontovoet'!$F$101","v":0.26700000000000002},{"$f":"'AA_Energieprijs&Discontovoet'!$F$102","v":0.249},{"$f":"'AA_Energieprijs&Discontovoet'!$F$103","v":0.35099999999999998},{"$f":"'AA_Energieprijs&Discontovoet'!$F$104","v":0.35399999999999998}]
[null,"Kosten"]
[null,null,"CAPEX","€/kW",null,{"$f":"IF(F87=J68,(N68+O68*'AA_Energieprijs&Discontovoet'!$F$22+P68*'AA_Energieprijs&Discontovoet'!$F$24)/SUM(N68:P68),IF(F87=J69,(N69*'AA_Energieprijs&Discontovoet'!$F$20+O69*'AA_Energieprijs&Discontovoet'!$F$22+P69*'AA_Energieprijs&Discontovoet'!$F$24)/SUM(N69:P69),(N70*'AA_Energieprijs&Discontovoet'!$F$20+O70*'AA_Energieprijs&Discontovoet'!$F$22+P70*'AA_Energieprijs&Discontovoet'!$F$24)/SUM(N70:P70)))","v":41.45255097912618}]
[null,null,null,"€/HH",null,{"$f":"F73*(F32/F90)","v":40.292502497287884},null,null,"het aandeel van de CAPEX kost die vervangen wordt door een zonneboiler"]
[null,null,"Vaste Opex","€/kW/jaar",null,{"$f":"IF(F87=J68,(N68*'AA_Energieprijs&Discontovoet'!$F$31+O68*'AA_Energieprijs&Discontovoet'!$F$32+P68*'AA_Energieprijs&Discontovoet'!$F$33)/SUM(N68:P68),IF(F87=J69,(N69*'AA_Energieprijs&Discontovoet'!$F$31+O69*'AA_Energieprijs&Discontovoet'!$F$32+P69*'AA_Energieprijs&Discontovoet'!$F$33)/SUM(N69:P69),(N70*'AA_Energieprijs&Discontovoet'!$F$31+O70*'AA_Energieprijs&Discontovoet'!$F$32+P70*'AA_Energieprijs&Discontovoet'!$F$33)/SUM(N70:P70)))","v":15.582949590527148}]
[null,null,null,"€/HH/jaar",null,{"$f":"F75*(F32/F90)","v":15.146861181296156}]
[null,null,"Variabele OPEX (Brandstofprijzen)","€/kWh/jaar",null,{"$f":"IF(F87=J68,(N68*'AA_Energieprijs&Discontovoet'!$F$58+O68*'AA_Energieprijs&Discontovoet'!$F$59+P68*'AA_Energieprijs&Discontovoet'!$F$60)/SUM(N68:P68),IF(F87=J69,(N69*'AA_Energieprijs&Discontovoet'!$F$58+O69*'AA_Energieprijs&Discontovoet'!$F$59+P69*'AA_Energieprijs&Discontovoet'!$F$60)/SUM(N69:P69),(N70*'AA_Energieprijs&Discontovoet'!$F$58+O70*'AA_Energieprijs&Discontovoet'!$F$59+P70*'AA_Energieprijs&Discontovoet'!$F$60)/SUM(N70:P70)))","v":4.3687447100671573E-2}]
[null,null,null,"€/HH/jaar",null,{"$f":"F77*(F32*F70)","v":82.137631369043973}]
[null,null,"Totale jaarlijkse kost (aflossing CAPEX+OPEX+brandstofkost)","€/HH/jaar",null,{"$f":"(-PMT(F86,F71,F74))+F76+F78","v":100.24928540921123}]
[]
[null,"Algemene aannames"]
[null,"Graaddagen (15/15)"]
[null,null,"Referentiejaar",null,{"$f":"F88","v":2017},{"$f":"VLOOKUP(E83+0,'AA_Energieprijs&Discontovoet'!E8:F16,2,FALSE)","v":1776}]
[null,null,2030,null,2030,{"$f":"'AA_Energieprijs&Discontovoet'!F16","v":1870}]
[null,null,"Elasticiteit",null,null,0.6]
[null,"Discontovoet",null,"%",null,{"$f":"P_Discontovoet","v":0.04}]
[null,"Referentiesituatie",null,null,null,{"$f":"P_Maatregelen_Referentie","v":"BAU"},null,null,"Keuze via dashboard"]
[null,null,"jaar",null,null,{"$f":"P_Maatregelen_Jaar_Inventaris","v":2017}]
[null,"Andere"]
[null,null,"vollast (gem. Zonneschijnuren)","uren",null,{"$f":"'AA_Energieprijs&Discontovoet'!F17","v":1559}]
[]
[null,"Referenties"]
[null,"[a]","VEA, 2019. Jaarlijkse energieverbruik gezin",null,null,"https://www.energiesparen.be/jaarlijkse-energieverbruik-gezin",null,null," "]
[null,"[b]","VREG, 2019. Evolutie energieverbruik",null,null,"https://www.vreg.be/nl/evolutie-energieverbruik#2",null,null," "]
[null,"[c]","Livios, 2019. Investeren in zonneboilersysteem",null,null,"https://www.livios.be/nl/bouwinformatie/techniek/verwarmingstechniek/pro-contra-investeren-in-zonneboilersysteem-of-pv-panelen/",null,null," "]
[null,"[d]","Simoes et al., 2013. The JRC-EU-TIMES model: Assessing the long-term role of the SET Plan Energy technologies",null,null,"https://ec.europa.eu/jrc/en/publication/eur-scientific-and-technical-research-reports/jrc-eu-times-model-assessing-long-term-role-set-plan-energy-technologies",null,null," "]
[null,"[e]","Van Esch et al., 2016. Hernieuwbare Energie Atlas Vlaamse gemeenten",null,null,"http://www.vlaamseklimaattop.be/sites/default/files/atoms/files/Hernieuwbare_atlas_Vlaamse_gemeenten_finaal_v20160921.pdf",null,null," "]

{"sheet":"RES_HER_WPB","index":42,"n_rows":96,"n_cols":23,"rows_kept":96,"cut":false,"hidden":false,"merged":[[20,1,20,7],[19,1,19,7],[5,1,5,7],[14,1,14,7],[16,1,16,7],[17,1,17,7],[18,1,18,7]]}
[null,"<< Naar Scenario's",null,null,null,null,null,null,null,null,"Berekeningen + verwijzing andere cel"]
[null,null,null,null,null,null,null,null,null,null,"Verwijzing andere tab (nulmeting/data)"]
[null,"Plaatsen van een warmtepompboiler",null,null,null,null,null,null,"Opmerkingen",null,"Overschrijfbaar: Vaste parameters uit externe bronnen, literatuur, rebus model"]
[null,null,null,"Residentieel",null,null,null,null,null,null,"Algemene aannames, overschrijfbaar vanuit centrale dashboard"]
[null,"Beschrijving van de maatregel"]
[null,"Maatregel: Installatie van warmtepompboiler voor de verwarming van sanitair warm water in de residentiële sector"]
[null,"Relatie met andere maatregelen"]
[null,"nr maatregel",null,"maatregel"]
[null,"beschrijving (overlappend potentieel)"]
[null,"nr maatregel",null,"maatregel"]
[null,"beschrijving (overlappend potentieel)"]
[null,"nr maatregel",null,"maatregel"]
[null,"beschrijving (overlappend potentieel)"]
[null,"Betekenis lange termijn voor energie-/klimaattransitie"]
[null,"Warmtepompboilers zijn een hernieuwbare warmtetechniek die in rechtstreekse concurrentie komt met een aantal andere hernieuwbare warmtetechnieken (warmtepomp, pelletketels, warmtenetten, zonneboilers, etc.). De shift van fossiel naar hernieuwbaar kan beleidsmatig ondersteund worden, maar men dient toch op te letten niet de keuze tussen verschillende hernieuwbare technieken op te leggen. In deze zou het beter zijn een beleid te ontwikkelen die zich eerder toespitst op de verduurzaming van de warmteproductie in de residentiële sector/bebouwde omgeving eerder dan het stimuleren en ondersteunen van één specifieke techniek. De maatregel 'Warmtepompboiler' zou dus beter geïntegreerd worden in een beleid waarbij de alternatieve en duurzame warmtetechnieken worden ondersteund zonder vanuit het beleid de technologiekeuze op te leggen en op die manier een lock-in effect te vermijden. Daarbij komt ook dat bij een omslag van fossiele verwarmingstechnieken naar verwarmingstechnieken obv elektriciteit, een groot effect kan hebben op het elektriciteitsnet."]
[null,"Aannames/onzekerheden/hypothesen"]
[null,"Aanname: Alle gedefinieerde kosten zijn bepaald vanuit een maatschappelijk standpunt (exl. taksen, subsidies, etc.) en zeggen niets over de kost vanuit een actor standpunt. De kosten dienen dus ook niet als dusdanig geïnterpreteerd te worden. De maatschappelijke kost wordt enkel gebruikt om een relatieve volgorde te kunnen opmaken om te bepalen welke maatregelen vanuit maatschappelijke standpunt goedkoper zijn dan andere."]
[null,"Aanname: Er wordt verondersteld dat alle fossiele verwarmingstypes in aanmerking komen voor omschakeling naar Warmtepompboilers."]
[null,"Aanname: Het realistische potentieel is niet voor elk bestaand gebouw hetzelfde. Deze maatregel is generiek doorgerekend waarbij de verondersteld wordt dat de volledige warmwatervraag in de residentiële sector in principe in aanmerking kan komen voor warmtepompboilers. De gebouw specifieke eigenschappen zullen bepalen of de toepasbaarheid van een warmtepompboiler haalbaar is (en betaalbaar is). De gedefinieerde potentieel dient dan ook gelezen te worden als een bovengrens."]
[null,"Aanname: Een warmtepompboiler wordt enkel gebruikt voor de productie van SWW. In de residentiële sector is verondersteld dat de productie van SWW 20% van de totale warmtevraag (SWW+RVW) inhoudt."]
[null,"Aanname: Er wordt verondersteld dat in de residentiële sector het reeds geïnstalleerd vermogen verwaarloosbaar is. Volgens de hernieuwbare energie inventaris zijn er in heel Vlaanderen 'slechts' 35MW geïnstalleerd thermisch vermogen [d]."]
[]
[null,"Berekeningen"]
[null,"Resultaat",null,null,null,"Scenario1","Scenario2"]
[null,"totale besparing",null,"MWh",null,{"$f":"F46*F31/1000-F46*K37*F53/1000","v":10588.085748431855},{"$f":"G46*F31/1000-G46*K37*F53/1000","v":24705.533413007659}]
[null,"totale CO2 reductie",null,"ton CO2",null,{"$f":"(F46*F31/1000)*F68-(F46*K37*F53/1000)*F51","v":2395.4112156042825},{"$f":"(G46*F31/1000)*F68-(G46*K37*F53/1000)*F51","v":5589.2928364099907}]
[null,"Maatschappelijke kost per ton CO2 reductie",null,"€/ton CO2",null,{"$f":"(F64-F80)*F46/F26","v":3832.7639808589047}]
[]
[null,"Potentieel maatregel",null,"Eenheid","Jaar","Waarde",null,"Bron",null,"(1) Gemiddeld warmtegebruik in HuisHoudens"]
[null,"Capaciteitsmeter: #HH",null,"#HH",null,{"$f":"IF(F88=\"BAU\",tbl_AA_Res_HH_REFJaar['# Huishoudens]*(1-BAU_RES!I63),tbl_AA_Res_HH_REFJaar['# Huishoudens])","v":33754.163999999997},null,"nulmeting",null," ","SWW","RVW","Koken","Totaal","Bron"]
[null,"Activiteitsmeter: gem. warmteproductie per HH door warmtepompboiler",null,"kWh/jaar per HH",null,{"$f":"K37*F71","v":3030.7428570513503},null,null,"Hier wordt gerekend obv het effectieve verbruik van nulmeting en niet met het gemiddeld verbruik opgegeven door VREG (+/-23,000kWh per HH).","fractie",0.1875,0.75,6.25E-2,{"$f":"SUM(K31:M31)","v":1},"[a]"]
[null,"Bijkomend potentieel",null,null,null,null,null,null,null,"kWh/HH",{"$f":"N32*K31","v":2442.7705601370571},{"$f":"N32*L31","v":9771.0822405482286},{"$f":"N32*M31","v":814.25685337901905},{"$f":"IF(F88=J69,K69,IF(F88=J70,K70,K71))*1000/F30","v":13028.109654064305},null,"We rekenen met de effectieve warmtevraag van de nulmeting, ondanks die aan een redelijke lage kant is (gem warmtevraag volgens VREG is +/-23.000kWh per HH"]
[null,null,null,"% van #HH komen in aanmerking",null,1]
[null,null,null,"#HH",null,{"$f":"F30*F33","v":33754.163999999997},null,null,null,"(2) Aandeel WPB"]
[null,null,null,"% van potentieel reeds vervuld",null,0,null,null,null,null,"SWW","RVW","Koken","Totaal"]
[null,null,"Bijkomend potentieel","#HH",null,{"$f":"F34*(1-F35)","v":33754.163999999997},null,null,null,"fractie",1,0,0]
[null,null,null,null,null,null,null,null,null,"kWh/HH",{"$f":"K36*K32","v":2442.7705601370571},{"$f":"L36*L32","v":0},{"$f":"M36*M32","v":0},{"$f":"SUM(K37:M37)","v":2442.7705601370571}]
[null,"Implementatiegraad maatregel",null,null,null,"Min.","Max"]
[null,null,{"$f":"dropdowns!$R$4","v":"Niet"},null,null,1.0000000000000001E-17]
[null,null,{"$f":"dropdowns!$R$5","v":"Laag"},null,null,0.1,0.2,null,"aanpassen obv gemeente specifieke eigenschappen"]
[null,null,{"$f":"dropdowns!$R$6","v":"Medium"},null,null,0.2,0.3,null,"aanpassen obv gemeente specifieke eigenschappen"]
[null,null,{"$f":"dropdowns!$R$7","v":"Hoog"},null,null,0.3,0.4,null,"aanpassen obv gemeente specifieke eigenschappen"]
[]
[null,"Bijkomende implementatie",null,null,null,"Scenario1","Scenario2"]
[null,"Bijkomende invulling van potentieel",null,"% van de HH (2030)",null,{"$f":"IF('Scenario''s'!I16=C39,F39,IF('Scenario''s'!I16=C40,AVERAGE(F40,G40),IF('Scenario''s'!I16=C41,AVERAGE(F41,G41),AVERAGE(F42,G42))))","v":0.15000000000000002},{"$f":"IF('Scenario''s'!M16=C39,F39,IF('Scenario''s'!M16=C40,AVERAGE(F40,G40),IF('Scenario''s'!M16=C41,AVERAGE(F41,G41),AVERAGE(F42,G42))))","v":0.35},null,"Keuze via scenario's"]
[null,"Bijkomende invulling van potentieel",null,"# HH",null,{"$f":"F36*F45","v":5063.1246000000001},{"$f":"F36*G45","v":11813.957399999998}]
[]
[null,"Parameters"]
[null,"Kenmerken maatregel",null,"Eenheid","Jaar","Waarde",null,"Bron"]
[null,"Gemiddelde emissiefactoren"]
[null,null,"Warmtepompboiler","ton CO2/MWh",null,{"$f":"IF($F$88=J69,W69,IF($F$88=J70,W70,W71))","v":0.17705584446860712},{"$f":"'AA_Energieprijs&Discontovoet'!F109","v":0},"Zie aanname"," "]
[null,"Installatie kenmerken"]
[null,null,"gem. rendement warmtepompboiler","Input/Output",null,{"$f":"1/F54","v":0.38461538461538458}]
[null,null,"SPF",null,null,2.6,null,"[b] - p13"]
[null,null,"HHP","uren",null,410,null,"[b] - p13"]
[null,null,"Technische levensduur","jaar",null,15,null,"[c] - p139"]
[null,"Kosten"]
[null,null,"CAPEX","€/kW",null,2034,null,"[c] - p139"]
[null,null,null,"€/HH",null,{"$f":"F58*(F31/F55)","v":15035.441393274259}]
[null,null,"Vaste OPEX","€/kW/jaar",null,101.7,null,"[c] - p139"]
[null,null,null,"€/HH/jaar",null,{"$f":"F60*(F31/F55)","v":751.77206966371295}]
[null,null,"Variable OPEX (brandstofkosten)","€/kWh/jaar",null,{"$f":"'AA_Energieprijs&Discontovoet'!F57","v":0.13574600000000001}]
[null,null,null,"€/HH/jaar",null,{"$f":"F62*F53*F31","v":158.23508456665098}]
[null,null,"Totale jaarlijkse kost (aflossing CAPEX+OPEX+brandstofkost)","€/HH/jaar",null,{"$f":"(-PMT(F87,F56,F59))+F61+F63","v":2262.311297704729}]
[]
[null,"Kenmerken referentiesituatie"]
[null,"Gemiddelde emissiefactoren",null,null,null,null,null,null,null,null,"Brandstofgebruik (warmtevraag)","Verdeling van de fossiele residentiële energievectoren voor verwarming (obv het gekozen referentiejaar)",null,null,null,null,null,null,null,null,null,"Emissiefactoren"]
[null,null,"Bestaande woningen - SWW en verwarming","ton CO2/MWh",null,{"$f":"IF($F$88=J69,V69,IF($F$88=J70,V70,V71))","v":0.21099053183567054},null,null,null,"Bron","MWh","Elektriciteit","Warmte/ Koude","Aardgas","Vloeibaar gas","Stookolie","Diesel","Benzine","Bruinkool","Steenkool","Rest","EF_verw","EF_ELE"]
[null,null,"Elektrische verwarming","ton CO2/MWh",null,{"$f":"IF($F$88=J69,W69,IF($F$88=J70,W70,W71))","v":0.17705584446860712},null,null,null,"BAU",{"$f":"SUM(BAU_RES!I31:J31)","v":439752.94987326977},{"$f":"SUM(BAU_RES!I14:J14)/$K$69","v":7.2633495379798796E-2},{"$f":"SUM(BAU_RES!I15:J15)/$K$69","v":0},{"$f":"SUM(BAU_RES!I17:J17)/$K$69","v":0.68934791287609343},{"$f":"SUM(BAU_RES!I18:J18)/$K$69","v":4.5452203370009506E-2},{"$f":"SUM(BAU_RES!I19:J19)/$K$69","v":9.7660965779324635E-2},{"$f":"SUM(BAU_RES!I20:J20)/$K$69","v":0},{"$f":"SUM(BAU_RES!I21:J21)/$K$69","v":0},{"$f":"SUM(BAU_RES!I22:J22)/$K$69","v":0},{"$f":"SUM(BAU_RES!I23:J23)/$K$69","v":0},{"$f":"100%-SUM(L69:T69)","v":9.4905422594773636E-2},{"$f":"SUMPRODUCT(M69:T69,$M$72:$T$72)/SUM(M69:T69)","v":0.21099053183567054},{"$f":"BAU_TOTAAL!$Q$14","v":0.17705584446860712}]
[null,"Installatie kenmerken",null,null,null,null,null,null,null,"INV",{"$f":"INV!S16-INV!D16","v":417486.11717709649},null,{"$f":"INV!E16/$K70","v":0},{"$f":"INV!F16/$K70","v":0.73303629483224908},{"$f":"INV!G16/$K70","v":5.3255312583037756E-2},{"$f":"INV!H16/$K70","v":0.11442713167060704},{"$f":"INV!I16/$K70","v":0},{"$f":"INV!J16/$K70","v":0},{"$f":"INV!K16/$K70","v":0},{"$f":"INV!L16/$K70","v":0},{"$f":"100%-SUM(L70:T70)","v":9.9281260914106162E-2},{"$f":"SUMPRODUCT(M70:T70,$M$72:$T$72)/SUM(M70:T70)","v":0.21173572103325497},{"$f":"INV!$D$26","v":0.19750015989190264}]
[null,null,"gem. rendement fossiele installatie - SWW en verwarming","Input/Output",null,{"$f":"IF(F88=J69,(N69*'AA_Energieprijs&Discontovoet'!$F$40+O69*'AA_Energieprijs&Discontovoet'!$F$41+P69*'AA_Energieprijs&Discontovoet'!$F$42)/SUM(N69:P69),IF(F88=J70,(N70*'AA_Energieprijs&Discontovoet'!$F$40+O70*'AA_Energieprijs&Discontovoet'!$F$41+P70*'AA_Energieprijs&Discontovoet'!$F$42)/SUM(N70:P70),(N71*'AA_Energieprijs&Discontovoet'!$F$40+O71*'AA_Energieprijs&Discontovoet'!$F$41+P71*'AA_Energieprijs&Discontovoet'!$F$42)/SUM(N71:P71)))","v":1.2406989450868868},null,null,null,"EIG",{"$f":"SUM(EIG!$E$16:$R$16)","v":0},null,{"$f":"EIG!E16/$K$71","v":{"$error":"#DIV/0!"}},{"$f":"EIG!F16/$K$71","v":{"$error":"#DIV/0!"}},{"$f":"EIG!G16/$K$71","v":{"$error":"#DIV/0!"}},{"$f":"EIG!H16/$K$71","v":{"$error":"#DIV/0!"}},{"$f":"EIG!I16/$K$71","v":{"$error":"#DIV/0!"}},{"$f":"EIG!J16/$K$71","v":{"$error":"#DIV/0!"}},{"$f":"EIG!K16/$K$71","v":{"$error":"#DIV/0!"}},{"$f":"EIG!L16/$K$71","v":{"$error":"#DIV/0!"}},{"$f":"100%-SUM(L71:T71)","v":{"$error":"#DIV/0!"}},{"$f":"SUMPRODUCT(M71:T71,$M$72:$T$72)/SUM(M71:T71)","v":{"$error":"#DIV/0!"}},{"$f":"EIG!$D$26","v":0}]
[null,null,"gem. Technische levensduur","jaar",null,{"$f":"IF(F88=J69,(N69*'AA_Energieprijs&Discontovoet'!$F$48+O69*'AA_Energieprijs&Discontovoet'!$F$49+P69*'AA_Energieprijs&Discontovoet'!$F$50)/SUM(N69:P69),IF(F88=J70,(N70*'AA_Energieprijs&Discontovoet'!$F$48+O70*'AA_Energieprijs&Discontovoet'!$F$49+P70*'AA_Energieprijs&Discontovoet'!$F$50)/SUM(N70:P70),(N71*'AA_Energieprijs&Discontovoet'!$F$48+O71*'AA_Energieprijs&Discontovoet'!$F$49+P71*'AA_Energieprijs&Discontovoet'!$F$50)/SUM(N71:P71)))","v":20},null,null,null,"EF_vector",null,null,{"$f":"BAU_TOTAAL!$Q$15","v":0.23764705882352966},{"$f":"'AA_Energieprijs&Discontovoet'!$F$98","v":0.20200000000000001},{"$f":"'AA_Energieprijs&Discontovoet'!$F$99","v":0.22700000000000001},{"$f":"'AA_Energieprijs&Discontovoet'!$F$100","v":0.26700000000000002},{"$f":"'AA_Energieprijs&Discontovoet'!$F$101","v":0.26700000000000002},{"$f":"'AA_Energieprijs&Discontovoet'!$F$102","v":0.249},{"$f":"'AA_Energieprijs&Discontovoet'!$F$103","v":0.35099999999999998},{"$f":"'AA_Energieprijs&Discontovoet'!$F$104","v":0.35399999999999998}]
[null,"Kosten"]
[null,null,"CAPEX","€/kW",null,{"$f":"IF(F88=J69,(N69*'AA_Energieprijs&Discontovoet'!$F$20+O69*'AA_Energieprijs&Discontovoet'!$F$22+P69*'AA_Energieprijs&Discontovoet'!$F$24)/SUM(N69:P69),IF(F88=J70,(N70*'AA_Energieprijs&Discontovoet'!$F$20+O70*'AA_Energieprijs&Discontovoet'!$F$22+P70*'AA_Energieprijs&Discontovoet'!$F$24)/SUM(N70:P70),(N71*'AA_Energieprijs&Discontovoet'!$F$20+O71*'AA_Energieprijs&Discontovoet'!$F$22+P71*'AA_Energieprijs&Discontovoet'!$F$24)/SUM(N71:P71)))","v":311.68128510988799}]
[null,null,null,"€/HH",null,{"$f":"F74*(F31/F55)","v":2303.9654354228742},null,null,"het aandeel van de CAPEX kost die vervangen wordt door een zonneboiler"]
[null,null,"Vaste Opex","€/kW/jaar",null,{"$f":"IF(F88=J69,(N69*'AA_Energieprijs&Discontovoet'!$F$31+O69*'AA_Energieprijs&Discontovoet'!$F$32+P69*'AA_Energieprijs&Discontovoet'!$F$33)/SUM(N69:P69),IF(F88=J70,(N70*'AA_Energieprijs&Discontovoet'!$F$31+O70*'AA_Energieprijs&Discontovoet'!$F$32+P70*'AA_Energieprijs&Discontovoet'!$F$33)/SUM(N70:P70),(N71*'AA_Energieprijs&Discontovoet'!$F$31+O71*'AA_Energieprijs&Discontovoet'!$F$32+P71*'AA_Energieprijs&Discontovoet'!$F$33)/SUM(N71:P71)))","v":15.582949590527148}]
[null,null,null,"€/HH/jaar",null,{"$f":"F76*(F31/F55)","v":115.19003210556443}]
[null,null,"Variabele OPEX (Brandstofprijzen)","€/kWh/jaar",null,{"$f":"IF(F88=J69,(N69*'AA_Energieprijs&Discontovoet'!$F$58+O69*'AA_Energieprijs&Discontovoet'!$F$59+P69*'AA_Energieprijs&Discontovoet'!$F$60)/SUM(N69:P69),IF(F88=J70,(N70*'AA_Energieprijs&Discontovoet'!$F$58+O70*'AA_Energieprijs&Discontovoet'!$F$59+P70*'AA_Energieprijs&Discontovoet'!$F$60)/SUM(N70:P70),(N71*'AA_Energieprijs&Discontovoet'!$F$58+O71*'AA_Energieprijs&Discontovoet'!$F$59+P71*'AA_Energieprijs&Discontovoet'!$F$60)/SUM(N71:P71)))","v":4.3687447100671573E-2}]
[null,null,null,"€/HH/jaar",null,{"$f":"F78*(F31*F71)","v":164.27526273808795}]
[null,null,"Totale jaarlijkse kost (aflossing CAPEX+OPEX+brandstofkost)","€/HH/jaar",null,{"$f":"(-PMT(F87,F72,F75))+F77+F79","v":448.99510427872906}]
[]
[null,"Algemene aannames"]
[null,"Graaddagen (15/15)"]
[null,null,"Referentiejaar",null,{"$f":"F89","v":2017},{"$f":"VLOOKUP(E84+0,'AA_Energieprijs&Discontovoet'!E8:F16,2,FALSE)","v":1776}]
[null,null,2030,null,2030,{"$f":"'AA_Energieprijs&Discontovoet'!F16","v":1870}]
[null,null,"Elasticiteit",null,null,0.6]
[null,"Discontovoet",null,"%",null,{"$f":"P_Discontovoet","v":0.04}]
[null,"Referentiesituatie",null,null,null,{"$f":"P_Maatregelen_Referentie","v":"BAU"},null,null,"Keuze via dashboard"]
[null,null,"jaar",null,null,{"$f":"P_Maatregelen_Jaar_Inventaris","v":2017}]
[null,"Andere"]
[]
[null,"Referenties"]
[null,"[a]","VEA, 2019. Jaarlijkse energieverbruik gezin",null,null,"https://www.energiesparen.be/jaarlijkse-energieverbruik-gezin",null,null," "]
[null,"[b]","VEA, 2017. Steunpunt energie: nota potentieel 2030 warmtepompen",null,null,"https://www.energiesparen.be/sites/default/files/atoms/files/Potentieel_warmtepompen_2030.pdf",null,null," "]
[null,"[c]","Simoes et al., 2013. The JRC-EU-TIMES model: Assessing the long-term role of the SET Plan Energy technologies",null,null,"https://ec.europa.eu/jrc/en/publication/eur-scientific-and-technical-research-reports/jrc-eu-times-model-assessing-long-term-role-set-plan-energy-technologies",null,null," "]
[null,"[d]","VITO, 2018. Inventaris hernieuwbare energiebronnen Vlaanderen 1990-2017",null,null,"https://emis.vito.be/sites/emis.vito.be/files/pages/3331/2019/Energiebronnen_Vlaanderen_2005_2017.pdf",null,null," "]

{"sheet":"RES_EE_ELE","index":43,"n_rows":93,"n_cols":13,"rows_kept":93,"cut":false,"hidden":false,"merged":[[61,10,62,10],[61,11,62,11],[61,12,62,12],[5,1,5,7],[14,1,14,7],[16,1,16,7],[17,1,17,7]]}
[null,"<< Naar Scenario's",null,null,null,null,null,null,null,null,"Berekeningen + verwijzing andere cel"]
[null,null,null,null,null,null,null,null,null,null,"Verwijzing andere tab (nulmeting/data)"]
[null,"Elektriciteitsgebruik: verhogen efficiëntie",null,null,null,null,null,null,"Opmerkingen",null,"Overschrijfbaar: Vaste parameters uit externe bronnen, literatuur, rebus model"]
[null,null,null,"Residentieel",null,null,null,null,null,null,"Algemene aannames, overschrijfbaar vanuit centrale dashboard"]
[null,"Beschrijving van de maatregel"]
[null,"Maatregel: Verhogen van de efficiëntie van het elektriciteitsgebruik in de residentiële sector\n\nStimuleren van het sneller vervangen van oudere elektrische apparaten in huis (vriezers, ovens, droogkasten, etc). Door de versnelde vervanging kunnen er efficiëntie winsten gehaald worden door energie zuinigere elektrische apparaten in huis te halen."]
[null,"Relatie met andere maatregelen"]
[null,"nr maatregel",null,"maatregel"]
[null,"beschrijving (overlappend potentieel)"]
[null,"nr maatregel",null,"maatregel"]
[null,"beschrijving (overlappend potentieel)"]
[null,"nr maatregel",null,"maatregel"]
[null,"beschrijving (overlappend potentieel)"]
[null,"Betekenis lange termijn voor energie-/klimaattransitie"]
[null,"Elektriciteit dat niet gebruikt wordt moet ook niet duurzaam geproduceerd worden. "]
[null,"Aannames/onzekerheden/hypothesen"]
[null,"Aanname: Alle gedefinieerde kosten zijn bepaald vanuit een maatschappelijk standpunt (exl. taksen, subsidies, etc.) en zeggen niets over de kost vanuit een actor standpunt. De kosten dienen dus ook niet als dusdanig geïnterpreteerd te worden. De maatschappelijke kost wordt enkel gebruikt om een relatieve volgorde te kunnen opmaken om te bepalen welke maatregelen vanuit maatschappelijke standpunt goedkoper zijn dan andere."]
[null,"Aanname: De kostprijs wordt berekend op basis van de ingeschatte TVT. We berekenen de besparingskost die de maatregel realiseert op de brandstofkost (elektriciteitskost) en schatten de investeringskost van de technische maatregel in door de besparingskost te vermenigvuldigen met de opgegeven terugverdientijd. Deze (ingeschatte) investeringskost wordt dan gebruikt om tot een maatschappelijke kost per ton CO2 reductie te komen."]
[]
[null,"Berekeningen"]
[null,"Resultaat",null,null,null,"Scenario1","Scenario2"]
[null,"totale besparing",null,"MWh",null,{"$f":"F43","v":3603.9811310929167},{"$f":"G43","v":18019.905655464583}]
[null,"totale CO2 reductie",null,"ton CO2",null,{"$f":"F22*F48","v":638.10592261458225},{"$f":"G22*F48","v":3190.5296130729112}]
[null,"Maatschappelijke kost per ton CO2 reductie",null,"€/ton CO2",null,{"$f":"(F60-F74)/F23","v":-421.90235046691208}]
[]
[null,"Potentieel maatregel",null,"Eenheid","Jaar","Waarde",null,"Bron"]
[]
[null,"Activiteitsmeter: gem.  Ele gebruik",null,"MWh",null,{"$f":"IF(F80=J65,L65,IF(F80=J66,L66,L67))","v":72079.622621858332},null,"nulmeting"]
[null,"Bijkomend potentieel"]
[null,null,null,"% van verbruik komen in aanmerking",null,0.5]
[null,null,null,"#MWh",null,{"$f":"F28*F30","v":36039.811310929166}]
[null,null,null,"% van potentieel reeds vervuld",null,0]
[null,null,"Bijkomend potentieel","#MWh",null,{"$f":"F31*(1-F32)","v":36039.811310929166}]
[]
[null,"Implementatiegraad maatregel",null,null,null,"Min.","Max"]
[null,null,{"$f":"dropdowns!$R$4","v":"Niet"},null,null,1.0000000000000001E-17]
[null,null,{"$f":"dropdowns!$R$5","v":"Laag"},null,null,0,0.2,null,"aanpassen obv gemeente specifieke eigenschappen"]
[null,null,{"$f":"dropdowns!$R$6","v":"Medium"},null,null,0.2,0.4,null,"aanpassen obv gemeente specifieke eigenschappen"]
[null,null,{"$f":"dropdowns!$R$7","v":"Hoog"},null,null,0.4,0.6,null,"aanpassen obv gemeente specifieke eigenschappen"]
[]
[null,"Bijkomende implementatie",null,null,null,"Scenario1","Scenario2"]
[null,"Bijkomende invulling van potentieel",null,"% van de HH (2030)",null,{"$f":"IF('Scenario''s'!I17=C36,F36,IF('Scenario''s'!I17=C37,AVERAGE(F37,G37),IF('Scenario''s'!I17=C38,AVERAGE(F38,G38),AVERAGE(F39,G39))))","v":0.1},{"$f":"IF('Scenario''s'!M17=C36,F36,IF('Scenario''s'!M17=C37,AVERAGE(F37,G37),IF('Scenario''s'!M17=C38,AVERAGE(F38,G38),AVERAGE(F39,G39))))","v":0.5},null,"Keuze via scenario's"]
[null,"Bijkomende invulling van potentieel",null,"#MWh",null,{"$f":"F33*F42","v":3603.9811310929167},{"$f":"F33*G42","v":18019.905655464583}]
[]
[null,"Parameters"]
[null,"Kenmerken maatregel",null,"Eenheid","Jaar","Waarde",null,"Bron"]
[null,"Gemiddelde emissiefactoren"]
[null,null,"Elektriciteit","ton CO2/MWh",null,{"$f":"IF($F$80=J65,M65,IF($F$80=J66,M66,M67))","v":0.17705584446860712}]
[null,"Installatie kenmerken"]
[null,null,"gem. Rendement","Input/Output",null,"n.a."]
[null,null,"TVT","jaar",null,5,null,null,"gemiddelde return on investment bij elektrische apparaten"]
[null,null,"Technische levensduur","jaar",null,15]
[null,"Kosten"]
[null,null,"CAPEX","€/kWh",null,"n.a."]
[null,null,null,"€/totaal",null,{"$f":"F73*F51","v":2446130.1131066955}]
[null,null,"Vaste OPEX","€/kWh/jaar",null,"n.a."]
[null,null,null,"€/totaal/jaar",null,"n.a."]
[null,null,"Variable OPEX (brandstofkosten)","€/kWh",null,"n.a."]
[null,null,null,"€/totaal/jaar",null,"n.a."]
[null,null,"Totale jaarlijkse kost (aflossing CAPEX+OPEX+brandstofkost)","€/totaal/jaar",null,{"$f":"(-PMT(F79,F52,F55))","v":220007.63402338931}]
[]
[null,"Kenmerken referentiesituatie",null,null,null,null,null,null,null,null,"elektriciteits-vraag","ele-vraag (exl.verw)","Emissie-factoren"]
[null,"Gemiddelde emissiefactoren"]
[null,null,"Elektriciteit","ton CO2/MWh",null,{"$f":"IF($F$80=J65,M65,IF($F$80=J66,M66,M67))","v":0.17705584446860712},null,null,null,"Bron","MWh","MWh","EF_ELE"]
[null,"Installatie kenmerken",null,null,null,null,null,null,null,"BAU",{"$f":"BAU_RES!L14","v":104020.41647473136},{"$f":"BAU_RES!K14","v":72079.622621858332},{"$f":"BAU_TOTAAL!$Q$14","v":0.17705584446860712}]
[null,null,"n.a.",null,null,null,null,null,null,"INV",{"$f":"INV!D16","v":127526.537307762},{"$f":"K66*F85*F86+K66*(1-F85)","v":93677.541234440869},{"$f":"INV!$D$26","v":0.19750015989190264}]
[null,"Kosten",null,null,null,null,null,null,null,"EIG",{"$f":"EIG!D16","v":0},{"$f":"K67*F85*F86+K67*(1-F85)","v":0},{"$f":"EIG!$D$26","v":0}]
[null,null,"CAPEX","€/kW",null,"n.a."]
[null,null,null,"€/HH",null,"n.a."]
[null,null,"Vaste Opex","€/kW/jaar",null,"n.a."]
[null,null,null,"€/totaal/jaar",null,"n.a."]
[null,null,"Variabele OPEX (Brandstofprijzen)","€/kWh",null,{"$f":"'AA_Energieprijs&Discontovoet'!F57","v":0.13574600000000001}]
[null,null,null,"€/totaal/jaar",null,{"$f":"F72*F43*1000","v":489226.02262133907}]
[null,null,"Totale jaarlijkse kost (aflossing CAPEX+OPEX+brandstofkost)","€/totaal/jaar",null,{"$f":"F73","v":489226.02262133907}]
[]
[null,"Algemene aannames"]
[null,"Graaddagen (15/15)"]
[null,null,"n.a."]
[null,"Discontovoet",null,"%",null,{"$f":"P_Discontovoet","v":0.04}]
[null,"Referentiesituatie",null,null,null,{"$f":"P_Maatregelen_Referentie","v":"BAU"},null,null,"Keuze via dashboard"]
[null,null,"jaar",null,null,{"$f":"P_Maatregelen_Jaar_Inventaris","v":2017}]
[null,"Andere"]
[null,null,"Aandeel woningen die verwarmen op ELE",null,null,0.08]
[null,null,"Verbruiksfactor ELE voor woningen die verwarmen op ELE",null,null,5.71]
[null,null,"Aandeel van de totale gemeentelijke residentiele ELE verbruik van HH die verwarmen op ELE",null,null,{"$f":"F83*F84/(F83*F84+1*(1-F83))","v":0.33178384660081345}]
[null,null,"Aandeel in ELE verbruik - Elektrische toestellen en verlichting (HH die verwarmen op ELE)",null,null,0.2]
[]
[null,"Referenties"]
[null,"[a]","VEA, 2019. Jaarlijkse energieverbruik gezin",null,null,"https://www.energiesparen.be/jaarlijkse-energieverbruik-gezin",null,null," "]
[null,"[b]","VREG, 2019. Evolutie energieverbruik",null,null,"https://www.vreg.be/nl/evolutie-energieverbruik#2",null,null," "]
[null,"[c]","Livios, 2019. investeren in zonneboilersysteem",null,null,"https://www.livios.be/nl/bouwinformatie/techniek/verwarmingstechniek/pro-contra-investeren-in-zonneboilersysteem-of-pv-panelen/",null,null," "]
[null,"[d]","Simoes et al., 2013. The JRC-EU-TIMES model: Assessing the long-term role of the SET Plan Energy technologies",null,null,"https://ec.europa.eu/jrc/en/publication/eur-scientific-and-technical-research-reports/jrc-eu-times-model-assessing-long-term-role-set-plan-energy-technologies",null,null," "]
[null,"[e]","Van Esch et al., 2016. Hernieuwbare Energie Atlas Vlaamse gemeenten",null,null,"http://www.vlaamseklimaattop.be/sites/default/files/atoms/files/Hernieuwbare_atlas_Vlaamse_gemeenten_finaal_v20160921.pdf",null,null," "]

{"sheet":"TER_EE_ISO","index":44,"n_rows":93,"n_cols":23,"rows_kept":93,"cut":false,"hidden":false,"merged":[[5,1,5,7],[14,1,14,7],[16,1,16,7],[17,1,17,7],[18,1,18,7]]}
[null,"<< Naar Scenario's",null,null,null,null,null,null,null,null,"Berekeningen + verwijzing andere cel"]
[null,null,null,null,null,null,null,null,null,null,"Verwijzing andere tab (nulmeting/data)"]
[null,"Plaatsen isolatie in tertiaire sector",null,null,null,null,null,null,"Opmerkingen",null,"Overschrijfbaar: Vaste parameters uit externe bronnen, literatuur, rebus model"]
[null,null,null,"Tertiair",null,null,null,null,null,null,"Algemene aannames, overschrijfbaar vanuit centrale dashboard"]
[null,"Beschrijving van de maatregel"]
[null,"Maatregel: De implementatie van isolerende maatregelen in de tertiaire sector voor de reductie van de ruimteverwarming.\n"]
[null,"Relatie met andere maatregelen"]
[null,"nr maatregel",null,"maatregel"]
[null,"beschrijving (overlappend potentieel)"]
[null,"nr maatregel",null,"maatregel"]
[null,"beschrijving (overlappend potentieel)"]
[null,"nr maatregel",null,"maatregel"]
[null,"beschrijving (overlappend potentieel)"]
[null,"Betekenis lange termijn voor energie-/klimaattransitie"]
[null,"De algemene energievraag voor de productie van warmte (ruimteverwarming) kan door een doorgedreven isolatiebeleid op termijn sterk teruggedrongen worden."]
[null,"Aannames/onzekerheden/hypothesen"]
[null,"Aanname: Alle gedefinieerde kosten zijn bepaald vanuit een maatschappelijk standpunt (exl. taksen, subsidies, etc.) en zeggen niets over de kost vanuit een actor standpunt. De kosten dienen dus ook niet als dusdanig geïnterpreteerd te worden. De maatschappelijke kost wordt enkel gebruikt om een relatieve volgorde te kunnen opmaken om te bepalen welke maatregelen vanuit maatschappelijke standpunt goedkoper zijn dan andere."]
[null,"Aanname: We werken met gemiddelde kengetallen al ligt voor de hand dat er grote verschillen zijn in de verschillende subsectoren (Gezondheidszorg, handel, horeca, kantoren, onderwijs, etc.). Beleidsmaatregelen dienen dan ook heel specifiek gericht worden naar de verschillende subsectoren om deze technische maatregel te vervullen."]
[null,"Aanname: de ambitielevels worden redelijk hoog gedefinieerd (tot 80%) omdat het aandeel dat we definiëren dat in aanmerking komt om te reduceren door grondige isolatie maatregelen uit te voeren al beperkt wordt obv realistische scenario resultaten (-36% realistisch reductiepotentieel) [a]. "]
[]
[null,"Berekeningen"]
[null,"Resultaat",null,null,null,"Scenario1","Scenario2"]
[null,"totale besparing",null,"MWh",null,{"$f":"F47*F69","v":25513.65576894777},{"$f":"G47*F69","v":59531.863460878121}]
[null,"totale CO2 reductie",null,"ton CO2",null,{"$f":"F47*F69*F67","v":5331.516632652123},{"$f":"G47*F69*F67","v":12440.205476188285}]
[null,"Maatschappelijke kost per ton CO2 reductie",null,"€/ton CO2",null,{"$f":"(F63-F78)/F24","v":-64.430170682208626}]
[]
[null,"Potentieel maatregel",null,"Eenheid","Jaar","Waarde",null,"Bron"]
[]
[null,"Activiteitsmeter: Warmtegebruik in tertiaire sector",null,"MWh",null,{"$f":"IF(F86=J67,(K67/F69),IF(F86=J68,(K68/F69),(K69/F69)))","v":192728.44275192442}]
[null,null,"Handelsgebouwen","% van de tertiaire sector",null,0.4,null,"[b] - p18"]
[null,null,"Kantoorgebouwen","% van de tertiaire sector",null,0.35,null,"[b] - p18"]
[null,null,"Openbare gebouwen","% van de tertiaire sector",null,0.25,null,"[b] - p18"]
[null,"Bijkomend potentieel"]
[null,null,null,"% van #MWh komen in aanmerking",null,0.36,null,"[a] - p27"]
[null,null,null,"#MWh",null,{"$f":"F29*F34","v":69382.23939069279}]
[null,null,null,"% van potentieel reeds vervuld",null,0,null,null,"enkel het fossiele verbruik is meegenomen."]
[null,null,"Bijkomend potentieel","#MWh",null,{"$f":"F35*(1-F36)","v":69382.23939069279}]
[]
[null,"Implementatiegraad maatregel",null,null,null,"Min.","Max"]
[null,null,{"$f":"dropdowns!$R$4","v":"Niet"},null,null,1.0000000000000001E-17]
[null,null,{"$f":"dropdowns!$R$5","v":"Laag"},null,null,0.2,0.4,null,"aanpassen obv gemeente specifieke eigenschappen"]
[null,null,{"$f":"dropdowns!$R$6","v":"Medium"},null,null,0.4,0.6,null,"aanpassen obv gemeente specifieke eigenschappen"]
[null,null,{"$f":"dropdowns!$R$7","v":"Hoog"},null,null,0.6,0.8,null,"aanpassen obv gemeente specifieke eigenschappen"]
[]
[null,"Bijkomende implementatie",null,null,null,"Scenario1","Scenario2"]
[null,"Bijkomende invulling van potentieel",null,"% van de warmtevraag (2030)",null,{"$f":"IF('Scenario''s'!I19=C40,F40,IF('Scenario''s'!I19=C41,AVERAGE(F41,G41),IF('Scenario''s'!I19=C42,AVERAGE(F42,G42),AVERAGE(F43,G43))))","v":0.30000000000000004},{"$f":"IF('Scenario''s'!M19=C40,F40,IF('Scenario''s'!M19=C41,AVERAGE(F41,G41),IF('Scenario''s'!M19=C42,AVERAGE(F42,G42),AVERAGE(F43,G43))))","v":0.7},null,"Keuze via scenario's"]
[null,"Bijkomende invulling van potentieel",null,"#MWh",null,{"$f":"F37*F46","v":20814.67181720784},{"$f":"F37*G46","v":48567.56757348495}]
[]
[null,"Parameters"]
[null,"Kenmerken maatregel",null,"Eenheid","Jaar","Waarde",null,"Bron"]
[null,"Gemiddelde emissiefactoren (2030)"]
[null,null,"n.a."]
[null,"Installatie kenmerken"]
[null,null,"Technische levensduur","jaar",null,50]
[]
[null,"Kosten"]
[null,null,"CAPEX","€/MWh besparing",null,550]
[null,null,null,"€/ totaal (exl. Taks, premies, etc.)",null,{"$f":"F57*F47","v":11448069.499464313}]
[null,null,"Vaste OPEX",null,null,"n.a."]
[]
[null,null,"Variable OPEX (brandstofkosten)",null,null,"n.a."]
[]
[null,null,"Totale jaarlijkse kost (aflossing CAPEX+OPEX+brandstofkost)","€/totaal/jaar",null,{"$f":"(-PMT(F85,F54,F58))","v":532909.92996034643}]
[]
[null,"Kenmerken referentiesituatie",null,null,null,null,null,null,null,null,"Brandstofgebruik (warmtevraag)","Verdeling van de fossiele tertiaire energievectoren voor verwarming (obv het gekozen referentiejaar)",null,null,null,null,null,null,null,null,null,"Emissiefactoren"]
[null,"Gemiddelde emissiefactoren",null,null,null,null,null,null,null,"Bron","MWh","Elektriciteit","Warmte/ Koude","Aardgas","Vloeibaar gas","Stookolie","Diesel","Benzine","Bruinkool","Steenkool","Rest","EF_verw","EF_ELE"]
[null,null,"Bestaande gebouwen - SWW en verwarming","ton CO2/MWh",null,{"$f":"IF($F$86=J67,V67,IF($F$86=J68,V68,V69))","v":0.20896717745721957},null,null,null,"BAU",{"$f":"SUM(BAU_TER!I13:I28)","v":236237.55341618304},null,{"$f":"BAU_TER!I13/$K$67","v":1.2482290269450906E-2},{"$f":"BAU_TER!I15/$K$67","v":0.84709400270273827},{"$f":"BAU_TER!I16/$K$67","v":1.1510710324755827E-2},{"$f":"BAU_TER!I17/$K$67","v":9.1950060998943872E-2},{"$f":"BAU_TER!I18/$K$67","v":0},{"$f":"BAU_TER!I19/$K$67","v":0},{"$f":"BAU_TER!I20/$K$67","v":0},{"$f":"BAU_TER!I21/$K$67","v":1.1822585294044636E-6},{"$f":"100%-SUM(L67:T67)","v":3.6961753445581724E-2},{"$f":"SUMPRODUCT(M67:T67,$M$70:$T$70)/SUM(M67:T67)","v":0.20896717745721957},{"$f":"BAU_TOTAAL!$Q$14","v":0.17705584446860712}]
[null,"Installatie kenmerken",null,null,null,null,null,null,null,"INV",{"$f":"INV!S17-INV!D17","v":243809.60346921583},null,{"$f":"INV!E17/$K68","v":1.2094624954582781E-2},{"$f":"INV!F17/$K68","v":0.84846245785536589},{"$f":"INV!G17/$K68","v":1.1529305534737314E-2},{"$f":"INV!H17/$K68","v":9.2098603586138389E-2},{"$f":"INV!I17/$K68","v":0},{"$f":"INV!J17/$K68","v":0},{"$f":"INV!K17/$K68","v":0},{"$f":"INV!L17/$K68","v":1.1841684328757896E-6},{"$f":"100%-SUM(L68:T68)","v":3.5813823900742725E-2},{"$f":"SUMPRODUCT(M68:T68,$M$70:$T$70)/SUM(M68:T68)","v":0.20895504648220908},{"$f":"INV!$D$26","v":0.19750015989190264}]
[null,null,"gem. rendement fossiele installatie - SWW en verwarming","Input/Output",null,{"$f":"IF(F86=J67,(N67*'AA_Energieprijs&Discontovoet'!$F$43+O67*'AA_Energieprijs&Discontovoet'!$F$44+P67*'AA_Energieprijs&Discontovoet'!$F$45)/SUM(N67:P67),IF(F86=J68,(N68*'AA_Energieprijs&Discontovoet'!$F$43+O68*'AA_Energieprijs&Discontovoet'!$F$44+P68*'AA_Energieprijs&Discontovoet'!$F$45)/SUM(N68:P68),(N69*'AA_Energieprijs&Discontovoet'!$F$43+O69*'AA_Energieprijs&Discontovoet'!$F$44+P69*'AA_Energieprijs&Discontovoet'!$F$45)/SUM(N69:P69)))","v":1.2257534489616695},null,null,null,"EIG",{"$f":"SUM(EIG!E17:R17)","v":0},null,{"$f":"EIG!E17/$K$69","v":{"$error":"#DIV/0!"}},{"$f":"EIG!F17/$K$69","v":{"$error":"#DIV/0!"}},{"$f":"EIG!G17/$K$69","v":{"$error":"#DIV/0!"}},{"$f":"EIG!H17/$K$69","v":{"$error":"#DIV/0!"}},{"$f":"EIG!I17/$K$69","v":{"$error":"#DIV/0!"}},{"$f":"EIG!J17/$K$69","v":{"$error":"#DIV/0!"}},{"$f":"EIG!K17/$K$69","v":{"$error":"#DIV/0!"}},{"$f":"EIG!L17/$K$69","v":{"$error":"#DIV/0!"}},{"$f":"100%-SUM(L69:T69)","v":{"$error":"#DIV/0!"}},{"$f":"SUMPRODUCT(M69:T69,$M$70:$T$70)/SUM(M69:T69)","v":{"$error":"#DIV/0!"}},{"$f":"EIG!$D$26","v":0}]
[null,null,"gem. Technische levensduur","jaar",null,{"$f":"IF(F86=J67,(N67*'AA_Energieprijs&Discontovoet'!$F$51+O67*'AA_Energieprijs&Discontovoet'!$F$52+P67*'AA_Energieprijs&Discontovoet'!$F$53)/SUM(N67:P67),IF(F86=J68,(N68*'AA_Energieprijs&Discontovoet'!$F$51+O68*'AA_Energieprijs&Discontovoet'!$F$52+P68*'AA_Energieprijs&Discontovoet'!$F$53)/SUM(N68:P68),(N69*'AA_Energieprijs&Discontovoet'!$F$51+O69*'AA_Energieprijs&Discontovoet'!$F$52+P69*'AA_Energieprijs&Discontovoet'!$F$53)/SUM(N69:P69)))","v":20},null,null,null,"EF_vector",null,null,{"$f":"BAU_TOTAAL!$Q$15","v":0.23764705882352966},{"$f":"'AA_Energieprijs&Discontovoet'!$F$98","v":0.20200000000000001},{"$f":"'AA_Energieprijs&Discontovoet'!$F$99","v":0.22700000000000001},{"$f":"'AA_Energieprijs&Discontovoet'!$F$100","v":0.26700000000000002},{"$f":"'AA_Energieprijs&Discontovoet'!$F$101","v":0.26700000000000002},{"$f":"'AA_Energieprijs&Discontovoet'!$F$102","v":0.249},{"$f":"'AA_Energieprijs&Discontovoet'!$F$103","v":0.35099999999999998},{"$f":"'AA_Energieprijs&Discontovoet'!$F$104","v":0.35399999999999998}]
[null,"Kosten"]
[null,null,"CAPEX",null,null,"n.a."]
[]
[null,null,"Vaste Opex",null,null,"n.a."]
[]
[null,null,"Variabele OPEX (Brandstofprijzen)","€/kWh/jaar",null,{"$f":"IF(F86=J67,(N67*'AA_Energieprijs&Discontovoet'!$F$64+O67*'AA_Energieprijs&Discontovoet'!$F$65+P67*'AA_Energieprijs&Discontovoet'!$F$66)/SUM(N67:P67),IF(F86=J68,(N68*'AA_Energieprijs&Discontovoet'!$F$64+O68*'AA_Energieprijs&Discontovoet'!$F$65+P68*'AA_Energieprijs&Discontovoet'!$F$66)/SUM(N68:P68),(N69*'AA_Energieprijs&Discontovoet'!$F$64+O69*'AA_Energieprijs&Discontovoet'!$F$65+P69*'AA_Energieprijs&Discontovoet'!$F$66)/SUM(N69:P69)))/1000","v":3.435103399269944E-2}]
[null,null,null,"€/totaal/jaar",null,{"$f":"F76*F47*1000*F69","v":876420.45659715694}]
[null,null,"Totale jaarlijkse kost (aflossing CAPEX+OPEX+brandstofkost)","€/totaal/jaar",null,{"$f":"F77","v":876420.45659715694}]
[]
[null,"Algemene aannames"]
[null,"Graaddagen (15/15)"]
[null,null,"Referentiejaar",null,{"$f":"F87","v":2017},{"$f":"VLOOKUP(E82+0,'AA_Energieprijs&Discontovoet'!E8:F16,2,FALSE)","v":1776}]
[null,null,2030,null,2030,{"$f":"'AA_Energieprijs&Discontovoet'!F16","v":1870}]
[null,null,"Elasticiteit",null,null,0.46]
[null,"Discontovoet",null,"%",null,{"$f":"P_Discontovoet","v":0.04}]
[null,"Referentiesituatie",null,null,null,{"$f":"P_Maatregelen_Referentie","v":"BAU"},null,null,"Keuze via dashboard"]
[null,null,"jaar",null,null,{"$f":"P_Maatregelen_Jaar_Inventaris","v":2017}]
[null,"Andere"]
[]
[null,"Referenties"]
[null,"[a]","VEA, 2016. Strategienota Renovatie niet-residentiële gebouwen",null,null,"https://www.energiesparen.be/sites/default/files/atoms/files/Strategienota%20niet-residenti%C3%ABle%20gebouwen.pdf",null,null," "]
[null,"[b]","Vlaamse regering, 2018. Ontwerp Vlaams Energieplan 2021-2030",null,null,"http://docs.vlaamsparlement.be/pfile?id=1418105",null,null," "]
[null,null,null,null,null,null,null,null," "]

{"sheet":"TER_HER_WP","index":45,"n_rows":102,"n_cols":23,"rows_kept":102,"cut":false,"hidden":false,"merged":[[21,1,21,7],[5,1,5,7],[14,1,14,7],[17,1,17,7],[19,1,19,7],[20,1,20,7],[18,1,18,7],[16,1,16,7]]}
[null,"<< Naar Scenario's",null,null,null,null,null,null,null,null,"Berekeningen + verwijzing andere cel"]
[null,null,null,null,null,null,null,null,null,null,"Verwijzing andere tab (nulmeting/data)"]
[null,"Plaatsen van een warmtepomp",null,null,null,null,null,null,"Opmerkingen",null,"Overschrijfbaar: Vaste parameters uit externe bronnen, literatuur, rebus model"]
[null,null,null,"Tertiair",null,null,null,null,null,null,"Algemene aannames, overschrijfbaar vanuit centrale dashboard"]
[null,"Beschrijving van de maatregel"]
[null,"Maatregel: De implementatie van warmtepompen in de tertiaire sector voor de verwarming van sanitair warm water en ruimteverwarming.\n\nOm de implementatie van de diverse warmtepompen te versnellen tot het niveau van het maximum technische potentieel, dient men zich bewust te zijn van een aantal barrières die vlotte introductie kunnen belemmeren. De ontwikkeling van de lage temperatuur warmtepomp als (geloof)waardig alternatief hangt nauw samen met 3 andere maatregelen: (1) hernieuwbaar maken van de elektriciteitsproductie; (2) goed isoleren van de gebouwen en (3) overgaan van een hoge temperatuur distributiesysteem naar een lage temperatuur distributiesysteem. Bij het organiseren van beleidsmaatregelen voor de verdere uitrol van het gebruik van warmtepompen in de tertiaire sector, kan het welslagen van deze maatregel afhangen van redenen die niet direct iets met de technologie zelf te maken hebben. Het risico dat de warmtepomp niet de gewenste uitstootreductie haalt is daardoor veel groter dan het risico inherent aan de technologie zelf [a]. Men mag bij de uitrol van deze maatregel deze 3 elementen niet uit het oog verliezen. Vaak volstaat het om bepaalde barrières uit de weg te werken om het succes van de warmtepomp te versnellen.\n"]
[null,"Relatie met andere maatregelen"]
[null,"nr maatregel",null,"maatregel"]
[null,"beschrijving (overlappend potentieel)"]
[null,"nr maatregel",null,"maatregel"]
[null,"beschrijving (overlappend potentieel)"]
[null,"nr maatregel",null,"maatregel"]
[null,"beschrijving (overlappend potentieel)"]
[null,"Betekenis lange termijn voor energie-/klimaattransitie"]
[null,"Warmtepompen zijn een hernieuwbare warmtetechniek die in rechtstreekse concurrentie komt met een aantal andere hernieuwbare warmtetechnieken (zonneboilers, pelletketels, warmtenetten, etc.). De shift van fossiel naar hernieuwbaar kan beleidsmatig ondersteund worden, maar men dient toch op te letten niet de keuze tussen verschillende hernieuwbare technieken op te leggen. Het zou beter zijn een beleid te ontwikkelen die zich eerder toespitst op de verduurzaming van de warmteproductie in gebouwen, eerder dan het naar voorschuiven/ondersteunen van één specifieke techniek. Het beleid voor de maatregel 'warmtepomp' zou dus beter geïntegreerd worden in een beleid waarbij de alternatieve en duurzame warmtetechnieken worden ondersteund zonder vanuit het beleid de technologiekeuze op te leggen."]
[null,"Aannames/onzekerheden/hypothesen"]
[null,"Aanname: Alle gedefinieerde kosten zijn bepaald vanuit een maatschappelijk standpunt (exl. taksen, subsidies, etc.) en zeggen niets over de kost vanuit een actor standpunt. De kosten dienen dus ook niet als dusdanig geïnterpreteerd te worden. De maatschappelijke kost wordt enkel gebruikt om een relatieve volgorde te kunnen opmaken om te bepalen welke maatregelen vanuit maatschappelijke standpunt goedkoper zijn dan andere."]
[null,"Aanname: we weten dat het technische potentieel niet voor elk gebouw dezelfde is. De gebouw specifieke eigenschappen bepalen of de toepasbaarheid van een warmtepomp haalbaar is (betaalbaar is). De gedefinieerde technisch potentieel dient dan ook gelezen te worden als een bovengrens."]
[null,"Aanname: Voor het potentieel te bepalen baseren we op de aanname beschreven in de potentieel analyse van VEA-VITO [a] waarbij focus wordt gelegd op de subsectoren zorg, onderwijs en kantoren: 75% binnen deze sector zal een WP kunnen installeren mits de nodige aanpassingen (zie 'beschrijving maatregel')."]
[null,"Aanname: Er kunnen diverse types van warmtepompen worden ingezet, zowel elektrisch aangedreven, hybride als gas warmtepompen. We rekenen hier enkel verder met elektrische aangedreven warmtepompen."]
[null,"Aanname: We rekenen voor de tertiaire warmtevraag die in aanmerking komt voor WP met de fossiele tertiaire warmtevraag (aardgas, stookolie en vloeibaar gas) van het referentiejaar, gecorrigeerd met het gemiddelde rendement van de fossiele verwarmingstechnieken en voor de graaddagen. We houden enkel rekening met de warmtevraag van het bestaande tertiaire gebouwen park, geen nieuwbouw (groei van de tertiaire sector wordt hier dus niet mee in rekening gebracht). "]
[null,"Aanname: Er bestaan Grond/Water, Lucht/Water en Lucht/Lucht warmtepompen, elk met hun specifieke eigenschappen. We rekenen hier voor de eenvoud enkel verder met de kenmerken van een 'gemiddelde' installatie. "]
[]
[null,"Berekeningen"]
[null,"Resultaat",null,null,null,"Scenario1","Scenario2"]
[null,"totale besparing",null,"MWh",null,{"$f":"F50*F78-F50*F58","v":12196.757073791261},{"$f":"G50*F78-G50*F58","v":28459.099838846269}]
[null,"totale CO2 reductie",null,"ton CO2",null,{"$f":"F50*F78*F75-F50*F58*F56","v":2668.3663516033976},{"$f":"G50*F78*F75-G50*F58*F56","v":6226.1881537412601}]
[null,"Maatschappelijke kost per ton CO2 reductie",null,"€/ton CO2",null,{"$f":"(F71-F87)/F27","v":415.22528257601743}]
[]
[null,"Potentieel maatregel",null,"Eenheid","Jaar","Waarde",null,"Bron"]
[]
[null,"Activiteitsmeter: Warmtegebruik in tertiaire sector",null,"MWh",null,{"$f":"IF(F95=J75,(K75/F78),IF(F95=J76,(K76/F78),(K77/F78)))","v":192728.44275192442}]
[null,null,"Handelsgebouwen","% van de tertiaire sector",null,0.4,null,"[b] - p18"]
[null,null,"Kantoorgebouwen","% van de tertiaire sector",null,0.35,null,"[b] - p18"]
[null,null,"Openbare gebouwen","% van de tertiaire sector",null,0.25,null,"[b] - p18"]
[null,"Bijkomend potentieel"]
[null,null,null,"% van #MWh komen in aanmerking",null,{"$f":"(F35+F34)*75%","v":0.44999999999999996},null,"[a] - p22","Zie aanname"]
[null,null,null,"#MWh",null,{"$f":"F32*F37","v":86727.799238365988}]
[null,null,null,"% van potentieel reeds vervuld",null,0,null,null,"enkel het fossiele verbruik is meegenomen."]
[null,null,"Bijkomend potentieel","#MWh",null,{"$f":"F38*(1-F39)","v":86727.799238365988}]
[]
[null,"Implementatiegraad maatregel",null,null,null,"Min.","Max"]
[null,null,{"$f":"dropdowns!$R$4","v":"Niet"},null,null,1.0000000000000001E-17]
[null,null,{"$f":"dropdowns!$R$5","v":"Laag"},null,null,0.1,0.2,null,"aanpassen obv gemeente specifieke eigenschappen"]
[null,null,{"$f":"dropdowns!$R$6","v":"Medium"},null,null,0.2,0.3,null,"aanpassen obv gemeente specifieke eigenschappen"]
[null,null,{"$f":"dropdowns!$R$7","v":"Hoog"},null,null,0.3,0.4,null,"aanpassen obv gemeente specifieke eigenschappen"]
[]
[null,"Bijkomende implementatie",null,null,null,"Scenario1","Scenario2"]
[null,"Bijkomende invulling van potentieel",null,"% van de warmtevraag (2030)",null,{"$f":"IF('Scenario''s'!I20=C43,F43,IF('Scenario''s'!I20=C44,AVERAGE(F44,G44),IF('Scenario''s'!I20=C45,AVERAGE(F45,G45),AVERAGE(F46,G46))))","v":0.15000000000000002},{"$f":"IF('Scenario''s'!M20=C43,F43,IF('Scenario''s'!M20=C44,AVERAGE(F44,G44),IF('Scenario''s'!M20=C45,AVERAGE(F45,G45),AVERAGE(F46,G46))))","v":0.35},null,"Keuze via scenario's"]
[null,"Bijkomende invulling van potentieel",null,"#MWh",null,{"$f":"F40*F49","v":13009.1698857549},{"$f":"F40*G49","v":30354.729733428092}]
[null,null,null,"#kW theoretisch vermogen",null,{"$f":"F50/F60*1000","v":7002.8657770109185},{"$f":"G50/F60*1000","v":16340.020146358807}]
[]
[null,"Parameters"]
[null,"Kenmerken maatregel",null,"Eenheid","Jaar","Waarde",null,"Bron"]
[null,"Gemiddelde emissiefactoren (2030)"]
[null,null,"Gebruik warmtepomp (elektrische)","ton CO2/MWh",null,{"$f":"IF($F$95=J75,W75,IF($F$95=J76,W76,W77))","v":0.17705584446860712},null,"Zie aanname"," "]
[null,"Installatie kenmerken",null,null,null,null,null,null,null,null,null,"G/W","L/W","L/L","Gem"]
[null,null,"gem. rendement WP","Input/Output",null,{"$f":"1/F59","v":0.28820269200316706},null,null,null,"verdeling per type WP",null,0.37,0.24,0.3,null,"aannames [a]"]
[null,null,"SPF",null,null,{"$f":"O61","v":3.4697802197802199},null,null,null,"CAPEX","€/kW",1924.48,1485.33,1244.1099999999999,{"$f":"(L59*$L$58+M59*$M$58+N59*$N$58)/SUM($L$58:$N$58)","v":1584.3624175824175},"[c] - p145"]
[null,null,"HHP","uren",null,{"$f":"O63","v":1857.6923076923078},null,null,null,"OPEX","€/kW/jaar",96.22,74.27,62.21,{"$f":"(L60*$L$58+M60*$M$58+N60*$N$58)/SUM($L$58:$N$58)","v":79.2189010989011},"[c] - p145"]
[null,null,"Gem vermogen warmtepomp",null,null,null,null,null,null,"Rendement: SPF",null,4.3499999999999996,3.2,2.6,{"$f":"(L61*$L$58+M61*$M$58+N61*$N$58)/SUM($L$58:$N$58)","v":3.4697802197802199},"[a] - p 16"]
[null,null,"Technische levensduur","jaar",null,{"$f":"O62","v":17.032967032967033},null,null,null,"levensduur","jaar",20,15,15,{"$f":"(L62*$L$58+M62*$M$58+N62*$N$58)/SUM($L$58:$N$58)","v":17.032967032967033},"[c] - p145"]
[null,null,null,null,null,null,null,null,null,"HHP","uren",2070,1640,1770,{"$f":"(L63*$L$58+M63*$M$58+N63*$N$58)/SUM($L$58:$N$58)","v":1857.6923076923078},"[a] - p 13"]
[null,"Kosten"]
[null,null,"CAPEX","€/kW",null,{"$f":"O59","v":1584.3624175824175}]
[null,null,null,"€/ totaal (exl. Taks, premies, etc)",null,{"$f":"F65*F51","v":11095077.352470193}]
[null,null,"Vaste OPEX","€/kW/jaar",null,{"$f":"O60","v":79.2189010989011}]
[null,null,null,"€/totaal/jaar",null,{"$f":"F67*F51","v":554759.33139790711}]
[null,null,"Variable OPEX (brandstofkosten)","€/kWh/jaar",null,{"$f":"'AA_Energieprijs&Discontovoet'!F63/1000","v":0.11486199999999999},null,null,"ELE prijs"]
[null,null,null,"€/totaal/jaar",null,{"$f":"F69*1000*F50*F58","v":430649.54457323736}]
[null,null,"Totale jaarlijkse kost (aflossing CAPEX+OPEX+brandstofkost)","€/totaal/jaar",null,{"$f":"(-PMT(F94,F62,F66))+F68+F70","v":1896166.3143327599}]
[]
[null,"Kenmerken referentiesituatie",null,null,null,null,null,null,null,null,"Brandstofgebruik (warmtevraag)","Verdeling van de fossiele tertiaire energievectoren voor verwarming (obv het gekozen referentiejaar)",null,null,null,null,null,null,null,null,null,"Emissiefactoren"]
[null,"Gemiddelde emissiefactoren",null,null,null,null,null,null,null,"Bron","MWh","Elektriciteit","Warmte/ Koude","Aardgas","Vloeibaar gas","Stookolie","Diesel","Benzine","Bruinkool","Steenkool","Rest","EF_verw","EF_ELE"]
[null,null,"Bestaande gebouwen - SWW en verwarming","ton CO2/MWh",null,{"$f":"IF($F$95=J75,V75,IF($F$95=J76,V76,V77))","v":0.20896717745721957},null,null,null,"BAU",{"$f":"SUM(BAU_TER!I13:I28)","v":236237.55341618304},null,{"$f":"BAU_TER!I13/$K$75","v":1.2482290269450906E-2},{"$f":"BAU_TER!I15/$K$75","v":0.84709400270273827},{"$f":"BAU_TER!I16/$K$75","v":1.1510710324755827E-2},{"$f":"BAU_TER!I17/$K$75","v":9.1950060998943872E-2},{"$f":"BAU_TER!I18/$K$75","v":0},{"$f":"BAU_TER!I19/$K$75","v":0},{"$f":"BAU_TER!I20/$K$75","v":0},{"$f":"BAU_TER!I21/$K$75","v":1.1822585294044636E-6},{"$f":"100%-SUM(L75:T75)","v":3.6961753445581724E-2},{"$f":"SUMPRODUCT(M75:T75,$M$78:$T$78)/SUM(M75:T75)","v":0.20896717745721957},{"$f":"BAU_TOTAAL!$Q$14","v":0.17705584446860712}]
[null,null,"Elektrische verwarming","ton CO2/MWh",null,{"$f":"IF($F$95=J75,W75,IF($F$95=J76,W76,W77))","v":0.17705584446860712},null,null,null,"INV",{"$f":"INV!S17-INV!D17","v":243809.60346921583},null,{"$f":"INV!E17/$K76","v":1.2094624954582781E-2},{"$f":"INV!F17/$K76","v":0.84846245785536589},{"$f":"INV!G17/$K76","v":1.1529305534737314E-2},{"$f":"INV!H17/$K76","v":9.2098603586138389E-2},{"$f":"INV!I17/$K76","v":0},{"$f":"INV!J17/$K76","v":0},{"$f":"INV!K17/$K76","v":0},{"$f":"INV!L17/$K76","v":1.1841684328757896E-6},{"$f":"100%-SUM(L76:T76)","v":3.5813823900742725E-2},{"$f":"SUMPRODUCT(M76:T76,$M$78:$T$78)/SUM(M76:T76)","v":0.20895504648220908},{"$f":"INV!$D$26","v":0.19750015989190264}]
[null,"Installatie kenmerken",null,null,null,null,null,null,null,"EIG",{"$f":"SUM(EIG!E17:R17)","v":0},null,{"$f":"EIG!E17/$K$77","v":{"$error":"#DIV/0!"}},{"$f":"EIG!F17/$K$77","v":{"$error":"#DIV/0!"}},{"$f":"EIG!G17/$K$77","v":{"$error":"#DIV/0!"}},{"$f":"EIG!H17/$K$77","v":{"$error":"#DIV/0!"}},{"$f":"EIG!I17/$K$77","v":{"$error":"#DIV/0!"}},{"$f":"EIG!J17/$K$77","v":{"$error":"#DIV/0!"}},{"$f":"EIG!K17/$K$77","v":{"$error":"#DIV/0!"}},{"$f":"EIG!L17/$K$77","v":{"$error":"#DIV/0!"}},{"$f":"100%-SUM(L77:T77)","v":{"$error":"#DIV/0!"}},{"$f":"SUMPRODUCT(M77:T77,$M$78:$T$78)/SUM(M77:T77)","v":{"$error":"#DIV/0!"}},{"$f":"EIG!$D$26","v":0}]
[null,null,"gem. rendement fossiele installatie - SWW en verwarming","Input/Output",null,{"$f":"IF(F95=J75,(N75*'AA_Energieprijs&Discontovoet'!$F$43+O75*'AA_Energieprijs&Discontovoet'!$F$44+P75*'AA_Energieprijs&Discontovoet'!$F$45)/SUM(N75:P75),IF(F95=J76,(N76*'AA_Energieprijs&Discontovoet'!$F$43+O76*'AA_Energieprijs&Discontovoet'!$F$44+P76*'AA_Energieprijs&Discontovoet'!$F$45)/SUM(N76:P76),(N77*'AA_Energieprijs&Discontovoet'!$F$43+O77*'AA_Energieprijs&Discontovoet'!$F$44+P77*'AA_Energieprijs&Discontovoet'!$F$45)/SUM(N77:P77)))","v":1.2257534489616695},null,null,null,"EF_vector",null,null,{"$f":"BAU_TOTAAL!$Q$15","v":0.23764705882352966},{"$f":"'AA_Energieprijs&Discontovoet'!$F$98","v":0.20200000000000001},{"$f":"'AA_Energieprijs&Discontovoet'!$F$99","v":0.22700000000000001},{"$f":"'AA_Energieprijs&Discontovoet'!$F$100","v":0.26700000000000002},{"$f":"'AA_Energieprijs&Discontovoet'!$F$101","v":0.26700000000000002},{"$f":"'AA_Energieprijs&Discontovoet'!$F$102","v":0.249},{"$f":"'AA_Energieprijs&Discontovoet'!$F$103","v":0.35099999999999998},{"$f":"'AA_Energieprijs&Discontovoet'!$F$104","v":0.35399999999999998}]
[null,null,"gem. Technische levensduur","jaar",null,{"$f":"IF(F95=J75,(N75*'AA_Energieprijs&Discontovoet'!$F$51+O75*'AA_Energieprijs&Discontovoet'!$F$52+P75*'AA_Energieprijs&Discontovoet'!$F$53)/SUM(N75:P75),IF(F95=J76,(N76*'AA_Energieprijs&Discontovoet'!$F$51+O76*'AA_Energieprijs&Discontovoet'!$F$52+P76*'AA_Energieprijs&Discontovoet'!$F$53)/SUM(N76:P76),(N77*'AA_Energieprijs&Discontovoet'!$F$51+O77*'AA_Energieprijs&Discontovoet'!$F$52+P77*'AA_Energieprijs&Discontovoet'!$F$53)/SUM(N77:P77)))","v":20}]
[null,"Kosten"]
[null,null,"CAPEX","€/kW",null,{"$f":"IF(F95=J75,(N75*'AA_Energieprijs&Discontovoet'!$F$26+O75*'AA_Energieprijs&Discontovoet'!$F$27+P75*'AA_Energieprijs&Discontovoet'!$F$28)/SUM(N75:P75),IF(F95=J76,(N76*'AA_Energieprijs&Discontovoet'!$F$26+O76*'AA_Energieprijs&Discontovoet'!$F$27+P76*'AA_Energieprijs&Discontovoet'!$F$28)/SUM(N76:P76),(N77*'AA_Energieprijs&Discontovoet'!$F$26+O77*'AA_Energieprijs&Discontovoet'!$F$27+P77*'AA_Energieprijs&Discontovoet'!$F$28)/SUM(N77:P77)))","v":242.0421775265412}]
[null,null,null,"€/ totaal (exl. Taks, premies, etc)",null,{"$f":"F81*F51","v":1694988.8815938167}]
[null,null,"Vaste Opex","€/kW/jaar",null,{"$f":"IF(F95=J75,(N75*'AA_Energieprijs&Discontovoet'!$F$34+O75*'AA_Energieprijs&Discontovoet'!$F$35+P75*'AA_Energieprijs&Discontovoet'!$F$36)/SUM(N75:P75),IF(F95=J76,(N76*'AA_Energieprijs&Discontovoet'!$F$34+O76*'AA_Energieprijs&Discontovoet'!$F$35+P76*'AA_Energieprijs&Discontovoet'!$F$36)/SUM(N76:P76),(N77*'AA_Energieprijs&Discontovoet'!$F$34+O77*'AA_Energieprijs&Discontovoet'!$F$35+P77*'AA_Energieprijs&Discontovoet'!$F$36)/SUM(N77:P77)))","v":16.523250850144191}]
[null,null,null,"€/totaal/jaar",null,{"$f":"F83*F51","v":115710.10790344131}]
[null,null,"Variabele OPEX (Brandstofprijzen)","€/kWh/jaar",null,{"$f":"IF(F95=J75,(N75*'AA_Energieprijs&Discontovoet'!$F$64+O75*'AA_Energieprijs&Discontovoet'!$F$65+P75*'AA_Energieprijs&Discontovoet'!$F$66)/SUM(N75:P75),IF(F95=J76,(N76*'AA_Energieprijs&Discontovoet'!$F$64+O76*'AA_Energieprijs&Discontovoet'!$F$65+P76*'AA_Energieprijs&Discontovoet'!$F$66)/SUM(N76:P76),(N77*'AA_Energieprijs&Discontovoet'!$F$64+O77*'AA_Energieprijs&Discontovoet'!$F$65+P77*'AA_Energieprijs&Discontovoet'!$F$66)/SUM(N77:P77)))/1000","v":3.435103399269944E-2}]
[null,null,null,"€/totaal/jaar",null,{"$f":"F85*1000*F50*F78","v":547762.78537322313}]
[null,null,"Totale jaarlijkse kost (aflossing CAPEX+OPEX+brandstofkost)","€/totaal/jaar",null,{"$f":"(-PMT(F94,F79,F82))+F84+F86","v":788193.14197190257}]
[]
[null,"Algemene aannames"]
[null,"Graaddagen (15/15)"]
[null,null,"Referentiejaar",null,{"$f":"F96","v":2017},{"$f":"VLOOKUP(E91+0,'AA_Energieprijs&Discontovoet'!E8:F16,2,FALSE)","v":1776}]
[null,null,2030,null,2030,{"$f":"'AA_Energieprijs&Discontovoet'!F16","v":1870}]
[null,null,"Elasticiteit",null,null,0.46]
[null,"Discontovoet",null,"%",null,{"$f":"P_Discontovoet","v":0.04}]
[null,"Referentiesituatie",null,null,null,{"$f":"P_Maatregelen_Referentie","v":"BAU"},null,null,"Keuze via dashboard"]
[null,null,"jaar",null,null,{"$f":"P_Maatregelen_Jaar_Inventaris","v":2017}]
[null,"Andere"]
[]
[null,"Referenties"]
[null,"[a]","VEA, 2017. Steunpunt energie: nota potentieel 2030 warmtepompen",null,null,"http://www.energiesparen.be/sites/default/files/atoms/files/Potentieel_warmtepompen_2030.pdf",null,null," "]
[null,"[b]","Vlaamse regering, 2018. Ontwerp Vlaams Energieplan 2021-2030",null,null,"http://docs.vlaamsparlement.be/pfile?id=1418105",null,null," "]
[null,"[c]","Simoes et al., 2013. The JRC-EU-TIMES model: Assessing the long-term role of the SET Plan Energy technologies",null,null,"https://ec.europa.eu/jrc/en/publication/eur-scientific-and-technical-research-reports/jrc-eu-times-model-assessing-long-term-role-set-plan-energy-technologies",null,null," "]

{"sheet":"TER_HER_ZB","index":46,"n_rows":103,"n_cols":23,"rows_kept":103,"cut":false,"hidden":false,"merged":[[20,1,20,7],[21,1,21,7],[5,1,5,7],[14,1,14,7],[16,1,16,7],[17,1,17,7],[18,1,18,7],[19,1,19,7]]}
[null,"<< Naar Scenario's",null,null,null,null,null,null,null,null,"Berekeningen + verwijzing andere cel"]
[null,null,null,null,null,null,null,null,null,null,"Verwijzing andere tab (nulmeting/data)"]
[null,"Plaatsen van een zonneboiler in de tertiaire sector",null,null,null,null,null,null,"Opmerkingen",null,"Overschrijfbaar: Vaste parameters uit externe bronnen, literatuur, rebus model"]
[null,null,null,"Tertiair",null,null,null,null,null,null,"Algemene aannames, overschrijfbaar vanuit centrale dashboard"]
[null,"Beschrijving van de maatregel"]
[null,"Maatregel: Installatie van een zonneboiler voor de verwarming van sanitair warm water in de tertiaire sector"]
[null,"Relatie met andere maatregelen"]
[null,"nr maatregel",null,"maatregel"]
[null,"beschrijving (overlappend potentieel)"]
[null,"nr maatregel",null,"maatregel"]
[null,"beschrijving (overlappend potentieel)"]
[null,"nr maatregel",null,"maatregel"]
[null,"beschrijving (overlappend potentieel)"]
[null,"Betekenis lange termijn voor energie-/klimaattransitie"]
[null,"Zonneboilers zijn een hernieuwbare warmtetechniek die in rechtstreekse concurrentie komt met een aantal andere hernieuwbare warmtetechnieken (warmtepomp, pelletketels, warmtenetten, etc.). De shift van fossiel naar hernieuwbaar kan beleidsmatig ondersteund worden, maar men dient toch op te letten niet de keuze tussen verschillende hernieuwbare technieken op te leggen. In deze zou het beter zijn een beleid te ontwikkelen die zich eerder toespitst op de verduurzaming van de warmteproductie in de bebouwde omgeving, eerder dan het naar voorschuiven/ondersteunen van één specifieke techniek. De maatregel 'zonneboilers' zou dus beter geïntegreerd worden in een beleid waarbij de alternatieve en duurzame warmtetechnieken worden ondersteund zonder vanuit het beleid de technologiekeuze op te leggen en op die manier een lock-in effect te vermijden."]
[null,"Aannames/onzekerheden/hypothesen"]
[null,"Aanname: Alle gedefinieerde kosten zijn bepaald vanuit een maatschappelijk standpunt (exl. taksen, subsidies, etc.) en zeggen niets over de kost vanuit een actor standpunt. De kosten dienen dus ook niet als dusdanig geïnterpreteerd te worden. De maatschappelijke kost wordt enkel gebruikt om een relatieve volgorde te kunnen opmaken om te bepalen welke maatregelen vanuit maatschappelijke standpunt goedkoper zijn dan andere."]
[null,"Aanname: Er wordt verondersteld dat alle fossiele verwarmingstypes in aanmerking komen voor een omschakeling naar zonneboilers."]
[null,"Aanname: Het realistische potentieel is niet voor elk bestaand gebouw hetzelfde. Deze maatregel is generiek doorgerekend waarbij de verondersteld wordt dat de volledige warmwatervraag in de tertiaire sector in principe in aanmerking kan komen voor zonneboilers. De gebouw specifieke eigenschappen zullen bepalen of de toepasbaarheid van een zonneboiler haalbaar is (en betaalbaar is). De gedefinieerde potentieel dient dan ook gelezen te worden als een bovengrens."]
[null,"Aanname: In een gebouw met een zonneboiler wordt gemiddeld tussen 40% en de 60% van het SWW verwarmt door de zonneboiler [a] . Een zonneboiler wordt enkel gebruikt voor de productie van SWW. In de tertiaire sector is verondersteld dat de  productie van SWW 25% van de totale warmtevraag (SWW+RVW) inhoudt."]
[null,"Aanname: De ruimte ingenomen door zonnecollectoren kan niet gebruikt worden voor PV, dit effect wordt hier niet meegenomen"]
[null,"Aanname: Het elektrische verbruik die een zonneboiler gebruikt voor het rondpompen van water, etc. wordt hier verwaarloosd."]
[]
[null,"Berekeningen"]
[null,"Resultaat",null,null,null,"Scenario1","Scenario2"]
[null,"totale besparing",null,"MWh",null,{"$f":"F54*F78","v":4429.4541265534326},{"$f":"G54*F78","v":10335.392961958007}]
[null,"totale CO2 reductie",null,"ton CO2",null,{"$f":"F26*(F75-F60)","v":925.61052650210468},{"$f":"G26*(F75-F60)","v":2159.7578951715768}]
[null,"Maatschappelijke kost per ton CO2 reductie",null,"€/ton CO2",null,{"$f":"(F71-F87)/TER_HER_ZB_REDCO2_1","v":220.88044609344982}]
[]
[null,"Potentieel maatregel",null,"Eenheid","Jaar","Waarde",null,"Bron"]
[null,"Capaciteitsmeter:"]
[null,"Activiteitsmeter:"]
[null,null,"Warmtegebruik in tertiaire sector","MWh",null,{"$f":"IF(F95=J69,(K69/F78),IF(F95=J70,(K70/F78),(K71/F78)))","v":192728.44275192442}]
[null,null,"Warm watergebruik aandeel in tertiaire sector",null,null,0.25]
[null,null,"Warm watergebruik in tertiaire sector","MWh",null,{"$f":"F33*F34","v":48182.110687981105}]
[null,null,"Handelsgebouwen","% van de tertiaire sector",null,0.4,null,"[d] - p18"]
[null,null,"Kantoorgebouwen","% van de tertiaire sector",null,0.35,null,"[d] - p18"]
[null,null,"Openbare gebouwen","% van de tertiaire sector",null,0.25,null,"[d] - p18"]
[]
[null,"Bijkomend potentieel"]
[null,null,null,"% van #warmtevraag komen in aanmerking",null,0.5,null,"[a]"]
[null,null,null,"#MWh",null,{"$f":"(F35*SUM(F36:F38))*F41","v":24091.055343990553}]
[null,null,null,"% van potentieel reeds vervuld",null,0]
[null,null,"Bijkomend potentieel","#MWh",null,{"$f":"F42*(1-F43)","v":24091.055343990553}]
[]
[null,"Implementatiegraad maatregel",null,null,null,"Min.","Max"]
[null,null,{"$f":"dropdowns!$R$4","v":"Niet"},null,null,1.0000000000000001E-17]
[null,null,{"$f":"dropdowns!$R$5","v":"Laag"},null,null,0.1,0.2,null,"aanpassen obv gemeente specifieke eigenschappen"]
[null,null,{"$f":"dropdowns!$R$6","v":"Medium"},null,null,0.2,0.3,null,"aanpassen obv gemeente specifieke eigenschappen"]
[null,null,{"$f":"dropdowns!$R$7","v":"Hoog"},null,null,0.3,0.4,null,"aanpassen obv gemeente specifieke eigenschappen"]
[]
[null,"Bijkomende implementatie",null,null,null,"Scenario1","Scenario2"]
[null,"Bijkomende invulling van potentieel",null,"% van de MWh (2030)",null,{"$f":"IF('Scenario''s'!I21=C47,F47,IF('Scenario''s'!I21=C48,AVERAGE(F48,G48),IF('Scenario''s'!I21=C49,AVERAGE(F49,G49),AVERAGE(F50,G50))))","v":0.15000000000000002},{"$f":"IF('Scenario''s'!M21=C47,F47,IF('Scenario''s'!M21=C48,AVERAGE(F48,G48),IF('Scenario''s'!M21=C49,AVERAGE(F49,G49),AVERAGE(F50,G50))))","v":0.35},null,"Keuze via scenario's"]
[null,"Bijkomende invulling van potentieel",null,"#MWh",null,{"$f":"F44*F53","v":3613.6583015985834},{"$f":"F44*G53","v":8431.8693703966928}]
[null,null,null,"#kW theoretisch vermogen",null,{"$f":"F54/F98*1000","v":2317.9334840273145},{"$f":"G54/F98*1000","v":5408.5114627303992}]
[]
[null,"Parameters"]
[null,"Kenmerken maatregel",null,"Eenheid","Jaar","Waarde",null,"Bron"]
[null,"Gemiddelde emissiefactoren"]
[null,null,"Zonneboiler","ton CO2/MWh",null,{"$f":"'AA_Energieprijs&Discontovoet'!F109","v":0}]
[null,"Installatie kenmerken"]
[null,null,"gem. rendement zonneboiler","Input/Output",null,"n.a."]
[null,null,"Technische levensduur","jaar",null,15,null,"[c] - p149"]
[null,"Kosten"]
[null,null,"CAPEX","€/kW",null,1711.67,null,"[c] - p149"]
[null,null,null,"€/ totaal (exl. Taks, premies, etc)",null,{"$f":"F65*F55","v":3967537.2066050335}]
[null,null,"Vaste OPEX","€/kW/jaar",null,34.229999999999997,null,"[c] - p149",null,null,"Brandstofgebruik (warmtevraag)","Verdeling van de fossiele residentiële energievectoren voor verwarming (obv het gekozen referentiejaar)",null,null,null,null,null,null,null,null,null,"Emissiefactoren"]
[null,null,null,"€/totaal/jaar",null,{"$f":"F67*F55","v":79342.863158254971},null,null,null,"Bron","MWh","Elektriciteit","Warmte/ Koude","Aardgas","Vloeibaar gas","Stookolie","Diesel","Benzine","Bruinkool","Steenkool","Rest","EF_verw","EF_ELE"]
[null,null,"Variable OPEX (brandstofkosten)","€/kWh/jaar",null,0,null,"Zie aanname",null,"BAU",{"$f":"SUM(BAU_TER!I13:I28)","v":236237.55341618304},null,{"$f":"BAU_TER!I13/$K$69","v":1.2482290269450906E-2},{"$f":"BAU_TER!I15/$K$69","v":0.84709400270273827},{"$f":"BAU_TER!I16/$K$69","v":1.1510710324755827E-2},{"$f":"BAU_TER!I17/$K$69","v":9.1950060998943872E-2},{"$f":"BAU_TER!I18/$K$69","v":0},{"$f":"BAU_TER!I19/$K$69","v":0},{"$f":"BAU_TER!I20/$K$69","v":0},{"$f":"BAU_TER!I21/$K$69","v":1.1822585294044636E-6},{"$f":"100%-SUM(M69:T69)","v":3.6961753445581724E-2},{"$f":"SUMPRODUCT(M69:T69,$M$72:$T$72)/SUM(M69:T69)","v":0.20896717745721957},{"$f":"BAU_TOTAAL!$Q$14","v":0.17705584446860712}]
[null,null,null,"€/totaal/jaar",null,{"$f":"F54*1000*F69","v":0},null,null,null,"INV",{"$f":"INV!S17-INV!D17","v":243809.60346921583},null,{"$f":"INV!E17/$K70","v":1.2094624954582781E-2},{"$f":"INV!F17/$K70","v":0.84846245785536589},{"$f":"INV!G17/$K70","v":1.1529305534737314E-2},{"$f":"INV!H17/$K70","v":9.2098603586138389E-2},{"$f":"INV!I17/$K70","v":0},{"$f":"INV!J17/$K70","v":0},{"$f":"INV!K17/$K70","v":0},{"$f":"INV!L17/$K70","v":1.1841684328757896E-6},{"$f":"100%-SUM(L70:T70)","v":3.5813823900742725E-2},{"$f":"SUMPRODUCT(M70:T70,$M$72:$T$72)/SUM(M70:T70)","v":0.20895504648220908},{"$f":"INV!$D$26","v":0.19750015989190264}]
[null,null,"Totale jaarlijkse kost (aflossing CAPEX+OPEX+brandstofkost)","€/totaal/jaar",null,{"$f":"(-PMT(F94,F63,F66))+F68+F70","v":436187.52528308891},null,null,null,"EIG",{"$f":"SUM(EIG!E17:R17)","v":0},null,{"$f":"EIG!E17/$K$71","v":{"$error":"#DIV/0!"}},{"$f":"EIG!F17/$K$71","v":{"$error":"#DIV/0!"}},{"$f":"EIG!G17/$K$71","v":{"$error":"#DIV/0!"}},{"$f":"EIG!H17/$K$71","v":{"$error":"#DIV/0!"}},{"$f":"EIG!I17/$K$71","v":{"$error":"#DIV/0!"}},{"$f":"EIG!J17/$K$71","v":{"$error":"#DIV/0!"}},{"$f":"EIG!K17/$K$71","v":{"$error":"#DIV/0!"}},{"$f":"EIG!L17/$K$71","v":{"$error":"#DIV/0!"}},{"$f":"100%-SUM(M71:T71)","v":{"$error":"#DIV/0!"}},{"$f":"SUMPRODUCT(M71:T71,$M$72:$T$72)/SUM(M71:T71)","v":{"$error":"#DIV/0!"}},{"$f":"EIG!$D$26","v":0}]
[null,null,null,null,null,null,null,null,null,"EF_vector",null,null,{"$f":"BAU_TOTAAL!$Q$15","v":0.23764705882352966},{"$f":"'AA_Energieprijs&Discontovoet'!$F$98","v":0.20200000000000001},{"$f":"'AA_Energieprijs&Discontovoet'!$F$99","v":0.22700000000000001},{"$f":"'AA_Energieprijs&Discontovoet'!$F$100","v":0.26700000000000002},{"$f":"'AA_Energieprijs&Discontovoet'!$F$101","v":0.26700000000000002},{"$f":"'AA_Energieprijs&Discontovoet'!$F$102","v":0.249},{"$f":"'AA_Energieprijs&Discontovoet'!$F$103","v":0.35099999999999998},{"$f":"'AA_Energieprijs&Discontovoet'!$F$104","v":0.35399999999999998}]
[null,"Kenmerken referentiesituatie"]
[null,"Gemiddelde emissiefactoren"]
[null,null,"Bestaande woningen - SWW en verwarming","ton CO2/MWh",null,{"$f":"IF($F$95=J69,V69,IF($F$95=J70,V70,V71))","v":0.20896717745721957}]
[null,null,"Elektrische verwarming","ton CO2/MWh",null,{"$f":"IF($F$95=J69,W69,IF($F$95=J70,W70,W71))","v":0.17705584446860712}]
[null,"Installatie kenmerken"]
[null,null,"gem. rendement fossiele installatie - SWW en verwarming","Input/Output",null,{"$f":"IF(F95=J69,(N69*'AA_Energieprijs&Discontovoet'!$F$43+O69*'AA_Energieprijs&Discontovoet'!$F$44+P69*'AA_Energieprijs&Discontovoet'!$F$45)/SUM(N69:P69),IF(F95=J70,(N70*'AA_Energieprijs&Discontovoet'!$F$43+O70*'AA_Energieprijs&Discontovoet'!$F$44+P70*'AA_Energieprijs&Discontovoet'!$F$45)/SUM(N70:P70),(N71*'AA_Energieprijs&Discontovoet'!$F$43+O71*'AA_Energieprijs&Discontovoet'!$F$44+P71*'AA_Energieprijs&Discontovoet'!$F$45)/SUM(N71:P71)))","v":1.2257534489616695}]
[null,null,"gem. Technische levensduur","jaar",null,{"$f":"IF(F95=J69,(N69*'AA_Energieprijs&Discontovoet'!$F$51+O69*'AA_Energieprijs&Discontovoet'!$F$52+P69*'AA_Energieprijs&Discontovoet'!$F$53)/SUM(N69:P69),IF(F95=J70,(N70*'AA_Energieprijs&Discontovoet'!$F$51+O70*'AA_Energieprijs&Discontovoet'!$F$52+P70*'AA_Energieprijs&Discontovoet'!$F$53)/SUM(N70:P70),(N71*'AA_Energieprijs&Discontovoet'!$F$51+O71*'AA_Energieprijs&Discontovoet'!$F$52+P71*'AA_Energieprijs&Discontovoet'!$F$53)/SUM(N71:P71)))","v":20}]
[null,"Kosten"]
[null,null,"CAPEX","€/kW",null,{"$f":"IF(F95=J69,(N69*'AA_Energieprijs&Discontovoet'!$F$26+O69*'AA_Energieprijs&Discontovoet'!$F$27+P69*'AA_Energieprijs&Discontovoet'!$F$28)/SUM(N69:P69),IF(F95=J70,(N70*'AA_Energieprijs&Discontovoet'!$F$26+O70*'AA_Energieprijs&Discontovoet'!$F$27+P70*'AA_Energieprijs&Discontovoet'!$F$28)/SUM(N70:P70),(N71*'AA_Energieprijs&Discontovoet'!$F$26+O71*'AA_Energieprijs&Discontovoet'!$F$27+P71*'AA_Energieprijs&Discontovoet'!$F$28)/SUM(N71:P71)))","v":242.0421775265412}]
[null,null,null,"€/ totaal (exl. Taks, premies, etc.)",null,{"$f":"F81*F55","v":561037.66783565341},null,null,"het aandeel van de CAPEX kost die vervangen wordt door een zonneboiler"]
[null,null,"Vaste Opex","€/kW/jaar",null,{"$f":"IF(F95=J69,(N69*'AA_Energieprijs&Discontovoet'!$F$34+O69*'AA_Energieprijs&Discontovoet'!$F$35+P69*'AA_Energieprijs&Discontovoet'!$F$36)/SUM(N69:P69),IF(F95=J70,(N70*'AA_Energieprijs&Discontovoet'!$F$34+O70*'AA_Energieprijs&Discontovoet'!$F$35+P70*'AA_Energieprijs&Discontovoet'!$F$36)/SUM(N70:P70),(N71*'AA_Energieprijs&Discontovoet'!$F$34+O71*'AA_Energieprijs&Discontovoet'!$F$35+P71*'AA_Energieprijs&Discontovoet'!$F$36)/SUM(N71:P71)))","v":16.523250850144191}]
[null,null,null,"€/totaal/jaar",null,{"$f":"F83*F55","v":38299.796410532013}]
[null,null,"Variabele OPEX (Brandstofprijzen)","€/kWh/jaar",null,{"$f":"IF(F95=J69,(N69*'AA_Energieprijs&Discontovoet'!$F$64+O69*'AA_Energieprijs&Discontovoet'!$F$65+P69*'AA_Energieprijs&Discontovoet'!$F$66)/SUM(N69:P69),IF(F95=J70,(N70*'AA_Energieprijs&Discontovoet'!$F$64+O70*'AA_Energieprijs&Discontovoet'!$F$65+P70*'AA_Energieprijs&Discontovoet'!$F$66)/SUM(N70:P70),(N71*'AA_Energieprijs&Discontovoet'!$F$64+O71*'AA_Energieprijs&Discontovoet'!$F$65+P71*'AA_Energieprijs&Discontovoet'!$F$66)/SUM(N71:P71)))/1000","v":3.435103399269944E-2}]
[null,null,null,"€/totaal/jaar",null,{"$f":"F54*1000*F85*F78","v":152156.32927033977}]
[null,null,"Totale jaarlijkse kost (aflossing CAPEX+OPEX+brandstofkost)","€/totaal/jaar",null,{"$f":"(-PMT(F94,F79,F82))+F84+F86","v":231738.25928051106}]
[]
[null,"Algemene aannames"]
[null,"Graaddagen (15/15)"]
[null,null,"Referentiejaar",null,{"$f":"F96","v":2017},{"$f":"VLOOKUP(E91+0,'AA_Energieprijs&Discontovoet'!E8:F16,2,FALSE)","v":1776}]
[null,null,2030,null,2030,{"$f":"'AA_Energieprijs&Discontovoet'!F16","v":1870}]
[null,null,"Elasticiteit",null,null,0.46]
[null,"Discontovoet",null,"%",null,{"$f":"P_Discontovoet","v":0.04}]
[null,"Referentiesituatie",null,null,null,{"$f":"P_Maatregelen_Referentie","v":"BAU"},null,null,"Keuze via dashboard"]
[null,null,"jaar",null,null,{"$f":"P_Maatregelen_Jaar_Inventaris","v":2017}]
[null,"Andere"]
[null,null,"vollast (gem. Zonneschijnuren)","uren",null,{"$f":"'AA_Energieprijs&Discontovoet'!F17","v":1559}]
[]
[null,"Referenties"]
[null,"[a]","Livios, 2019. investeren in zonneboilersysteem",null,null,"https://www.livios.be/nl/bouwinformatie/techniek/verwarmingstechniek/pro-contra-investeren-in-zonneboilersysteem-of-pv-panelen/",null,null," "]
[null,"[c]","Simoes et al., 2013. The JRC-EU-TIMES model: Assessing the long-term role of the SET Plan Energy technologies",null,null,"https://ec.europa.eu/jrc/en/publication/eur-scientific-and-technical-research-reports/jrc-eu-times-model-assessing-long-term-role-set-plan-energy-technologies",null,null," "]
[null,"[d]","Vlaamse regering, 2018. Ontwerp Vlaams Energieplan 2021-2030",null,null,"http://docs.vlaamsparlement.be/pfile?id=1418105",null,null," "]

{"sheet":"TER_HER_WPB","index":47,"n_rows":103,"n_cols":23,"rows_kept":103,"cut":false,"hidden":false,"merged":[[19,1,19,7],[5,1,5,7],[14,1,14,7],[16,1,16,7],[17,1,17,7],[18,1,18,7]]}
[null,"<< Naar Scenario's",null,null,null,null,null,null,null,null,"Berekeningen + verwijzing andere cel"]
[null,null,null,null,null,null,null,null,null,null,"Verwijzing andere tab (nulmeting/data)"]
[null,"Plaatsen van een elektrische warmtepompboiler in de tertiaire sector",null,null,null,null,null,null,"Opmerkingen",null,"Overschrijfbaar: Vaste parameters uit externe bronnen, literatuur, rebus model"]
[null,null,null,"Tertiair",null,null,null,null,null,null,"Algemene aannames, overschrijfbaar vanuit centrale dashboard"]
[null,"Beschrijving van de maatregel"]
[null,"Maatregel: Installatie van warmtepompboiler voor de verwarming van sanitair warm water in de tertiaire sector"]
[null,"Relatie met andere maatregelen"]
[null,"nr maatregel",null,"maatregel"]
[null,"beschrijving (overlappend potentieel)"]
[null,"nr maatregel",null,"maatregel"]
[null,"beschrijving (overlappend potentieel)"]
[null,"nr maatregel",null,"maatregel"]
[null,"beschrijving (overlappend potentieel)"]
[null,"Betekenis lange termijn voor energie-/klimaattransitie"]
[null,"Warmtepompboilers zijn een hernieuwbare warmtetechniek die in rechtstreekse concurrentie komt met een aantal andere hernieuwbare warmtetechnieken (warmtepomp, pelletketels, warmtenetten, zonneboilers, etc.). De shift van fossiel naar hernieuwbaar kan beleidsmatig ondersteund worden, maar men dient toch op te letten niet de keuze tussen verschillende hernieuwbare technieken op te leggen. In deze zou het beter zijn een beleid te ontwikkelen die zich eerder toespitst op de verduurzaming van de warmteproductie in de tertiaire sector/bebouwde omgeving eerder dan het stimuleren en ondersteunen van één specifieke techniek. De maatregel 'Warmtepompboiler' zou dus beter geïntegreerd worden in een beleid waarbij de alternatieve en duurzame warmtetechnieken worden ondersteund zonder vanuit het beleid de technologiekeuze op te leggen en op die manier een lock-in effect te vermijden. Daarbij komt ook dat bij een omslag van fossiele verwarmingstechnieken naar verwarmingstechnieken obv elektriciteit, een groot effect kan hebben op het elektriciteitsnet."]
[null,"Aannames/onzekerheden/hypothesen"]
[null,"Aanname: Alle gedefinieerde kosten zijn bepaald vanuit een maatschappelijk standpunt (exl. taksen, subsidies, etc.) en zeggen niets over de kost vanuit een actor standpunt. De kosten dienen dus ook niet als dusdanig geïnterpreteerd te worden. De maatschappelijke kost wordt enkel gebruikt om een relatieve volgorde te kunnen opmaken om te bepalen welke maatregelen vanuit maatschappelijke standpunt goedkoper zijn dan andere."]
[null,"Aanname: Er wordt verondersteld dat alle fossiele verwarmingstypes in aanmerking komen voor omzet naar Warmtepompboilers."]
[null,"Aanname: Het realistische potentieel is niet voor elk bestaand gebouw hetzelfde. Deze maatregel is generiek doorgerekend waarbij de verondersteld wordt dat de volledige warmwatervraag in de tertiaire sector in principe in aanmerking kan komen voor warmtepompboilers. De gebouw specifieke eigenschappen zullen bepalen of de toepasbaarheid van een warmtepompboiler haalbaar is (en betaalbaar is). De gedefinieerde potentieel dient dan ook gelezen te worden als een bovengrens."]
[null,"Aanname: Een warmtepompboiler wordt enkel gebruikt voor de productie van SWW. In de tertiaire sector is verondersteld dat de  productie van SWW 25% van de totale warmtevraag (SWW+RVW) inhoudt."]
[]
[null,"Berekeningen"]
[null,"Resultaat",null,null,null,"Scenario1","Scenario2"]
[null,"totale besparing",null,"MWh",null,{"$f":"F52*F78-F52*F60","v":5775.2125431294789},{"$f":"G52*F78-G52*F60","v":13475.495933968783}]
[null,"totale CO2 reductie",null,"ton CO2",null,{"$f":"F52*F78*F75-F52*F60*F58","v":1291.0997264309194},{"$f":"G52*F78*F75-G52*F60*F58","v":3012.5660283388106}]
[null,"Maatschappelijke kost per ton CO2 reductie",null,"€/ton CO2",null,{"$f":"(F71-F87)/TER_HER_WPB_REDCO2_1","v":2827.8569735815418}]
[]
[null,"Potentieel maatregel",null,"Eenheid","Jaar","Waarde",null,"Bron"]
[null,"Capaciteitsmeter:"]
[null,"Activiteitsmeter:"]
[null,null,"Warmtegebruik in tertiaire sector","MWh",null,{"$f":"IF(F95=J69,(K69/F78),IF(F95=J70,(K70/F78),(K71/F78)))","v":192728.44275192442}]
[null,null,"Warm watergebruik aandeel in tertiaire sector",null,null,0.25]
[null,null,"Warm watergebruik in tertiaire sector","MWh",null,{"$f":"F31*F32","v":48182.110687981105}]
[null,null,"Handelsgebouwen","% van de tertiaire sector",null,0.4,null,"[d] - p18"]
[null,null,"Kantoorgebouwen","% van de tertiaire sector",null,0.35,null,"[d] - p18"]
[null,null,"Openbare gebouwen","% van de tertiaire sector",null,0.25,null,"[d] - p18"]
[]
[null,"Bijkomend potentieel"]
[null,null,null,"% van #warmtevraag komen in aanmerking",null,1]
[null,null,null,"#MWh",null,{"$f":"(F33*SUM(F34:F36))*F39","v":48182.110687981105}]
[null,null,null,"% van potentieel reeds vervuld",null,0.05,null,null,"aandeel van potentieel waar zonneboiler in aanmerking komt"]
[null,null,"Bijkomend potentieel","#MWh",null,{"$f":"F40*(1-F41)","v":45773.005153582046}]
[]
[null,"Implementatiegraad maatregel",null,null,null,"Min.","Max"]
[null,null,{"$f":"dropdowns!$R$4","v":"Niet"},null,null,1.0000000000000001E-17]
[null,null,{"$f":"dropdowns!$R$5","v":"Laag"},null,null,0.1,0.2,null,"aanpassen obv gemeente specifieke eigenschappen"]
[null,null,{"$f":"dropdowns!$R$6","v":"Medium"},null,null,0.2,0.3,null,"aanpassen obv gemeente specifieke eigenschappen"]
[null,null,{"$f":"dropdowns!$R$7","v":"Hoog"},null,null,0.3,0.4,null,"aanpassen obv gemeente specifieke eigenschappen"]
[]
[null,"Bijkomende implementatie",null,null,null,"Scenario1","Scenario2"]
[null,"Bijkomende invulling van potentieel",null,"% van de MWh (2030)",null,{"$f":"IF('Scenario''s'!I22=C45,F45,IF('Scenario''s'!I22=C46,AVERAGE(F46,G46),IF('Scenario''s'!I22=C47,AVERAGE(F47,G47),AVERAGE(F48,G48))))","v":0.15000000000000002},{"$f":"IF('Scenario''s'!M22=C45,F45,IF('Scenario''s'!M22=C46,AVERAGE(F46,G46),IF('Scenario''s'!M22=C47,AVERAGE(F47,G47),AVERAGE(F48,G48))))","v":0.35},null,"Keuze via scenario's"]
[null,"Bijkomende invulling van potentieel",null,"#MWh",null,{"$f":"F42*F51","v":6865.950773037308},{"$f":"F42*G51","v":16020.551803753715}]
[null,null,null,"#kW theoretisch vermogen",null,{"$f":"F52/F62*1000","v":16746.221397651971},{"$f":"G52/F62*1000","v":39074.516594521258}]
[]
[null,"Parameters"]
[null,"Kenmerken maatregel",null,"Eenheid","Jaar","Waarde",null,"Bron"]
[null,"Gemiddelde emissiefactoren"]
[null,null,"Warmtepompboiler","ton CO2/MWh",null,{"$f":"IF($F$95=J69,W69,IF($F$95=J70,W70,W71))","v":0.17705584446860712},null,null,"Zie aanname"]
[null,"Installatie kenmerken"]
[null,null,"gem. rendement warmtepompboiler","Input/Output",null,{"$f":"1/F61","v":0.38461538461538458}]
[null,null,"SPF",null,null,2.6,null,"[b] - p13"]
[null,null,"HHP","uren",null,410,null,"[b] - p13"]
[null,null,"Technische levensduur","jaar",null,15,null,"[c] - p149"]
[null,"Kosten"]
[null,null,"CAPEX","€/kW",null,1797.24,null,"[c] - p149"]
[null,null,null,"€/ totaal (exl. Taks, premies, etc.)",null,{"$f":"F65*F53","v":30096978.944716029}]
[null,null,"Vaste OPEX","€/kW/jaar",null,89.86,null,"[c] - p149",null,null,"Brandstofgebruik (warmtevraag)","Verdeling van de fossiele residentiële energievectoren voor verwarming (obv het gekozen referentiejaar)",null,null,null,null,null,null,null,null,null,"Emissiefactoren"]
[null,null,null,"€/totaal/jaar",null,{"$f":"F67*F53","v":1504815.4547930062},null,null,null,"Bron","MWh","Elektriciteit","Warmte/ Koude","Aardgas","Vloeibaar gas","Stookolie","Diesel","Benzine","Bruinkool","Steenkool","Rest","EF_verw","EF_ELE"]
[null,null,"Variable OPEX (brandstofkosten)","€/kWh/jaar",null,{"$f":"'AA_Energieprijs&Discontovoet'!F63/1000","v":0.11486199999999999},null,null,null,"BAU",{"$f":"SUM(BAU_TER!I13:I28)","v":236237.55341618304},null,{"$f":"BAU_TER!I13/$K$69","v":1.2482290269450906E-2},{"$f":"BAU_TER!I15/$K$69","v":0.84709400270273827},{"$f":"BAU_TER!I16/$K$69","v":1.1510710324755827E-2},{"$f":"BAU_TER!I17/$K$69","v":9.1950060998943872E-2},{"$f":"BAU_TER!I18/$K$69","v":0},{"$f":"BAU_TER!I19/$K$69","v":0},{"$f":"BAU_TER!I20/$K$69","v":0},{"$f":"BAU_TER!I21/$K$69","v":1.1822585294044636E-6},{"$f":"100%-SUM(M69:T69)","v":3.6961753445581724E-2},{"$f":"SUMPRODUCT(M69:T69,$M$72:$T$72)/SUM(M69:T69)","v":0.20896717745721957},{"$f":"BAU_TOTAAL!$Q$14","v":0.17705584446860712}]
[null,null,null,"€/totaal/jaar",null,{"$f":"F52*1000*F60*F69","v":303321.8606510043},null,null,null,"INV",{"$f":"INV!S17-INV!D17","v":243809.60346921583},null,{"$f":"INV!E17/$K70","v":1.2094624954582781E-2},{"$f":"INV!F17/$K70","v":0.84846245785536589},{"$f":"INV!G17/$K70","v":1.1529305534737314E-2},{"$f":"INV!H17/$K70","v":9.2098603586138389E-2},{"$f":"INV!I17/$K70","v":0},{"$f":"INV!J17/$K70","v":0},{"$f":"INV!K17/$K70","v":0},{"$f":"INV!L17/$K70","v":1.1841684328757896E-6},{"$f":"100%-SUM(L70:T70)","v":3.5813823900742725E-2},{"$f":"SUMPRODUCT(M70:T70,$M$72:$T$72)/SUM(M70:T70)","v":0.20895504648220908},{"$f":"INV!$D$26","v":0.19750015989190264}]
[null,null,"Totale jaarlijkse kost (aflossing CAPEX+OPEX+brandstofkost)","€/totaal/jaar",null,{"$f":"(-PMT(F94,F63,F66))+F68+F70","v":4515092.7195737818},null,null,null,"EIG",{"$f":"SUM(EIG!E17:R17)","v":0},null,{"$f":"EIG!E17/$K$71","v":{"$error":"#DIV/0!"}},{"$f":"EIG!F17/$K$71","v":{"$error":"#DIV/0!"}},{"$f":"EIG!G17/$K$71","v":{"$error":"#DIV/0!"}},{"$f":"EIG!H17/$K$71","v":{"$error":"#DIV/0!"}},{"$f":"EIG!I17/$K$71","v":{"$error":"#DIV/0!"}},{"$f":"EIG!J17/$K$71","v":{"$error":"#DIV/0!"}},{"$f":"EIG!K17/$K$71","v":{"$error":"#DIV/0!"}},{"$f":"EIG!L17/$K$71","v":{"$error":"#DIV/0!"}},{"$f":"100%-SUM(M71:T71)","v":{"$error":"#DIV/0!"}},{"$f":"SUMPRODUCT(M71:T71,$M$72:$T$72)/SUM(M71:T71)","v":{"$error":"#DIV/0!"}},{"$f":"EIG!$D$26","v":0}]
[null,null,null,null,null,null,null,null,null,"EF_vector",null,null,{"$f":"BAU_TOTAAL!$Q$15","v":0.23764705882352966},{"$f":"'AA_Energieprijs&Discontovoet'!$F$98","v":0.20200000000000001},{"$f":"'AA_Energieprijs&Discontovoet'!$F$99","v":0.22700000000000001},{"$f":"'AA_Energieprijs&Discontovoet'!$F$100","v":0.26700000000000002},{"$f":"'AA_Energieprijs&Discontovoet'!$F$101","v":0.26700000000000002},{"$f":"'AA_Energieprijs&Discontovoet'!$F$102","v":0.249},{"$f":"'AA_Energieprijs&Discontovoet'!$F$103","v":0.35099999999999998},{"$f":"'AA_Energieprijs&Discontovoet'!$F$104","v":0.35399999999999998}]
[null,"Kenmerken referentiesituatie"]
[null,"Gemiddelde emissiefactoren"]
[null,null,"Bestaande woningen - SWW en verwarming","ton CO2/MWh",null,{"$f":"IF($F$95=J69,V69,IF($F$95=J70,V70,V71))","v":0.20896717745721957}]
[null,null,"Elektrische verwarming","ton CO2/MWh",null,{"$f":"IF($F$95=J69,W69,IF($F$95=J70,W70,W71))","v":0.17705584446860712}]
[null,"Installatie kenmerken"]
[null,null,"gem. rendement fossiele installatie - SWW en verwarming","Input/Output",null,{"$f":"IF(F95=J69,(N69*'AA_Energieprijs&Discontovoet'!$F$43+O69*'AA_Energieprijs&Discontovoet'!$F$44+P69*'AA_Energieprijs&Discontovoet'!$F$45)/SUM(N69:P69),IF(F95=J70,(N70*'AA_Energieprijs&Discontovoet'!$F$43+O70*'AA_Energieprijs&Discontovoet'!$F$44+P70*'AA_Energieprijs&Discontovoet'!$F$45)/SUM(N70:P70),(N71*'AA_Energieprijs&Discontovoet'!$F$43+O71*'AA_Energieprijs&Discontovoet'!$F$44+P71*'AA_Energieprijs&Discontovoet'!$F$45)/SUM(N71:P71)))","v":1.2257534489616695}]
[null,null,"gem. Technische levensduur","jaar",null,{"$f":"IF(F95=J69,(N69*'AA_Energieprijs&Discontovoet'!$F$48+O69*'AA_Energieprijs&Discontovoet'!$F$49+P69*'AA_Energieprijs&Discontovoet'!$F$50)/SUM(N69:P69),IF(F95=J70,(N70*'AA_Energieprijs&Discontovoet'!$F$48+O70*'AA_Energieprijs&Discontovoet'!$F$49+P70*'AA_Energieprijs&Discontovoet'!$F$50)/SUM(N70:P70),(N71*'AA_Energieprijs&Discontovoet'!$F$48+O71*'AA_Energieprijs&Discontovoet'!$F$49+P71*'AA_Energieprijs&Discontovoet'!$F$50)/SUM(N71:P71)))","v":20}]
[null,"Kosten"]
[null,null,"CAPEX","€/kW",null,{"$f":"IF(F95=J69,(N69*'AA_Energieprijs&Discontovoet'!$F$26+O69*'AA_Energieprijs&Discontovoet'!$F$27+P69*'AA_Energieprijs&Discontovoet'!$F$28)/SUM(N69:P69),IF(F95=J70,(N70*'AA_Energieprijs&Discontovoet'!$F$26+O70*'AA_Energieprijs&Discontovoet'!$F$27+P70*'AA_Energieprijs&Discontovoet'!$F$28)/SUM(N70:P70),(N71*'AA_Energieprijs&Discontovoet'!$F$26+O71*'AA_Energieprijs&Discontovoet'!$F$27+P71*'AA_Energieprijs&Discontovoet'!$F$28)/SUM(N71:P71)))","v":242.0421775265412}]
[null,null,null,"€/ totaal (exl. Taks, premies, etc.)",null,{"$f":"F81*F53","v":4053291.892429241}]
[null,null,"Vaste Opex","€/kW/jaar",null,{"$f":"IF(F95=J69,(N69*'AA_Energieprijs&Discontovoet'!$F$34+O69*'AA_Energieprijs&Discontovoet'!$F$35+P69*'AA_Energieprijs&Discontovoet'!$F$36)/SUM(N69:P69),IF(F95=J70,(N70*'AA_Energieprijs&Discontovoet'!$F$34+O70*'AA_Energieprijs&Discontovoet'!$F$35+P70*'AA_Energieprijs&Discontovoet'!$F$36)/SUM(N70:P70),(N71*'AA_Energieprijs&Discontovoet'!$F$34+O71*'AA_Energieprijs&Discontovoet'!$F$35+P71*'AA_Energieprijs&Discontovoet'!$F$36)/SUM(N71:P71)))","v":16.523250850144191}]
[null,null,null,"€/totaal/jaar",null,{"$f":"F83*F53","v":276702.01694545575}]
[null,null,"Variabele OPEX (Brandstofprijzen)","€/kWh/jaar",null,{"$f":"IF(F95=J69,(N69*'AA_Energieprijs&Discontovoet'!$F$64+O69*'AA_Energieprijs&Discontovoet'!$F$65+P69*'AA_Energieprijs&Discontovoet'!$F$66)/SUM(N69:P69),IF(F95=J70,(N70*'AA_Energieprijs&Discontovoet'!$F$64+O70*'AA_Energieprijs&Discontovoet'!$F$65+P70*'AA_Energieprijs&Discontovoet'!$F$66)/SUM(N70:P70),(N71*'AA_Energieprijs&Discontovoet'!$F$64+O71*'AA_Energieprijs&Discontovoet'!$F$65+P71*'AA_Energieprijs&Discontovoet'!$F$66)/SUM(N71:P71)))/1000","v":3.435103399269944E-2}]
[null,null,null,"€/totaal/jaar",null,{"$f":"F52*1000*F85*F78","v":289097.0256136455}]
[null,null,"Totale jaarlijkse kost (aflossing CAPEX+OPEX+brandstofkost)","€/totaal/jaar",null,{"$f":"(-PMT(F94,F79,F82))+F84+F86","v":864047.35459688539}]
[]
[null,"Algemene aannames"]
[null,"Graaddagen (15/15)"]
[null,null,"Referentiejaar",null,{"$f":"F96","v":2017},{"$f":"VLOOKUP(E91+0,'AA_Energieprijs&Discontovoet'!E8:F16,2,FALSE)","v":1776}]
[null,null,2030,null,2030,{"$f":"'AA_Energieprijs&Discontovoet'!F16","v":1870}]
[null,null,"Elasticiteit",null,null,0.46]
[null,"Discontovoet",null,"%",null,{"$f":"P_Discontovoet","v":0.04}]
[null,"Referentiesituatie",null,null,null,{"$f":"P_Maatregelen_Referentie","v":"BAU"},null,null,"Keuze via dashboard"]
[null,null,"jaar",null,null,{"$f":"P_Maatregelen_Jaar_Inventaris","v":2017}]
[null,"Andere"]
[]
[null,"Referenties"]
[null,"[a]","VEA, 2019. Jaarlijkse energieverbruik gezin",null,null,"https://www.energiesparen.be/jaarlijkse-energieverbruik-gezin",null,null," "]
[null,"[b]","VEA, 2017. Steunpunt energie: nota potentieel 2030 warmtepompen",null,null,"https://www.energiesparen.be/sites/default/files/atoms/files/Potentieel_warmtepompen_2030.pdf",null,null," "]
[null,"[c]","Simoes et al., 2013. The JRC-EU-TIMES model: Assessing the long-term role of the SET Plan Energy technologies",null,null,"https://ec.europa.eu/jrc/en/publication/eur-scientific-and-technical-research-reports/jrc-eu-times-model-assessing-long-term-role-set-plan-energy-technologies",null,null," "]
[null,"[d]","Vlaamse regering, 2018. Ontwerp Vlaams Energieplan 2021-2030",null,null,"http://docs.vlaamsparlement.be/pfile?id=1418105",null,null," "]

{"sheet":"TER_EE_ELE","index":48,"n_rows":88,"n_cols":12,"rows_kept":88,"cut":false,"hidden":false,"merged":[[63,10,64,10],[63,11,64,11],[5,1,5,7],[14,1,14,7],[16,1,16,7],[17,1,17,7],[18,1,18,7],[19,1,19,7]]}
[null,"<< Naar Scenario's",null,null,null,null,null,null,null,null,"Berekeningen + verwijzing andere cel"]
[null,null,null,null,null,null,null,null,null,null,"Verwijzing andere tab (nulmeting/data)"]
[null,"Elektriciteitsgebruik: verhoogde efficiëntie (LED, relighting, koeling, etc.)",null,null,null,null,null,null,"Opmerkingen",null,"Overschrijfbaar: Vaste parameters uit externe bronnen, literatuur, rebus model"]
[null,null,null,"Tertiair",null,null,null,null,null,null,"Algemene aannames, overschrijfbaar vanuit centrale dashboard"]
[null,"Beschrijving van de maatregel"]
[null,"Maatregel: Verhogen van de efficiëntie van het elektriciteitsgebruik in de tertiaire sector"]
[null,"Relatie met andere maatregelen"]
[null,"nr maatregel",null,"maatregel"]
[null,"beschrijving (overlappend potentieel)"]
[null,"nr maatregel",null,"maatregel"]
[null,"beschrijving (overlappend potentieel)"]
[null,"nr maatregel",null,"maatregel"]
[null,"beschrijving (overlappend potentieel)"]
[null,"Betekenis lange termijn voor energie-/klimaattransitie"]
[null,"Elektriciteit dat niet gebruikt wordt moet ook niet duurzaam geproduceerd worden. "]
[null,"Aannames/onzekerheden/hypothesen"]
[null,"Aanname: Alle gedefinieerde kosten zijn bepaald vanuit een maatschappelijk standpunt (exl. taksen, subsidies, etc.) en zeggen niets over de kost vanuit een actor standpunt. De kosten dienen dus ook niet als dusdanig geïnterpreteerd te worden. De maatschappelijke kost wordt enkel gebruikt om een relatieve volgorde te kunnen opmaken om te bepalen welke maatregelen vanuit maatschappelijke standpunt goedkoper zijn dan andere."]
[null,"Aanname: De potentieel besparing van de elektriciteitsvraag in de tertiair sector wordt afgeleid op basis van de conclusie van  een rapport van VLAIO obv energiescans in de tertiaire sector."]
[null,"Aanname: De kostprijs wordt berekend op basis van de ingeschatte TVT. We berekenen de besparingskost die de maatregel realiseert op de brandstofkost (elektriciteitskost) en schatten de investeringskost van de technische maatregel in door de besparingskost te vermenigvuldigen met de opgegeven terugverdientijd. Deze (ingeschatte) investeringskost wordt dan gebruikt om tot een maatschappelijke kost per ton CO2 reductie te komen."]
[null,"Aanname: de ambitielevels worden redelijk hoog gedefinieerd (tot 80%) omdat het aandeel dat we definiëren dat in aanmerking komt om elektrische efficiëntie maatregelen uit te voeren al beperkt wordt obv realistische scenario resultaten (-21,2% realistisch reductiepotentieel) [a]. "]
[]
[null,"Berekeningen"]
[null,"Resultaat",null,null,null,"Scenario1","Scenario2"]
[null,"totale besparing",null,"MWh",null,{"$f":"F45","v":14252.171884961474},{"$f":"G45","v":33255.067731576768}]
[null,"totale CO2 reductie",null,"ton CO2",null,{"$f":"F24*F50","v":2523.4303286035938},{"$f":"G24*F50","v":5888.0041000750516}]
[null,"Maatschappelijke kost per ton CO2 reductie",null,"€/ton CO2",null,{"$f":"(F62-F76)/F25","v":-356.99429654892566}]
[]
[null,"Potentieel maatregel",null,"Eenheid","Jaar","Waarde",null,"Bron"]
[]
[null,"Activiteitsmeter: gem. Ele gebruik",null,"MWh",null,{"$f":"IF(F82=J67,K67,IF(F82=J68,K68,K69))","v":224385.40510925499},null,"nulmeting"]
[null,"Bijkomend potentieel"]
[null,null,null,"% van verbruik komen in aanmerking",null,{"$f":"57.8/273","v":0.21172161172161172},null,"[a] - p32"]
[null,null,null,"#MWh",null,{"$f":"F30*F32","v":47507.239616538238}]
[null,null,null,"% van potentieel reeds vervuld",null,0]
[null,null,"Bijkomend potentieel","#MWh",null,{"$f":"F33*(1-F34)","v":47507.239616538238}]
[]
[null,"Implementatiegraad maatregel",null,null,null,"Min.","Max"]
[null,null,{"$f":"dropdowns!$R$4","v":"Niet"},null,null,1.0000000000000001E-17]
[null,null,{"$f":"dropdowns!$R$5","v":"Laag"},null,null,0.2,0.4,null,"aanpassen obv gemeente specifieke eigenschappen"]
[null,null,{"$f":"dropdowns!$R$6","v":"Medium"},null,null,0.4,0.6,null,"aanpassen obv gemeente specifieke eigenschappen"]
[null,null,{"$f":"dropdowns!$R$7","v":"Hoog"},null,null,0.6,0.8,null,"aanpassen obv gemeente specifieke eigenschappen"]
[]
[null,"Bijkomende implementatie",null,null,null,"Scenario1","Scenario2"]
[null,"Bijkomende invulling van potentieel",null,"% van de ele gebruik (2030)",null,{"$f":"IF('Scenario''s'!I23=C38,F38,IF('Scenario''s'!I23=C39,AVERAGE(F39,G39),IF('Scenario''s'!I23=C40,AVERAGE(F40,G40),AVERAGE(F41,G41))))","v":0.30000000000000004},{"$f":"IF('Scenario''s'!M23=C38,F38,IF('Scenario''s'!M23=C39,AVERAGE(F39,G39),IF('Scenario''s'!M23=C40,AVERAGE(F40,G40),AVERAGE(F41,G41))))","v":0.7},null,"Keuze via scenario's"]
[null,"Bijkomende invulling van potentieel",null,"#MWh",null,{"$f":"F35*F44","v":14252.171884961474},{"$f":"F35*G44","v":33255.067731576768}]
[]
[null,"Parameters"]
[null,"Kenmerken maatregel",null,"Eenheid","Jaar","Waarde",null,"Bron"]
[null,"Gemiddelde emissiefactoren"]
[null,null,"Elektriciteit","ton CO2/MWh",null,{"$f":"IF($F$82=J67,L67,IF($F$82=J68,L68,L69))","v":0.17705584446860712}]
[null,"Installatie kenmerken"]
[null,null,"gem. rendement zonneboiler","Input/Output",null,"n.a."]
[null,null,"TVT","jaar",null,5,null,"[a] - p28-29","gemiddelde return on investment bij elektrische apparaten"]
[null,null,"Technische levensduur","jaar",null,15]
[null,"Kosten"]
[null,null,"CAPEX","€/kWh",null,"n.a."]
[null,null,null,"€/totaal",null,{"$f":"F75*F53","v":8185164.8352522235}]
[null,null,"Vaste OPEX","€/kWh/jaar",null,"n.a."]
[null,null,null,"€/HH/jaar",null,"n.a."]
[null,null,"Variable OPEX (brandstofkosten)","€/kWh",null,"n.a."]
[null,null,null,"€/totaal/jaar",null,"n.a."]
[null,null,"Totale jaarlijkse kost (aflossing CAPEX+OPEX+brandstofkost)","€/totaal/jaar",null,{"$f":"(-PMT(F81,F54,F57))","v":736182.73200038052}]
[]
[null,"Kenmerken referentiesituatie",null,null,null,null,null,null,null,null,"elektriciteits-vraag","Emissie-factoren"]
[null,"Gemiddelde emissiefactoren"]
[null,null,"Elektriciteit","ton CO2/MWh",null,{"$f":"IF($F$82=J67,L67,IF($F$82=J68,L68,L69))","v":0.17705584446860712},null,null,null,"Bron","MWh","EF_ELE"]
[null,"Installatie kenmerken",null,null,null,null,null,null,null,"BAU",{"$f":"BAU_TER!I12","v":224385.40510925499},{"$f":"BAU_TOTAAL!$Q$14","v":0.17705584446860712}]
[null,null,"n.a.",null,null,null,null,null,null,"INV",{"$f":"INV!D17","v":203063.715031},{"$f":"INV!D26","v":0.19750015989190264}]
[null,"Kosten",null,null,null,null,null,null,null,"EIG",{"$f":"EIG!D17","v":0},{"$f":"EIG!$D$26","v":0}]
[null,null,"CAPEX","€/kW",null,"n.a."]
[null,null,null,"€/totaal",null,"n.a."]
[null,null,"Vaste Opex","€/kW/jaar",null,"n.a."]
[null,null,null,"€/totaal/jaar",null,"n.a."]
[null,null,"Variabele OPEX (Brandstofprijzen)","€/MWh",null,{"$f":"'AA_Energieprijs&Discontovoet'!F63","v":114.86199999999999}]
[null,null,null,"€/totaal/jaar",null,{"$f":"F74*F45","v":1637032.9670504448}]
[null,null,"Totale jaarlijkse kost (aflossing CAPEX+OPEX+brandstofkost)","€/totaal/jaar",null,{"$f":"F75","v":1637032.9670504448}]
[]
[null,"Algemene aannames"]
[null,"Graaddagen (15/15)"]
[null,null,"n.a."]
[null,"Discontovoet",null,"%",null,{"$f":"P_Discontovoet","v":0.04}]
[null,"Referentiesituatie",null,null,null,{"$f":"P_Maatregelen_Referentie","v":"BAU"},null,null,"Keuze via dashboard"]
[null,null,"jaar",null,null,{"$f":"P_Maatregelen_Jaar_Inventaris","v":2017}]
[null,"Andere"]
[]
[null,"Referenties"]
[null,"[a]","VLAIO, 2018. Energiescans in KMO's (2017-2018)",null,null,"https://www.vlaio.be/nl/media/1105\n",null,null," "]
[null,null,null,null,null,null,null,null," "]

{"sheet":"OV_LED_EE","index":49,"n_rows":80,"n_cols":12,"rows_kept":80,"cut":false,"hidden":false,"merged":[[54,10,55,10],[54,11,55,11],[5,1,5,7],[14,1,14,7],[16,1,16,7],[17,1,17,7]]}
[null,"<< Naar Scenario's",null,null,null,null,null,null,null,null,"Berekeningen + verwijzing andere cel"]
[null,null,null,null,null,null,null,null,null,null,"Verwijzing andere tab (nulmeting/data)"]
[null,"Elektriciteitsgebruik: Openbare verlichting (LED, relighting, afsluiting, etc.)",null,null,null,null,null,null,"Opmerkingen",null,"Overschrijfbaar: Vaste parameters uit externe bronnen, literatuur, rebus model"]
[null,null,null,"Tertiair",null,null,null,null,null,null,"Algemene aannames, overschrijfbaar vanuit centrale dashboard"]
[null,"Beschrijving van de maatregel"]
[null,"Maatregel: Reduceren van het elektriciteitsgebruik door openbare verlichting door LED verlichting, afsluiten, SMART relighting, etc.\n\nDe openbare verlichting (OV) in Vlaanderen telt ongeveer 1,15 miljoen lampen [a]. Als de Vlaamse lokale gemeenten die lampen op de meest energiezuinige en milieuvriendelijke manier kan laten branden of door energiezuinige systemen vervangen, betekent dat een immens potentieel voor de energie-efficiëntie in Vlaanderen. Drie oplossingen kunnen naar voor geschoven voor de verhoging van de energie efficiëntie in de openbare verlichting: (1) overschakelen naar ledverlichting, (2) overschakelen naar geconnecteerde ledverlichting, (3) overschakelen naar ledverlichting in een smart city context."]
[null,"Relatie met andere maatregelen"]
[null,"nr maatregel",null,"maatregel"]
[null,"beschrijving (overlappend potentieel)"]
[null,"nr maatregel",null,"maatregel"]
[null,"beschrijving (overlappend potentieel)"]
[null,"nr maatregel",null,"maatregel"]
[null,"beschrijving (overlappend potentieel)"]
[null,"Betekenis lange termijn voor energie-/klimaattransitie"]
[null,"Elektriciteit dat niet gebruikt wordt moet ook niet duurzaam geproduceerd worden. "]
[null,"Aannames/onzekerheden/hypothesen"]
[null,"Aanname: Alle gedefinieerde kosten zijn bepaald vanuit een maatschappelijk standpunt (exl. taksen, subsidies, etc.) en zeggen niets over de kost vanuit een actor standpunt. De kosten dienen dus ook niet als dusdanig geïnterpreteerd te worden. De maatschappelijke kost wordt enkel gebruikt om een relatieve volgorde te kunnen opmaken om te bepalen welke maatregelen vanuit maatschappelijke standpunt goedkoper zijn dan andere."]
[null,"Aanname: Om een kost te bepalen van de maatregel, wordt de kost van de referentie situatie genomen waarop 35% besparing wordt op toegepast, zoals aangegeven in een referentiedocument. "]
[]
[null,"Berekeningen"]
[null,"Resultaat",null,null,null,"Scenario1","Scenario2"]
[null,"totale besparing",null,"MWh",null,{"$f":"F43","v":1213.8112197000003},{"$f":"G43","v":2832.2261793000002}]
[null,"totale CO2 reductie",null,"ton CO2",null,{"$f":"F22*F48","v":214.91237052945354},{"$f":"G22*F48","v":501.46219790205822}]
[null,"Maatschappelijke kost per ton CO2 reductie",null,"€/ton CO2",null,{"$f":"(F53-F67)/F23","v":-313.39861436586216}]
[]
[null,"Potentieel maatregel",null,"Eenheid","Jaar","Waarde",null,"Bron"]
[]
[null,"Activiteitsmeter: gem. Ele gebruik",null,"MWh",null,{"$f":"IF(F73=J58,K58,IF(F73=J59,K59,K60))","v":5050.3500000000004},null,"nulmeting"]
[null,"Bijkomend potentieel"]
[null,null,null,"% van verbruik komen in aanmerking",null,0.82,null,"[a] - p17"]
[null,null,null,"#MWh",null,{"$f":"F28*F30","v":4141.2870000000003}]
[null,null,null,"% van potentieel reeds vervuld",null,2.3E-2,null,"[a] - p7"]
[null,null,"Bijkomend potentieel","#MWh",null,{"$f":"F31*(1-F32)","v":4046.0373990000003}]
[]
[null,"Implementatiegraad maatregel",null,null,null,"Min.","Max"]
[null,null,{"$f":"dropdowns!$R$4","v":"Niet"},null,null,1.0000000000000001E-17]
[null,null,{"$f":"dropdowns!$R$5","v":"Laag"},null,null,0.2,0.4,null,"aanpassen obv gemeente specifieke eigenschappen"]
[null,null,{"$f":"dropdowns!$R$6","v":"Medium"},null,null,0.4,0.6,null,"aanpassen obv gemeente specifieke eigenschappen"]
[null,null,{"$f":"dropdowns!$R$7","v":"Hoog"},null,null,0.6,0.8,null,"aanpassen obv gemeente specifieke eigenschappen"]
[]
[null,"Bijkomende implementatie",null,null,null,"Scenario1","Scenario2"]
[null,"Bijkomende invulling van potentieel",null,"% van de HH (2030)",null,{"$f":"IF('Scenario''s'!I24=C36,F36,IF('Scenario''s'!I24=C37,AVERAGE(F37,G37),IF('Scenario''s'!I24=C38,AVERAGE(F38,G38),AVERAGE(F39,G39))))","v":0.30000000000000004},{"$f":"IF('Scenario''s'!M24=C36,F36,IF('Scenario''s'!M24=C37,AVERAGE(F37,G37),IF('Scenario''s'!M24=C38,AVERAGE(F38,G38),AVERAGE(F39,G39))))","v":0.7},null,"Keuze via scenario's"]
[null,"Bijkomende invulling van potentieel",null,"#MWh",null,{"$f":"F33*F42","v":1213.8112197000003},{"$f":"F33*G42","v":2832.2261793000002}]
[]
[null,"Parameters"]
[null,"Kenmerken maatregel",null,"Eenheid","Jaar","Waarde",null,"Bron"]
[null,"Gemiddelde emissiefactoren"]
[null,null,"Elektriciteit","ton CO2/MWh",null,{"$f":"IF($F$73=J58,L58,IF($F$73=J59,L59,L60))","v":0.17705584446860712}]
[null,"Installatie kenmerken"]
[null,null,"n.a."]
[null,"Kosten"]
[null,null,"Jaarlijkse besparing t.o.v. totale kosten (onderhoud + CAPEX + ele-prijs)","%",null,0.35,null,"[b] - p12"]
[null,null,"Totale jaarlijkse kost (aflossing CAPEX+OPEX+brandstofkost)","€/totaal/jaar",null,{"$f":"F67*(1-F52)","v":125084.58696316792}]
[]
[null,"Kenmerken referentiesituatie",null,null,null,null,null,null,null,null,"elektriciteits-vraag","Emissie-factoren"]
[null,"Gemiddelde emissiefactoren"]
[null,null,"Elektriciteit","ton CO2/MWh",null,{"$f":"IF($F$73=J58,L58,IF($F$73=J59,L59,L60))","v":0.17705584446860712},null,null,null,"Bron","MWh","EF_ELE"]
[null,"Installatie kenmerken",null,null,null,null,null,null,null,"BAU",{"$f":"BAU_TOTAAL!L14","v":5050.3500000000004},{"$f":"BAU_TOTAAL!$Q$14","v":0.17705584446860712}]
[null,null,"n.a.",null,null,null,null,null,null,"INV",{"$f":"INV!D18","v":5050.3500000000004},{"$f":"INV!D26","v":0.19750015989190264}]
[null,"Kosten",null,null,null,null,null,null,null,"EIG",{"$f":"EIG!D18","v":0},{"$f":"EIG!$D$26","v":0}]
[null,null,"CAPEX","€/kW",null,"n.a."]
[null,null,null,"€/HH",null,"n.a."]
[null,null,"Vaste Opex","€/MWh/jaar",null,{"$f":"19000/435","v":43.678160919540232},null,"[a] - p6","enkel de jaarlijkse onderhoudskosten worden in rekening gebracht…."]
[null,null,null,"€/totaal/jaar",null,{"$f":"F63*F43","v":53017.041780000014}]
[null,null,"Variabele OPEX (Brandstofprijzen)","€/MWh",null,{"$f":"'AA_Energieprijs&Discontovoet'!F63","v":114.86199999999999}]
[null,null,null,"€/totaal/jaar",null,{"$f":"F65*F43","v":139420.78431718142}]
[null,null,"Totale jaarlijkse kost (aflossing CAPEX+OPEX+brandstofkost)","€/totaal/jaar",null,{"$f":"F66+F64","v":192437.82609718142}]
[]
[null,"Algemene aannames"]
[null,"Graaddagen (15/15)"]
[null,null,"n.a."]
[null,"Discontovoet",null,"%",null,{"$f":"P_Discontovoet","v":0.04}]
[null,"Referentiesituatie",null,null,null,{"$f":"P_Maatregelen_Referentie","v":"BAU"},null,null,"Keuze via dashboard"]
[null,null,"jaar",null,null,{"$f":"P_Maatregelen_Jaar_Inventaris","v":2017}]
[null,"Andere"]
[]
[null,"Referenties"]
[null,"[a]","AGORIA, 2018. Slimme openbare buitenverlichting voor de stad van morgen",null,null,"https://acdn.be/_projects/smartcities/brochures/Whitepaper_SmartLighting_NL_Web.pdf",null,null," "]
[null,"[b]","Vlaams Parlement, 2017. Betreffende het stimuleren van lokale besturen om energie-efficiëntere openbare verlichting te gebruiken",null," ","http://docs.vlaamsparlement.be/pfile?id=1334613",null,null," "]
[null,null,null,null,null,null,null,null," "]

{"sheet":"IND_HER_WP","index":50,"n_rows":100,"n_cols":23,"rows_kept":100,"cut":false,"hidden":false,"merged":[[20,1,20,7],[5,1,5,7],[14,1,14,7],[16,1,16,7],[17,1,17,7],[18,1,18,7],[19,1,19,7]]}
[null,"<< Naar Scenario's",null,null,null,null,null,null,null,null,"Berekeningen + verwijzing andere cel"]
[null,null,null,null,null,null,null,null,null,null,"Verwijzing andere tab (nulmeting/data)"]
[null,"Plaatsen van een warmtepomp",null,null,null,null,null,null,"Opmerkingen",null,"Overschrijfbaar: Vaste parameters uit externe bronnen, literatuur, rebus model"]
[null,null,null,"Industrie: niet-ETS",null,null,null,null,null,null,"Algemene aannames, overschrijfbaar vanuit centrale dashboard"]
[null,"Beschrijving van de maatregel"]
[null,"Maatregel: De implementatie van warmtepompen in de niet-ETS industriële sector voor de verwarming van sanitair warm water en ruimteverwarming.\n\nOm de implementatie van de diverse warmtepompen te versnellen tot het niveau van het maximum technische potentieel, dient men zich bewust te zijn van een aantal barrières die vlotte introductie kunnen belemmeren. De ontwikkeling van de lage temperatuur warmtepomp als (geloof)waardig alternatief hangt nauw samen met 3 andere maatregelen: (1) hernieuwbaar maken van de elektriciteitsproductie; (2) goed isoleren van de bedrijfspanden/industriële processen en (3) overgaan van een hoge temperatuur distributiesysteem naar een lage temperatuur distributiesysteem.  Het risico dat de warmtepomp niet de gewenste uitstootreductie haalt is bij het falen van één van voorgaande elementen veel groter dan het risico inherent aan de technologie zelf [a]. Men mag bij de uitrol van deze maatregel deze 3 elementen niet uit het oog verliezen. Vaak volstaat het om bepaalde barrières uit de weg te werken om het succes van de warmtepomp te versnellen. eveneens kan de WP maar een deel van de industriële WP verduurzamen, maar is niet in staat de hoge temperatuurbehoefte van de industriële sector te voorzien.\n"]
[null,"Relatie met andere maatregelen"]
[null,"nr maatregel",null,"maatregel"]
[null,"beschrijving (overlappend potentieel)"]
[null,"nr maatregel",null,"maatregel"]
[null,"beschrijving (overlappend potentieel)"]
[null,"nr maatregel",null,"maatregel"]
[null,"beschrijving (overlappend potentieel)"]
[null,"Betekenis lange termijn voor energie-/klimaattransitie"]
[null,"Warmtepompen zijn een hernieuwbare warmtetechniek die in rechtstreekse concurrentie komt met een aantal andere hernieuwbare warmtetechnieken (WKK, biomassaketels, warmtenetten, etc.). De shift van fossiel naar hernieuwbaar kan beleidsmatig ondersteund worden, maar men dient toch op te letten niet de keuze tussen verschillende hernieuwbare technieken op te leggen. Het zou beter zijn een beleid te ontwikkelen die zich eerder toespitst op de verduurzaming en efficiënter maken van industriële processen, eerder dan het naar voorschuiven/ondersteunen van één specifieke alternatieve warmtetechnologie. Het beleid voor de maatregel 'warmtepomp' zou dus beter geïntegreerd worden in een beleid waarbij de alternatieve en duurzame warmtetechnieken worden ondersteund zonder vanuit het beleid de technologiekeuze op te leggen."]
[null,"Aannames/onzekerheden/hypothesen"]
[null,"Aanname: Alle gedefinieerde kosten zijn bepaald vanuit een maatschappelijk standpunt (exl. taksen, subsidies, etc.) en zeggen niets over de kost vanuit een actor standpunt. De kosten dienen dus ook niet als dusdanig geïnterpreteerd te worden. De maatschappelijke kost wordt enkel gebruikt om een relatieve volgorde te kunnen opmaken om te bepalen welke maatregelen vanuit maatschappelijke standpunt goedkoper zijn dan andere."]
[null,"Aanname: we weten dat het technische potentieel niet voor elk bedrijfspand dezelfde is. De gebouw specifieke eigenschappen bepalen of de toepasbaarheid van een warmtepomp haalbaar is (betaalbaar is). De gedefinieerde technisch potentieel dient dan ook gelezen te worden als een bovengrens."]
[null,"Aanname: Het potentieel is ingeschat op basis van een aantal gelijkaardige potentieel studies in onze buurlanden (Nederland [d] en Duitsland [e]) Hier wordt een potentieel van 14% -20% vooropgesteld van de industriële warmtevraag kan voorzien worden door bestaande technologie van WP (ruimteverwarming, lage temperatuur proces warmte, en warm waterproductie). Als hoge temperatuur WP meer zijn intrede maken kan het potentieel opgetrokken worden tot 32% [e]."]
[null,"Aanname: Er kunnen diverse types van warmtepompen worden ingezet, zowel elektrisch aangedreven, hybride als gas warmtepompen. We rekenen hier enkel verder met elektrische aangedreven warmtepompen."]
[null,"Aanname: Er bestaan Grond/Water, Lucht/Water en Lucht/Lucht warmtepompen, elk met hun specifieke eigenschappen. We rekenen hier voor de eenvoud enkel verder met de kenmerken van een 'gemiddelde' installatie. "]
[]
[null,"Berekeningen"]
[null,"Resultaat",null,null,null,"Scenario1","Scenario2"]
[null,"totale besparing",null,"MWh",null,{"$f":"F46*F74-F46*F54","v":2811.6755514360011},{"$f":"G46*F74-G46*F54","v":6560.5762866840014}]
[null,"totale CO2 reductie",null,"ton CO2",null,{"$f":"F46*F74*F71-F46*F54*F52","v":655.01208743497432},{"$f":"G46*F74*F71-G46*F54*F52","v":1528.3615373482735}]
[null,"Maatschappelijke kost per ton CO2 reductie",null,"€/ton CO2",null,{"$f":"(F67-F83)/F26","v":349.26243085389399}]
[]
[null,"Potentieel maatregel",null,"Eenheid","Jaar","Waarde",null,"Bron"]
[]
[null,"Activiteitsmeter: Warmtegebruik in industriële sector",null,"MWh",null,{"$f":"IF(F91=J71,(K71/F74),IF(F91=J72,(K72/F74),(K73/F74)))","v":98078.132904287078}]
[null,"Bijkomend potentieel"]
[null,null,null,"% van #MWh komen in aanmerking",null,0.2,null,"[d]; [e]","Zie aanname"]
[null,null,null,"#MWh",null,{"$f":"F31*F33","v":19615.626580857417}]
[null,null,null,"% van potentieel reeds vervuld",null,0]
[null,null,"Bijkomend potentieel","#MWh",null,{"$f":"F34*(1-F35)","v":19615.626580857417}]
[]
[null,"Implementatiegraad maatregel",null,null,null,"Min.","Max"]
[null,null,{"$f":"dropdowns!$R$4","v":"Niet"},null,null,1.0000000000000001E-17]
[null,null,{"$f":"dropdowns!$R$5","v":"Laag"},null,null,0.1,0.2,null,"aanpassen obv gemeente specifieke eigenschappen"]
[null,null,{"$f":"dropdowns!$R$6","v":"Medium"},null,null,0.2,0.3,null,"aanpassen obv gemeente specifieke eigenschappen"]
[null,null,{"$f":"dropdowns!$R$7","v":"Hoog"},null,null,0.3,0.4,null,"aanpassen obv gemeente specifieke eigenschappen"]
[]
[null,"Bijkomende implementatie",null,null,null,"Scenario1","Scenario2"]
[null,"Bijkomende invulling van potentieel",null,"% van de warmtevraag (2030)",null,{"$f":"IF('Scenario''s'!I25=C39,F39,IF('Scenario''s'!I25=C40,AVERAGE(F40,G40),IF('Scenario''s'!I25=C41,AVERAGE(F41,G41),AVERAGE(F42,G42))))","v":0.15000000000000002},{"$f":"IF('Scenario''s'!M25=C39,F39,IF('Scenario''s'!M25=C40,AVERAGE(F40,G40),IF('Scenario''s'!M25=C41,AVERAGE(F41,G41),AVERAGE(F42,G42))))","v":0.35},null,"Keuze via scenario's"]
[null,"Bijkomende invulling van potentieel",null,"#MWh",null,{"$f":"F36*F45","v":2942.3439871286132},{"$f":"F36*G45","v":6865.4693033000958}]
[null,null,null,"#kW theoretisch vermogen",null,{"$f":"F46/F56*1000","v":1583.8704692617794},{"$f":"G46/F56*1000","v":3695.697761610817}]
[]
[null,"Parameters"]
[null,"Kenmerken maatregel",null,"Eenheid","Jaar","Waarde",null,"Bron"]
[null,"Gemiddelde emissiefactoren (2030)"]
[null,null,"Gebruik warmtepomp (elektrische)","ton CO2/MWh",null,{"$f":"IF($F$91=J71,W71,IF($F$91=J72,W72,W73))","v":0.17705584446860712},null,"Zie aanname"]
[null,"Installatie kenmerken",null,null,null,null,null,null,null,null,null,"G/W","L/W","L/L","Gem"]
[null,null,"gem. rendement WP","Input/Output",null,{"$f":"1/F55","v":0.28820269200316706},null,null,null,"verdeling per type WP",null,0.37,0.24,0.3,null,"aannames [a]"]
[null,null,"SPF",null,null,{"$f":"O57","v":3.4697802197802199},null,null,null,"CAPEX","€/kW",1924.48,1485.33,1244.1099999999999,{"$f":"(L55*$L$54+M55*$M$54+N55*$N$54)/SUM($L$54:$N$54)","v":1584.3624175824175},"[c] - p145"]
[null,null,"HHP","uren",null,{"$f":"O59","v":1857.6923076923078},null,null,null,"OPEX","€/kW/jaar",96.22,74.27,62.21,{"$f":"(L56*$L$54+M56*$M$54+N56*$N$54)/SUM($L$54:$N$54)","v":79.2189010989011},"[c] - p145"]
[null,null,"Gem vermogen warmtepomp",null,null,null,null,null,null,"Rendement: SPF",null,4.3499999999999996,3.2,2.6,{"$f":"(L57*$L$54+M57*$M$54+N57*$N$54)/SUM($L$54:$N$54)","v":3.4697802197802199},"[a] - p 16"]
[null,null,"Technische levensduur","jaar",null,{"$f":"O58","v":17.032967032967033},null,null,null,"levensduur","jaar",20,15,15,{"$f":"(L58*$L$54+M58*$M$54+N58*$N$54)/SUM($L$54:$N$54)","v":17.032967032967033},"[c] - p145"]
[null,null,null,null,null,null,null,null,null,"HHP","uren",2070,1640,1770,{"$f":"(L59*$L$54+M59*$M$54+N59*$N$54)/SUM($L$54:$N$54)","v":1857.6923076923078},"[a] - p 13"]
[null,"Kosten"]
[null,null,"CAPEX","€/kW",null,{"$f":"O55","v":1584.3624175824175}]
[null,null,null,"€/ totaal (exl. Taks, premies, etc)",null,{"$f":"F61*F47","v":2509424.8458169908}]
[null,null,"Vaste OPEX","€/kW/jaar",null,{"$f":"O56","v":79.2189010989011}]
[null,null,null,"€/totaal/jaar",null,{"$f":"F63*F47","v":125472.47805791897}]
[null,null,"Variable OPEX (brandstofkosten)","€/kWh/jaar",null,{"$f":"'AA_Energieprijs&Discontovoet'!F63/1000","v":0.11486199999999999},null,null,"ELE prijs"]
[null,null,null,"€/totaal/jaar",null,{"$f":"F65*1000*F46*F54","v":97401.994836137994}]
[null,null,"Totale jaarlijkse kost (aflossing CAPEX+OPEX+brandstofkost)","€/totaal/jaar",null,{"$f":"(-PMT(F90,F58,F62))+F64+F66","v":428864.68564624101}]
[]
[null,"Kenmerken referentiesituatie",null,null,null,null,null,null,null,null,"Brandstofgebruik (warmtevraag)","Verdeling van de fossiele industriële energievectoren voor verwarming (obv het gekozen referentiejaar)",null,null,null,null,null,null,null,null,null,"Emissiefactoren"]
[null,"Gemiddelde emissiefactoren",null,null,null,null,null,null,null,"Bron","MWh","Elektriciteit","Warmte/ Koude","Aardgas","Vloeibaar gas","Stookolie","Diesel","Benzine","Bruinkool","Steenkool","Rest","EF_verw","EF_ELE"]
[null,null,"Bestaande gebouwen - SWW en verwarming","ton CO2/MWh",null,{"$f":"IF($F$91=J71,V71,IF($F$91=J72,V72,V73))","v":0.22000742938143628},null,null,null,"BAU",{"$f":"SUM(BAU_IND!I13:I28)","v":121988.90031085994},null,{"$f":"BAU_IND!I13/SUM(BAU_IND!I13:I28)","v":2.8299287012786274E-3},{"$f":"BAU_IND!I15/SUM(BAU_IND!I13:I28)","v":0.65078418182169406},{"$f":"BAU_IND!I16/SUM(BAU_IND!I13:I28)","v":6.7780246133491137E-2},{"$f":"BAU_IND!I17/SUM(BAU_IND!I13:I28)","v":0.23294984152237333},{"$f":"BAU_IND!I18/SUM(BAU_IND!I13:I28)","v":0},{"$f":"BAU_IND!I19/SUM(BAU_IND!I13:I28)","v":0},{"$f":"BAU_IND!I20/SUM(BAU_IND!I13:I28)","v":0},{"$f":"BAU_IND!I21/SUM(BAU_IND!I13:I28)","v":1.8520524382116209E-3},{"$f":"100%-SUM(L71:T71)","v":4.3803749382951285E-2},{"$f":"SUMPRODUCT(M71:T71,$M$74:$T$74)/SUM(M71:T71)","v":0.22000742938143628},{"$f":"BAU_TOTAAL!$Q$14","v":0.17705584446860712}]
[null,null,"Elektrische verwarming","ton CO2/MWh",null,{"$f":"IF($F$91=J71,W71,IF($F$91=J72,W72,W73))","v":0.17705584446860712},null,null,null,"INV",{"$f":"INV!S20-INV!D20","v":113581.86207424311},null,{"$f":"INV!E20/$K72","v":2.8299287012786274E-3},{"$f":"INV!F20/$K72","v":0.65078418182169406},{"$f":"INV!G20/$K72","v":6.7780246133491137E-2},{"$f":"INV!H20/$K72","v":0.23294984152237336},{"$f":"INV!I20/$K72","v":0},{"$f":"INV!J20/$K72","v":0},{"$f":"INV!K20/$K72","v":0},{"$f":"INV!L20/$K72","v":1.8520524382116212E-3},{"$f":"100%-SUM(L72:T72)","v":4.3803749382951174E-2},{"$f":"SUMPRODUCT(M72:T72,$M$74:$T$74)/SUM(M72:T72)","v":0.22000742938143625},{"$f":"INV!$D$26","v":0.19750015989190264}]
[null,"Installatie kenmerken",null,null,null,null,null,null,null,"EIG",{"$f":"SUM(EIG!E20:R20)","v":0},null,{"$f":"EIG!E20/$K$73","v":{"$error":"#DIV/0!"}},{"$f":"EIG!F20/$K$73","v":{"$error":"#DIV/0!"}},{"$f":"EIG!G20/$K$73","v":{"$error":"#DIV/0!"}},{"$f":"EIG!H20/$K$73","v":{"$error":"#DIV/0!"}},{"$f":"EIG!I20/$K$73","v":{"$error":"#DIV/0!"}},{"$f":"EIG!J20/$K$73","v":{"$error":"#DIV/0!"}},{"$f":"EIG!K20/$K$73","v":{"$error":"#DIV/0!"}},{"$f":"EIG!L20/$K$73","v":{"$error":"#DIV/0!"}},{"$f":"100%-SUM(L73:T73)","v":{"$error":"#DIV/0!"}},{"$f":"SUMPRODUCT(M73:T73,$M$74:$T$74)/SUM(M73:T73)","v":{"$error":"#DIV/0!"}},{"$f":"EIG!$D$26","v":0}]
[null,null,"gem. rendement fossiele installatie - SWW en verwarming","Input/Output",null,{"$f":"IF(F91=J71,(N71*'AA_Energieprijs&Discontovoet'!$F$43+O71*'AA_Energieprijs&Discontovoet'!$F$44+P71*'AA_Energieprijs&Discontovoet'!$F$45)/SUM(N71:P71),IF(F91=J72,(N72*'AA_Energieprijs&Discontovoet'!$F$43+O72*'AA_Energieprijs&Discontovoet'!$F$44+P72*'AA_Energieprijs&Discontovoet'!$F$45)/SUM(N72:P72),(N73*'AA_Energieprijs&Discontovoet'!$F$43+O73*'AA_Energieprijs&Discontovoet'!$F$44+P73*'AA_Energieprijs&Discontovoet'!$F$45)/SUM(N73:P73)))","v":1.2437930525238181},null,null,null,"EF_vector",null,null,{"$f":"BAU_TOTAAL!$Q$15","v":0.23764705882352966},{"$f":"'AA_Energieprijs&Discontovoet'!$F$98","v":0.20200000000000001},{"$f":"'AA_Energieprijs&Discontovoet'!$F$99","v":0.22700000000000001},{"$f":"'AA_Energieprijs&Discontovoet'!$F$100","v":0.26700000000000002},{"$f":"'AA_Energieprijs&Discontovoet'!$F$101","v":0.26700000000000002},{"$f":"'AA_Energieprijs&Discontovoet'!$F$102","v":0.249},{"$f":"'AA_Energieprijs&Discontovoet'!$F$103","v":0.35099999999999998},{"$f":"'AA_Energieprijs&Discontovoet'!$F$104","v":0.35399999999999998}]
[null,null,"gem. Technische levensduur","jaar",null,{"$f":"IF(F91=J71,(N71*'AA_Energieprijs&Discontovoet'!$F$51+O71*'AA_Energieprijs&Discontovoet'!$F$52+P71*'AA_Energieprijs&Discontovoet'!$F$53)/SUM(N71:P71),IF(F91=J72,(N72*'AA_Energieprijs&Discontovoet'!$F$51+O72*'AA_Energieprijs&Discontovoet'!$F$52+P72*'AA_Energieprijs&Discontovoet'!$F$53)/SUM(N72:P72),(N73*'AA_Energieprijs&Discontovoet'!$F$51+O73*'AA_Energieprijs&Discontovoet'!$F$52+P73*'AA_Energieprijs&Discontovoet'!$F$53)/SUM(N73:P73)))","v":20.000000000000004}]
[null,"Kosten"]
[null,null,"CAPEX","€/kW",null,{"$f":"IF(F91=J71,(N71*'AA_Energieprijs&Discontovoet'!$F$26+O71*'AA_Energieprijs&Discontovoet'!$F$27+P71*'AA_Energieprijs&Discontovoet'!$F$28)/SUM(N71:P71),IF(F91=J72,(N72*'AA_Energieprijs&Discontovoet'!$F$26+O72*'AA_Energieprijs&Discontovoet'!$F$27+P72*'AA_Energieprijs&Discontovoet'!$F$28)/SUM(N72:P72),(N73*'AA_Energieprijs&Discontovoet'!$F$26+O73*'AA_Energieprijs&Discontovoet'!$F$27+P73*'AA_Energieprijs&Discontovoet'!$F$28)/SUM(N73:P73)))","v":230.42548649514532}]
[null,null,null,"€/ totaal (exl. Taks, premies, etc.)",null,{"$f":"F77*F47","v":364964.12342493964}]
[null,null,"Vaste Opex","€/kW/jaar",null,{"$f":"IF(F91=J71,(N71*'AA_Energieprijs&Discontovoet'!$F$34+O71*'AA_Energieprijs&Discontovoet'!$F$35+P71*'AA_Energieprijs&Discontovoet'!$F$36)/SUM(N71:P71),IF(F91=J72,(N72*'AA_Energieprijs&Discontovoet'!$F$34+O72*'AA_Energieprijs&Discontovoet'!$F$35+P72*'AA_Energieprijs&Discontovoet'!$F$36)/SUM(N72:P72),(N73*'AA_Energieprijs&Discontovoet'!$F$34+O73*'AA_Energieprijs&Discontovoet'!$F$35+P73*'AA_Energieprijs&Discontovoet'!$F$36)/SUM(N73:P73)))","v":14.914898408855672}]
[null,null,null,"€/totaal/jaar",null,{"$f":"F79*F47","v":23623.267141826}]
[null,null,"Variabele OPEX (Brandstofprijzen)","€/kWh/jaar",null,{"$f":"IF(F91=J71,(N71*'AA_Energieprijs&Discontovoet'!$F$64+O71*'AA_Energieprijs&Discontovoet'!$F$65+P71*'AA_Energieprijs&Discontovoet'!$F$66)/SUM(N71:P71),IF(F91=J72,(N72*'AA_Energieprijs&Discontovoet'!$F$64+O72*'AA_Energieprijs&Discontovoet'!$F$65+P72*'AA_Energieprijs&Discontovoet'!$F$66)/SUM(N72:P72),(N73*'AA_Energieprijs&Discontovoet'!$F$64+O73*'AA_Energieprijs&Discontovoet'!$F$65+P73*'AA_Energieprijs&Discontovoet'!$F$66)/SUM(N73:P73)))/1000","v":4.0882300279826436E-2}]
[null,null,null,"€/totaal/jaar",null,{"$f":"F81*1000*F46*F74","v":149615.60559943173}]
[null,null,"Totale jaarlijkse kost (aflossing CAPEX+OPEX+brandstofkost)","€/totaal/jaar",null,{"$f":"(-PMT(F90,F75,F78))+F80+F82","v":200093.57175001851}]
[]
[null,"Algemene aannames"]
[null,"Graaddagen (15/15)"]
[null,null,"Referentiejaar",null,{"$f":"F92","v":2017},{"$f":"VLOOKUP(E87+0,'AA_Energieprijs&Discontovoet'!E8:F16,2,FALSE)","v":1776}]
[null,null,2030,null,2030,{"$f":"'AA_Energieprijs&Discontovoet'!F16","v":1870}]
[null,null,"Elasticiteit",null,null,0.46]
[null,"Discontovoet",null,"%",null,{"$f":"P_Discontovoet","v":0.04}]
[null,"Referentiesituatie",null,null,null,{"$f":"P_Maatregelen_Referentie","v":"BAU"},null,null,"Keuze via dashboard"]
[null,null,"jaar",null,null,{"$f":"P_Maatregelen_Jaar_Inventaris","v":2017}]
[null,"Andere"]
[]
[null,"Referenties"]
[null,"[a]","VEA, 2017. Steunpunt energie: nota potentieel 2030 warmtepompen",null,null,"http://www.energiesparen.be/sites/default/files/atoms/files/Potentieel_warmtepompen_2030.pdf",null,null," "]
[null,"[b]","Vlaamse regering, 2018. Ontwerp Vlaams Energieplan 2021-2030",null,null,"http://docs.vlaamsparlement.be/pfile?id=1418105",null,null," "]
[null,"[c]","Simoes et al., 2013. The JRC-EU-TIMES model: Assessing the long-term role of the SET Plan Energy technologies",null,null,"https://ec.europa.eu/jrc/en/publication/eur-scientific-and-technical-research-reports/jrc-eu-times-model-assessing-long-term-role-set-plan-energy-technologies",null,null," "]
[null,"[d]","ECN, 2014. R&D on Industrial Heat Pumps",null,null,"https://publicaties.ecn.nl/PdfFetch.aspx?nr=ECN-L--14-039",null,null," "]
[null,"[e]","Wolf et al., 2012. Industrial HP in Germany: potentials, technological development and market barriers",null,null,"https://www.researchgate.net/publication/303863369_Industrial_heat_pumps_in_Germany_Potentials_technological_development_and_market_barriers",null,null," "]

{"sheet":"IND_HER_ZB","index":51,"n_rows":99,"n_cols":23,"rows_kept":99,"cut":false,"hidden":false,"merged":[[20,1,20,7],[21,1,21,7],[5,1,5,7],[14,1,14,7],[16,1,16,7],[17,1,17,7],[18,1,18,7],[19,1,19,7]]}
[null,"<< Naar Scenario's",null,null,null,null,null,null,null,null,"Berekeningen + verwijzing andere cel"]
[null,null,null,null,null,null,null,null,null,null,"Verwijzing andere tab (nulmeting/data)"]
[null,"Plaatsen van een zonneboiler in de niet-ETS industriële sector",null,null,null,null,null,null,"Opmerkingen",null,"Overschrijfbaar: Vaste parameters uit externe bronnen, literatuur, rebus model"]
[null,null,null,"Industrie",null,null,null,null,null,null,"Algemene aannames, overschrijfbaar vanuit centrale dashboard"]
[null,"Beschrijving van de maatregel"]
[null,"Maatregel: Installatie van een zonneboiler voor de verwarming van sanitair warm water in de niet-ETS industriële sector"]
[null,"Relatie met andere maatregelen"]
[null,"nr maatregel",null,"maatregel"]
[null,"beschrijving (overlappend potentieel)"]
[null,"nr maatregel",null,"maatregel"]
[null,"beschrijving (overlappend potentieel)"]
[null,"nr maatregel",null,"maatregel"]
[null,"beschrijving (overlappend potentieel)"]
[null,"Betekenis lange termijn voor energie-/klimaattransitie"]
[null,"Zonneboilers zijn een hernieuwbare warmtetechniek die in rechtstreekse concurrentie komt met een aantal andere hernieuwbare warmtetechnieken (warmtepomp, pelletketels, warmtenetten, WKK, etc.). De shift van fossiel naar hernieuwbaar kan beleidsmatig ondersteund worden, maar men dient toch op te letten niet de keuze tussen verschillende hernieuwbare technieken op te leggen. In deze zou het beter zijn een beleid te ontwikkelen die zich eerder toespitst op de verduurzaming van de warmteproductie in de bebouwde omgeving, eerder dan het naar voorschuiven/ondersteunen van één specifieke techniek. De maatregel 'zonneboilers' zou dus beter geïntegreerd worden in een beleid waarbij de alternatieve en duurzame warmtetechnieken worden ondersteund zonder vanuit het beleid de technologiekeuze op te leggen en op die manier een lock-in effect te vermijden."]
[null,"Aannames/onzekerheden/hypothesen"]
[null,"Aanname: Alle gedefinieerde kosten zijn bepaald vanuit een maatschappelijk standpunt (exl. taksen, subsidies, etc.) en zeggen niets over de kost vanuit een actor standpunt. De kosten dienen dus ook niet als dusdanig geïnterpreteerd te worden. De maatschappelijke kost wordt enkel gebruikt om een relatieve volgorde te kunnen opmaken om te bepalen welke maatregelen vanuit maatschappelijke standpunt goedkoper zijn dan andere."]
[null,"Aanname: Het aandeel van de industriële warmtevraag die in aanmerking komt voor zonneboilers is afgeleid van een aantal potentieel studies uit onze buurlanden [b], [d], [e]. Op basis van deze studies wordt een potentieel bepaald op basis van (1) het potentieel aan lage temperatuur warmte, hiervan wordt een aandeel van 40% die kan geproduceerd worden obv zonnecollector; (2)  beschikbare dakoppervlak bij een industrie waar er een vraag is naar lage temperatuur proces warmte (is de bottleneck). Bij al deze studies komen we steeds gemiddeld uit tussen een 3% en 4% van de totale industriële warmtevraag die geschikt is om te produceren met zonneboilers."]
[null,"Aanname: Het gebruik van restwarmte en optimaliseren van captatie van restwarmte is een belangrijke barrière voor de verspreiding van zonnewarmte voor industriële warmteprocessen. Dit effect op het potentieel wordt hier niet meegenomen."]
[null,"Aanname: het potentieel wordt bepaald obv nationale kengetallen. Dit betekent dus niet dat als een gemeente een warmtevraag heeft die in aanmerking komt voor zonneboilers, dat het daarbij ook gegarandeerd is dat de dak structuren aanwezig zijn om de infrastructuur te voorzien. De gebouw specifieke eigenschappen zullen bepalen of de toepasbaarheid van een zonneboiler haalbaar is (en betaalbaar is). De gedefinieerde potentieel dient dan ook gelezen te worden als een bovengrens."]
[null,"Aanname: De ruimte ingenomen door zonnecollectoren kan niet gebruikt worden voor PV, dit effect wordt hier niet meegenomen"]
[null,"Aanname: Het elektrische verbruik die een zonneboiler gebruikt voor het rondpompen van water, etc. wordt hier verwaarloosd."]
[]
[null,"Berekeningen"]
[null,"Resultaat",null,null,null,"Scenario1","Scenario2"]
[null,"totale besparing",null,"MWh",null,{"$f":"F49*F73","v":640.44172663201482},{"$f":"G49*F73","v":1494.3640288080344}]
[null,"totale CO2 reductie",null,"ton CO2",null,{"$f":"F26*(F70-F55)","v":140.9019379449181},{"$f":"G26*(F70-F55)","v":328.77118853814221}]
[null,"Maatschappelijke kost per ton CO2 reductie",null,"€/ton CO2",null,{"$f":"(F66-F82)/IND_HER_ZB_REDCO2_1","v":211.36574419713239}]
[]
[null,"Potentieel maatregel",null,"Eenheid","Jaar","Waarde",null,"Bron"]
[null,"Capaciteitsmeter:"]
[null,"Activiteitsmeter: Warmtegebruik in industriële sector"]
[null,null,"Warmtegebruik in industriële sector","MWh",null,{"$f":"IF(F89=J64,(K64/F73),IF(F89=J65,(K65/F73),(K66/F73)))","v":98078.132904287078}]
[]
[null,"Bijkomend potentieel"]
[null,null,null,"% van industriële warmte vraag",null,3.5000000000000003E-2,null,"[a]; [b]; [d]; [e] - p15"]
[null,null,null,"#MWh",null,{"$f":"F33*F36","v":3432.7346516500479}]
[null,null,null,"% van potentieel reeds vervuld",null,0]
[null,null,"Bijkomend potentieel","#MWh",null,{"$f":"F37*(1-F38)","v":3432.7346516500479}]
[]
[null,"Implementatiegraad maatregel",null,null,null,"Min.","Max"]
[null,null,{"$f":"dropdowns!$R$4","v":"Niet"},null,null,1.0000000000000001E-17]
[null,null,{"$f":"dropdowns!$R$5","v":"Laag"},null,null,0.1,0.2,null,"aanpassen obv gemeente specifieke eigenschappen"]
[null,null,{"$f":"dropdowns!$R$6","v":"Medium"},null,null,0.2,0.3,null,"aanpassen obv gemeente specifieke eigenschappen"]
[null,null,{"$f":"dropdowns!$R$7","v":"Hoog"},null,null,0.3,0.4,null,"aanpassen obv gemeente specifieke eigenschappen"]
[]
[null,"Bijkomende implementatie",null,null,null,"Scenario1","Scenario2"]
[null,"Bijkomende invulling van potentieel",null,"% van de MWh (2030)",null,{"$f":"IF('Scenario''s'!I26=C42,F42,IF('Scenario''s'!I26=C43,AVERAGE(F43,G43),IF('Scenario''s'!I26=C44,AVERAGE(F44,G44),AVERAGE(F45,G45))))","v":0.15000000000000002},{"$f":"IF('Scenario''s'!M26=C42,F42,IF('Scenario''s'!M26=C43,AVERAGE(F43,G43),IF('Scenario''s'!M26=C44,AVERAGE(F44,G44),AVERAGE(F45,G45))))","v":0.35},null,"Keuze via scenario's"]
[null,"Bijkomende invulling van potentieel",null,"#MWh",null,{"$f":"F39*F48","v":514.91019774750725},{"$f":"F39*G48","v":1201.4571280775167}]
[null,null,null,"#kW theoretisch vermogen",null,{"$f":"F49/F92*1000","v":330.28235904266018},{"$f":"G49/F92*1000","v":770.65883776620706}]
[]
[null,"Parameters"]
[null,"Kenmerken maatregel",null,"Eenheid","Jaar","Waarde",null,"Bron"]
[null,"Gemiddelde emissiefactoren"]
[null,null,"Zonneboiler","ton CO2/MWh",null,{"$f":"'AA_Energieprijs&Discontovoet'!F109","v":0}]
[null,"Installatie kenmerken"]
[null,null,"gem. rendement zonneboiler","Input/Output",null,"n.a."]
[null,null,"Technische levensduur","jaar",null,15,null,"[c] - p149"]
[null,"Kosten"]
[null,null,"CAPEX","€/kW",null,1711.67,null,"[c] - p149"]
[null,null,null,"€/ totaal (exl. Taks, premies, etc.)",null,{"$f":"F60*F50","v":565334.40550255019}]
[null,null,"Vaste OPEX","€/kW/jaar",null,34.229999999999997,null,"[c] - p149",null,null,"Brandstofgebruik (warmtevraag)","Verdeling van de fossiele residentiële energievectoren voor verwarming (obv het gekozen referentiejaar)",null,null,null,null,null,null,null,null,null,"Emissiefactoren"]
[null,null,null,"€/totaal/jaar",null,{"$f":"F62*F50","v":11305.565150030257},null,null,null,"Bron","MWh","Elektriciteit","Warmte/ Koude","Aardgas","Vloeibaar gas","Stookolie","Diesel","Benzine","Bruinkool","Steenkool","Rest","EF_verw","EF_ELE"]
[null,null,"Variable OPEX (brandstofkosten)","€/kWh/jaar",null,0,null,"Zie aanname"," ","BAU",{"$f":"SUM(BAU_IND!I13:I28)","v":121988.90031085994},null,{"$f":"BAU_IND!I13/$K$64","v":2.8299287012786274E-3},{"$f":"BAU_IND!I15/$K$64","v":0.65078418182169406},{"$f":"BAU_IND!I16/$K$64","v":6.7780246133491137E-2},{"$f":"BAU_IND!I17/$K$64","v":0.23294984152237333},{"$f":"BAU_IND!I18/$K$64","v":0},{"$f":"BAU_IND!I19/$K$64","v":0},{"$f":"BAU_IND!I20/$K$64","v":0},{"$f":"BAU_IND!I21/$K$64","v":1.8520524382116209E-3},{"$f":"100%-SUM(M64:T64)","v":4.3803749382951285E-2},{"$f":"SUMPRODUCT(M64:T64,$M$67:$T$67)/SUM(M64:T64)","v":0.22000742938143628},{"$f":"BAU_TOTAAL!$Q$14","v":0.17705584446860712}]
[null,null,null,"€/totaal/jaar",null,{"$f":"F49*1000*F64","v":0},null,null,null,"INV",{"$f":"INV!S20-INV!D20","v":113581.86207424311},null,{"$f":"INV!E20/$K65","v":2.8299287012786274E-3},{"$f":"INV!F20/$K65","v":0.65078418182169406},{"$f":"INV!G20/$K65","v":6.7780246133491137E-2},{"$f":"INV!H20/$K65","v":0.23294984152237336},{"$f":"INV!I20/$K65","v":0},{"$f":"INV!J20/$K65","v":0},{"$f":"INV!K20/$K65","v":0},{"$f":"INV!L20/$K65","v":1.8520524382116212E-3},{"$f":"100%-SUM(L65:T65)","v":4.3803749382951174E-2},{"$f":"SUMPRODUCT(M65:T65,$M$67:$T$67)/SUM(M65:T65)","v":0.22000742938143625},{"$f":"INV!$D$26","v":0.19750015989190264}]
[null,null,"Totale jaarlijkse kost (aflossing CAPEX+OPEX+brandstofkost)","€/totaal/jaar",null,{"$f":"(-PMT(F88,F58,F61))+F63+F65","v":62152.363658499577},null,null,null,"EIG",{"$f":"SUM(EIG!E20:R20)","v":0},null,{"$f":"EIG!E20/$K$66","v":{"$error":"#DIV/0!"}},{"$f":"EIG!F20/$K$66","v":{"$error":"#DIV/0!"}},{"$f":"EIG!G20/$K$66","v":{"$error":"#DIV/0!"}},{"$f":"EIG!H20/$K$66","v":{"$error":"#DIV/0!"}},{"$f":"EIG!I20/$K$66","v":{"$error":"#DIV/0!"}},{"$f":"EIG!J20/$K$66","v":{"$error":"#DIV/0!"}},{"$f":"EIG!K20/$K$66","v":{"$error":"#DIV/0!"}},{"$f":"EIG!L20/$K$66","v":{"$error":"#DIV/0!"}},{"$f":"100%-SUM(M66:T66)","v":{"$error":"#DIV/0!"}},{"$f":"SUMPRODUCT(M66:T66,$M$67:$T$67)/SUM(M66:T66)","v":{"$error":"#DIV/0!"}},{"$f":"EIG!$D$26","v":0}]
[null,null,null,null,null,null,null,null,null,"EF_vector",null,null,{"$f":"BAU_TOTAAL!$Q$15","v":0.23764705882352966},{"$f":"'AA_Energieprijs&Discontovoet'!$F$98","v":0.20200000000000001},{"$f":"'AA_Energieprijs&Discontovoet'!$F$99","v":0.22700000000000001},{"$f":"'AA_Energieprijs&Discontovoet'!$F$100","v":0.26700000000000002},{"$f":"'AA_Energieprijs&Discontovoet'!$F$101","v":0.26700000000000002},{"$f":"'AA_Energieprijs&Discontovoet'!$F$102","v":0.249},{"$f":"'AA_Energieprijs&Discontovoet'!$F$103","v":0.35099999999999998},{"$f":"'AA_Energieprijs&Discontovoet'!$F$104","v":0.35399999999999998}]
[null,"Kenmerken referentiesituatie"]
[null,"Gemiddelde emissiefactoren"]
[null,null,"Bestaande gebouwen - SWW en verwarming","ton CO2/MWh",null,{"$f":"IF($F$89=J64,V64,IF($F$89=J65,V65,V66))","v":0.22000742938143628}]
[null,null,"Elektrische verwarming","ton CO2/MWh",null,{"$f":"IF($F$89=J64,W64,IF($F$89=J65,W65,W66))","v":0.17705584446860712}]
[null,"Installatie kenmerken"]
[null,null,"gem. rendement fossiele installatie - SWW en verwarming","Input/Output",null,{"$f":"IF(F89=J64,(N64*'AA_Energieprijs&Discontovoet'!$F$43+O64*'AA_Energieprijs&Discontovoet'!$F$44+P64*'AA_Energieprijs&Discontovoet'!$F$45)/SUM(N64:P64),IF(F89=J65,(N65*'AA_Energieprijs&Discontovoet'!$F$43+O65*'AA_Energieprijs&Discontovoet'!$F$44+P65*'AA_Energieprijs&Discontovoet'!$F$45)/SUM(N65:P65),(N66*'AA_Energieprijs&Discontovoet'!$F$43+O66*'AA_Energieprijs&Discontovoet'!$F$44+P66*'AA_Energieprijs&Discontovoet'!$F$45)/SUM(N66:P66)))","v":1.2437930525238181}]
[null,null,"gem. Technische levensduur","jaar",null,{"$f":"IF(F89=J64,(N64*'AA_Energieprijs&Discontovoet'!$F$51+O64*'AA_Energieprijs&Discontovoet'!$F$52+P64*'AA_Energieprijs&Discontovoet'!$F$53)/SUM(N64:P64),IF(F89=J65,(N65*'AA_Energieprijs&Discontovoet'!$F$50+O65*'AA_Energieprijs&Discontovoet'!$F$51+P65*'AA_Energieprijs&Discontovoet'!$F$53)/SUM(N65:P65),(N66*'AA_Energieprijs&Discontovoet'!$F$51+O66*'AA_Energieprijs&Discontovoet'!$F$52+P66*'AA_Energieprijs&Discontovoet'!$F$53)/SUM(N66:P66)))","v":20.000000000000004}]
[null,"Kosten"]
[null,null,"CAPEX","€/kW",null,{"$f":"IF(F89=J64,(N64*'AA_Energieprijs&Discontovoet'!$F$26+O64*'AA_Energieprijs&Discontovoet'!$F$27+P64*'AA_Energieprijs&Discontovoet'!$F$28)/SUM(N64:P64),IF(F89=J65,(N65*'AA_Energieprijs&Discontovoet'!$F$26+O65*'AA_Energieprijs&Discontovoet'!$F$27+P65*'AA_Energieprijs&Discontovoet'!$F$28)/SUM(N65:P65),(N66*'AA_Energieprijs&Discontovoet'!$F$26+O66*'AA_Energieprijs&Discontovoet'!$F$27+P66*'AA_Energieprijs&Discontovoet'!$F$28)/SUM(N66:P66)))","v":230.42548649514532}]
[null,null,null,"€/ totaal (exl. Taks, premies, etc.)",null,{"$f":"F76*F50","v":76105.473263169231},null,null,"het aandeel van de CAPEX kost die vervangen wordt door een zonneboiler"]
[null,null,"Vaste Opex","€/kW/jaar",null,{"$f":"IF(F89=J64,(N64*'AA_Energieprijs&Discontovoet'!$F$34+O64*'AA_Energieprijs&Discontovoet'!$F$35+P64*'AA_Energieprijs&Discontovoet'!$F$36)/SUM(N64:P64),IF(F89=J65,(N65*'AA_Energieprijs&Discontovoet'!$F$34+O65*'AA_Energieprijs&Discontovoet'!$F$35+P65*'AA_Energieprijs&Discontovoet'!$F$36)/SUM(N65:P65),(N66*'AA_Energieprijs&Discontovoet'!$F$34+O66*'AA_Energieprijs&Discontovoet'!$F$35+P66*'AA_Energieprijs&Discontovoet'!$F$36)/SUM(N66:P66)))","v":14.914898408855672}]
[null,null,null,"€/totaal/jaar",null,{"$f":"F78*F50","v":4926.1278313584698}]
[null,null,"Variabele OPEX (Brandstofprijzen)","€/kWh/jaar",null,{"$f":"IF(F89=J64,(N64*'AA_Energieprijs&Discontovoet'!$F$81+O64*'AA_Energieprijs&Discontovoet'!$F$82+P64*'AA_Energieprijs&Discontovoet'!$F$83)/SUM(N64:P64),IF(F89=J65,(N65*'AA_Energieprijs&Discontovoet'!$F$81+O65*'AA_Energieprijs&Discontovoet'!$F$82+P65*'AA_Energieprijs&Discontovoet'!$F$83)/SUM(N65:P65),(N66*'AA_Energieprijs&Discontovoet'!$F$81+O66*'AA_Energieprijs&Discontovoet'!$F$82+P66*'AA_Energieprijs&Discontovoet'!$F$83)/SUM(N66:P66)))/1000","v":3.4108363046828828E-2}]
[null,null,null,"€/totaal/jaar",null,{"$f":"F49*1000*F80*F73","v":21844.418922302666}]
[null,null,"Totale jaarlijkse kost (aflossing CAPEX+OPEX+brandstofkost)","€/totaal/jaar",null,{"$f":"(-PMT(F88,F74,F77))+F79+F81","v":32370.520685953794}]
[]
[null,"Algemene aannames"]
[null,"Graaddagen (15/15)"]
[null,null,"Referentiejaar",null,{"$f":"F90","v":2017},{"$f":"VLOOKUP(E86+0,'AA_Energieprijs&Discontovoet'!E8:F16,2,FALSE)","v":1776}]
[null,null,2030,null,2030,{"$f":"'AA_Energieprijs&Discontovoet'!F16","v":1870}]
[null,"Discontovoet",null,"%",null,{"$f":"P_Discontovoet","v":0.04}]
[null,"Referentiesituatie",null,null,null,{"$f":"P_Maatregelen_Referentie","v":"BAU"},null,null,"Keuze via dashboard"]
[null,null,"jaar",null,null,{"$f":"P_Maatregelen_Jaar_Inventaris","v":2017}]
[null,"Andere"]
[null,null,"vollast (gem. Zonneschijnuren)","uren",null,{"$f":"'AA_Energieprijs&Discontovoet'!F17","v":1559}]
[]
[null,"Referenties"]
[null,"[a]","RVO, 2015. Zonneboilers voor de industrie",null,null,"https://www.rvo.nl/sites/default/files/2016/05/140220-01%20RVO_Zonneboilers%20voor%20de%20industrie_05.pdf",null,null," "]
[null,"[b]","Holland Sollar, 2015. Ruimte voor zonne-energie in Nederland 2020-2050",null,null,"https://www.hollandsolar.nl/u/files/holland-solar-rapport-ruimte-voor-zonne-energie-2015web.pdf",null,null," "]
[null,"[c]","Simoes et al., 2013. The JRC-EU-TIMES model: Assessing the long-term role of the SET Plan Energy technologies",null,null,"https://ec.europa.eu/jrc/en/publication/eur-scientific-and-technical-research-reports/jrc-eu-times-model-assessing-long-term-role-set-plan-energy-technologies",null,null," "]
[null,"[d]","Lauterbach et al., 2012. Potential for solar process heat in Germany - suitable industrial sectors and processes",null,null,"https://www.researchgate.net/publication/257548416_The_potential_of_solar_heat_for_industrial_processes_in_Germany",null,null," "]
[null,"[e]","IEA, 2015. Potential studies on solar process heat worldwide",null,null,"http://task49.iea-shc.org/data/sites/1/publications/151031_IEA_Task49_Deliverable_C5_Potential%20studies.pdf",null,null," "]

{"sheet":"IND_EE_EEA","index":52,"n_rows":88,"n_cols":12,"rows_kept":88,"cut":false,"hidden":false,"merged":[[63,10,64,10],[63,11,64,11],[5,1,5,7],[14,1,14,7],[16,1,16,7],[17,1,17,7],[18,1,18,7]]}
[null,"<< Naar Scenario's",null,null,null,null,null,null,null,null,"Berekeningen + verwijzing andere cel"]
[null,null,null,null,null,null,null,null,null,null,"Verwijzing andere tab (nulmeting/data)"]
[null,"Elektriciteitsgebruik: verhoogde efficiëntie door elektrische aandrijfsystemen ",null,null,null,null,null,null,"Opmerkingen",null,"Overschrijfbaar: Vaste parameters uit externe bronnen, literatuur, rebus model"]
[null,null,null,"Industrie",null,null,null,null,null,null,"Algemene aannames, overschrijfbaar vanuit centrale dashboard"]
[null,"Beschrijving van de maatregel"]
[null,"Maatregel: Verhogen van de efficiëntie van elektrische aandrijfsystemen in de industriële sector\n\nElektromotoren zijn er in alle soorten en maten en zijn verantwoordelijk voor meer dan de helft van het mondiale elektriciteitsverbruik. Een elektromotor is een relatief eenvoudig apparaat en in beginsel ook relatief eenvoudig efficiënter te maken. Vele elektromotoren drijven pomp-, compressor- en ventilatiesystemen aan. Deze drie ‘stromingssystemen’ hebben overeenkomstige eigenschappen met betrekking tot besparingsopties. Wanneer een verouderde elektromotor wordt vervangen door een efficiëntere, is redelijk eenvoudig vooraf te bepalen welke efficiëntieverbetering zal worden gerealiseerd. In de industrie draaien vele motoren het gehele jaar door en is een efficiëntere, maar duurdere motor vaak binnen slechts een paar maanden/jaren terugverdiend [a]."]
[null,"Relatie met andere maatregelen"]
[null,"nr maatregel",null,"maatregel"]
[null,"beschrijving (overlappend potentieel)"]
[null,"nr maatregel",null,"maatregel"]
[null,"beschrijving (overlappend potentieel)"]
[null,"nr maatregel",null,"maatregel"]
[null,"beschrijving (overlappend potentieel)"]
[null,"Betekenis lange termijn voor energie-/klimaattransitie"]
[null,"Naast positieve energetische effecten, zijn er positieve effecten voor de werkgelegenheid en investeringen in de economie. Ook verlaagt dit de basislast voor elektriciteitscentrales aanzienlijk [a]."]
[null,"Aannames/onzekerheden/hypothesen"]
[null,"Aanname: Alle gedefinieerde kosten zijn bepaald vanuit een maatschappelijk standpunt (exl. taksen, subsidies, etc.) en zeggen niets over de kost vanuit een actor standpunt. De kosten dienen dus ook niet als dusdanig geïnterpreteerd te worden. De maatschappelijke kost wordt enkel gebruikt om een relatieve volgorde te kunnen opmaken om te bepalen welke maatregelen vanuit maatschappelijke standpunt goedkoper zijn dan andere."]
[null,"Aanname: Het technische/realistisch potentieel wordt bepaald op basis van een analyse van de toepasbaarheid van de efficiëntie maatregel op de Nederlandse Industriële sector: 69% van het totale elektriciteitsgebruik wordt gebruikt door de aansturing van elektronmotoren. Hiervan wordt verondersteld dat door efficiëntere aansturing het besparingspotentieel 22,2% is [a]."]
[null,"Aanname: De kostprijs wordt berekend op basis van de ingeschatte TVT. We berekenen de besparingskost die de maatregel realiseert op de brandstofkost (elektriciteitskost) en schatten de investeringskost van de technische maatregel in, door de besparingskost te vermenigvuldigen met de opgegeven terugverdientijd. Deze (ingeschatte) investeringskost wordt dan gebruikt om tot een maatschappelijke kost per ton CO2 reductie te komen."]
[]
[null,"Berekeningen"]
[null,"Resultaat",null,null,null,"Scenario1","Scenario2"]
[null,"totale besparing",null,"MWh",null,{"$f":"F45","v":670.08292655766843},{"$f":"G45","v":3350.4146327883418}]
[null,"totale CO2 reductie",null,"ton CO2",null,{"$f":"F23*F50","v":118.64209842566362},{"$f":"G23*F50","v":593.21049212831804}]
[null,"Maatschappelijke kost per ton CO2 reductie",null,"€/ton CO2",null,{"$f":"(F62-F76)/F24","v":-282.85049962638408}]
[]
[null,"Potentieel maatregel",null,"Eenheid","Jaar","Waarde",null,"Bron"]
[]
[null,"Activiteitsmeter: gem. Ele gebruik",null,"MWh",null,{"$f":"IF(F82=J67,K67,IF(F82=J68,K68,K69))","v":58326.406977209241},null,"nulmeting"]
[null,"Bijkomend potentieel"]
[null,null,null,"% van ele verbruik komen in aanmerking",null,0.69,null,"[a] - p49"]
[null,null,null,"Besparingspotentieel",null,0.222,null,"[a] - p49"]
[null,null,null,"#MWh",null,{"$f":"F29*F31*F32","v":8934.4390207689121}]
[null,null,null,"% van potentieel reeds vervuld",null,0]
[null,null,"Bijkomend potentieel","#MWh",null,{"$f":"F33*(1-F34)","v":8934.4390207689121}]
[]
[null,"Implementatiegraad maatregel",null,null,null,"Min.","Max"]
[null,null,{"$f":"dropdowns!$R$4","v":"Niet"},null,null,1.0000000000000001E-17]
[null,null,{"$f":"dropdowns!$R$5","v":"Laag"},null,null,0,0.15,null,"aanpassen obv gemeente specifieke eigenschappen"]
[null,null,{"$f":"dropdowns!$R$6","v":"Medium"},null,null,0.15,0.3,null,"aanpassen obv gemeente specifieke eigenschappen"]
[null,null,{"$f":"dropdowns!$R$7","v":"Hoog"},null,null,0.3,0.45,null,"aanpassen obv gemeente specifieke eigenschappen"]
[]
[null,"Bijkomende implementatie",null,null,null,"Scenario1","Scenario2"]
[null,"Bijkomende invulling van potentieel",null,"% van de HH (2030)",null,{"$f":"IF('Scenario''s'!I27=C38,F38,IF('Scenario''s'!I27=C39,AVERAGE(F39,G39),IF('Scenario''s'!I27=C40,AVERAGE(F40,G40),AVERAGE(F41,G41))))","v":7.4999999999999997E-2},{"$f":"IF('Scenario''s'!M27=C38,F38,IF('Scenario''s'!M27=C39,AVERAGE(F39,G39),IF('Scenario''s'!M27=C40,AVERAGE(F40,G40),AVERAGE(F41,G41))))","v":0.375},null,"Keuze via scenario's"]
[null,"Bijkomende invulling van potentieel",null,"#MWh",null,{"$f":"F35*F44","v":670.08292655766843},{"$f":"F35*G44","v":3350.4146327883418}]
[]
[null,"Parameters"]
[null,"Kenmerken maatregel",null,"Eenheid","Jaar","Waarde",null,"Bron"]
[null,"Gemiddelde emissiefactoren"]
[null,null,"Elektriciteit","ton CO2/MWh",null,{"$f":"IF($F$82=J67,L67,IF($F$82=J68,L68,L69))","v":0.17705584446860712}]
[null,"Installatie kenmerken"]
[null,null,"gem. Rendement","Input/Output",null,"n.a."]
[null,null,"TVT","jaar",null,3,null,"[a] - p43","gemiddelde return on investment bij elektrische apparaten"]
[null,null,"Technische levensduur","jaar",null,10]
[null,"Kosten"]
[null,null,"CAPEX","€/kWh",null,"n.a."]
[null,null,null,"€/totaal",null,{"$f":"F75*F53","v":159767.64012101787}]
[null,null,"Vaste OPEX","€/kWh/jaar",null,"n.a."]
[null,null,null,"€/HH/jaar",null,"n.a."]
[null,null,"Variable OPEX (brandstofkosten)","€/kWh",null,"n.a."]
[null,null,null,"€/totaal/jaar",null,"n.a."]
[null,null,"Totale jaarlijkse kost (aflossing CAPEX+OPEX+brandstofkost)","€/totaal/jaar",null,{"$f":"(-PMT(F81,F54,F57))","v":19697.9032239177}]
[]
[null,"Kenmerken referentiesituatie",null,null,null,null,null,null,null,null,"elektriciteits-vraag","Emissie-factoren"]
[null,"Gemiddelde emissiefactoren"]
[null,null,"Elektriciteit","ton CO2/MWh",null,{"$f":"IF($F$82=J67,L67,IF($F$82=J68,L68,L69))","v":0.17705584446860712},null,null,null,"Bron","MWh","EF_ELE"]
[null,"Installatie kenmerken",null,null,null,null,null,null,null,"BAU",{"$f":"BAU_TOTAAL!I14","v":58326.406977209241},{"$f":"BAU_TOTAAL!$Q$14","v":0.17705584446860712}]
[null,null,"n.a.",null,null,null,null,null,null,"INV",{"$f":"INV!D20","v":54306.759841999999},{"$f":"INV!D26","v":0.19750015989190264}]
[null,"Kosten",null,null,null,null,null,null,null,"EIG",{"$f":"EIG!D20","v":0},{"$f":"EIG!$D$26","v":0}]
[null,null,"CAPEX","€/kW",null,"n.a."]
[null,null,null,"€/HH",null,"n.a."]
[null,null,"Vaste Opex","€/kW/jaar",null,"n.a."]
[null,null,null,"€/totaal/jaar",null,"n.a."]
[null,null,"Variabele OPEX (Brandstofprijzen)","€/MWh",null,{"$f":"'AA_Energieprijs&Discontovoet'!F80","v":79.47655122914999}]
[null,null,null,"€/totaal/jaar",null,{"$f":"F74*F45","v":53255.880040339289}]
[null,null,"Totale jaarlijkse kost (aflossing CAPEX+OPEX+brandstofkost)","€/totaal/jaar",null,{"$f":"F75","v":53255.880040339289}]
[]
[null,"Algemene aannames"]
[null,"Graaddagen (15/15)"]
[null,null,"n.a."]
[null,"Discontovoet",null,"%",null,{"$f":"P_Discontovoet","v":0.04}]
[null,"Referentiesituatie",null,null,null,{"$f":"P_Maatregelen_Referentie","v":"BAU"},null,null,"Keuze via dashboard"]
[null,null,"jaar",null,null,{"$f":"P_Maatregelen_Jaar_Inventaris","v":2017}]
[null,"Andere"]
[]
[null,"Referenties"]
[null,"[a]","Sipma J.M., 2017. Het besparingspotentieel van Elektrische Aandrijfsystemen in de Nederlandse Industrie en dienstensector",null," ","https://publicaties.ecn.nl/PdfFetch.aspx?nr=ECN-E--17-021",null,null," "]
[null,null,null,null,null,null,null,null," "]

{"sheet":"MOB_MS_voet","index":53,"n_rows":86,"n_cols":17,"rows_kept":86,"cut":false,"hidden":false,"merged":[[20,1,20,7],[19,1,19,7],[5,1,5,7],[14,1,14,7],[16,1,16,7],[17,1,17,7],[18,1,18,7]]}
[null,"<< Naar Scenario's",null,null,null,null,null,null,null,null,"Berekeningen + verwijzing andere cel"]
[null,null,null,null,null,null,null,null,null,null,"Verwijzing andere tab (nulmeting/data)"]
[null,"Modal shift: personenwagen naar een actieve modi: te voet of per fiets",null,null,null,null,null,null,"Opmerkingen",null,"Overschrijfbaar: Vaste parameters uit externe bronnen, literatuur, rebus model"]
[null,null,null,"Transport",null,null,null,null,null,null,"Algemene aannames, overschrijfbaar vanuit centrale dashboard"]
[null,"Beschrijving van de maatregel"]
[null,"Maatregel: Korte afstanden te voet of per fiets  afleggen ipv met een personenwagen.\n\nVoor deze maatregel wordt geen onderscheid gemaakt tussen het nemen van een fiets of te voet. Gezien beide modi ongeveer op hetzelfde potentieel ingrijpen en het vanuit een klimaatperspectief niet uitmaakt welke van de twee je neemt."]
[null,"Relatie met andere maatregelen"]
[null,"nr maatregel",null,"maatregel"]
[null,"beschrijving (overlappend potentieel)"]
[null,"nr maatregel",null,"maatregel"]
[null,"beschrijving (overlappend potentieel)"]
[null,"nr maatregel",null,"maatregel"]
[null,"beschrijving (overlappend potentieel)"]
[null,"Betekenis lange termijn voor energie-/klimaattransitie"]
[null,"n.a."]
[null,"Aannames/onzekerheden/hypothesen"]
[null,"Aanname: Alle gedefinieerde kosten zijn bepaald vanuit een maatschappelijk standpunt (excl. taksen, subsidies, etc.) en zeggen niets over de kost vanuit een actor standpunt. De kosten dienen dus ook niet als dusdanig geïnterpreteerd te worden. De maatschappelijke kost wordt enkel gebruikt om een relatieve volgorde te kunnen opmaken om te bepalen welke maatregelen vanuit maatschappelijke standpunt goedkoper zijn dan andere."]
[null,"Aanname: voor de bepaling van het potentieel worden enkel de voertuigkilometers (verplaatsingen) geteld van licht vervoer op de genummerde en niet-genummerde wegen, dus exclusief de snelwegen. De impact van een gemeente verplaatsingen op de snelwegen die hun grondgebied doorkruisen is eerder beperkt."]
[null,"Aanname: Om het potentieel te bepalen, nemen we aan dat alle verplaatsingen met de personenwagen onder de 8 km in aanmerking komen om per fiets of te voet af te leggen. Dit komt neer op +/-15% van de  voertuigkms op genummerde en niet-genummerde wegen (exl. snelwegen). We houden hier dus geen rekening met wie of waarom deze verplaatsing gedaan wordt. Niet elke korte verplaatsing komt in aanmerking voor een modal shift naar een actieve modi (bvb immobiele mensen, grote inkopen in buurtwinkels, etc.) Dit potentieel dient dus als absolute bovengrens gelezen te worden."]
[null,"Aanname: Deze maatregel ondersteunt een modal shift van personenwagen naar een actieve modi (te voet of fiets) voor korte afstanden (<8km) . Binnen deze maatregel wordt dus verondersteld dat het gedrag voor lange afstanden onveranderd blijft waardoor CAPEX en vaste OPEX kosten hetzelfde zijn  (of de personenwagen wordt behouden voor verplaatsingen over lange afstand) als voor de referentiesituatie. "]
[null,"Aanname: Er wordt verondersteld dat er geen bijkomende investeringskosten zijn bij een modal shift naar fietsgebruik, of we veronderstellen dat voor korte afstanden voertuiggebruikers reeds in het bezit zijn van een fiets [g] - p227. Omgekeerd veronderstellen we ook geen minderkost (CAPEX) voor langere afstanden gezien de wagen niet vervangen wordt door vkm per fiets of te voet. Vanuit maatschappelijk standpunt worden enkel de brandstofbesparingen doorgerekend."]
[]
[null,"Berekeningen"]
[null,"Resultaat",null,null,null,"Scenario1","Scenario2"]
[null,"totale besparing",null,"MWh",null,{"$f":"F50/1000","v":7030.9566575996687},{"$f":"G50/1000","v":35154.78328799834}]
[null,"totale CO2 reductie",null,"ton CO2",null,{"$f":"F49*$F$64/1000000","v":1772.4013915194855},{"$f":"G49*($F$64-$F$56)/1000000","v":8862.0069575974267}]
[null,"Maatschappelijke kost per ton CO2 reductie",null,"€/ton CO2",null,{"$f":"(F49*(0-$F$70))/F26","v":-508.26984277671426}]
[]
[null,"Potentieel maatregel",null,"Eenheid","Jaar","Waarde",null,"Bron"]
[]
[null,"Activiteitsmeter: voertuigkilometers",null,"#vkm",null,{"$f":"IF(F75=L55,L60,IF(F75=N55,N60,P60))","v":514401909.251755}]
[]
[null,"Bijkomend potentieel"]
[null,null,null,"% (aandeel vkm exl snelwegen)",null,{"$f":"IF(F75=L55,SUM(M57:M58),IF(F75=N55,SUM(O57:O58),SUM(Q57:Q58)))","v":1},null,null,"verondersteld dat modal shift naar te voet/fiets enkel  voor lichte voertuigen GN en nGW kan."]
[null,null,null,"% van #trips <8km",null,0.15,null,"[f]"]
[null,null,null,"% van #vkm die in aanmerking komen",null,{"$f":"F34*F35","v":0.15}]
[null,null,null,"#vkm",null,{"$f":"F31*F36","v":77160286.387763247}]
[null,null,null,"% van potentieel reeds vervuld",null,0]
[null,null,"Bijkomend potentieel","#vkm",null,{"$f":"F37*(1-F38)","v":77160286.387763247}]
[]
[null,"Implementatiegraad maatregel",null,null,null,"Min.","Max"]
[null,null,{"$f":"dropdowns!$R$4","v":"Niet"},null,null,1.0000000000000001E-17]
[null,null,{"$f":"dropdowns!$R$5","v":"Laag"},null,null,0,0.3,null,"aanpassen obv gemeente specifieke eigenschappen"]
[null,null,{"$f":"dropdowns!$R$6","v":"Medium"},null,null,0.3,0.6,null,"aanpassen obv gemeente specifieke eigenschappen"]
[null,null,{"$f":"dropdowns!$R$7","v":"Hoog"},null,null,0.6,0.9,null,"aanpassen obv gemeente specifieke eigenschappen"]
[]
[null,"Bijkomende implementatie",null,null,null,"Scenario1","Scenario2"]
[null,"Bijkomende invulling van potentieel",null,"% van de vkm(2030)",null,{"$f":"IF('Scenario''s'!I28=C42,F42,IF('Scenario''s'!I28=C43,AVERAGE(F43,G43),IF('Scenario''s'!I28=C44,AVERAGE(F44,G44),AVERAGE(F45,G45))))","v":0.15},{"$f":"IF('Scenario''s'!M28=C42,F42,IF('Scenario''s'!M28=C43,AVERAGE(F43,G43),IF('Scenario''s'!M28=C44,AVERAGE(F44,G44),AVERAGE(F45,G45))))","v":0.75},null,"Keuze via scenario's"]
[null,"Bijkomende invulling van potentieel",null,"#vkm",null,{"$f":"$F$39*F48","v":11574042.958164487},{"$f":"$F$39*G48","v":57870214.790822431}]
[null,null,null,"#kWh",null,{"$f":"F49*F66/(3.6*10^-9)","v":7030956.6575996689},{"$f":"G49*F66/(3.6*10^-9)","v":35154783.287998341}]
[]
[null,"Parameters"]
[null,"Kenmerken maatregel",null,"Eenheid","Jaar","Waarde",null,"Bron"]
[null,"Gemiddelde emissiefactoren",null,"n.a."]
[null,null,null,null,null,null,null,null,null,null,null,"BAU",null,"INV",null,"EIG"]
[null,"Installatie kenmerken",null,"n.a.",null,null,null,null,null,"Type weg","Eenheid","#km","%","#km","%","#km","%"]
[null,null,null,null,null,null,null,null,null,"Genummerde wegen","#km",{"$f":"BAU_MOB!K46","v":403362385.41707432},{"$f":"L57/$L$60","v":0.78413858534040459},{"$f":"tbl_AA_MOB_vkm_REF[LV_GENUM]","v":386456377},{"$f":"N57/$N$60","v":0.52931094289343472},{"$f":"EIG!E49","v":0},{"$f":"P57/$P$60","v":{"$error":"#DIV/0!"}}]
[null,"Kosten",null,"n.a.",null,null,null,null,null,"Niet-genummerde wegen","#km",{"$f":"BAU_MOB!K48","v":111039523.83468068},{"$f":"L58/$L$60","v":0.21586141465959546},{"$f":"tbl_AA_MOB_vkm_REF[LV_NIETGENUM]","v":107510524},{"$f":"N58/$N$60","v":0.14725205797136384},{"$f":"EIG!E51","v":0},{"$f":"P58/$P$60","v":{"$error":"#DIV/0!"}}]
[null,null,null,null,null,null,null,null,null,"Snelwegen","#km",{"$f":"BAU_MOB!K50","v":0},{"$f":"L59/$L$60","v":0},{"$f":"tbl_AA_MOB_vkm_REF[LV_SNEL]","v":236145299},{"$f":"N59/$N$60","v":0.32343699913520141},{"$f":"EIG!E53","v":0},{"$f":"P59/$P$60","v":{"$error":"#DIV/0!"}}]
[null,null,null,null,null,null,null,null,null,"TOTAAL","#km",{"$f":"SUM(L57:L59)","v":514401909.251755},null,{"$f":"SUM(N57:N59)","v":730112200},null,{"$f":"SUM(P57:P59)","v":0}]
[null,"Kenmerken referentiesituatie",null,null,null,null,null,null,null,"gem. ECF"," PJ/vkm",{"$f":"M57*$P$68+M58*$P$69+M59*$P$70","v":2.1869146381130176E-9},null,{"$f":"O57*$P$68+O58*$P$69+O59*$P$70","v":2.1653403748170942E-9},null,{"$f":"Q57*$P$68+Q58*$P$69+Q59*$P$70","v":{"$error":"#DIV/0!"}}]
[null,"Gemiddelde emissiefactoren"]
[null,null,"nieuwe voertuigen","ton CO2/MWh",null,{"$f":"P67","v":0.2520853815253889}]
[null,null,"nieuwe voertuigen","gr CO2/vkm",null,{"$f":"F63/3600*F66*10^15","v":153.13589192004937}]
[null,"Installatie kenmerken",null,null,null,null,null,null,null," ",null,"Eenheid","benzine","diesel","elektrisch"]
[null,null,"Gem. EnergieConsumptieFactor (ECF)"," PJ/vkm",null,{"$f":"IF(F75=L55,L61,IF(F75=N55,N61,P61))","v":2.1869146381130176E-9},null,null,null,"Verhouding type brandstof",null,"%",{"$f":"IF(F75=P55,EIG!L63+EIG!M63,BAU_MOB!O58+BAU_MOB!P58)","v":0.57941876994142461},{"$f":"IF(F75=P55,EIG!E63+EIG!F63,BAU_MOB!H58+BAU_MOB!I58)","v":0.38934758394666463},{"$f":"IF(F75=P55,EIG!G63+EIG!I63+EIG!N63,BAU_MOB!J58+BAU_MOB!L58+BAU_MOB!Q58)","v":2.1768854384798936E-2}]
[null,"Kosten",null,null,null,null,null,null,null,"Emissiefactor",null,"ton CO2/MWh",{"$f":"'AA_Energieprijs&Discontovoet'!F102","v":0.249},{"$f":"'AA_Energieprijs&Discontovoet'!F101","v":0.26700000000000002},{"$f":"IF(F75=L55,BAU_ELE_EF_CO2_2030,IF(F75=N55,INV!D26,EIG!D26))","v":0.17705584446860712},{"$f":"M67*$M$66+N67*$N$66+O66*O67","v":0.2520853815253889}]
[null,null,"CAPEX","€/voertuig",null,0,null,"zie aanname",null,"ECF","Genummerde wegen"," PJ/vkm",{"$f":"SUMIFS(tbl_AA_ECF_Transport_2030[EnergieConsumptieFactor (PJ per km)],tbl_AA_ECF_Transport_2030[Index],\"Lichte voertuigen_genummerd_Petrol_Petrol\")","v":1.9439299899533289E-9},{"$f":"SUMIFS(tbl_AA_ECF_Transport_2030[EnergieConsumptieFactor (PJ per km)],tbl_AA_ECF_Transport_2030[Index],\"Lichte voertuigen_genummerd_Diesel_Diesel\")","v":2.0006644669440601E-9},{"$f":"SUMIFS(tbl_AA_ECF_Transport_2030[EnergieConsumptieFactor (PJ per km)],tbl_AA_ECF_Transport_2030[Index],\"Lichte voertuigen_genummerd_ELECTRIC_ELECTRIC\")","v":6.5824216087225193E-10},{"$f":"M68*$M$66+N68*$N$66+O68*$O$66","v":1.9196325778735786E-9}]
[null,null,"Vaste Opex","€/kW/jaar",null,0,null,"zie aanname",null,null,"Niet-genummerde wegen"," PJ/vkm",{"$f":"SUMIFS(tbl_AA_ECF_Transport_2030[EnergieConsumptieFactor (PJ per km)],tbl_AA_ECF_Transport_2030[Index],\"Lichte voertuigen_niet-genummerd_Petrol_Petrol\")","v":3.3968703390226745E-9},{"$f":"SUMIFS(tbl_AA_ECF_Transport_2030[EnergieConsumptieFactor (PJ per km)],tbl_AA_ECF_Transport_2030[Index],\"Lichte voertuigen_niet-genummerd_Diesel_Diesel\")","v":3.0186506750845655E-9},{"$f":"SUMIFS(tbl_AA_ECF_Transport_2030[EnergieConsumptieFactor (PJ per km)],tbl_AA_ECF_Transport_2030[Index],\"Lichte voertuigen_niet-genummerd_ELECTRIC_ELECTRIC\")","v":6.5824216087225131E-10},{"$f":"M69*$M$66+N69*$N$66+O69*$O$66","v":3.1578439583601353E-9}]
[null,null,"Variabele OPEX (Brandstofprijzen)","€/vkm",null,{"$f":"F66/(3.6*10^-9)*(M66*'AA_Energieprijs&Discontovoet'!F77+N66*'AA_Energieprijs&Discontovoet'!F76+O66*'AA_Energieprijs&Discontovoet'!F57)","v":7.783435570967541E-2},null,null,null,null,"Snelwegen"," PJ/vkm",{"$f":"SUMIFS(tbl_AA_ECF_Transport_2030[EnergieConsumptieFactor (PJ per km)],tbl_AA_ECF_Transport_2030[Index],\"Lichte voertuigen_snelweg_Petrol_Petrol\")","v":2.1181267068613306E-9},{"$f":"SUMIFS(tbl_AA_ECF_Transport_2030[EnergieConsumptieFactor (PJ per km)],tbl_AA_ECF_Transport_2030[Index],\"Lichte voertuigen_snelweg_Diesel_Diesel\")","v":2.2447155163004467E-9},{"$f":"SUMIFS(tbl_AA_ECF_Transport_2030[EnergieConsumptieFactor (PJ per km)],tbl_AA_ECF_Transport_2030[Index],\"Lichte voertuigen_snelweg_ELECTRIC_ELECTRIC\")","v":6.5824216087225244E-10},{"$f":"M70*$M$66+N70*$N$66+O70*$O$66","v":2.1155861117388052E-9}]
[]
[]
[null,"Algemene aannames"]
[null,"Discontovoet",null,"%",null,{"$f":"P_Discontovoet","v":0.04}]
[null,"Referentiesituatie",null,null,null,{"$f":"P_Maatregelen_Referentie","v":"BAU"},null,null,"Keuze via dashboard"]
[null,"Andere"]
[]
[]
[null,"Referenties"]
[null,"[a]","FOD Mobiliteit (Vlaanderen 2016)",null,null,null,null,null," "]
[null,"[b]","Mobiliteitsscenario's - Ronde 2 (uitgevoerd augustus 2017 i.o.v. Departement Omgeving), assumptie verbruik voor BEV in 2030: \n18 kWh/100km voor personenwagens, 25 kWh/100km voor bestelwagens",null,null,null,null,null," "]
[null,"[c]","Mobiliteitsscenario's - Ronde 2 (uitgevoerd augustus 2017 i.o.v. Departement Omgeving), energieconsumptie enkel nieuwe, conventionele benzine+diesel voertuigen in 2030 in S0 - REF-scenario\nMix in aantallen (vkm) voor personenwagens: 52% (71%) diesel + 48% (29%) benzine; voor bestelwagens: 96% (98%) diesel + 4% (2%) benzine",null,null,null,null,null," "]
[null,"[d]","Element Energy (2016). Low carbon cars in the 2020s: Consumer impacts and EU policy implications.",null,null,"https://www.beuc.eu/publications/beuc-x-2016-121_low_carbon_cars_in_the_2020s-report.pdf",null,null," "]
[null,"[e]","Mobiliteitsscenario's - Ronde 2 (uitgevoerd augustus 2017 i.o.v. Departement Omgeving), S0 - REF-scenario",null,null,null,null,null," "]
[null,"[f]","Beckx, C., 2013. Limits to active transport substitution of short car trips",null,null,"https://doi.org/10.1016/j.trd.2013.03.001"]
[null,"[g]",null,null,null,"www.gemeente-en-stadsmonitor.vlaanderen.be/sites/gemeente-en-stadsmonitor/files/stadsmonitor_pub_h5_mobiliteit.pdf",null,null," "]

{"sheet":"MOB_MS_EFiets","index":54,"n_rows":95,"n_cols":17,"rows_kept":95,"cut":false,"hidden":false,"merged":[[20,1,20,7],[21,1,21,7],[5,1,5,7],[14,1,14,7],[16,1,16,7],[17,1,17,7],[18,1,18,7],[19,1,19,7]]}
[null,"<< Naar Scenario's",null,null,null,null,null,null,null,null,"Berekeningen + verwijzing andere cel"]
[null,null,null,null,null,null,null,null,null,null,"Verwijzing andere tab (nulmeting/data)"]
[null,"Modal shift: personenwagen naar een elektrische fiets",null,null,null,null,null,null,"Opmerkingen",null,"Overschrijfbaar: Vaste parameters uit externe bronnen, literatuur, rebus model"]
[null,null,null,"Transport",null,null,null,null,null,null,"Algemene aannames, overschrijfbaar vanuit centrale dashboard"]
[null,"Beschrijving van de maatregel"]
[null,"Maatregel: Korte tot middellange afstanden afleggen met een elektrische fiets ipv met een personenwagen.\n"]
[null,"Relatie met andere maatregelen"]
[null,"nr maatregel",null,"maatregel"]
[null,"beschrijving (overlappend potentieel)"]
[null,"nr maatregel",null,"maatregel"]
[null,"beschrijving (overlappend potentieel)"]
[null,"nr maatregel",null,"maatregel"]
[null,"beschrijving (overlappend potentieel)"]
[null,"Betekenis lange termijn voor energie-/klimaattransitie"]
[null,"n.a."]
[null,"Aannames/onzekerheden/hypothesen"]
[null,"Aanname: Alle gedefinieerde kosten zijn bepaald vanuit een maatschappelijk standpunt (excl. taksen, subsidies, etc.) en zeggen niets over de kost vanuit een actor standpunt. De kosten dienen dus ook niet als dusdanig geïnterpreteerd te worden. De maatschappelijke kost wordt enkel gebruikt om een relatieve volgorde te kunnen opmaken om te bepalen welke maatregelen vanuit maatschappelijke standpunt goedkoper zijn dan andere."]
[null,"Aanname: voor de bepaling van het potentieel worden enkel de voertuigkilometers (verplaatsingen) geteld van licht vervoer op de genummerde en niet-genummerde wegen, dus exclusief de snelwegen. De impact van een gemeente op verplaatsingen op de snelwegen die hun grondgebied doorkruisen is eerder beperkt. Bovendien gaat het dan meestal over verplaatsingen over lange afstand die niet in aanmerking komen voor shift naar elektrische fiets."]
[null,"Aanname: Om het potentieel te bepalen, nemen we aan dat alle verplaatsingen tussen de 8 km en 16 km in aanmerking komen om met de elektrische fiets af te leggen. Dit komt neer op +/-12,5% van de  voertuigkms op genummerde en niet-genummerde wegen (excl. snelwegen). We houden hier dus geen rekening met wie of waarom deze trip afgelegd wordt. Niet elke  verplaatsing komt in aanmerking voor een modal shift naar een elektrische fiets (bvb immobiele mensen, grote inkopen in buurtwinkels, etc.) Dit potentieel dient dus als absolute bovengrens gelezen te worden."]
[null,"Aanname: Op basis van een studie uit 2013 wordt aangenomen dat een elektrische fiets gebruikt wordt voor gemiddeld 31 km per week [a]."]
[null,"Aanname: Bij deze maatregel wordt verondersteld een modal shift van personenwagens naar een elektrische fietsen te ondersteunen voor middellange afstanden (tss 8km - 16km) . Binnen deze maatregel wordt dus verondersteld dat het gedrag voor lange afstanden onveranderd blijft waardoor CAPEX en vaste OPEX kosten hetzelfde zijn  (of de personenwagen wordt behouden voor verplaatsingen over lange afstand) als voor de referentiesituatie. "]
[null,"Aanname: Er wordt verondersteld dat er geen minder investeringskosten zijn bij een modal shift naar elektrische fietsgebruik, gezien voor langere afstanden de wagen niet vervangen wordt door vkm per elektrische fiets. De besparing t.o.v. de referentiesituatie worden doorgerekend o.b.v. de brandstofbesparingen."]
[]
[null,"Berekeningen"]
[null,"Resultaat",null,null,null,"Scenario1","Scenario2"]
[null,"totale besparing",null,"MWh",null,{"$f":"F52/1000","v":5859.1305479997236},{"$f":"G52/1000","v":29295.652739998619}]
[null,"totale CO2 reductie",null,"ton CO2",null,{"$f":"F50*$F$75/1000000","v":1477.0011595995713},{"$f":"G50*($F$75-$F$58)/1000000","v":7385.0057979978565}]
[null,"Maatschappelijke kost per ton CO2 reductie",null,"€/ton CO2",null,{"$f":"(F70-F84)/F27","v":1130.3314479502076}]
[]
[null,"Potentieel maatregel",null,"Eenheid","Jaar","Waarde",null,"Bron"]
[]
[null,"Activiteitsmeter: voertuigkilometers",null,"#vkm",null,{"$f":"IF(F88=L57,L62,IF(F88=N57,N62,P62))","v":514401909.251755}]
[]
[null,"Bijkomend potentieel"]
[null,null,null,"% (aandeel vkm exl snelwegen)",null,{"$f":"IF(F88=L57,SUM(M59:M60),IF(F88=N57,SUM(O59:O60),SUM(Q59:Q60)))","v":1}]
[null,null,null,"% van vkm tss 8 - 16km",null,{"$f":"12.5%","v":0.125},null,"[b]"]
[null,null,null,"% van #vkm die in aanmerking komen",null,{"$f":"F35*F36","v":0.125}]
[null,null,null,"#vkm",null,{"$f":"F32*F37","v":64300238.656469375}]
[null,null,null,"% van potentieel reeds vervuld",null,0]
[null,null,"Bijkomend potentieel","#vkm",null,{"$f":"F38*(1-F39)","v":64300238.656469375}]
[]
[null,"Implementatiegraad maatregel",null,null,null,"Min.","Max"]
[null,null,{"$f":"dropdowns!$R$4","v":"Niet"},null,null,1.0000000000000001E-17]
[null,null,{"$f":"dropdowns!$R$5","v":"Laag"},null,null,0,0.3,null,"aanpassen obv gemeente specifieke eigenschappen"]
[null,null,{"$f":"dropdowns!$R$6","v":"Medium"},null,null,0.3,0.6,null,"aanpassen obv gemeente specifieke eigenschappen"]
[null,null,{"$f":"dropdowns!$R$7","v":"Hoog"},null,null,0.6,0.9,null,"aanpassen obv gemeente specifieke eigenschappen"]
[]
[null,"Bijkomende implementatie",null,null,null,"Scenario1","Scenario2"]
[null,"Bijkomende invulling van potentieel",null,"% van de vkm(2030)",null,{"$f":"IF('Scenario''s'!I29=C43,F43,IF('Scenario''s'!I29=C44,AVERAGE(F44,G44),IF('Scenario''s'!I29=C45,AVERAGE(F45,G45),AVERAGE(F46,G46))))","v":0.15},{"$f":"IF('Scenario''s'!M29=C43,F43,IF('Scenario''s'!M29=C44,AVERAGE(F44,G44),IF('Scenario''s'!M29=C45,AVERAGE(F45,G45),AVERAGE(F46,G46))))","v":0.75},null,"Keuze via scenario's"]
[null,"Bijkomende invulling van potentieel",null,"#vkm",null,{"$f":"$F$40*F49","v":9645035.7984704059},{"$f":"$F$40*G49","v":48225178.992352031}]
[null,null,null,"eq.#Efiets",null,{"$f":"F50/F59","v":5983.2728278352397},{"$f":"G50/F59","v":29916.364139176199}]
[null,null,null,"#kWh",null,{"$f":"F50*F77/(3.6*10^-9)","v":5859130.5479997238},{"$f":"G50*F77/(3.6*10^-9)","v":29295652.73999862}]
[]
[null,"Parameters"]
[null,"Kenmerken maatregel",null,"Eenheid","Jaar","Waarde",null,"Bron"]
[null,"Gemiddelde emissiefactoren"]
[null,null,null,"n.a.",null,null,null,null,null,null,null,"BAU",null,"INV",null,"EIG"]
[null,"Installatie kenmerken",null,null,null,null,null,null,null,"Type weg","Eenheid","#km","%","#km","%","#km","%"]
[null,null,"gem. km afgelegd per Efiets per jaar","vkm/Efiets/jaar",null,{"$f":"31*52","v":1612},null,"[a]",null,"Genummerde wegen","#km",{"$f":"BAU_MOB!K46","v":403362385.41707432},{"$f":"L59/$L$62","v":0.78413858534040459},{"$f":"tbl_AA_MOB_vkm_REF[LV_GENUM]","v":386456377},{"$f":"N59/$N$62","v":0.52931094289343472},{"$f":"EIG!E49","v":0},{"$f":"P59/$P$62","v":{"$error":"#DIV/0!"}}]
[null,null,"Technische levensduur Efiets","jaar",null,10,null,null,null,"Niet-genummerde wegen","#km",{"$f":"BAU_MOB!K48","v":111039523.83468068},{"$f":"L60/$L$62","v":0.21586141465959546},{"$f":"tbl_AA_MOB_vkm_REF[LV_NIETGENUM]","v":107510524},{"$f":"N60/$N$62","v":0.14725205797136384},{"$f":"EIG!E51","v":0},{"$f":"P60/$P$62","v":{"$error":"#DIV/0!"}}]
[null,null,null,null,null,null,null,null,null,"Snelwegen","#km",{"$f":"BAU_MOB!K50","v":0},{"$f":"L61/$L$62","v":0},{"$f":"tbl_AA_MOB_vkm_REF[LV_SNEL]","v":236145299},{"$f":"N61/$N$62","v":0.32343699913520141},{"$f":"EIG!E53","v":0},{"$f":"P61/$P$62","v":{"$error":"#DIV/0!"}}]
[null,"Kosten",null,null,null,null,null,null,null,"TOTAAL","#km",{"$f":"SUM(L59:L61)","v":514401909.251755},null,{"$f":"SUM(N59:N61)","v":730112200},null,{"$f":"SUM(P59:P61)","v":0}]
[null,null,"CAPEX","€/Efiets",null,2050,null,"[c]",null,"gem. ECF"," PJ/vkm",{"$f":"M59*$P$70+M60*$P$71+M61*$P$72","v":2.1869146381130176E-9},null,{"$f":"O59*$P$70+O60*$P$71+O61*$P$72","v":2.1653403748170942E-9},null,{"$f":"Q59*$P$70+Q60*$P$71+Q61*$P$72","v":{"$error":"#DIV/0!"}}]
[null,null,null,"€/ totaal (exl. Taks, premies, etc.)",null,{"$f":"F63*F51","v":12265709.297062241}]
[null,null,"Vaste OPEX","€/Efiets/jaar",null,150]
[null,null,null,"€/totaal/jaar",null,{"$f":"F65*F51","v":897490.92417528597}]
[null,null,"Variabele OPEX (Brandstofprijzen)","€/oplaad per fiets/jaar",null,{"$f":"0.4*'AA_Energieprijs&Discontovoet'!F57*F59/50","v":1.7505804160000003},null,null,null," ",null,"Eenheid","benzine","diesel","elektrisch"]
[null,null,null,"€/totaal/jaar",null,{"$f":"F67*F51","v":10474.200235993312},null,null,null,"Verhouding type brandstof",null,"%",{"$f":"IF(F88=P57,EIG!L63+EIG!M63,BAU_MOB!O58+BAU_MOB!P58)","v":0.57941876994142461},{"$f":"IF(F88=P57,EIG!E63+EIG!F63,BAU_MOB!H58+BAU_MOB!I58)","v":0.38934758394666463},{"$f":"IF(F88=P57,EIG!G63+EIG!I63+EIG!N63,BAU_MOB!J58+BAU_MOB!L58+BAU_MOB!Q58)","v":2.1768854384798936E-2}]
[null,null,null,null,null,null,null,null,null,"Emissiefactor",null,"ton CO2/MWh",{"$f":"'AA_Energieprijs&Discontovoet'!F102","v":0.249},{"$f":"'AA_Energieprijs&Discontovoet'!F101","v":0.26700000000000002},{"$f":"IF(F88=L57,BAU_ELE_EF_CO2_2030,IF(F88=N57,INV!D26,EIG!D26))","v":0.17705584446860712},{"$f":"M69*$M$68+N69*$N$68+O69*$O$68","v":0.2520853815253889}]
[null,null,"Totale jaarlijkse kost (aflossing CAPEX+OPEX+brandstofkost)","€/totaal/jaar",null,{"$f":"-PMT(F87,F60,F64)+F66+F68","v":2420216.0065250178},null,null,null,"ECF","Genummerde wegen"," PJ/vkm",{"$f":"SUMIFS(tbl_AA_ECF_Transport_2030[EnergieConsumptieFactor (PJ per km)],tbl_AA_ECF_Transport_2030[Index],\"Lichte voertuigen_genummerd_Petrol_Petrol\")","v":1.9439299899533289E-9},{"$f":"SUMIFS(tbl_AA_ECF_Transport_2030[EnergieConsumptieFactor (PJ per km)],tbl_AA_ECF_Transport_2030[Index],\"Lichte voertuigen_genummerd_Diesel_Diesel\")","v":2.0006644669440601E-9},{"$f":"SUMIFS(tbl_AA_ECF_Transport_2030[EnergieConsumptieFactor (PJ per km)],tbl_AA_ECF_Transport_2030[Index],\"Lichte voertuigen_genummerd_ELECTRIC_ELECTRIC\")","v":6.5824216087225193E-10},{"$f":"M70*$M$68+N70*$N$68+O70*$O$68","v":1.9196325778735786E-9}]
[null,null,null,null,null,null,null,null,null,null,"Niet-genummerde wegen"," PJ/vkm",{"$f":"SUMIFS(tbl_AA_ECF_Transport_2030[EnergieConsumptieFactor (PJ per km)],tbl_AA_ECF_Transport_2030[Index],\"Lichte voertuigen_niet-genummerd_Petrol_Petrol\")","v":3.3968703390226745E-9},{"$f":"SUMIFS(tbl_AA_ECF_Transport_2030[EnergieConsumptieFactor (PJ per km)],tbl_AA_ECF_Transport_2030[Index],\"Lichte voertuigen_niet-genummerd_Diesel_Diesel\")","v":3.0186506750845655E-9},{"$f":"SUMIFS(tbl_AA_ECF_Transport_2030[EnergieConsumptieFactor (PJ per km)],tbl_AA_ECF_Transport_2030[Index],\"Lichte voertuigen_niet-genummerd_ELECTRIC_ELECTRIC\")","v":6.5824216087225131E-10},{"$f":"M71*$M$68+N71*$N$68+O71*$O$68","v":3.1578439583601353E-9}]
[null,"Kenmerken referentiesituatie",null,null,null,null,null,null,null,null,"Snelwegen"," PJ/vkm",{"$f":"SUMIFS(tbl_AA_ECF_Transport_2030[EnergieConsumptieFactor (PJ per km)],tbl_AA_ECF_Transport_2030[Index],\"Lichte voertuigen_snelweg_Petrol_Petrol\")","v":2.1181267068613306E-9},{"$f":"SUMIFS(tbl_AA_ECF_Transport_2030[EnergieConsumptieFactor (PJ per km)],tbl_AA_ECF_Transport_2030[Index],\"Lichte voertuigen_snelweg_Diesel_Diesel\")","v":2.2447155163004467E-9},{"$f":"SUMIFS(tbl_AA_ECF_Transport_2030[EnergieConsumptieFactor (PJ per km)],tbl_AA_ECF_Transport_2030[Index],\"Lichte voertuigen_snelweg_ELECTRIC_ELECTRIC\")","v":6.5824216087225244E-10},{"$f":"M72*$M$68+N72*$N$68+O72*$O$68","v":2.1155861117388052E-9}]
[null,"Gemiddelde emissiefactoren"]
[null,null,"nieuwe voertuigen","ton CO2/MWh",null,{"$f":"P69","v":0.2520853815253889}]
[null,null,"nieuwe voertuigen","gr CO2/vkm",null,{"$f":"F74/3600*F77*10^15","v":153.13589192004937}]
[null,"Installatie kenmerken"]
[null,null,"Gem. EnergieConsumptieFactor (ECF)"," PJ/vkm",null,{"$f":"IF(F88=L57,L63,IF(F88=N57,N63,P63))","v":2.1869146381130176E-9}]
[null,"Kosten"]
[null,null,"CAPEX","€/transportmiddel",null,0,null,"zie aanname"]
[null,null,"Vaste Opex","€/kW/jaar",null,0,null,"zie aanname"]
[null,null,"Variabele OPEX (Brandstofprijzen)","€/vkm",null,{"$f":"F77/(3.6*10^-9)*(M68*'AA_Energieprijs&Discontovoet'!F77+N68*'AA_Energieprijs&Discontovoet'!F76+O68*'AA_Energieprijs&Discontovoet'!F57)","v":7.783435570967541E-2}]
[null,null,null,"Variabele OPEX (Brandstofprijzen)",null,{"$f":"F81*F50","v":750715.14717069874}]
[]
[null,null,"Totale jaarlijkse kost",null,null,{"$f":"F82","v":750715.14717069874}]
[]
[null,"Algemene aannames"]
[null,"Discontovoet",null,"%",null,{"$f":"P_Discontovoet","v":0.04}]
[null,"Referentiesituatie",null,null,null,{"$f":"P_Maatregelen_Referentie","v":"BAU"},null,null,"Keuze via dashboard"]
[null,"Andere"]
[]
[]
[null,"Referenties"]
[null,"[a]","https://www.elektrischefietsen.com/2013/16082/",null,null,null,null,null," "]
[null,"[b]","Beckx, C., 2013. Limits to active transport substitution of short car trips",null,null,"https://doi.org/10.1016/j.trd.2013.03.001",null,null," "]
[null,"[c]","Bikeform Project"]

{"sheet":"MOB_MS_OV","index":55,"n_rows":91,"n_cols":17,"rows_kept":91,"cut":false,"hidden":false,"merged":[[21,1,21,7],[20,1,20,7],[19,1,19,7],[5,1,5,7],[14,1,14,7],[16,1,16,7],[17,1,17,7],[18,1,18,7]]}
[null,"<< Naar Scenario's",null,null,null,null,null,null,null,null,"Berekeningen + verwijzing andere cel"]
[null,null,null,null,null,null,null,null,null,null,"Verwijzing andere tab (nulmeting/data)"]
[null,"Modal shift: personenwagen naar openbaar vervoer modi",null,null,null,null,null,null,"Opmerkingen",null,"Overschrijfbaar: Vaste parameters uit externe bronnen, literatuur, rebus model"]
[null,null,null,"Transport",null,null,null,null,null,null,"Algemene aannames, overschrijfbaar vanuit centrale dashboard"]
[null,"Beschrijving van de maatregel"]
[null,"Maatregel: Korte tot middellange afstanden afleggen met een openbaar transport modi (tram, bus) ipv met een personenwagen.\n"]
[null,"Relatie met andere maatregelen"]
[null,"nr maatregel",null,"maatregel"]
[null,"beschrijving (overlappend potentieel)"]
[null,"nr maatregel",null,"maatregel"]
[null,"beschrijving (overlappend potentieel)"]
[null,"nr maatregel",null,"maatregel"]
[null,"beschrijving (overlappend potentieel)"]
[null,"Betekenis lange termijn voor energie-/klimaattransitie"]
[null,"n.a."]
[null,"Aannames/onzekerheden/hypothesen"]
[null,"Aanname: Alle gedefinieerde kosten zijn bepaald vanuit een maatschappelijk standpunt (excl. taksen, subsidies, etc.) en zeggen niets over de kost vanuit een actor standpunt. De kosten dienen dus ook niet als dusdanig geïnterpreteerd te worden. De maatschappelijke kost wordt enkel gebruikt om een relatieve volgorde te kunnen opmaken om te bepalen welke maatregelen vanuit maatschappelijke standpunt goedkoper zijn dan andere."]
[null,"Aanname: voor de bepaling van het potentieel worden enkel de voertuigkilometers geteld van de genummerde en niet-genummerde wegen, dus exclusief de snelwegen. De impact van een gemeente op de voertuigtypes op de snelwegen die hun grondgebied doorkruisen is eerder beperkt."]
[null,"Aanname: Om het potentieel te bepalen, nemen we aan dat alle trips tussen 16km en 32 km in aanmerking komen om met tram of bus af te leggen. Dit komt neer op +/-19% van de voertuigkms op lokale wegen (exl. snelwegen). We houden hier dus geen rekening met wie of waarom deze trip afgelegd wordt. Niet elke  trip komt in aanmerking voor een modal shift naar openbaar vervoer (bvb immobiele mensen, grote inkopen in buurtwinkels, etc.). Dit potentieel dient dus als absolute bovengrens gelezen te worden. Om een overlap van het potentieel te vermijden in mobiliteitsmaatregelen worden de korte afstanden niet verondersteld om in aanmerking te komen als modal shift naar openbaar transport. De korte afstanden worden enkel verondersteld als shift naar een actieve modi of Efiets."]
[null,"Aanname: we definiëren openbaar vervoer enkel als bus en tram (excl. trein)."]
[null,"Aanname: we veronderstellen dat een shift naar openbaar transport kan opgevangen worden binnen de huidige capaciteit en dus geen effect heeft op de CO2-uitstoot in de openbare transport sector."]
[null,"Aanname: we veronderstellen dat bij een shift naar openbaar vervoer, dit een vermindering geeft van het aantal voertuigkilometers gereden door een wagen, zonder dat het aantal wagens afneemt. De wagen wordt in deze maatregel nog steeds gebruikt voor langere afstanden. Dit zorgt ervoor dat de kosten (CAPEX en OPEX) voor een wagen nog steeds gemaakt worden (en we dus een ongunstige maatschappelijke kost zullen krijgen)."]
[]
[null,"Berekeningen"]
[null,"Resultaat",null,null,null,"Scenario1","Scenario2"]
[null,"totale besparing",null,"MWh",null,{"$f":"F51/1000","v":8905.8784329595801},{"$f":"G51/1000","v":44529.392164797893}]
[null,"totale CO2 reductie",null,"ton CO2",null,{"$f":"F50*$F$71/1000000","v":2245.0417625913483},{"$f":"G50*($F$71-$F$57)/1000000","v":11225.208812956742}]
[null,"Maatschappelijke kost per ton CO2 reductie",null,"€/ton CO2",null,{"$f":"(F66-F80)/F27","v":1646.678914581159}]
[]
[null,"Potentieel maatregel",null,"Eenheid","Jaar","Waarde",null,"Bron"]
[]
[null,"Activiteitsmeter: voertuigkilometers",null,"#vkm",null,{"$f":"IF(F84=L56,L61,IF(F84=N56,N61,P61))","v":514401909.251755}]
[]
[null,"Bijkomend potentieel"]
[null,null,null,"% (aandeel vkm exl snelwegen)",null,{"$f":"IF(F84=L56,SUM(M58:M59),IF(F84=N56,SUM(O58:O59),SUM(Q58:Q59)))","v":1}]
[null,null,null,"% van vkm  16-32km",null,0.19,null,"[b]","enkel Middellange afstand (tot 32 km),"]
[null,null,null,"% van #vkm die in aanmerking komen",null,{"$f":"F35*F36","v":0.19}]
[null,null,null,"#vkm",null,{"$f":"F32*F37","v":97736362.757833451}]
[null,null,null,"% van potentieel reeds vervuld",null,0,null,null,"aparte bus en tram vkm"]
[null,null,"Bijkomend potentieel","#vkm",null,{"$f":"F38*(1-F39)","v":97736362.757833451}]
[]
[null,"Implementatiegraad maatregel",null,null,null,"Min.","Max"]
[null,null,{"$f":"dropdowns!$R$4","v":"Niet"},null,null,1.0000000000000001E-17]
[null,null,{"$f":"dropdowns!$R$5","v":"Laag"},null,null,0,0.3,null,"aanpassen obv gemeente specifieke eigenschappen"]
[null,null,{"$f":"dropdowns!$R$6","v":"Medium"},null,null,0.3,0.6,null,"aanpassen obv gemeente specifieke eigenschappen"]
[null,null,{"$f":"dropdowns!$R$7","v":"Hoog"},null,null,0.6,0.9,null,"aanpassen obv gemeente specifieke eigenschappen"]
[]
[null,"Bijkomende implementatie",null,null,null,"Scenario1","Scenario2"]
[null,"Bijkomende invulling van potentieel",null,"% van de vkm(2030)",null,{"$f":"IF('Scenario''s'!I30=C43,F43,IF('Scenario''s'!I30=C44,AVERAGE(F44,G44),IF('Scenario''s'!I30=C45,AVERAGE(F45,G45),AVERAGE(F46,G46))))","v":0.15},{"$f":"IF('Scenario''s'!M30=C43,F43,IF('Scenario''s'!M30=C44,AVERAGE(F44,G44),IF('Scenario''s'!M30=C45,AVERAGE(F45,G45),AVERAGE(F46,G46))))","v":0.75},null,"Keuze via scenario's"]
[null,"Bijkomende invulling van potentieel",null,"#vkm",null,{"$f":"$F$40*F49","v":14660454.413675018},{"$f":"$F$40*G49","v":73302272.068375081}]
[null,null,null,"#kWh",null,{"$f":"F50*F73/(3.6*10^-9)","v":8905878.4329595808},{"$f":"G50*F73/(3.6*10^-9)","v":44529392.164797895}]
[]
[null,"Parameters"]
[null,"Kenmerken maatregel",null,"Eenheid","Jaar","Waarde",null,"Bron"]
[null,"Gemiddelde emissiefactoren",null,"n.a."]
[null,null,null,null,null,null,null,null,null,null,null,"BAU",null,"INV",null,"EIG"]
[null,"Installatie kenmerken",null,"n.a.",null,null,null,null,null,"Type weg","Eenheid","#km","%","#km","%","#km","%"]
[null,null,null,null,null,null,null,null,null,"Genummerde wegen","#km",{"$f":"BAU_MOB!K46","v":403362385.41707432},{"$f":"L58/$L$61","v":0.78413858534040459},{"$f":"tbl_AA_MOB_vkm_REF[LV_GENUM]","v":386456377},{"$f":"N58/$N$61","v":0.52931094289343472},{"$f":"EIG!E49","v":0},{"$f":"P58/$P$61","v":{"$error":"#DIV/0!"}}]
[null,null,null,null,null,null,null,null,null,"Niet-genummerde wegen","#km",{"$f":"BAU_MOB!K48","v":111039523.83468068},{"$f":"L59/$L$61","v":0.21586141465959546},{"$f":"tbl_AA_MOB_vkm_REF[LV_NIETGENUM]","v":107510524},{"$f":"N59/$N$61","v":0.14725205797136384},{"$f":"EIG!E51","v":0},{"$f":"P59/$P$61","v":{"$error":"#DIV/0!"}}]
[null,"Kosten",null,null,null,null,null,null,null,"Snelwegen","#km",{"$f":"BAU_MOB!K50","v":0},{"$f":"L60/$L$61","v":0},{"$f":"tbl_AA_MOB_vkm_REF[LV_SNEL]","v":236145299},{"$f":"N60/$N$61","v":0.32343699913520141},{"$f":"EIG!E53","v":0},{"$f":"P60/$P$61","v":{"$error":"#DIV/0!"}}]
[null,null,"Openbaar vervoer betaald door gebruiker","€/vkm",null,0.06,null,"[c] - p8",null,"TOTAAL","#km",{"$f":"SUM(L58:L60)","v":514401909.251755},null,{"$f":"SUM(N58:N60)","v":730112200},null,{"$f":"SUM(P58:P60)","v":0}]
[null,null,"Openbaar vervoer betaald door overheid","€/vkm",null,0.27,null,"[c] - p8",null,"gem. ECF"," PJ/vkm",{"$f":"M58*$P$69+M59*$P$70+M60*$P$71","v":2.1869146381130176E-9},null,{"$f":"O58*$P$69+O59*$P$70+O60*$P$71","v":2.1653403748170942E-9},null,{"$f":"Q58*$P$69+Q59*$P$70+Q60*$P$71","v":{"$error":"#DIV/0!"}}]
[null,null,"totale kost voor openbaar vervoer","€/vkm",null,{"$f":"SUM(F61:F62)","v":0.33}]
[]
[]
[null,null,"Totale jaarlijkse kost (aflossing CAPEX+OPEX+brandstofkost)","€/totaal/jaar",null,{"$f":"F63*F50","v":4837949.9565127557},null,null,null," ",null,"Eenheid","benzine","diesel","elektrisch"]
[null,null,null,null,null,null,null,null,null,"Verhouding type brandstof",null,"%",{"$f":"IF(F84=P56,EIG!L63+EIG!M63,BAU_MOB!O58+BAU_MOB!P58)","v":0.57941876994142461},{"$f":"IF(F84=P56,EIG!E63+EIG!F63,BAU_MOB!H58+BAU_MOB!I58)","v":0.38934758394666463},{"$f":"IF(F84=P56,EIG!G63+EIG!I63+EIG!N63,BAU_MOB!J58+BAU_MOB!L58+BAU_MOB!Q58)","v":2.1768854384798936E-2}]
[null,"Kenmerken referentiesituatie",null,null,null,null,null,null,null,"Emissiefactor",null,"ton CO2/MWh",{"$f":"'AA_Energieprijs&Discontovoet'!F102","v":0.249},{"$f":"'AA_Energieprijs&Discontovoet'!F101","v":0.26700000000000002},{"$f":"IF(F84=L56,BAU_ELE_EF_CO2_2030,IF(F84=N56,INV!D26,EIG!D26))","v":0.17705584446860712},{"$f":"M68*$M$67+N68*$N$67+O68*$O$67","v":0.2520853815253889}]
[null,"Gemiddelde emissiefactoren",null,null,null,null,null,null,null,"ECF","Genummerde wegen"," PJ/vkm",{"$f":"SUMIFS(tbl_AA_ECF_Transport_2030[EnergieConsumptieFactor (PJ per km)],tbl_AA_ECF_Transport_2030[Index],\"Lichte voertuigen_genummerd_Petrol_Petrol\")","v":1.9439299899533289E-9},{"$f":"SUMIFS(tbl_AA_ECF_Transport_2030[EnergieConsumptieFactor (PJ per km)],tbl_AA_ECF_Transport_2030[Index],\"Lichte voertuigen_genummerd_Diesel_Diesel\")","v":2.0006644669440601E-9},{"$f":"SUMIFS(tbl_AA_ECF_Transport_2030[EnergieConsumptieFactor (PJ per km)],tbl_AA_ECF_Transport_2030[Index],\"Lichte voertuigen_genummerd_ELECTRIC_ELECTRIC\")","v":6.5824216087225193E-10},{"$f":"M69*$M$67+N69*$N$67+O69*$O$67","v":1.9196325778735786E-9}]
[null,null,"nieuwe voertuigen","ton CO2/MWh",null,{"$f":"P68","v":0.2520853815253889},null,null,null,null,"Niet-genummerde wegen"," PJ/vkm",{"$f":"SUMIFS(tbl_AA_ECF_Transport_2030[EnergieConsumptieFactor (PJ per km)],tbl_AA_ECF_Transport_2030[Index],\"Lichte voertuigen_niet-genummerd_Petrol_Petrol\")","v":3.3968703390226745E-9},{"$f":"SUMIFS(tbl_AA_ECF_Transport_2030[EnergieConsumptieFactor (PJ per km)],tbl_AA_ECF_Transport_2030[Index],\"Lichte voertuigen_niet-genummerd_Diesel_Diesel\")","v":3.0186506750845655E-9},{"$f":"SUMIFS(tbl_AA_ECF_Transport_2030[EnergieConsumptieFactor (PJ per km)],tbl_AA_ECF_Transport_2030[Index],\"Lichte voertuigen_niet-genummerd_ELECTRIC_ELECTRIC\")","v":6.5824216087225131E-10},3.1578439583601353E-9]
[null,null,"nieuwe voertuigen","gr CO2/vkm",null,{"$f":"F70/3600*F73*10^15","v":153.13589192004937},null,null,null,null,"Snelwegen"," PJ/vkm",{"$f":"SUMIFS(tbl_AA_ECF_Transport_2030[EnergieConsumptieFactor (PJ per km)],tbl_AA_ECF_Transport_2030[Index],\"Lichte voertuigen_snelweg_Petrol_Petrol\")","v":2.1181267068613306E-9},{"$f":"SUMIFS(tbl_AA_ECF_Transport_2030[EnergieConsumptieFactor (PJ per km)],tbl_AA_ECF_Transport_2030[Index],\"Lichte voertuigen_snelweg_Diesel_Diesel\")","v":2.2447155163004467E-9},{"$f":"SUMIFS(tbl_AA_ECF_Transport_2030[EnergieConsumptieFactor (PJ per km)],tbl_AA_ECF_Transport_2030[Index],\"Lichte voertuigen_snelweg_ELECTRIC_ELECTRIC\")","v":6.5824216087225244E-10},2.1155861117388052E-9]
[null,"Installatie kenmerken"]
[null,null,"Gem. EnergieConsumptieFactor (ECF)"," PJ/vkm",null,{"$f":"IF(F84=L56,L62,IF(F84=N56,N62,P62))","v":2.1869146381130176E-9}]
[null,"Kosten"]
[null,null,"CAPEX","€/transportmiddel",null,0,null,"zie aanname"]
[null,null,"Vaste Opex","€/vkm/jaar",null,0,null,"zie aanname"]
[null,null,"Variabele OPEX (Brandstofprijzen)","€/vkm",null,{"$f":"F73/(3.6*10^-9)*(M67*'AA_Energieprijs&Discontovoet'!F77+N67*'AA_Energieprijs&Discontovoet'!F76+O67*'AA_Energieprijs&Discontovoet'!F57)","v":7.783435570967541E-2}]
[null,null,null,"Variabele OPEX (Brandstofprijzen)",null,{"$f":"F77*F50","v":1141087.0236994622}]
[]
[null,null,"Totale jaarlijkse kost",null,null,{"$f":"F78","v":1141087.0236994622}]
[]
[null,"Algemene aannames"]
[null,"Discontovoet",null,"%",null,{"$f":"P_Discontovoet","v":0.04}]
[null,"Referentiesituatie",null,null,null,{"$f":"P_Maatregelen_Referentie","v":"BAU"},null,null,"Keuze via dashboard"]
[null,"Andere"]
[]
[]
[null,"Referenties"]
[null,"[a]","https://www.elektrischefietsen.com/2013/16082/",null,null,null,null,null," "]
[null,"[b]","Beckx, C., 2013. Limits to active transport substitution of short car trips",null,null,"https://doi.org/10.1016/j.trd.2013.03.001",null,null," "]
[null,"[c]","TML, 2015. berekening gebaseerd op financieel rapport TEC, gecombineerd met gem afstand bus"]

{"sheet":"MOB_BS_EV","index":56,"n_rows":88,"n_cols":17,"rows_kept":88,"cut":false,"hidden":false,"merged":[[61,12,61,14],[5,1,5,7],[14,1,14,7],[16,1,16,7],[19,1,19,7],[18,1,18,7],[17,1,17,7]]}
[null,"<< Naar Scenario's",null,null,null,null,null,null,null,null,"Berekeningen + verwijzing andere cel"]
[null,null,null,null,null,null,null,null,null,null,"Verwijzing andere tab (nulmeting/data)"]
[null,"Brandstofshift: Elektrische wagens",null,null,null,null,null,null,"Opmerkingen",null,"Overschrijfbaar: Vaste parameters uit externe bronnen, literatuur, rebus model"]
[null,null,null,"Transport",null,null,null,null,null,null,"Algemene aannames, overschrijfbaar vanuit centrale dashboard"]
[null,"Beschrijving van de maatregel"]
[null,"Maatregel: Elektrificatie voertuigenpark met batterij-elektrische voertuigen (verder afgekort tot BEV)\n\nDeze technische maatregel beoogt een doorgedreven introductie van elektrische voertuigen in het nieuwe voertuigenpark ter vervanging van diesel en benzine wagens."]
[null,"Relatie met andere maatregelen"]
[null,"nr. maatregel",null,"maatregel"]
[null,"beschrijving (overlappend potentieel)"]
[null,"nr maatregel",null,"maatregel"]
[null,"beschrijving (overlappend potentieel)"]
[null,"nr maatregel",null,"maatregel"]
[null,"beschrijving (overlappend potentieel)"]
[null,"Betekenis lange termijn voor energie-/klimaattransitie"]
[null,"De transportsector neemt een aanzienlijke hap uit het energieverbruik en emissies in Vlaanderen. Ondanks de toenemende energie-efficiëntie van voertuigen en het toenemend gebruik van biobrandstoffen in de transportsector, kent het energiegebruik door transport echter een overwegend stijgend verloop. Deze stijging is voornamelijk toe te schrijven aan een steeds toenemend aantal gereden kilometers op de weg. Maatregelen om de emissies en het energiegebruik van de transportsector te reduceren, kunnen inspelen op volgende drie facetten: 1. de vraag naar mobiliteit, 2. de modale keuze en 3. de energie-efficiëntie van de verschillende modi. Wat deze laatste categorie betreft, zien we dat momenteel hoofdzakelijk gebruik gemaakt wordt van fossiele brandstoffen. Een verschuiving in de technologiemix naar ‘alternatieve’ aandrijftechnologieën en een verhoging van de energie-efficiëntie spelen bijgevolg zonder twijfel een significante rol in de verduurzaming van de transportsector. De maatregel in deze factsheet zal hierin belangrijk zijn."]
[null,"Aannames/onzekerheden/hypothesen"]
[null,"Aanname: Alle gedefinieerde kosten zijn bepaald vanuit een maatschappelijk standpunt (excl. taksen, subsidies, etc.) en zeggen niets over de kost vanuit een actor standpunt. De kosten dienen dus ook niet als dusdanig geïnterpreteerd te worden. De maatschappelijke kost wordt enkel gebruikt om een relatieve volgorde te kunnen opmaken om te bepalen welke maatregelen vanuit maatschappelijke standpunt goedkoper zijn dan andere."]
[null,"Aanname: voor de bepaling van het potentieel worden enkel de voertuigkilometers geteld van de genummerde en niet-genummerde wegen, dus exclusief de snelwegen. De impact van een gemeente op de voertuigtypes op de snelwegen die hun grondgebied doorkruisen is eerder beperkt."]
[null,"Aanname: We vertrekken van het aantal vkm als variabele (BAU, INV of EIG) die we doorvertalen naar een theoretisch equivalent 'aantal wagens' om de meerkosten te bepalen."]
[]
[null,"Berekeningen"]
[null,"Resultaat",null,null,null,"Scenario1","Scenario2"]
[null,"totale besparing",null,"MWh",null,{"$f":"F48*($F$75-$F$57)/0.0000036","v":10683.806358880967},{"$f":"G48*($F$75-$F$57)/0.0000036","v":53419.031794404837}]
[null,"totale CO2 reductie",null,"ton CO2",null,{"$f":"F48*($F$73-$F$54)/1000000","v":3038.3986056577323},{"$f":"G48*($F$73-$F$54)/1000000","v":15191.993028288663}]
[null,"Maatschappelijke kost per ton CO2 reductie",null,"€/ton CO2",null,{"$f":"$F$67/F24","v":176.78532744221491}]
[]
[null,"Potentieel maatregel",null,"Eenheid","Jaar","Waarde",null,"Bron"]
[]
[null,"Capaciteitsmeter: theoretisch equivalent aan wagens",null,"eq. #wagens",null,{"$f":"F30/F58","v":40523.232176757127}]
[null,"Activiteitsmeter: voertuigkilometers",null,"#vkm",null,{"$f":"IF(F80=L54,L59,IF(F80=N54,N59,P59))","v":514401909.251755},null,null,"Afh van BAU, INV of EIG"]
[]
[null,"Bijkomend potentieel"]
[null,null,null,"% (aandeel vkm exl snelwegen)",null,{"$f":"IF(F80=L54,SUM(M56:M57),IF(F80=N54,SUM(O56:O57),SUM(Q56:Q57)))","v":1},null,null,"#vkm komen in aanmerking"]
[null,null,null,"#vkm",null,{"$f":"F30*F33","v":514401909.251755}]
[null,null,null,"% van potentieel reeds vervuld",null,{"$f":"O71","v":2.1768854384798936E-2},null,"gebaseerd op 0-meting"," "]
[null,null,"Bijkomend potentieel","#vkm",null,{"$f":"F34*(1-F35)","v":503203968.99399102}]
[null,null,"Bijkomend potentieel","eq.#wagens",null,{"$f":"F36/F58","v":39641.087836299906}]
[]
[null,"Implementatiegraad maatregel",null,null,null,"Min.","Max"]
[null,null,{"$f":"dropdowns!$R$4","v":"Niet"},null,null,1.0000000000000001E-17]
[null,null,{"$f":"dropdowns!$R$5","v":"Laag"},null,null,0,0.1,null,"aanpassen obv gemeente specifieke eigenschappen"]
[null,null,{"$f":"dropdowns!$R$6","v":"Medium"},null,null,0.1,0.2,null,"aanpassen obv gemeente specifieke eigenschappen"]
[null,null,{"$f":"dropdowns!$R$7","v":"Hoog"},null,null,0.2,0.3,null,"aanpassen obv gemeente specifieke eigenschappen"]
[]
[null,"Bijkomende implementatie",null,null,null,"Scenario1","Scenario2"]
[null,"Bijkomende invulling van potentieel",null,"% van de vkm(2030)",null,{"$f":"IF('Scenario''s'!I31=C40,F40,IF('Scenario''s'!I31=C41,AVERAGE(F41,G41),IF('Scenario''s'!I31=C42,AVERAGE(F42,G42),AVERAGE(F43,G43))))","v":0.05},{"$f":"IF('Scenario''s'!M31=C40,F40,IF('Scenario''s'!M31=C41,AVERAGE(F41,G41),IF('Scenario''s'!M31=C42,AVERAGE(F42,G42),AVERAGE(F43,G43))))","v":0.25},null,"Keuze via scenario's"]
[null,"Bijkomende invulling van potentieel",null,"eq.#wagens",null,{"$f":"$F$37*F46","v":1982.0543918149954},{"$f":"$F$37*G46","v":9910.2719590749766}]
[null,null,null,"#vkm",null,{"$f":"F47*F58","v":25160198.449699551},{"$f":"G47*F58","v":125800992.24849775}]
[]
[null,"Parameters"]
[null,"Kenmerken maatregel",null,"Eenheid","Jaar","Waarde",null,"Bron",null," "]
[null,"Gemiddelde emissiefactoren"]
[null,null,"nieuwe elektrische voertuigen","ton CO2/MWh",null,{"$f":"IF(F80=L54,BAU_ELE_EF_CO2_2030,IF(F80=N54,INV!D26,EIG!D26))","v":0.17705584446860712}]
[null,null,"nieuwe elektrische voertuigen","gr CO2/vkm",null,{"$f":"F53/3600*F57*10^15","v":32.373783793910356},null,null,null,null,null,"BAU",null,"INV",null,"EIG"]
[null,null,null,null,null,null,null,null,null,"Type weg","Eenheid","#km","%","#km","%","#km","%"]
[null,"Installatie kenmerken",null,null,null,null,null,null,null,"Genummerde wegen","#km",{"$f":"BAU_MOB!K46","v":403362385.41707432},{"$f":"L56/$L$59","v":0.78413858534040459},{"$f":"tbl_AA_MOB_vkm_REF[LV_GENUM]","v":386456377},{"$f":"N56/$N$59","v":0.52931094289343472},{"$f":"EIG!E49","v":0},{"$f":"P56/$P$59","v":{"$error":"#DIV/0!"}}]
[null,null,"EnergieConsumptieFactor elektriciteit (ECF)"," PJ/vkm",null,{"$f":"SUMIFS(tbl_AA_ECF_Transport_2030[EnergieConsumptieFactor (PJ per km)],tbl_AA_ECF_Transport_2030[Index],\"Lichte voertuigen_Genummerd_Electric_Electric\")","v":6.5824216087225193E-10},null,null,null,"Niet-genummerde wegen","#km",{"$f":"BAU_MOB!K48","v":111039523.83468068},{"$f":"L57/$L$59","v":0.21586141465959546},{"$f":"tbl_AA_MOB_vkm_REF[LV_NIETGENUM]","v":107510524},{"$f":"N57/$N$59","v":0.14725205797136384},{"$f":"EIG!E51","v":0},{"$f":"P57/$P$59","v":{"$error":"#DIV/0!"}}]
[null,null,"gem. Km afgelegd per voertuig","vkm/voertuig/jaar",null,12694,null,"[e]",null,"Snelwegen","#km",{"$f":"BAU_MOB!K50","v":0},{"$f":"L58/$L$59","v":0},{"$f":"tbl_AA_MOB_vkm_REF[LV_SNEL]","v":236145299},{"$f":"N58/$N$59","v":0.32343699913520141},{"$f":"EIG!E53","v":0},{"$f":"P58/$P$59","v":{"$error":"#DIV/0!"}}]
[null,null,"Technische levensduur wagen","jaar",null,4,null,"[d] - p33",null,"TOTAAL","#km",{"$f":"SUM(L56:L58)","v":514401909.251755},null,{"$f":"SUM(N56:N58)","v":730112200},null,{"$f":"SUM(P56:P58)","v":0}]
[null,null,"Technische levensduur laadpaal","jaar",null,10,null,null,null,"gem. ECF"," PJ/vkm",{"$f":"M56*$P$73+M57*$P$74+M58*$P$75","v":2.1869146381130176E-9},null,{"$f":"O56*$P$73+O57*$P$74+O58*$P$75","v":2.1653403748170942E-9},null,{"$f":"Q56*$P$73+Q57*$P$74+Q58*$P$75","v":{"$error":"#DIV/0!"}}]
[null,"Kosten"]
[null,null,"Meerkost van EV tov benzine/diesel wagen","€/voertuig","gem. 2021-2030",{"$f":"O67","v":684.01524119487112},null,null,"Gemiddelde meerkost 2021-2030: Total Cost of Ownership BEV vs. fossiele brandstof wagen",null,null,null,"personenwagens"]
[null,null,null,"€/voertuig/jaar","gem. 2021-2031",{"$f":"F62/F59","v":171.00381029871778},null,null,null,"Jaar","BEV vs benzine","BEV vs diesel","benzine","diesel","prijsverschil","Bron"]
[null,null,"Kost Laadpaal","€/voertuig",null,1000,null,"[d] - p28",null,2020,{"$f":"26639-25573","v":1066},{"$f":"26639-24909","v":1730},{"$f":"K64*$M$71","v":617.66040875755868},{"$f":"L64*$N$71","v":673.57132022772987},{"$f":"M64+N64","v":1291.2317289852886},"[d] - p33"]
[null,null,null,"€/voertuig/jaar",null,{"$f":"F64/F60","v":100},null,null,null,2025,{"$f":"25388-25025","v":363},{"$f":"25388-24555","v":833},{"$f":"K65*$M$71","v":210.32901348873713},{"$f":"L65*$N$71","v":324.32653742757162},{"$f":"M65+N65","v":534.65555091630881},"[d] - p34"]
[null,null,null,null,null,null,null,null,null,2030,{"$f":"24599-24503","v":96},{"$f":"24599-24161","v":438},{"$f":"K66*$M$71","v":55.624201914376762},{"$f":"L66*$N$71","v":170.53424176863911},226.15844368301586,"[d] - p35"]
[null,null,"Totale jaarlijkse meerkost (aflossing CAPEX+OPEX+brandstofkost) -SC1","€/jaar",null,{"$f":"F47*(F63+F65)","v":537144.29240117141},null,null,null,null,null,null,null,"gemiddelde meerkost",{"$f":"AVERAGE(O64:O66)","v":684.01524119487112},"kost voor 4 jaar TCO"]
[]
[]
[null,"Kenmerken referentiesituatie",null,null,null,null,null,null,null,null,null,"Eenheid","benzine","diesel","elektrisch"]
[null,"Gemiddelde emissiefactoren",null,null,null,null,null,null,null,"Verhouding benzine en diesel",null,"%",{"$f":"IF(F80=P54,EIG!L63+EIG!M63,BAU_MOB!O58+BAU_MOB!P58)","v":0.57941876994142461},{"$f":"IF(F80=P54,EIG!E63+EIG!F63,BAU_MOB!H58+BAU_MOB!I58)","v":0.38934758394666463},{"$f":"IF(F80=P54,EIG!G63+EIG!I63+EIG!N63,BAU_MOB!J58+BAU_MOB!L58+BAU_MOB!Q58)","v":2.1768854384798936E-2}]
[null,null,"nieuwe voertuigen","ton CO2/MWh",null,{"$f":"P72","v":0.2520853815253889},null,null,null,"Emissiefactor",null,"ton CO2/MWh",{"$f":"'AA_Energieprijs&Discontovoet'!F102","v":0.249},{"$f":"'AA_Energieprijs&Discontovoet'!F101","v":0.26700000000000002},{"$f":"IF(F80=L54,BAU_ELE_EF_CO2_2030,IF(F80=N54,INV!D26,EIG!D26))","v":0.17705584446860712},{"$f":"M72*$M$71+N72*$N$71+O72*$O$71","v":0.2520853815253889}]
[null,null,"nieuwe voertuigen","gr CO2/vkm",null,{"$f":"F72/3600*F75*10^15","v":153.13589192004937},null,null,null,"ECF","Genummerde wegen"," PJ/vkm",{"$f":"SUMIFS(tbl_AA_ECF_Transport_2030[EnergieConsumptieFactor (PJ per km)],tbl_AA_ECF_Transport_2030[Index],\"Lichte voertuigen_genummerd_Petrol_Petrol\")","v":1.9439299899533289E-9},{"$f":"SUMIFS(tbl_AA_ECF_Transport_2030[EnergieConsumptieFactor (PJ per km)],tbl_AA_ECF_Transport_2030[Index],\"Lichte voertuigen_genummerd_Diesel_Diesel\")","v":2.0006644669440601E-9},{"$f":"SUMIFS(tbl_AA_ECF_Transport_2030[EnergieConsumptieFactor (PJ per km)],tbl_AA_ECF_Transport_2030[Index],\"Lichte voertuigen_genummerd_ELECTRIC_ELECTRIC\")","v":6.5824216087225193E-10},{"$f":"M73*$M$71+N73*$N$71+O73*$O$71","v":1.9196325778735786E-9}]
[null,"Installatie kenmerken",null,null,null,null,null,null,null,null,"Niet-genummerde wegen"," PJ/vkm",{"$f":"SUMIFS(tbl_AA_ECF_Transport_2030[EnergieConsumptieFactor (PJ per km)],tbl_AA_ECF_Transport_2030[Index],\"Lichte voertuigen_niet-genummerd_Petrol_Petrol\")","v":3.3968703390226745E-9},{"$f":"SUMIFS(tbl_AA_ECF_Transport_2030[EnergieConsumptieFactor (PJ per km)],tbl_AA_ECF_Transport_2030[Index],\"Lichte voertuigen_niet-genummerd_Diesel_Diesel\")","v":3.0186506750845655E-9},{"$f":"SUMIFS(tbl_AA_ECF_Transport_2030[EnergieConsumptieFactor (PJ per km)],tbl_AA_ECF_Transport_2030[Index],\"Lichte voertuigen_niet-genummerd_ELECTRIC_ELECTRIC\")","v":6.5824216087225131E-10},{"$f":"M74*$M$71+N74*$N$71+O74*$O$71","v":3.1578439583601353E-9}]
[null,null,"Gem. EnergieConsumptieFactor (ECF)"," PJ/vkm",null,{"$f":"IF(F80=L54,L60,IF(F80=N54,N60,P60))","v":2.1869146381130176E-9},null,null,null,null,"Snelwegen"," PJ/vkm",{"$f":"SUMIFS(tbl_AA_ECF_Transport_2030[EnergieConsumptieFactor (PJ per km)],tbl_AA_ECF_Transport_2030[Index],\"Lichte voertuigen_snelweg_Petrol_Petrol\")","v":2.1181267068613306E-9},{"$f":"SUMIFS(tbl_AA_ECF_Transport_2030[EnergieConsumptieFactor (PJ per km)],tbl_AA_ECF_Transport_2030[Index],\"Lichte voertuigen_snelweg_Diesel_Diesel\")","v":2.2447155163004467E-9},{"$f":"SUMIFS(tbl_AA_ECF_Transport_2030[EnergieConsumptieFactor (PJ per km)],tbl_AA_ECF_Transport_2030[Index],\"Lichte voertuigen_snelweg_ELECTRIC_ELECTRIC\")","v":6.5824216087225244E-10},{"$f":"M75*$M$71+N75*$N$71+O75*$O$71","v":2.1155861117388052E-9}]
[null,"Kosten",null,null,null,null,null,null,"We rekenen met de meerkost van de maatregel tov de referentiesituatie"]
[]
[null,"Algemene aannames"]
[null,"Discontovoet",null,"%",null,{"$f":"P_Discontovoet","v":0.04}]
[null,"Referentiesituatie",null,null,null,{"$f":"P_Maatregelen_Referentie","v":"BAU"},null,null,"Keuze via dashboard"]
[null,"Andere"]
[]
[null,"Referenties"]
[null,"[a]","FOD Mobiliteit (Vlaanderen 2016)",null,null,null,null,null," "]
[null,"[b]","Mobiliteitsscenario's - Ronde 2 (uitgevoerd augustus 2017 i.o.v. Departement Omgeving), assumptie verbruik voor BEV in 2030: \n18 kWh/100km voor personenwagens, 25 kWh/100km voor bestelwagens",null,null,null,null,null," "]
[null,"[c]","Mobiliteitsscenario's - Ronde 2 (uitgevoerd augustus 2017 i.o.v. Departement Omgeving), energieconsumptie enkel nieuwe, conventionele benzine+diesel voertuigen in 2030 in S0 - REF-scenario\nMix in aantallen (vkm) voor personenwagens: 52% (71%) diesel + 48% (29%) benzine; voor bestelwagens: 96% (98%) diesel + 4% (2%) benzine",null,null,null,null,null," "]
[null,"[d]","Element Energy (2016). Low carbon cars in the 2020s: Consumer impacts and EU policy implications.",null,null,"https://www.beuc.eu/publications/beuc-x-2016-121_low_carbon_cars_in_the_2020s-report.pdf",null,null," "]
[null,"[e]","Mobiliteitsscenario's - Ronde 2 (uitgevoerd augustus 2017 i.o.v. Departement Omgeving), S0 - REF-scenario",null,null,null,null,null," "]

{"sheet":"MOB_BS_H2","index":57,"n_rows":86,"n_cols":17,"rows_kept":86,"cut":false,"hidden":false,"merged":[[19,1,19,7],[21,1,21,7],[64,12,64,14],[20,1,20,7],[5,1,5,7],[14,1,14,7],[16,1,16,7],[17,1,17,7],[18,1,18,7]]}
[null,"<< Naar Scenario's",null,null,null,null,null,null,null,null,"Berekeningen + verwijzing andere cel"]
[null,null,null,null,null,null,null,null,null,null,"Verwijzing andere tab (nulmeting/data)"]
[null,"Brandstofshift: voertuigen op waterstof",null,null,null,null,null,null,"Opmerkingen",null,"Overschrijfbaar: Vaste parameters uit externe bronnen, literatuur, rebus model"]
[null,null,null,"Transport",null,null,null,null,null,null,"Algemene aannames, overschrijfbaar vanuit centrale dashboard"]
[null,"Beschrijving van de maatregel"]
[null,"Maatregel: Brandstofshift naar voertuigen op waterstof\n\nDeze technische maatregel beoogt een doorgedreven introductie van waterstof in het nieuwe voertuigenpark ter vervanging van diesel en benzine wagens."]
[null,"Relatie met andere maatregelen"]
[null,"nr maatregel",null,"maatregel"]
[null,"beschrijving (overlappend potentieel)"]
[null,"nr maatregel",null,"maatregel"]
[null,"beschrijving (overlappend potentieel)"]
[null,"nr maatregel",null,"maatregel"]
[null,"beschrijving (overlappend potentieel)"]
[null,"Betekenis lange termijn voor energie-/klimaattransitie"]
[null,"De transportsector neemt een aanzienlijke hap uit het energieverbruik en emissies in Vlaanderen. Ondanks de toenemende energie-efficiëntie van voertuigen en het toenemend gebruik van biobrandstoffen in de transportsector, kent het energiegebruik door transport echter een overwegend stijgend verloop. Deze stijging is voornamelijk toe te schrijven aan een steeds toenemend aantal gereden kilometers op de weg. Maatregelen om de emissies en het energiegebruik van de transportsector te reduceren, kunnen inspelen op volgende drie facetten: 1. de vraag naar mobiliteit, 2. de modale keuze en 3. de energie-efficiëntie van de verschillende modi. Wat deze laatste categorie betreft, zien we dat momenteel hoofdzakelijk gebruik gemaakt wordt van fossiele brandstoffen. Een verschuiving in de technologiemix naar ‘alternatieve’ aandrijftechnologieën en een verhoging van de energie-efficiëntie spelen bijgevolg zonder twijfel een significante rol in de verduurzaming van de transportsector. De maatregel in deze factsheet zal hierin belangrijk zijn."]
[null,"Aannames/onzekerheden/hypothesen"]
[null,"Aanname: Alle gedefinieerde kosten zijn bepaald vanuit een maatschappelijk standpunt (excl. taksen, subsidies, etc.) en zeggen niets over de kost vanuit een actor standpunt. De kosten dienen dus ook niet als dusdanig geïnterpreteerd te worden. De maatschappelijke kost wordt enkel gebruikt om een relatieve volgorde te kunnen opmaken om te bepalen welke maatregelen vanuit maatschappelijke standpunt goedkoper zijn dan andere."]
[null,"Aanname: voor de bepaling van het potentieel worden enkel de voertuigkilometers geteld van de genummerde en niet-genummerde wegen, dus exclusief de snelwegen. De impact van een gemeente op de voertuigtypes op de snelwegen die hun grondgebied doorkruisen is eerder beperkt."]
[null,"Aanname: We veronderstellen dat de waterstof op een groene manier geproduceerd wordt. We veronderstellen dus dat de  EF voor waterstof \"0\" is. "]
[null,"Aanname: We vertrekken van het aantal vkm als variabele (BAU, MEI of EIG) die we doorvertalen naar een theoretisch equivalent 'aantal wagens' om de meerkosten te bepalen."]
[null,"Aanname: Er wordt verondersteld dat bij een toename van waterstofwagens bij herinvesteringen in bestaande brandstofinfrastructuur er eerder een shift ontstaat van fossiele vloeistoffen- naar waterstofinfrastructuur. Vanuit maatschappelijk standpunt wordt er dus geen meerkost in rekening gebracht."]
[]
[null,"Berekeningen"]
[null,"Resultaat",null,null,null,"Scenario1","Scenario2"]
[null,"totale besparing",null,"MWh",null,{"$f":"F49*($F$73-$F$58)/0.0000036","v":1366.4955227303446},{"$f":"G49*($F$73-$F$58)/0.0000036","v":6832.477613651723}]
[null,"totale CO2 reductie",null,"ton CO2",null,{"$f":"F49*($F$71-$F$55)/1000000","v":984.66743973304733},{"$f":"G49*($F$71-$F$55)/1000000","v":4923.3371986652364}]
[null,"Maatschappelijke kost per ton CO2 reductie",null,"€/ton CO2",null,{"$f":"$F$66/F26","v":519.96457227836561}]
[]
[null,"Potentieel maatregel",null,"Eenheid","Jaar","Waarde",null,"Bron"]
[null,"Capaciteitsmeter: theoretisch equivalent aan wagens",null,"eq. #wagens",null,{"$f":"F31/F59","v":40523.232176757127}]
[null,"Activiteitsmeter: voertuigkilometers",null,"#vkm",null,{"$f":"IF(F78=L56,L61,IF(F78=N56,N61,P61))","v":514401909.251755},null,null,"Afh van BAU, INV of EIG"]
[]
[null,"Bijkomend potentieel"]
[null,null,null,"% (aandeel vkm exl snelwegen)",null,{"$f":"IF(F78=L56,SUM(M58:M59),IF(F78=N56,SUM(O58:O59),SUM(Q58:Q59)))","v":1}]
[null,null,null,"#vkm",null,{"$f":"F31*F34","v":514401909.251755}]
[null,null,null,"% van potentieel reeds vervuld",null,{"$f":"IF(F78=P56,EIG!J63,BAU_MOB!M58)","v":0}]
[null,null,"Bijkomend potentieel","#vkm",null,{"$f":"F35*(1-F36)","v":514401909.251755}]
[null,null,"Bijkomend potentieel","eq.#wagens",null,{"$f":"F37/F59","v":40523.232176757127}]
[]
[null,"Implementatiegraad maatregel",null,null,null,"Min.","Max"]
[null,null,{"$f":"dropdowns!$R$4","v":"Niet"},null,null,1.0000000000000001E-17]
[null,null,{"$f":"dropdowns!$R$5","v":"Laag"},null,null,0,2.5000000000000001E-2,null,"aanpassen obv gemeente specifieke eigenschappen"]
[null,null,{"$f":"dropdowns!$R$6","v":"Medium"},null,null,2.5000000000000001E-2,0.05,null,"aanpassen obv gemeente specifieke eigenschappen"]
[null,null,{"$f":"dropdowns!$R$7","v":"Hoog"},null,null,0.05,7.4999999999999997E-2,null,"aanpassen obv gemeente specifieke eigenschappen"]
[]
[null,"Bijkomende implementatie",null,null,null,"Scenario1","Scenario2"]
[null,"Bijkomende invulling van potentieel",null,"% van de vkm(2030)",null,{"$f":"IF('Scenario''s'!I32=C41,F41,IF('Scenario''s'!I32=C42,AVERAGE(F42,G42),IF('Scenario''s'!I32=C43,AVERAGE(F43,G43),AVERAGE(F44,G44))))","v":1.2500000000000001E-2},{"$f":"IF('Scenario''s'!M32=C41,F41,IF('Scenario''s'!M32=C42,AVERAGE(F42,G42),IF('Scenario''s'!M32=C43,AVERAGE(F43,G43),AVERAGE(F44,G44))))","v":6.25E-2},null,"Keuze via scenario's"]
[null,"Bijkomende invulling van potentieel",null,"eq.#wagens",null,{"$f":"$F$38*F47","v":506.5404022094641},{"$f":"$F$38*G47","v":2532.7020110473204}]
[null,null,null,"#vkm",null,{"$f":"F48*F59","v":6430023.8656469369},{"$f":"G48*F59","v":32150119.328234684}]
[]
[null,"Parameters"]
[null,"Kenmerken maatregel",null,"Eenheid","Jaar","Waarde",null,"Bron"]
[null,"Gemiddelde emissiefactoren",null,null,null,null,null,null,null," "]
[null,null,"nieuwe waterstof voertuigen","ton CO2/MWh",null,0]
[null,null,"nieuwe waterstof voertuigen","gr CO2/vkm",null,{"$f":"F54/3600*F58*10^15","v":0}]
[null,null,null,null,null,null,null,null,null,null,null,"BAU",null,"INV",null,"EIG"]
[null,"Installatie kenmerken",null,null,null,null,null,null,null,"Type weg","Eenheid","#km","%","#km","%","#km","%"]
[null,null,"EnergieConsumptieFactor waterstof (ECF)"," PJ/vkm",null,1.42185E-9,null,null,null,"Genummerde wegen","#km",{"$f":"BAU_MOB!K46","v":403362385.41707432},{"$f":"L58/$L$61","v":0.78413858534040459},{"$f":"tbl_AA_MOB_vkm_REF[LV_GENUM]","v":386456377},{"$f":"N58/$N$61","v":0.52931094289343472},{"$f":"EIG!E49","v":0},{"$f":"P58/$P$61","v":{"$error":"#DIV/0!"}}]
[null,null,"gem. Km afgelegd per voertuig","vkm/voertuig/jaar",null,12694,null,"[e]",null,"Niet-genummerde wegen","#km",{"$f":"BAU_MOB!K48","v":111039523.83468068},{"$f":"L59/$L$61","v":0.21586141465959546},{"$f":"tbl_AA_MOB_vkm_REF[LV_NIETGENUM]","v":107510524},{"$f":"N59/$N$61","v":0.14725205797136384},{"$f":"EIG!E51","v":0},{"$f":"P59/$P$61","v":{"$error":"#DIV/0!"}}]
[null,null,"Technische levensduur wagen","jaar",null,4,null,"[d] - p33",null,"Snelwegen","#km",{"$f":"BAU_MOB!K50","v":0},{"$f":"L60/$L$61","v":0},{"$f":"tbl_AA_MOB_vkm_REF[LV_SNEL]","v":236145299},{"$f":"N60/$N$61","v":0.32343699913520141},{"$f":"EIG!E53","v":0},{"$f":"P60/$P$61","v":{"$error":"#DIV/0!"}}]
[null,null,null,null,null,null,null,null,null,"TOTAAL","#km",{"$f":"SUM(L58:L60)","v":514401909.251755},null,{"$f":"SUM(N58:N60)","v":730112200},null,{"$f":"SUM(P58:P60)","v":0}]
[null,"Kosten",null,null,null,null,null,null,null,"gem. ECF"," PJ/vkm",{"$f":"M58*$P$76+M59*$P$77+M60*$P$78","v":2.1869146381130176E-9},null,{"$f":"O58*$P$76+O59*$P$77+O60*$P$78","v":2.1653403748170942E-9},null,{"$f":"Q58*$P$76+Q59*$P$77+Q60*$P$78","v":{"$error":"#DIV/0!"}}]
[null,null,"Meerkost van H2 tov benzine/diesel wagen","€/voertuig","gem. 2021-2030",{"$f":"O70","v":4043.0511122428393},null,null,"Gemiddelde meerkost 2021-2030: Total Cost of Ownership BEV vs. fossiele brandstof wagen"]
[null,null,null,"€/voertuig/jaar","gem. 2021-2031",{"$f":"F63/F60","v":1010.7627780607098}]
[null,null,null,null,null,null,null,null,null,null,null,null,"personenwagens",null,null,"Bron"]
[null,null,"Totale jaarlijkse meerkost (aflossing CAPEX+OPEX+brandstofkost) -SC1","€/jaar",null,{"$f":"F48*F64","v":511992.18413722725},null,null,null,"Jaar","BEV vs benzine","BEV vs diesel","benzine","diesel","prijsverschil"]
[null,null,null,null,null,null,null,null,null,2020,{"$f":"31029-25573","v":5456},{"$f":"31029-24909","v":6120},{"$f":"K67*$M$74","v":3161.3088088004129},{"$f":"L67*$N$74","v":2382.8072137535873},{"$f":"M67+N67","v":5544.1160225540007},"[d] - p33"]
[null,"Kenmerken referentiesituatie",null,null,null,null,null,null,null,2025,{"$f":"28732-25025","v":3707},{"$f":"28732-24555","v":4177},{"$f":"K68*$M$74","v":2147.905380172861},{"$f":"L68*$N$74","v":1626.3048581452181},{"$f":"M68+N68","v":3774.2102383180791},"[d] - p34"]
[null,"Gemiddelde emissiefactoren",null,null,null,null,null,null,null,2030,{"$f":"27267-24503","v":2764},{"$f":"27267-24161","v":3106},{"$f":"K69*$M$74","v":1601.5134801180975},{"$f":"L69*$N$74","v":1209.3135957383404},2810.8270758564377,"[d] - p35"]
[null,null,"nieuwe voertuigen","ton CO2/MWh",null,{"$f":"P75","v":0.2520853815253889},null,null,null,null,null,null,null,"gemiddelde meerkost",{"$f":"AVERAGE(O67:O69)","v":4043.0511122428393},"kost voor 4 jaar TCO"]
[null,null,"nieuwe voertuigen","gr CO2/vkm",null,{"$f":"F70/3600*F73*10^15","v":153.13589192004937}]
[null,"Installatie kenmerken"]
[null,null,"Gem. EnergieConsumptieFactor (ECF)"," PJ/vkm",null,{"$f":"IF(F78=L56,L62,IF(F78=N56,N62,P62))","v":2.1869146381130176E-9},null,null,null,null,null,"Eenheid","benzine","diesel","elektrisch"]
[null,"Kosten",null,null,null,null,null,null,"We rekenen met de meerkost van de maatregel tov de referentiesituatie","Verhouding benzine en diesel",null,"%",{"$f":"IF(F78=P56,EIG!L63+EIG!M63,BAU_MOB!O58+BAU_MOB!P58)","v":0.57941876994142461},{"$f":"IF(F78=P56,EIG!E63+EIG!F63,BAU_MOB!H58+BAU_MOB!I58)","v":0.38934758394666463},{"$f":"IF(F78=P56,EIG!G63+EIG!I63+EIG!N63,BAU_MOB!J58+BAU_MOB!L58+BAU_MOB!Q58)","v":2.1768854384798936E-2}]
[null,null,null,null,null,null,null,null,null,"Emissiefactor",null,"ton CO2/MWh",{"$f":"'AA_Energieprijs&Discontovoet'!F102","v":0.249},{"$f":"'AA_Energieprijs&Discontovoet'!F101","v":0.26700000000000002},{"$f":"IF(F78=L56,BAU_ELE_EF_CO2_2030,IF(F78=N56,INV!D26,EIG!D26))","v":0.17705584446860712},{"$f":"M75*$M$74+N75*$N$74+O75*$O$74","v":0.2520853815253889}]
[null,"Algemene aannames",null,null,null,null,null,null,null,"ECF","Genummerde wegen"," PJ/vkm",{"$f":"SUMIFS(tbl_AA_ECF_Transport_2030[EnergieConsumptieFactor (PJ per km)],tbl_AA_ECF_Transport_2030[Index],\"Lichte voertuigen_genummerd_Petrol_Petrol\")","v":1.9439299899533289E-9},{"$f":"SUMIFS(tbl_AA_ECF_Transport_2030[EnergieConsumptieFactor (PJ per km)],tbl_AA_ECF_Transport_2030[Index],\"Lichte voertuigen_genummerd_Diesel_Diesel\")","v":2.0006644669440601E-9},{"$f":"SUMIFS(tbl_AA_ECF_Transport_2030[EnergieConsumptieFactor (PJ per km)],tbl_AA_ECF_Transport_2030[Index],\"Lichte voertuigen_genummerd_ELECTRIC_ELECTRIC\")","v":6.5824216087225193E-10},{"$f":"M76*$M$74+N76*$N$74+O76*$O$74","v":1.9196325778735786E-9}]
[null,"Discontovoet",null,"%",null,{"$f":"P_Discontovoet","v":0.04},null,null,null,null,"Niet-genummerde wegen"," PJ/vkm",{"$f":"SUMIFS(tbl_AA_ECF_Transport_2030[EnergieConsumptieFactor (PJ per km)],tbl_AA_ECF_Transport_2030[Index],\"Lichte voertuigen_niet-genummerd_Petrol_Petrol\")","v":3.3968703390226745E-9},{"$f":"SUMIFS(tbl_AA_ECF_Transport_2030[EnergieConsumptieFactor (PJ per km)],tbl_AA_ECF_Transport_2030[Index],\"Lichte voertuigen_niet-genummerd_Diesel_Diesel\")","v":3.0186506750845655E-9},{"$f":"SUMIFS(tbl_AA_ECF_Transport_2030[EnergieConsumptieFactor (PJ per km)],tbl_AA_ECF_Transport_2030[Index],\"Lichte voertuigen_niet-genummerd_ELECTRIC_ELECTRIC\")","v":6.5824216087225131E-10},{"$f":"M77*$M$74+N77*$N$74+O77*$O$74","v":3.1578439583601353E-9}]
[null,"Referentiesituatie",null,null,null,{"$f":"P_Maatregelen_Referentie","v":"BAU"},null,null,"Keuze via dashboard",null,"Snelwegen"," PJ/vkm",{"$f":"SUMIFS(tbl_AA_ECF_Transport_2030[EnergieConsumptieFactor (PJ per km)],tbl_AA_ECF_Transport_2030[Index],\"Lichte voertuigen_snelweg_Petrol_Petrol\")","v":2.1181267068613306E-9},{"$f":"SUMIFS(tbl_AA_ECF_Transport_2030[EnergieConsumptieFactor (PJ per km)],tbl_AA_ECF_Transport_2030[Index],\"Lichte voertuigen_snelweg_Diesel_Diesel\")","v":2.2447155163004467E-9},{"$f":"SUMIFS(tbl_AA_ECF_Transport_2030[EnergieConsumptieFactor (PJ per km)],tbl_AA_ECF_Transport_2030[Index],\"Lichte voertuigen_snelweg_ELECTRIC_ELECTRIC\")","v":6.5824216087225244E-10},2.1155861117388052E-9]
[null,"Andere"]
[]
[null,"Referenties"]
[null,"[a]","FOD Mobiliteit (Vlaanderen 2016)",null,null,null,null,null," "]
[null,"[b]","Mobiliteitsscenario's - Ronde 2 (uitgevoerd augustus 2017 i.o.v. Departement Omgeving), assumptie verbruik voor BEV in 2030: \n18 kWh/100km voor personenwagens, 25 kWh/100km voor bestelwagens",null,null,null,null,null," "]
[null,"[c]","Mobiliteitsscenario's - Ronde 2 (uitgevoerd augustus 2017 i.o.v. Departement Omgeving), energieconsumptie enkel nieuwe, conventionele benzine+diesel voertuigen in 2030 in S0 - REF-scenario\nMix in aantallen (vkm) voor personenwagens: 52% (71%) diesel + 48% (29%) benzine; voor bestelwagens: 96% (98%) diesel + 4% (2%) benzine",null,null,null,null,null," "]
[null,"[d]","Element Energy (2016). Low carbon cars in the 2020s: Consumer impacts and EU policy implications.",null,null,"https://www.beuc.eu/publications/beuc-x-2016-121_low_carbon_cars_in_the_2020s-report.pdf",null,null," "]
[null,"[e]","Mobiliteitsscenario's - Ronde 2 (uitgevoerd augustus 2017 i.o.v. Departement Omgeving), S0 - REF-scenario",null,null,null,null,null," "]

{"sheet":"LEN_PV","index":58,"n_rows":91,"n_cols":12,"rows_kept":91,"cut":false,"hidden":false,"merged":[[19,1,19,7],[5,1,5,7],[14,1,14,7],[16,1,16,7],[17,1,17,7],[18,1,18,7]]}
[null,"<< Naar Scenario's",null,null,null,null,null,null,null,null,"Berekeningen + verwijzing andere cel"]
[null,null,null,null,null,null,null,null,null,null,"Verwijzing andere tab (nulmeting/data)"]
[null,"Plaatsen van PV (daken)",null,null,null,null,null,null,"Opmerkingen",null,"Overschrijfbaar: Vaste parameters uit externe bronnen, literatuur, rebus model"]
[null,null,null,"Lokale energieproductie",null,null,null,null,null,null,"Algemene aannames, overschrijfbaar vanuit centrale dashboard"]
[null,"Beschrijving van de maatregel"]
[null,"Maatregel: De implementatie van zonnepanelen voor de opwekking van elektriciteit.\n\nDeze maatregel wordt doorgerekend op het niveau van de transformatie sector (lokale energieproductie) en bijgevolg is het niet relevant of die zonnepanelen gelegd worden op daken van huizen van de residentiële sector, tertiaire sector of (niet-ETS) industrie."]
[null,"Relatie met andere maatregelen"]
[null,"nr. maatregel",null,"maatregel"]
[null,"beschrijving (overlappend potentieel)"]
[null,"nr. maatregel",null,"maatregel"]
[null,"beschrijving (overlappend potentieel)"]
[null,"nr. maatregel",null,"maatregel"]
[null,"beschrijving (overlappend potentieel)"]
[null,"Betekenis lange termijn voor energie-/klimaattransitie"]
[null,"Een versnelde opname van grotere hoeveelheden zonne-energie zal positief bijdragen aan de klimaattransitie. De beperkingen die zich kunnen voordoen vloeien voort uit de energiemix van heel het elektriciteitsproductiepark: (1) op alle momenten is een baseload nodig om aan de elektriciteitsvraag te kunnen voldoen en (2) het elektriciteitsnet moet de hoeveelheden intermittent hernieuwbare energie aankunnen. Dit kan echter niet beschouwd worden voor één technologie alleen."]
[null,"Aannames/onzekerheden/hypothesen"]
[null,"Aanname: Alle gedefinieerde kosten zijn bepaald vanuit een maatschappelijk standpunt (excl. taksen, subsidies, etc.) en zeggen niets over de kost vanuit een actor standpunt. De kosten dienen dus ook niet als dusdanig geïnterpreteerd te worden. De maatschappelijke kost wordt enkel gebruikt om een relatieve volgorde te kunnen opmaken om te bepalen welke maatregelen vanuit maatschappelijke standpunt goedkoper zijn dan andere."]
[null,"Aanname: Het potentieel aan zonnepanelen in een specifieke gemeente wordt bepaald op basis van de gemeente specifieke cijfers van de zonnekaart [a]. Er wordt hier heel bewust gekozen om een technische potentieel weer te geven. Dit potentieel wordt uitgerukt in een vermogen (kW)."]
[null,"Aanname: om een inschatting te geven van het beschikbare en gunstige hoeveelheid dakoppervlakte in een gemeente, wordt met de technische gegevens gerekend van een gemiddeld zonnepaneel: 1 zonnepaneel is 1,64m². De literatuur bevat heel wat cijfers over de gemiddelde of installatie-specifieke opbrengst van PV. ODE Vlaanderen gaat, bijvoorbeeld, uit van een specifieke energieopbrengst van 110 kWh per m². In de studie Energielandschap Vlaanderen (i.o.v. Ruimte Vlaanderen) wordt uitgegaan van een specifieke energieopbrengst van 145 kWh per m². We gaan uit van een specifieke energieopbrengst die het midden houdt tussen de verschillende cijfers uit de literatuur, namelijk 132 kWh per m²."]
[null,"Aanname: Voor PV-panelen die geplaatst worden op een dak, corrigeren we het potentieel voor het feit dat niet het volledige dakoppervlak beschikbaar is voor installatie van PV. Hier gelden o.a. de dakconstructie, schaduweffecten en de oriëntatie t.o.v. de zon als beperkingen. We baseren ons op de vuistregel van het International Energy Agency (International Energy Agency, 2002. Potential for Building Integrated Photovoltaics. IEA Report: PVPS T7-4, Paris) dat 40% van het totale dakoppervlak geschikt is voor het plaatsen van PV-panelen. Deze 40% wordt als parameter Ht in de dynamische EnergieAtlas ingevoerd. Voor PV-panelen op niet-residentiële daken (aanname dat de meerderheid platte daken zijn) en voor grondgebonden systemen wordt een technische haalbaarheid van 55% toegepast."]
[]
[null,"Berekeningen"]
[null,"Resultaat",null,null,null,"Scenario1","Scenario2"]
[null,"totale nieuwe vergroening van elektriciteitsproductie",null,"#MWh",null,{"$f":"F47","v":14098.110609962556},{"$f":"G47","v":70490.553049812792}]
[null,"totale CO2 reductie",null,"ton CO2",null,{"$f":"F24*F69","v":2496.1528794587502},{"$f":"G24*F69","v":12480.764397293753}]
[null,"Maatschappelijke kost per ton CO2 reductie",null,"€/ton CO2",null,{"$f":"(F65-F79)/F25","v":-224.29314811155513}]
[]
[null,"Potentieel maatregel",null,"Eenheid","Jaar","Waarde",null,"Bron"]
[null,"Capaciteitsmeter: Theoretisch vermogen aan PV op lokaal niveau",null,"kW",null,{"$f":"tbl_AA_LEN_PV[potentieel vermogen (in kW)]","v":532064.05629922601}]
[null,null,null,"#m² dakopp",null,{"$f":"F31*1000/132","v":3760725.4888422564},null,"aanname"," "]
[null,"Activiteitsmeter: Theoretisch PV productie op lokaal niveau",null,"#MWh",null,{"$f":"F29*F57/1000","v":496415.76452717785},null,"[a]"]
[]
[null,"Bijkomend potentieel"]
[null,null,null,"% van potentieel dat in aanmerking komt",null,0.4,null,"aanname"]
[null,null,null,"#MWh",null,{"$f":"F31*F34","v":198566.30581087116}]
[null,null,null,"% van potentieel reeds vervuld",null,{"$f":"SUM(tbl_AA_PROD_groen[zonne-energie <= 10kW (MWh)],tbl_AA_PROD_groen[zonne-energie > 10kW (MWh)])/F31","v":5.3339853580824423E-2}]
[null,null,"Bijkomend potentieel","#MWh",null,{"$f":"F35*(1-F36)","v":187974.80813283409}]
[]
[null,"Implementatiegraad maatregel",null,null,null,"Min.","Max"]
[null,null,{"$f":"dropdowns!$R$4","v":"Niet"},null,null,1.0000000000000001E-17]
[null,null,{"$f":"dropdowns!$R$5","v":"Laag"},null,null,0,0.15,null,"aanpassen obv gemeente specifieke eigenschappen"]
[null,null,{"$f":"dropdowns!$R$6","v":"Medium"},null,null,0.15,0.3,null,"aanpassen obv gemeente specifieke eigenschappen"]
[null,null,{"$f":"dropdowns!$R$7","v":"Hoog"},null,null,0.3,0.45,null,"aanpassen obv gemeente specifieke eigenschappen"]
[]
[null,"Bijkomende implementatie",null,null,null,"Scenario1","Scenario2"]
[null,"Bijkomende invulling van potentieel",null,"% ",null,{"$f":"IF('Scenario''s'!I33=C40,F40,IF('Scenario''s'!I33=C41,AVERAGE(F41,G41),IF('Scenario''s'!I33=C42,AVERAGE(F42,G42),AVERAGE(F43,G43))))","v":7.4999999999999997E-2},{"$f":"IF('Scenario''s'!M33=C40,F40,IF('Scenario''s'!M33=C41,AVERAGE(F41,G41),IF('Scenario''s'!M33=C42,AVERAGE(F42,G42),AVERAGE(F43,G43))))","v":0.375},null,"Keuze via scenario's"]
[null,"Bijkomende invulling van potentieel",null,"#MWh",null,{"$f":"F37*F46","v":14098.110609962556},{"$f":"F37*G46","v":70490.553049812792}]
[null,null,null,"#kW theoretisch vermogen",null,{"$f":"F47*1000/F86","v":9043.0472161401904},{"$f":"G47*1000/F86","v":45215.236080700961}]
[]
[null,"Parameters"]
[null,"Kenmerken maatregel"]
[null,"Gemiddelde emissiefactoren"]
[null,null,"EF van PV","ton CO2/MWh",null,0,null,null,"Geen EF bij opwekken van zonne-energie"]
[]
[null,"Installatie kenmerken"]
[null,null,"Technische levensduur","jaar",null,15,null,"[c] - p22"]
[null,null,"Opbrengst per van installatie","kWh/kWp",null,933,null,"[a]"]
[null,"Kosten"]
[null,null,"CAPEX","€/kW",null,1420,null,"[c] - p22"]
[null,null,null,"€/ totaal (exl. Taks, premies, etc.)",null,{"$f":"F59*F48","v":12841127.04691907}]
[null,null,"Vaste OPEX","€/kW/jaar",null,22,null,"[c] - p23"]
[null,null,null,"€/totaal/jaar",null,{"$f":"F61*F48","v":198947.03875508418}]
[null,null,"Variabel OPEX (brandstofkosten)","€/kWh/jaar",null,0]
[null,null,null,"€/totaal/jaar",null,{"$f":"F63*F47*1000","v":0}]
[null,null,"Totale jaarlijkse kost (aflossing CAPEX+OPEX+brandstofkost)","€/totaal/jaar",null,{"$f":"(-PMT(F82,F56,F60))+F62+F64","v":1353892.1353584509}]
[]
[null,"Kenmerken referentiesituatie",null,null,null,null,null,null,null,null,"elektriciteitsvraag"]
[null,"Gemiddelde emissiefactoren",null,null,null,null,null,null,null,"Bron","MWh","EF_ELE"]
[null,null,"Elektrische productie","ton CO2/MWh",null,{"$f":"IF($F$83=J69,L69,IF($F$83=J70,L70,L71))","v":0.17705584446860712},null,null,null,"BAU",{"$f":"BAU_ENE!O14","v":403438.01300825871},{"$f":"BAU_TOTAAL!$Q$14","v":0.17705584446860712}]
[null,"Installatie kenmerken",null,null,null,null,null,null,null,"INV",{"$f":"INV!D24","v":400829.74869161064},{"$f":"INV!$D$26","v":0.19750015989190264}]
[null,null,"n.a.",null,null,null,null,null,null,"EIG",{"$f":"EIG!D24","v":0},{"$f":"EIG!$D$26","v":0}]
[null,"Kosten"]
[null,null,"CAPEX","€/kW",null,0,null,null,"we veronderstellen geen investeringskost voor gemeentes voor ele productie"]
[null,null,null,"€/ totaal (exl. Taks, premies, etc.)",null,{"$f":"F73*F47","v":0}]
[null,null,"Vaste Opex","€/kW/jaar",null,0]
[null,null,null,"€/totaal/jaar",null,{"$f":"F75*F48","v":0}]
[null,null,"Variabele OPEX (elektriciteitsprijs)","€/kWh",null,{"$f":"'AA_Energieprijs&Discontovoet'!F57","v":0.13574600000000001},null,null,"ele prijs voor de huishoudens, dus een overschatting voor tertiaire en industrie sector"]
[null,null,null,"€/totaal/jaar",null,{"$f":"F47*1000*F77","v":1913762.1228599772}]
[null,null,"Totale jaarlijkse kost (aflossing CAPEX+OPEX+brandstofkost)","€/totaal/jaar",null,{"$f":"F78","v":1913762.1228599772}]
[]
[null,"Algemene aannames"]
[null,"Discontovoet",null,"%",null,{"$f":"P_Discontovoet","v":0.04}]
[null,"Referentiesituatie",null,null,null,{"$f":"P_Maatregelen_Referentie","v":"BAU"},null,null,"Keuze via dashboard"]
[null,null,"jaar",null,null,{"$f":"P_Maatregelen_Jaar_Inventaris","v":2017}]
[null,"Andere"]
[null,null,"vollast (gem. Zonneschijnuren)","uren",null,{"$f":"'AA_Energieprijs&Discontovoet'!F17","v":1559}]
[]
[null,"Referenties"]
[null,"[a]","VEA, 2019. Zonnekaart",null,null,"https://www.energiesparen.be/zonnekaart",null,null," "]
[null,"[b]","Simoes et al., 2013. The JRC-EU-TIMES model: Assessing the long-term role of the SET Plan Energy technologies",null," ","https://ec.europa.eu/jrc/en/publication/eur-scientific-and-technical-research-reports/jrc-eu-times-model-assessing-long-term-role-set-plan-energy-technologies",null,null," "]
[null,"[c]","VEA, 2018. Rapport onrendabele Toppen",null,null,"https://www.energiesparen.be/sites/default/files/atoms/files/2018_1_deel1_def.pdf",null,null," "]

{"sheet":"LEN_Wind","index":59,"n_rows":92,"n_cols":12,"rows_kept":92,"cut":false,"hidden":false,"merged":[[17,1,17,7],[19,1,19,7],[5,1,5,7],[14,1,14,7],[16,1,16,7],[18,1,18,7]]}
[null,"<< Naar Scenario's",null,null,null,null,null,null,null,null,"Berekeningen + verwijzing andere cel"]
[null,null,null,null,null,null,null,null,null,null,"Verwijzing andere tab (nulmeting/data)"]
[null,"Plaatsen van onshore windturbines",null,null,null,null,null,null,"Opmerkingen",null,"Overschrijfbaar: Vaste parameters uit externe bronnen, literatuur, rebus model"]
[null,null,null,"Lokale energieproductie",null,null,null,null,null,null,"Algemene aannames, overschrijfbaar vanuit centrale dashboard"]
[null,"Beschrijving van de maatregel"]
[null,"Maatregel:  Deze technische maatregel beoogt een verhoogde elektriciteitsproductie uit windenergie op land in Vlaanderen.\n\nEen verhoging van de hoeveelheid hernieuwbare energie leidt tot een vermindering van de CO2 emissies. Bij deze maatregel kijken we meer specifiek naar een potentiële verhoging van de hoeveelheid onshore windenergie. Bij het opwekken van die onshore windenergie kunnen we een onderscheid maken tussen de grootschalige windturbines (referentiegrootte 2,3 MW per turbine) en kleinschalige turbines (referentiegrootte 300 kW per turbine). Gezien de lage rendabiliteit van de kleinschalige turbines nemen we ze niet verder in beschouwing voor de doorrekening in deze factsheet en rekenen we met de richtcijfers van grootschalige turbines.\n\nHet plaatsen van onshore windturbines is vanuit technisch perspectief relatief eenvoudig maar de installaties stuiten vaak op een negatieve perceptie door omwonende. De regelgeving voor plaatsing van windturbines vormt dan ook een stevige beperking op het theoretisch mogelijk volume op basis van grondgebied."]
[null,"Relatie met andere maatregelen"]
[null,"nr. maatregel",null,"maatregel"]
[null,"beschrijving (overlappend potentieel)"]
[null,"nr. maatregel",null,"maatregel"]
[null,"beschrijving (overlappend potentieel)"]
[null,"nr. maatregel",null,"maatregel"]
[null,"beschrijving (overlappend potentieel)"]
[null,"Betekenis lange termijn voor energie-/klimaattransitie"]
[null,"Een versnelde opname van grotere hoeveelheden windenergie zal positief bijdragen aan de klimaattransitie. De beperkingen die zich kunnen voordoen vloeien voort uit de energiemix van heel het elektriciteitsproductiepark: (1) op alle momenten is een baseload nodig om aan de elektriciteitsvraag te kunnen voldoen en (2) het elektriciteitsnet moet de hoeveelheden intermittent hernieuwbare energie aankunnen. Dit kan echter niet beschouwd worden voor één technologie alleen."]
[null,"Aannames/onzekerheden/hypothesen"]
[null,"Aanname: Alle gedefinieerde kosten zijn bepaald vanuit een maatschappelijk standpunt (excl. taksen, subsidies, etc.) en zeggen niets over de kost vanuit een actor standpunt. De kosten dienen dus ook niet als dusdanig geïnterpreteerd te worden. De maatschappelijke kost wordt enkel gebruikt om een relatieve volgorde te kunnen opmaken om te bepalen welke maatregelen vanuit maatschappelijke standpunt goedkoper zijn dan andere."]
[null,"Aanname: Vanuit een nationaal perspectief heeft de plaatsing van hernieuwbare energietechnologie (PV, Wind, etc.) een positief effect op de EF van de elektriciteitsvoorziening. De EF van Elektriciteit is hier bepaald voor het jaar 2016, om dubbeltellingen te vermijden, dienen enkel de nieuwe windmolens/windmolenparken gebouwd na 2016 onder deze maatregel doorgeteld te worden."]
[null,"Aanname: We beschouwen alleen grootschalige windturbines (referentiegrootte 2,3 MW per turbine). Voor de potentieel bepaling gaan we uit van het technische-scenario dat werd opgemaakt in het kader van de Hernieuwbare Energie Atlas voor Vlaanderen. "]
[]
[null,"Berekeningen"]
[null,"Resultaat",null,null,null,"Scenario1","Scenario2"]
[null,"totale nieuwe vergroening van elektriciteitsproductie",null,"#MWh",null,{"$f":"F47","v":14912.395420000001},{"$f":"G47","v":74561.977100000004}]
[null,"totale CO2 reductie",null,"ton CO2",null,{"$f":"F23*F69","v":2640.3267641378893},{"$f":"G23*F69","v":13201.633820689445}]
[null,"Maatschappelijke kost per ton CO2 reductie",null,"€/ton CO2",null,{"$f":"(F65-F79)/F24","v":-332.14395559731906}]
[]
[null,"Potentieel maatregel",null,"Eenheid","Jaar","Waarde",null,"Bron"]
[null,"Capaciteitsmeter: Theoretisch vermogen aan wind op lokaal niveau",null,"MW",null,{"$f":"F30/F86","v":145.48678458536585},null,null,"Te overschrijven als de cijfers van de energie atlas niet relevant zijn voor de gemeente (originele formule =F30/F86)"]
[null,null,null,"# windmolens (indicatief)",null,{"$f":"F28/F55","v":63.255123732767764}]
[null,"Activiteitsmeter: windproductiepotentieel op Vlaams niveau",null,"#MWh",null,{"$f":"tbl_EA_VL[Electriciteit_wind_grootschalig]","v":298247.90840000001},null,"[a]"]
[]
[null,"Bijkomend potentieel"]
[null,null,null,"% van potentieel dat in aanmerking komt",null,1,null,null,"Potentieel kan aangepast worden door % (bvb 150%) aan te passen als potentieel hoger wordt ingeschat door de lokale gewoonte, dan weergegeven in de Energie Atlas"]
[null,null,null,"#MW",null,{"$f":"F28*F33","v":145.48678458536585}]
[null,null,null,"% van potentieel reeds vervuld",null,0]
[null,null,"Bijkomend potentieel","#MW",null,{"$f":"F34*(1-F35)","v":145.48678458536585}]
[]
[null,"Implementatiegraad maatregel",null,null,null,"Min.","Max"]
[null,null,{"$f":"dropdowns!$R$4","v":"Niet"},null,null,1.0000000000000001E-17]
[null,null,{"$f":"dropdowns!$R$5","v":"Laag"},null,null,0,0.1,null,"aanpassen obv gemeente specifieke eigenschappen"]
[null,null,{"$f":"dropdowns!$R$6","v":"Medium"},null,null,0.1,0.2,null,"aanpassen obv gemeente specifieke eigenschappen"]
[null,null,{"$f":"dropdowns!$R$7","v":"Hoog"},null,null,0.2,0.3,null,"aanpassen obv gemeente specifieke eigenschappen"]
[]
[null,"Bijkomende implementatie",null,null,null,"Scenario1","Scenario2"]
[null,"Bijkomende invulling van potentieel",null,"% van de warmtevraag (2030)",null,{"$f":"IF('Scenario''s'!I34=C39,F39,IF('Scenario''s'!I34=C40,AVERAGE(F40,G40),IF('Scenario''s'!I34=C41,AVERAGE(F41,G41),AVERAGE(F42,G42))))","v":0.05},{"$f":"IF('Scenario''s'!M34=C39,F39,IF('Scenario''s'!M34=C40,AVERAGE(F40,G40),IF('Scenario''s'!M34=C41,AVERAGE(F41,G41),AVERAGE(F42,G42))))","v":0.25},null,"Keuze via scenario's"]
[null,"Bijkomende invulling van potentieel",null,"#MW theoretisch vermogen",null,{"$f":"F36*F45","v":7.2743392292682927},{"$f":"F36*G45","v":36.371696146341463}]
[null,null,null,"#MWh",null,{"$f":"F46*F86","v":14912.395420000001},{"$f":"G46*F86","v":74561.977100000004}]
[]
[null,"Parameters"]
[null,"Kenmerken maatregel",null,"Eenheid","Jaar","Waarde",null,"Bron"]
[null,"Gemiddelde emissiefactoren"]
[null,null,"EF van windmolens","ton CO2/MWh",null,0,null,null,"Geen EF bij opwekken van windenergie"]
[]
[null,"Installatie kenmerken"]
[null,null,"Gemiddeld vermogen referentie installatie","MW",null,2.2999999999999998,null,"[a] - p17"]
[null,null,"Technische levensduur","jaar",null,15,null,"[c] - p121"]
[]
[null,"Kosten"]
[null,null,"CAPEX","€/kW",null,1310,null,"[c] - p121"]
[null,null,null,"€/ totaal (exl. Taks, premies, etc.)",null,{"$f":"F59*F46*1000","v":9529384.3903414644}]
[null,null,"Vaste OPEX","€/kW/jaar",null,39.9,null,"[c] - p121"]
[null,null,null,"€/totaal/jaar",null,{"$f":"F61*F46*1000","v":290246.13524780486}]
[null,null,"Variabel OPEX (brandstofkosten)","€/kWh/jaar",null,0]
[null,null,null,"€/totaal/jaar",null,{"$f":"F63*F47*1000","v":0}]
[null,null,"Totale jaarlijkse kost (aflossing CAPEX+OPEX+brandstofkost)","€/totaal/jaar",null,{"$f":"(-PMT(F82,F56,F60))+F62+F64","v":1147329.4531730919}]
[]
[null,"Kenmerken referentiesituatie",null,null,null,null,null,null,null,null,"elektriciteitsvraag"]
[null,"Gemiddelde emissiefactoren",null,null,null,null,null,null,null,"Bron","MWh","EF_ELE"]
[null,null,"Elektrische productie","ton CO2/MWh",null,{"$f":"IF($F$83=J69,L69,IF($F$83=J70,L70,L71))","v":0.17705584446860712},null,null,null,"BAU",{"$f":"BAU_ENE!O14","v":403438.01300825871},{"$f":"BAU_TOTAAL!$Q$14","v":0.17705584446860712}]
[null,"Installatie kenmerken",null,null,null,null,null,null,null,"INV",{"$f":"INV!D24","v":400829.74869161064},{"$f":"INV!$D$26","v":0.19750015989190264}]
[null,null,"n.a.",null,null,null,null,null,null,"EIG",{"$f":"EIG!D24","v":0},{"$f":"EIG!$D$26","v":0}]
[null,"Kosten"]
[null,null,"CAPEX","€/kW",null,0,null,null,"we veronderstellen geen investeringskost voor gemeentes voor ele productie"]
[null,null,null,"€/ totaal (exl. Taks, premies, etc.)",null,{"$f":"F73*F47","v":0}]
[null,null,"Vaste Opex","€/kW/jaar",null,0]
[null,null,null,"€/totaal/jaar",null,{"$f":"F75*F46","v":0}]
[null,null,"Variabele OPEX (elektriciteitsprijs)","€/kWh",null,{"$f":"'AA_Energieprijs&Discontovoet'!F57","v":0.13574600000000001},null,null,"ele prijs voor de huishoudens, dus een overschatting voor tertiaire en industrie sector"]
[null,null,null,"€/totaal/jaar",null,{"$f":"F47*1000*F77","v":2024298.0286833202}]
[null,null,"Totale jaarlijkse kost (aflossing CAPEX+OPEX+brandstofkost)","€/totaal/jaar",null,{"$f":"F78","v":2024298.0286833202}]
[]
[null,"Algemene aannames"]
[null,"Discontovoet",null,"%",null,{"$f":"P_Discontovoet","v":0.04}]
[null,"Referentiesituatie",null,null,null,{"$f":"P_Maatregelen_Referentie","v":"BAU"},null,null,"Keuze via dashboard"]
[null,null,"jaar",null,null,{"$f":"P_Maatregelen_Jaar_Inventaris","v":2017}]
[null,"Andere"]
[null,null,"vollasturen","uren",null,2050,null,"[a] - p17"]
[]
[]
[null,"Referenties"]
[null,"[a]","Van Esch et al., 2016. Hernieuwbare Energie Atlas Vlaamse gemeenten",null,null,"https://www.lne.be/sites/default/files/atoms/files/Hernieuwbare_atlas_Vlaamse_gemeenten_finaal_v20160921.pdf",null,null," "]
[null,"[b]","Simoes et al., 2013. The JRC-EU-TIMES model: Assessing the long-term role of the SET Plan Energy technologies",null,null,"https://ec.europa.eu/jrc/en/publication/eur-scientific-and-technical-research-reports/jrc-eu-times-model-assessing-long-term-role-set-plan-energy-technologies",null,null," "]
[null,"[c]","VEA 2017. Deel 1: Rapport OT/Bf voor projecten met een startdatum vanaf 1 januari 2018     \n",null,null,"https://www.energiesparen.be/sites/default/files/atoms/files/Rapport-OT-Bf-deel1-2017.pdf",null,null," "]

{"sheet":"LB_HER_WP","index":60,"n_rows":100,"n_cols":23,"rows_kept":100,"cut":false,"hidden":false,"merged":[[20,1,20,7],[5,1,5,7],[14,1,14,7],[16,1,16,7],[17,1,17,7],[18,1,18,7],[19,1,19,7]]}
[null,"<< Naar Scenario's",null,null,null,null,null,null,null,null,"Berekeningen + verwijzing andere cel"]
[null,null,null,null,null,null,null,null,null,null,"Verwijzing andere tab (nulmeting/data)"]
[null,"Plaatsen van een warmtepomp",null,null,null,null,null,null,"Opmerkingen",null,"Overschrijfbaar: Vaste parameters uit externe bronnen, literatuur, rebus model"]
[null,null,null,"Landbouw",null,null,null,null,null,null,"Algemene aannames, overschrijfbaar vanuit centrale dashboard"]
[null,"Beschrijving van de maatregel"]
[null,"Maatregel: De implementatie van warmtepompen in de landbouw sector voor de productie van warm water en ruimteverwarming.\n\nOm de implementatie van de diverse warmtepompen te versnellen tot het niveau van het maximum technische potentieel, dient men zich bewust te zijn van een aantal barrières die vlotte introductie kunnen belemmeren. De ontwikkeling van de lage temperatuur warmtepomp als (geloof)waardig alternatief hangt nauw samen met 3 andere maatregelen: (1) hernieuwbaar maken van de elektriciteitsproductie; (2) goed isoleren van de bedrijfspanden/warmte processen en (3) overgaan van een hoge temperatuur distributiesysteem naar een lage temperatuur distributiesysteem.  Het risico dat de warmtepomp niet de gewenste uitstootreductie haalt is bij het falen van één van voorgaande elementen veel groter dan het risico inherent aan de technologie zelf [a]. Men mag bij de uitrol van deze maatregel deze 3 elementen niet uit het oog verliezen. Vaak volstaat het om bepaalde barrières uit de weg te werken om het succes van de warmtepomp te versnellen. \n"]
[null,"Relatie met andere maatregelen"]
[null,"nr maatregel",null,"maatregel"]
[null,"beschrijving (overlappend potentieel)"]
[null,"nr maatregel",null,"maatregel"]
[null,"beschrijving (overlappend potentieel)"]
[null,"nr maatregel",null,"maatregel"]
[null,"beschrijving (overlappend potentieel)"]
[null,"Betekenis lange termijn voor energie-/klimaattransitie"]
[null,"Warmtepompen zijn een hernieuwbare warmtetechniek die in rechtstreekse concurrentie komt met een aantal andere hernieuwbare warmtetechnieken (WKK, biomassaketels, warmtenetten, etc.). De shift van fossiel naar hernieuwbaar kan beleidsmatig ondersteund worden, maar men dient toch op te letten niet de keuze tussen verschillende hernieuwbare technieken op te leggen. Het zou beter zijn een beleid te ontwikkelen die zich eerder toespitst op de verduurzaming en efficiënter maken van industriële processen, eerder dan het naar voorschuiven/ondersteunen van één specifieke alternatieve warmtetechnologie. Het beleid voor de maatregel 'warmtepomp' zou dus beter geïntegreerd worden in een beleid waarbij de alternatieve en duurzame warmtetechnieken worden ondersteund zonder vanuit het beleid de technologiekeuze op te leggen."]
[null,"Aannames/onzekerheden/hypothesen"]
[null,"Aanname: Alle gedefinieerde kosten zijn bepaald vanuit een maatschappelijk standpunt (exl. taksen, subsidies, etc.) en zeggen niets over de kost vanuit een actor standpunt. De kosten dienen dus ook niet als dusdanig geïnterpreteerd te worden. De maatschappelijke kost wordt enkel gebruikt om een relatieve volgorde te kunnen opmaken om te bepalen welke maatregelen vanuit maatschappelijke standpunt goedkoper zijn dan andere."]
[null,"Aanname: we weten dat het technische potentieel niet voor elk landbouwbedrijf dezelfde is. De landbouw specifieke activiteiten bepalen in welke mate de toepasbaarheid van een warmtepomp haalbaar is (betaalbaar is). De gedefinieerde technisch potentieel dient dan ook gelezen te worden als een bovengrens."]
[null,"Aanname: WP zijn enkel relevant in serres, dus heeft enkel een invloed op het deel van de warmtevraag afkomstig van de sierteelt onder glas (6%) en groenten onder glas (40%) [a]."]
[null,"Aanname: Er kunnen diverse types van warmtepompen worden ingezet, zowel elektrisch aangedreven, hybride als gas warmtepompen. We rekenen hier enkel verder met elektrische aangedreven warmtepompen."]
[null,"Aanname: Er bestaan Grond/Water, Lucht/Water en Lucht/Lucht warmtepompen, elk met hun specifieke eigenschappen. We rekenen hier voor de eenvoud enkel verder met de kenmerken van een 'gemiddelde' installatie gebaseerd op de feitelijke cijfers en generieke parameters van de tertiaire sector bij gebrek aan gedetailleerde info over warmtepompen in de landbouwsector."]
[]
[null,"Berekeningen"]
[null,"Resultaat",null,null,null,"Scenario1","Scenario2"]
[null,"totale besparing",null,"MWh",null,{"$f":"F46*F74-F46*F54","v":386.4719265014985},{"$f":"G46*F74-G46*F54","v":901.76782850349628}]
[null,"totale CO2 reductie",null,"ton CO2",null,{"$f":"F46*F74*F71-F46*F54*F52","v":110.59984862347436},{"$f":"G46*F74*F71-G46*F54*F52","v":258.06631345477342}]
[null,"Maatschappelijke kost per ton CO2 reductie",null,"€/ton CO2",null,{"$f":"(F67-F83)/LB_HER_WP_REDCO2_1","v":241.74242267418009}]
[]
[null,"Potentieel maatregel",null,"Eenheid","Jaar","Waarde",null,"Bron"]
[]
[null,"Activiteitsmeter: Warmtegebruik in landbouw sector",null,"MWh",null,{"$f":"IF(F91=J71,(K71/F74),IF(F91=J72,(K72/F74),(K73/F74)))","v":5809.7781447882953}]
[null,"Bijkomend potentieel"]
[null,null,null,"% van #MWh komen in aanmerking",null,0.46,null,"[d] - p9"]
[null,null,null,"#MWh",null,{"$f":"F31*F33","v":2672.4979466026161}]
[null,null,null,"% van potentieel reeds vervuld",null,0]
[null,null,"Bijkomend potentieel","#MWh",null,{"$f":"F34*(1-F35)","v":2672.4979466026161}]
[]
[null,"Implementatiegraad maatregel",null,null,null,"Min.","Max"]
[null,null,{"$f":"dropdowns!$R$4","v":"Niet"},null,null,1.0000000000000001E-17]
[null,null,{"$f":"dropdowns!$R$5","v":"Laag"},null,null,0.1,0.2,null,"aanpassen obv gemeente specifieke eigenschappen"]
[null,null,{"$f":"dropdowns!$R$6","v":"Medium"},null,null,0.2,0.3,null,"aanpassen obv gemeente specifieke eigenschappen"]
[null,null,{"$f":"dropdowns!$R$7","v":"Hoog"},null,null,0.3,0.4,null,"aanpassen obv gemeente specifieke eigenschappen"]
[]
[null,"Bijkomende implementatie",null,null,null,"Scenario1","Scenario2"]
[null,"Bijkomende invulling van potentieel",null,"% van de warmtevraag (2030)",null,{"$f":"IF('Scenario''s'!I35=C39,F39,IF('Scenario''s'!I35=C40,AVERAGE(F40,G40),IF('Scenario''s'!I35=C41,AVERAGE(F41,G41),AVERAGE(F42,G42))))","v":0.15000000000000002},{"$f":"IF('Scenario''s'!M35=C39,F39,IF('Scenario''s'!M35=C40,AVERAGE(F40,G40),IF('Scenario''s'!M35=C41,AVERAGE(F41,G41),AVERAGE(F42,G42))))","v":0.35},null,"Keuze via scenario's"]
[null,"Bijkomende invulling van potentieel",null,"#MWh",null,{"$f":"F36*F45","v":400.87469199039248},{"$f":"F36*G45","v":935.37428131091553}]
[null,null,null,"#kW theoretisch vermogen",null,{"$f":"F46/F56*1000","v":215.79175966356527},{"$f":"G46/F56*1000","v":503.51410588165226}]
[]
[null,"Parameters"]
[null,"Kenmerken maatregel",null,"Eenheid","Jaar","Waarde",null,"Bron"]
[null,"Gemiddelde emissiefactoren (2030)"]
[null,null,"Gebruik warmtepomp (elektrische)","ton CO2/MWh",null,{"$f":"IF(F91=J71,W71,IF(F91=J72,W72,W73))","v":0.17705584446860712}]
[null,"Installatie kenmerken",null,null,null,null,null,null,null,null,null,"G/W","L/W","L/L","Gem"]
[null,null,"gem. rendement WP","Input/Output",null,{"$f":"1/F55","v":0.28820269200316706},null,null,null,"verdeling per type WP",null,0.37,0.24,0.3,null,"aannames [a]"]
[null,null,"SPF",null,null,{"$f":"O57","v":3.4697802197802199},null,null,null,"CAPEX","€/kW",1924.48,1485.33,1244.1099999999999,{"$f":"(L55*$L$54+M55*$M$54+N55*$N$54)/SUM($L$54:$N$54)","v":1584.3624175824175},"[c] - p145"]
[null,null,"HHP","uren",null,{"$f":"O59","v":1857.6923076923078},null,null,null,"OPEX","€/kW/jaar",96.22,74.27,62.21,{"$f":"(L56*$L$54+M56*$M$54+N56*$N$54)/SUM($L$54:$N$54)","v":79.2189010989011},"[c] - p145"]
[null,null,"Gem vermogen warmtepomp",null,null,null,null,null,null,"Rendement: SPF",null,4.3499999999999996,3.2,2.6,{"$f":"(L57*$L$54+M57*$M$54+N57*$N$54)/SUM($L$54:$N$54)","v":3.4697802197802199},"[a] - p 16"]
[null,null,"Technische levensduur","jaar",null,{"$f":"O58","v":17.032967032967033},null,null,null,"levensduur","jaar",20,15,15,{"$f":"(L58*$L$54+M58*$M$54+N58*$N$54)/SUM($L$54:$N$54)","v":17.032967032967033},"[c] - p145"]
[null,null,null,null,null,null,null,null,null,"HHP","uren",2070,1640,1770,{"$f":"(L59*$L$54+M59*$M$54+N59*$N$54)/SUM($L$54:$N$54)","v":1857.6923076923078},"[a] - p 13"]
[null,"Kosten"]
[null,null,"CAPEX","€/kW",null,{"$f":"O55","v":1584.3624175824175}]
[null,null,null,"€/ totaal (ex. Taks, premies, etc.)",null,{"$f":"F61*F47","v":341892.35403493029}]
[null,null,"Vaste OPEX","€/kW/jaar",null,{"$f":"O56","v":79.2189010989011}]
[null,null,null,"€/totaal/jaar",null,{"$f":"F63*F47","v":17094.786066745812}]
[null,null,"Variable OPEX (brandstofkosten)","€/kWh/jaar",null,{"$f":"'AA_Energieprijs&Discontovoet'!F63/1000","v":0.11486199999999999}]
[null,null,null,"€/totaal/jaar",null,{"$f":"F65*1000*F46*F54","v":13270.370442747242}]
[null,null,"Totale jaarlijkse kost (aflossing CAPEX+OPEX+brandstofkost)","€/totaal/jaar",null,{"$f":"(-PMT(F90,F58,F62))+F64+F66","v":58429.945484303593}]
[]
[null,"Kenmerken referentiesituatie",null,null,null,null,null,null,null,null,"Brandstofgebruik (warmtevraag)","Verdeling van de fossiele industriële energievectoren voor verwarming (obv het gekozen referentiejaar)",null,null,null,null,null,null,null,null,null,"Emissiefactoren"]
[null,"Gemiddelde emissiefactoren",null,null,null,null,null,null,null,"Bron","MWh","Elektriciteit","Warmte/ Koude","Aardgas","Vloeibaar gas","Stookolie","Diesel","Benzine","Bruinkool","Steenkool","Rest","EF_verw","EF_ELE"]
[null,null,"SWW en verwarming","ton CO2/MWh",null,{"$f":"IF($F$91=J71,V71,IF($F$91=J72,V72,V73))","v":0.26106442524742746},null,null,null,"BAU",{"$f":"SUM(BAU_LBO!I13:I28)","v":7275.4361143343467},null,{"$f":"BAU_LBO!I13/$K$71","v":0},{"$f":"BAU_LBO!I15/$K$71","v":0.1671163606542426},{"$f":"BAU_LBO!I16/$K$71","v":6.7678187916916264E-3},{"$f":"BAU_LBO!I17/$K$71","v":0.76637212582279113},{"$f":"BAU_LBO!I18/$K$71","v":0},{"$f":"BAU_LBO!I19/$K$71","v":0},{"$f":"BAU_LBO!I20/$K$71","v":0},{"$f":"BAU_LBO!I21/$K$71","v":5.9743694731274624E-2},{"$f":"100%-SUM(L71:T71)","v":0},{"$f":"SUMPRODUCT(M71:T71,$M$74:$T$74)/SUM(M71:T71)","v":0.26106442524742746},{"$f":"BAU_TOTAAL!$Q$14","v":0.17705584446860712}]
[null,null,"Elektrische verwarming","ton CO2/MWh",null,{"$f":"IF($F$91=J71,W71,IF($F$91=J72,W72,W73))","v":0.17705584446860712},null,null,null,"INV",{"$f":"INV!S19-INV!D19","v":7275.4361143343467},null,{"$f":"INV!E19/$K72","v":0},{"$f":"INV!F19/$K72","v":0.1671163606542426},{"$f":"INV!G19/$K72","v":6.7678187916916264E-3},{"$f":"INV!H19/$K72","v":0.76637212582279113},{"$f":"INV!I19/$K72","v":0},{"$f":"INV!J19/$K72","v":0},{"$f":"INV!K19/$K72","v":0},{"$f":"INV!L19/$K72","v":5.9743694731274624E-2},{"$f":"100%-SUM(L72:T72)","v":0},{"$f":"SUMPRODUCT(M72:T72,$M$74:$T$74)/SUM(M72:T72)","v":0.26106442524742746},{"$f":"INV!$D$26","v":0.19750015989190264}]
[null,"Installatie kenmerken",null,null,null,null,null,null,null,"EIG",{"$f":"SUM(EIG!E19:R19)","v":0},null,{"$f":"EIG!E19/$K$73","v":{"$error":"#DIV/0!"}},{"$f":"EIG!F19/$K$73","v":{"$error":"#DIV/0!"}},{"$f":"EIG!G19/$K$73","v":{"$error":"#DIV/0!"}},{"$f":"EIG!H19/$K$73","v":{"$error":"#DIV/0!"}},{"$f":"EIG!I19/$K$73","v":{"$error":"#DIV/0!"}},{"$f":"EIG!J19/$K$73","v":{"$error":"#DIV/0!"}},{"$f":"EIG!K19/$K$73","v":{"$error":"#DIV/0!"}},{"$f":"EIG!L19/$K$73","v":{"$error":"#DIV/0!"}},{"$f":"100%-SUM(L73:T73)","v":{"$error":"#DIV/0!"}},{"$f":"SUMPRODUCT(M73:T73,$M$74:$T$74)/SUM(M73:T73)","v":{"$error":"#DIV/0!"}},{"$f":"EIG!$D$26","v":0}]
[null,null,"gem. rendement fossiele installatie - SWW en verwarming","Input/Output",null,{"$f":"IF(F91=J71,(N71*'AA_Energieprijs&Discontovoet'!$F$43+O71*'AA_Energieprijs&Discontovoet'!$F$44+P71*'AA_Energieprijs&Discontovoet'!$F$45)/SUM(N71:P71),IF(F91=J72,(N72*'AA_Energieprijs&Discontovoet'!$F$43+O72*'AA_Energieprijs&Discontovoet'!$F$44+P72*'AA_Energieprijs&Discontovoet'!$F$45)/SUM(N72:P72),(N73*'AA_Energieprijs&Discontovoet'!$F$43+O73*'AA_Energieprijs&Discontovoet'!$F$44+P73*'AA_Energieprijs&Discontovoet'!$F$45)/SUM(N73:P73)))","v":1.2522743438767676},null,null,null,"EF_vector",null,null,{"$f":"BAU_TOTAAL!$Q$15","v":0.23764705882352966},{"$f":"'AA_Energieprijs&Discontovoet'!$F$98","v":0.20200000000000001},{"$f":"'AA_Energieprijs&Discontovoet'!$F$99","v":0.22700000000000001},{"$f":"'AA_Energieprijs&Discontovoet'!$F$100","v":0.26700000000000002},{"$f":"'AA_Energieprijs&Discontovoet'!$F$101","v":0.26700000000000002},{"$f":"'AA_Energieprijs&Discontovoet'!$F$102","v":0.249},{"$f":"'AA_Energieprijs&Discontovoet'!$F$103","v":0.35099999999999998},{"$f":"'AA_Energieprijs&Discontovoet'!$F$104","v":0.35399999999999998}]
[null,null,"gem. Technische levensduur","jaar",null,{"$f":"IF(F91=J71,(N71*'AA_Energieprijs&Discontovoet'!$F$51+O71*'AA_Energieprijs&Discontovoet'!$F$52+P71*'AA_Energieprijs&Discontovoet'!$F$53)/SUM(N71:P71),IF(F91=J72,(N72*'AA_Energieprijs&Discontovoet'!$F$51+O72*'AA_Energieprijs&Discontovoet'!$F$52+P72*'AA_Energieprijs&Discontovoet'!$F$53)/SUM(N72:P72),(N73*'AA_Energieprijs&Discontovoet'!$F$51+O73*'AA_Energieprijs&Discontovoet'!$F$52+P73*'AA_Energieprijs&Discontovoet'!$F$53)/SUM(N73:P73)))","v":19.999999999999996}]
[null,"Kosten"]
[null,null,"CAPEX","€/kW",null,{"$f":"IF(F91=J71,(N71*'AA_Energieprijs&Discontovoet'!$F$26+O71*'AA_Energieprijs&Discontovoet'!$F$27+P71*'AA_Energieprijs&Discontovoet'!$F$28)/SUM(N71:P71),IF(F91=J72,(N72*'AA_Energieprijs&Discontovoet'!$F$26+O72*'AA_Energieprijs&Discontovoet'!$F$27+P72*'AA_Energieprijs&Discontovoet'!$F$28)/SUM(N72:P72),(N73*'AA_Energieprijs&Discontovoet'!$F$26+O73*'AA_Energieprijs&Discontovoet'!$F$27+P73*'AA_Energieprijs&Discontovoet'!$F$28)/SUM(N73:P73)))","v":204.89722187335838}]
[null,null,null,"€/ totaal (exl. Taks, premies, etc.)",null,{"$f":"F77*F47","v":44215.132058227959}]
[null,null,"Vaste Opex","€/kW/jaar",null,{"$f":"IF(F91=J71,(N71*'AA_Energieprijs&Discontovoet'!$F$34+O71*'AA_Energieprijs&Discontovoet'!$F$35+P71*'AA_Energieprijs&Discontovoet'!$F$36)/SUM(N71:P71),IF(F91=J72,(N72*'AA_Energieprijs&Discontovoet'!$F$34+O72*'AA_Energieprijs&Discontovoet'!$F$35+P72*'AA_Energieprijs&Discontovoet'!$F$36)/SUM(N72:P72),(N73*'AA_Energieprijs&Discontovoet'!$F$34+O73*'AA_Energieprijs&Discontovoet'!$F$35+P73*'AA_Energieprijs&Discontovoet'!$F$36)/SUM(N73:P73)))","v":11.129598007825212}]
[null,null,null,"€/totaal/jaar",null,{"$f":"F79*F47","v":2401.6755384567132}]
[null,null,"Variabele OPEX (Brandstofprijzen)","€/kWh/jaar",null,{"$f":"IF(F91=J71,(N71*'AA_Energieprijs&Discontovoet'!$F$64+O71*'AA_Energieprijs&Discontovoet'!$F$65+P71*'AA_Energieprijs&Discontovoet'!$F$66)/SUM(N71:P71),IF(F91=J72,(N72*'AA_Energieprijs&Discontovoet'!$F$64+O72*'AA_Energieprijs&Discontovoet'!$F$65+P72*'AA_Energieprijs&Discontovoet'!$F$66)/SUM(N72:P72),(N73*'AA_Energieprijs&Discontovoet'!$F$64+O73*'AA_Energieprijs&Discontovoet'!$F$65+P73*'AA_Energieprijs&Discontovoet'!$F$66)/SUM(N73:P73)))/1000","v":5.1868334017035181E-2}]
[null,null,null,"€/totaal/jaar",null,{"$f":"F81*1000*F46*F74","v":26038.167784354722}]
[null,null,"Totale jaarlijkse kost (aflossing CAPEX+OPEX+brandstofkost)","€/totaal/jaar",null,{"$f":"(-PMT(F90,F75,F78))+F80+F82","v":31693.270130667319}]
[]
[null,"Algemene aannames"]
[null,"Graaddagen (15/15)"]
[null,null,"Referentiejaar",null,{"$f":"F92","v":2017},{"$f":"VLOOKUP(E87+0,'AA_Energieprijs&Discontovoet'!E8:F16,2,FALSE)","v":1776}]
[null,null,2030,null,2030,{"$f":"'AA_Energieprijs&Discontovoet'!F16","v":1870}]
[null,null,"Elasticiteit",null,null,0.46]
[null,"Discontovoet",null,"%",null,{"$f":"P_Discontovoet","v":0.04}]
[null,"Referentiesituatie",null,null,null,{"$f":"P_Maatregelen_Referentie","v":"BAU"},null,null,"Keuze via dashboard"]
[null,null,"jaar",null,null,{"$f":"P_Maatregelen_Jaar_Inventaris","v":2017}]
[null,"Andere"]
[]
[null,"Referenties"]
[null,"[a]","VEA, 2017. Steunpunt energie: nota potentieel 2030 warmtepompen",null,null,"http://www.energiesparen.be/sites/default/files/atoms/files/Potentieel_warmtepompen_2030.pdf",null,null," "]
[null,"[b]","Vlaamse regering, 2018. Ontwerp Vlaams Energieplan 2021-2030",null,null,"http://docs.vlaamsparlement.be/pfile?id=1418105",null,null," "]
[null,"[c]","Simoes et al., 2013. The JRC-EU-TIMES model: Assessing the long-term role of the SET Plan Energy technologies",null,null,"https://ec.europa.eu/jrc/en/publication/eur-scientific-and-technical-research-reports/jrc-eu-times-model-assessing-long-term-role-set-plan-energy-technologies",null,null," "]
[null,"[d]","Gysen, L., 2019. Klimaat en emissies, aanpak vanuit land- en tuinbouw",null,null,"http://docs.vlaamsparlement.be/pfile?id=1183721",null,null," "]
[null,"[e]","AFDA, 2016. Heat Pumps in Agriculture",null,null,"https://www.teagasc.ie/media/website/publications/2016/08.-Heat-Pumps.pdf",null,null," "]

{"sheet":"LB_HER_PocV","index":61,"n_rows":104,"n_cols":23,"rows_kept":104,"cut":false,"hidden":false,"merged":[[5,1,5,7],[14,1,14,7],[16,1,16,7],[22,1,22,7],[17,1,17,7],[18,1,18,7],[19,1,19,7],[20,1,20,7],[21,1,21,7]]}
[null,"<< Naar Scenario's",null,null,null,null,null,null,null,null,"Berekeningen + verwijzing andere cel"]
[null,null,null,null,null,null,null,null,null,null,"Verwijzing andere tab (nulmeting/data)"]
[null,"Plaatsen van pocketvergisters mest (runderen)",null,null,null,null,null,null,"Opmerkingen",null,"Overschrijfbaar: Vaste parameters uit externe bronnen, literatuur, rebus model"]
[null,null,null,"Landbouw",null,null,null,null,null,null,"Algemene aannames, overschrijfbaar vanuit centrale dashboard"]
[null,"Beschrijving van de maatregel"]
[null,"Maatregel: De implementatie van pocketvergisters op basis van rundermest in de landbouwsector voor warmte en elektriciteitsproductie.\n\nBiogas geproduceerd via kleinschalige vergisting of pocketvergisting kan een landbouwbedrijf voorzien van energie afkomstig uit bedrijfseigen biomassa. Niet alleen kan er zo zelf energie geproduceerd worden, deze technologie maakt het ook mogelijk om een aantal broeikasgasemissies (methaan en lachgas) op het bedrijf te reduceren. Deze broeikasgas emissies kunnen gereduceerd worden door enerzijds het uitsparen van aardgas door vervanging van biogas (uit pocketvergisters), als de emissie reductie van mest uit de runderstallen."]
[null,"Relatie met andere maatregelen"]
[null,"nr maatregel",null,"maatregel"]
[null,"beschrijving (overlappend potentieel)"]
[null,"nr maatregel",null,"maatregel"]
[null,"beschrijving (overlappend potentieel)"]
[null,"nr maatregel",null,"maatregel"]
[null,"beschrijving (overlappend potentieel)"]
[null,"Betekenis lange termijn voor energie-/klimaattransitie"]
[null,"Elke directe verwerking van organische afvalstromen die vlak bij de bron van productie kan verwerkt en gevaloriseerd worden, vermijdt eveneens indirecte uitstoot bij gecentraliseerde oplossingen (BKG uitstoot bij opslag mest, transport, etc.).\nHet gebruik van pocketvergisters kan op lange termijn niet enkel van belang zijn in de melkveesector, maar ook in andere landbouwsectoren. Er wordt op heden een pocketvergister getest in de varkenssector. Afhankelijk van de resultaten kan er hier ook een potentieel aangeboord worden van +/- 189 installaties tegen 2030 [a]. Dit potentieel wordt voorlopig niet meegenomen in deze berekening. Er zijn ook bepaalde oogstresten die eventueel op termijn als bron kunnen dienen voor co-vergisting: mits de juiste voorbehandeling (vb preiresten). Deze reststromen worden voorlopig niet meegenomen in de bepaling van het technische potentieel gezien ze nog in onderzoeksfase zitten."]
[null,"Aannames/onzekerheden/hypothesen"]
[null,"Aanname: Alle gedefinieerde kosten zijn bepaald vanuit een maatschappelijk standpunt (exl. taksen, subsidies, etc.) en zeggen niets over de kost vanuit een actor standpunt. De kosten dienen dus ook niet als dusdanig geïnterpreteerd te worden. De maatschappelijke kost wordt enkel gebruikt om een relatieve volgorde te kunnen opmaken om te bepalen welke maatregelen vanuit maatschappelijke standpunt goedkoper zijn dan andere."]
[null,"Aanname: Enkel de energie gerelateerde broeikasgasbesparing wordt hier meegerekend. Door een beter mestbeheer en verwerking in pocketvergisters zal niet-energetische emissies van methaan en lachgas ook reduceren. Deze besparingen worden hier niet in rekening gebracht. Deze emissies vallen ook niet onder de definitie van het burgemeester convenant."]
[null,"Aanname: De economische winsten van de productie van elektriciteit in een micro-WKK zitten in de besparing van geen elektriciteit te moeten aankopen. Er wordt dus verondersteld dat alle zelf geproduceerde elektriciteit op de eigen site wordt gebruikt."]
[null,"Aanname: We gaan ervan uit dat mest/landbouwafval voor de pocketvergisters geen kostprijs hebben, gezien deze op het landbouwbedrijf zelf worden verzameld en gebruikt."]
[null,"Aanname: Voor de bepaling van de CAPEX kost worden niet enkel de vergister en micro-WKK gevaloriseerd, maar ook de noodzakelijke stalaanpassingen."]
[null,"Aanname: Voor de potentieel bepaling gaan we uit van het REV2030-scenario dat werd opgemaakt in het kader van de Hernieuwbare Energie Atlas voor Vlaanderen. In het REV2030-scenario wordt het potentieel aan hernieuwbare energieproductie voor 2030 ingeschat, gegeven de huidige context en beleidsmaatregelen. De beperkingen in de ruimte zijn conform de huidige (beleids)context."]
[]
[null,"Berekeningen"]
[null,"Resultaat",null,null,null,"Scenario1","Scenario2"]
[null,"totale besparing",null,"MWh",null,{"$f":"F47*F78+F48-F48*F57","v":5.7029808137051461},{"$f":"G47*F78+G48-G48*F57","v":9.1247693019282323}]
[null,"totale CO2 reductie",null,"ton CO2",null,{"$f":"(F47*F78*F75+F48*F76*1)-(F47*F57*F54+F48*F56*F54)","v":5.5185386970951855},{"$f":"(G47*F78*F75+G48*F76*1)-(G47*F57*F54+G48*F56*F54)","v":8.8296619153522986}]
[null,"Maatschappelijke kost per ton CO2 reductie",null,"€/ton CO2",null,{"$f":"(F71-F87)/F27","v":128.10723049968598}]
[]
[null,"Potentieel maatregel",null,"Eenheid","Jaar","Waarde",null,"Bron"]
[]
[null,"Activiteitsmeter: Warmtegebruik in landbouw sector",null,"#MWh (th)",null,{"$f":"IF(F95=J76,(K76/F78),IF(F95=J77,(K77/F78),(K78/F78)))","v":5809.7781447882953}]
[]
[null,"Bijkomend potentieel"]
[null,null,null,"#MWh(th)",null,{"$f":"tbl_EA_VL[Warmte_pocketvergister]","v":19.7866}]
[null,null,null,"% van potentieel reeds vervuld",null,0,null,null,"enkel het fossiele verbruik is meegenomen."]
[null,null,"Bijkomend potentieel","#MWh",null,{"$f":"F35*(1-F36)","v":19.7866}]
[]
[null,"Implementatiegraad maatregel",null,null,null,"Min.","Max"]
[null,null,{"$f":"dropdowns!$R$4","v":"Niet"},null,null,1.0000000000000001E-17]
[null,null,{"$f":"dropdowns!$R$5","v":"Laag"},null,null,0.5,0.75,null,"aanpassen obv gemeente specifieke eigenschappen"]
[null,null,{"$f":"dropdowns!$R$6","v":"Medium"},null,null,0.75,1,null,"aanpassen obv gemeente specifieke eigenschappen"]
[null,null,{"$f":"dropdowns!$R$7","v":"Hoog"},null,null,1,1,null,"aanpassen obv gemeente specifieke eigenschappen"]
[]
[null,"Bijkomende implementatie",null,null,null,"Scenario1","Scenario2"]
[null,"Bijkomende invulling van potentieel",null,"% van de warmtevraag (2030)",null,{"$f":"IF('Scenario''s'!I36=C40,F40,IF('Scenario''s'!I36=C41,AVERAGE(F41,G41),IF('Scenario''s'!I36=C42,AVERAGE(F42,G42),AVERAGE(F43,G43))))","v":0.625},{"$f":"IF('Scenario''s'!M36=C40,F40,IF('Scenario''s'!M36=C41,AVERAGE(F41,G41),IF('Scenario''s'!M36=C42,AVERAGE(F42,G42),AVERAGE(F43,G43))))","v":1},null,"Keuze via scenario's"]
[null,"Bijkomende invulling van potentieel",null,"#MWh(th)",null,{"$f":"F37*F46","v":12.366624999999999},{"$f":"F37*G46","v":19.7866}]
[null,null,null,"#MWh(e)",null,{"$f":"F47/K57*K56","v":8.3340298913043469},{"$f":"G47/K57*K56","v":13.334447826086956}]
[null,null,null,"#kW(e) theoretisch vermogen",null,{"$f":"F48*1000/$F$59","v":1.1575041515700482},{"$f":"G48*1000/$F$59","v":1.8520066425120774}]
[]
[null,"Parameters"]
[null,"Kenmerken maatregel",null,"Eenheid","Jaar","Waarde",null,"Bron"]
[null,"Gemiddelde emissiefactoren (2030)"]
[null,null,"Gebruik vergister","ton CO2/MWh",null,0]
[null,"Installatie kenmerken"]
[null,null,"gem. rendement WKK ele","Input/Output",null,{"$f":"1/K56","v":3.2258064516129035},null,null,null,"rendement ele",0.31,"[a] - p26"]
[null,null,"gem. rendement WKK th","Input/Output",null,{"$f":"1/K57","v":2.1739130434782608},null,null,null,"rendement th",0.46,"[a] - p26"]
[null,null,"Technische levensduur","jaar",null,10,null,"[b] - p106"]
[null,null,"Gem. aantal draaiuren","uren",null,7200,null,"[d] - p15"]
[null,null,"Gem. installatiegrootte pocketvergister","kW",null,10,null,"[c]; [e]"]
[]
[null,"Kosten",null,null,null,null,null,null,null,"Kostprijs stal aanpassingen ",null,"[c]"]
[null,null,"CAPEX","€/kWe",null,{"$f":"102500/F60+J67/F60","v":13345.933333333334},null,"[c]; [d] - p15; [e]",null,128937,"referentie","Traditionele kelder"]
[null,null,null,"€/ totaal (exl. Taks, premies, etc.)",null,{"$f":"F63*F49","v":15447.973239910425},null,null,null,180430,"aanpassing","Volle vloer + mestschuif"]
[null,null,"Vaste OPEX","€/kW/jaar",null,{"$f":"(F63-(J67/F60))*5%","v":512.5},null,"[b] - p 106; [c]",null,133016,"aanpassing","Ondiepe kelder 1m diep"]
[null,null,null,"€/totaal/jaar",null,{"$f":"F65*F49","v":593.22087767964967},null,null,null,166243,"aanpassing","Volle vloer + mestschuif+kelder onder stal 1,5m diep"]
[null,null,"Variable OPEX (brandstofkosten)","€/kWh/jaar",null,0,null,null,"we veronderstellen dat mest geen kostprijs heeft",{"$f":"AVERAGE(J64:J66)-J63","v":30959.333333333343},"meerkost","gemiddelde meerkost voor stal aanpassing voor een 'gemiddelde Vlaamse stal'"]
[null,null,null,"€/totaal/jaar",null,{"$f":"F47*1000*F57*F67","v":0}]
[null,null,"Variabele OPEX (elektriciteitsbesparing)","€/kWh/jaar",null,{"$f":"'AA_Energieprijs&Discontovoet'!F63/1000","v":0.11486199999999999}]
[null,null,null,"€/totaal/jaar",null,{"$f":"F48*1000*F69","v":957.26334137499975},null,null,"we gaan ervan uit dat de ele zelf verbruikt wordt en dat die dus niet moet aangekocht worden"]
[null,null,"Totale jaarlijkse kost (aflossing CAPEX+OPEX+brandstofkost)","€/totaal/jaar",null,{"$f":"(-PMT(F94,F58,F64))+F66+F68-F70","v":1540.5527450398852}]
[]
[null,"Kenmerken referentiesituatie"]
[null,"Gemiddelde emissiefactoren",null,null,null,null,null,null,null,null,"Brandstofgebruik (warmtevraag)","Verdeling van de fossiele industriële energievectoren voor verwarming (obv het gekozen referentiejaar)",null,null,null,null,null,null,null,null,null,"Emissiefactoren"]
[null,null,"Bestaande gebouwen - SWW en verwarming","ton CO2/MWh",null,{"$f":"IF($F$95=J76,V76,IF($F$95=J77,V77,V78))","v":0.26106442524742746},null,null,null,"Bron","MWh","Elektriciteit","Warmte/ Koude","Aardgas","Vloeibaar gas","Stookolie","Diesel","Benzine","Bruinkool","Steenkool","Rest","EF_verw","EF_ELE"]
[null,null,"Elektrische verwarming","ton CO2/MWh",null,{"$f":"IF($F$95=J76,W76,IF($F$95=J77,W77,W78))","v":0.17705584446860712},null,null,null,"BAU",{"$f":"SUM(BAU_LBO!I13:I28)","v":7275.4361143343467},null,{"$f":"BAU_LBO!I13/$K$76","v":0},{"$f":"BAU_LBO!I15/$K$76","v":0.1671163606542426},{"$f":"BAU_LBO!I16/$K$76","v":6.7678187916916264E-3},{"$f":"BAU_LBO!I17/$K$76","v":0.76637212582279113},{"$f":"BAU_LBO!I18/$K$76","v":0},{"$f":"BAU_LBO!G19/$K$76","v":0},{"$f":"BAU_LBO!I20/$K$76","v":0},{"$f":"BAU_LBO!I21/$K$76","v":5.9743694731274624E-2},{"$f":"100%-SUM(L76:T76)","v":0},{"$f":"SUMPRODUCT(M76:T76,$M$79:$T$79)/SUM(M76:T76)","v":0.26106442524742746},{"$f":"BAU_TOTAAL!$Q$14","v":0.17705584446860712}]
[null,"Installatie kenmerken",null,null,null,null,null,null,null,"INV",{"$f":"INV!S19-INV!D19","v":7275.4361143343467},null,{"$f":"INV!E19/$K77","v":0},{"$f":"INV!F19/$K77","v":0.1671163606542426},{"$f":"INV!G19/$K77","v":6.7678187916916264E-3},{"$f":"INV!H19/$K77","v":0.76637212582279113},{"$f":"INV!I19/$K77","v":0},{"$f":"INV!J19/$K77","v":0},{"$f":"INV!K19/$K77","v":0},{"$f":"INV!L19/$K77","v":5.9743694731274624E-2},{"$f":"100%-SUM(L77:T77)","v":0},{"$f":"SUMPRODUCT(M77:T77,$M$79:$T$79)/SUM(M77:T77)","v":0.26106442524742746},{"$f":"INV!$D$26","v":0.19750015989190264}]
[null,null,"gem. rendement fossiele installatie - SWW en verwarming","Input/Output",null,{"$f":"IF(F95=J76,(N76*'AA_Energieprijs&Discontovoet'!$F$43+O76*'AA_Energieprijs&Discontovoet'!$F$44+P76*'AA_Energieprijs&Discontovoet'!$F$45)/SUM(N76:P76),IF(F95=J77,(N77*'AA_Energieprijs&Discontovoet'!$F$43+O77*'AA_Energieprijs&Discontovoet'!$F$44+P77*'AA_Energieprijs&Discontovoet'!$F$45)/SUM(N77:P77),(N78*'AA_Energieprijs&Discontovoet'!$F$43+O78*'AA_Energieprijs&Discontovoet'!$F$44+P78*'AA_Energieprijs&Discontovoet'!$F$45)/SUM(N78:P78)))","v":1.2522743438767676},null,null,null,"EIG",{"$f":"SUM(EIG!E19:R19)","v":0},null,{"$f":"EIG!E19/$K$78","v":{"$error":"#DIV/0!"}},{"$f":"EIG!F19/$K$78","v":{"$error":"#DIV/0!"}},{"$f":"EIG!G19/$K$78","v":{"$error":"#DIV/0!"}},{"$f":"EIG!H19/$K$78","v":{"$error":"#DIV/0!"}},{"$f":"EIG!I19/$K$78","v":{"$error":"#DIV/0!"}},{"$f":"EIG!J19/$K$78","v":{"$error":"#DIV/0!"}},{"$f":"EIG!K19/$K$78","v":{"$error":"#DIV/0!"}},{"$f":"EIG!L19/$K$78","v":{"$error":"#DIV/0!"}},{"$f":"100%-SUM(L78:T78)","v":{"$error":"#DIV/0!"}},{"$f":"SUMPRODUCT(M78:T78,$M$79:$T$79)/SUM(M78:T78)","v":{"$error":"#DIV/0!"}},{"$f":"EIG!$D$26","v":0}]
[null,null,"gem. Technische levensduur","jaar",null,{"$f":"IF(F95=J76,(N76*'AA_Energieprijs&Discontovoet'!$F$51+O76*'AA_Energieprijs&Discontovoet'!$F$52+P76*'AA_Energieprijs&Discontovoet'!$F$53)/SUM(N76:P76),IF(F95=J77,(N77*'AA_Energieprijs&Discontovoet'!$F$51+O77*'AA_Energieprijs&Discontovoet'!$F$52+P77*'AA_Energieprijs&Discontovoet'!$F$53)/SUM(N77:P77),(N78*'AA_Energieprijs&Discontovoet'!$F$51+O78*'AA_Energieprijs&Discontovoet'!$F$52+P78*'AA_Energieprijs&Discontovoet'!$F$53)/SUM(N78:P78)))","v":19.999999999999996},null,null,null,"EF_vector",null,null,{"$f":"BAU_TOTAAL!$Q$15","v":0.23764705882352966},{"$f":"'AA_Energieprijs&Discontovoet'!$F$98","v":0.20200000000000001},{"$f":"'AA_Energieprijs&Discontovoet'!$F$99","v":0.22700000000000001},{"$f":"'AA_Energieprijs&Discontovoet'!$F$100","v":0.26700000000000002},{"$f":"'AA_Energieprijs&Discontovoet'!$F$101","v":0.26700000000000002},{"$f":"'AA_Energieprijs&Discontovoet'!$F$102","v":0.249},{"$f":"'AA_Energieprijs&Discontovoet'!$F$103","v":0.35099999999999998},{"$f":"'AA_Energieprijs&Discontovoet'!$F$104","v":0.35399999999999998}]
[null,"Kosten"]
[null,null,"CAPEX","€/kW",null,{"$f":"IF(F95=J76,(N76*'AA_Energieprijs&Discontovoet'!$F$26+O76*'AA_Energieprijs&Discontovoet'!$F$27+P76*'AA_Energieprijs&Discontovoet'!$F$28)/SUM(N76:P76),IF(F95=J77,(N77*'AA_Energieprijs&Discontovoet'!$F$26+O77*'AA_Energieprijs&Discontovoet'!$F$27+P77*'AA_Energieprijs&Discontovoet'!$F$28)/SUM(N77:P77),(N78*'AA_Energieprijs&Discontovoet'!$F$26+O78*'AA_Energieprijs&Discontovoet'!$F$27+P78*'AA_Energieprijs&Discontovoet'!$F$28)/SUM(N78:P78)))","v":204.89722187335838}]
[null,null,null,"€/ totaal (exl. Taks, premies, etc.)",null,{"$f":"F81*F49","v":237.16938496358159}]
[null,null,"Vaste Opex","€/kW/jaar",null,{"$f":"IF(F95=J76,(N76*'AA_Energieprijs&Discontovoet'!$F$34+O76*'AA_Energieprijs&Discontovoet'!$F$35+P76*'AA_Energieprijs&Discontovoet'!$F$36)/SUM(N76:P76),IF(F95=J77,(N77*'AA_Energieprijs&Discontovoet'!$F$34+O77*'AA_Energieprijs&Discontovoet'!$F$35+P77*'AA_Energieprijs&Discontovoet'!$F$36)/SUM(N77:P77),(N78*'AA_Energieprijs&Discontovoet'!$F$34+O78*'AA_Energieprijs&Discontovoet'!$F$35+P78*'AA_Energieprijs&Discontovoet'!$F$36)/SUM(N78:P78)))","v":11.129598007825212}]
[null,null,null,"€/totaal/jaar",null,{"$f":"F83*F49","v":12.882555899363421}]
[null,null,"Variabele OPEX (Brandstofprijzen)","€/kWh/jaar",null,{"$f":"IF(F95=J76,(N76*'AA_Energieprijs&Discontovoet'!$F$64+O76*'AA_Energieprijs&Discontovoet'!$F$65+P76*'AA_Energieprijs&Discontovoet'!$F$66)/SUM(N76:P76),IF(F95=J77,(N77*'AA_Energieprijs&Discontovoet'!$F$64+O77*'AA_Energieprijs&Discontovoet'!$F$65+P77*'AA_Energieprijs&Discontovoet'!$F$66)/SUM(N77:P77),(N78*'AA_Energieprijs&Discontovoet'!$F$64+O78*'AA_Energieprijs&Discontovoet'!$F$65+P78*'AA_Energieprijs&Discontovoet'!$F$66)/SUM(N78:P78)))/1000","v":5.1868334017035181E-2}]
[null,null,null,"€/totaal/jaar",null,{"$f":"F85*1000*F47*F78","v":803.25414178032725}]
[null,null,"Totale jaarlijkse kost (aflossing CAPEX+OPEX+brandstofkost)","€/totaal/jaar",null,{"$f":"(-PMT(F94,F79,F82))+F84+F86","v":833.58803614967542}]
[]
[null,"Algemene aannames"]
[null,"Graaddagen (15/15)"]
[null,null,"Referentiejaar",null,{"$f":"F96","v":2017},{"$f":"VLOOKUP(E91+0,'AA_Energieprijs&Discontovoet'!E8:F16,2,FALSE)","v":1776}]
[null,null,2030,null,2030,{"$f":"'AA_Energieprijs&Discontovoet'!F16","v":1870}]
[null,null,"Elasticiteit",null,null,0.46]
[null,"Discontovoet",null,"%",null,{"$f":"P_Discontovoet","v":0.04}]
[null,"Referentiesituatie",null,null,null,{"$f":"P_Maatregelen_Referentie","v":"BAU"},null,null,"Keuze via dashboard"]
[null,null,"jaar",null,null,{"$f":"P_Maatregelen_Jaar_Inventaris","v":2017}]
[null,"Andere"]
[]
[null,"Referenties"]
[null,"[a]","VEA, 2017. Het potentieel van bio-energie in Vlaanderen in 2030",null,null,"http://www.energiesparen.be/sites/default/files/atoms/files/Potentieel_biomassa_2030.pdf",null,null," "]
[null,"[b]","Lemmens et al., 2007. BBT voor mestverwerking",null,null,"https://emis.vito.be/sites/emis.vito.be/files/pages/migrated/bbt_mestverwerking.pdf",null,null," "]
[null,"[c]","INAGRO expertise-cel"]
[null,"[d]","Moorkens et al., 2010. Onrendabele toppen van duurzame elektriciteitsopties 2010",null,null,"https://www.energiesparen.be/sites/default/files/atoms/files/Rapport_onrendabele_toppen_MVRE_2010.pdf",null,null," "]
[null,"[e]","De Dobbelaere et al., 2015. Kleinschalige vergisters: Praktijkvoorbeelden uit binnen-& buitenland",null,null,"https://leden.inagro.be/DNN_DropZone/Publicaties/579/KleinschaligeVergisting.pdf",null,null," "]

{"sheet":"LB_HER_BMK","index":62,"n_rows":95,"n_cols":23,"rows_kept":95,"cut":false,"hidden":false,"merged":[[5,1,5,7],[14,1,14,7],[16,1,16,7],[17,1,17,7],[18,1,18,7]]}
[null,"<< Naar Scenario's",null,null,null,null,null,null,null,null,"Berekeningen + verwijzing andere cel"]
[null,null,null,null,null,null,null,null,null,null,"Verwijzing andere tab (nulmeting/data)"]
[null,"Plaatsen van biomassaketel",null,null,null,null,null,null,"Opmerkingen",null,"Overschrijfbaar: Vaste parameters uit externe bronnen, literatuur, rebus model"]
[null,null,null,"Landbouw",null,null,null,null,null,null,"Algemene aannames, overschrijfbaar vanuit centrale dashboard"]
[null,"Beschrijving van de maatregel"]
[null,"Maatregel: De implementatie van biomassaketels in de landbouwsector voor de productie van warm water en ruimteverwarming op basis van lokaal geproduceerde biomassa stromen.\n\nBeschrijving: Gezien de beperkt beschikbare oppervlakte voor de teelt van (houtige) biomassa, ligt het potentieel voor warmteproductie uit biomassa vooral daar waar de landbouwer een beperkte energiebehoefte zelf kan invullen. In de praktijk gaat het meestal om sierteelt-, zeugen- of pluim- met een kleine tot middelgrote energievraag en vermogens ≤ 300 kW. Er bestaan ook biomassa-installaties met vermogens tot enkele tientallen MW. In de Vlaamse context is het echter minder aangewezen om stookinstallaties met grotere vermogens te bevoorraden met lokaal geproduceerd hout. De afhankelijkheid van ingevoerde biomassa zou bovendien erg groot worden [a]."]
[null,"Relatie met andere maatregelen"]
[null,"nr maatregel",null,"maatregel"]
[null,"beschrijving (overlappend potentieel)"]
[null,"nr maatregel",null,"maatregel"]
[null,"beschrijving (overlappend potentieel)"]
[null,"nr maatregel",null,"maatregel"]
[null,"beschrijving (overlappend potentieel)"]
[null,"Betekenis lange termijn voor energie-/klimaattransitie"]
[null,"Er kan worden gesteld dat kleinschalige verbranding in biomassaketels een interessante manier is om piekvraag van warmte in de landbouwsector te voorzien. "]
[null,"Aannames/onzekerheden/hypothesen"]
[null,"Aanname: Alle gedefinieerde kosten zijn bepaald vanuit een maatschappelijk standpunt (exl. taksen, subsidies, etc.) en zeggen niets over de kost vanuit een actor standpunt. De kosten dienen dus ook niet als dusdanig geïnterpreteerd te worden. De maatschappelijke kost wordt enkel gebruikt om een relatieve volgorde te kunnen opmaken om te bepalen welke maatregelen vanuit maatschappelijke standpunt goedkoper zijn dan andere."]
[null,"Aanname: We veronderstellen dat de volledige fossiele warmtegebruik in de landbouw sector in aanmerking komt als potentieel voor biomassaproductie. Het potentieel zal eerder begrensd zijn aan de zijde van de biomassa supply."]
[null,"Aanname: We veronderstellen dat het gebruik van biomassa geen kostprijs heeft."]
[]
[null,"Berekeningen"]
[null,"Resultaat",null,null,null,"Scenario1","Scenario2"]
[null,"totale besparing",null,"MWh",null,{"$f":"F45*F72-F45*F53","v":20.664559340483464},{"$f":"G45*F72-G45*F53","v":103.32279670241724},null,"de 'besparing' is weinig relevant voor deze maatregel. Dit is geen EE maatregel"]
[null,"totale CO2 reductie",null,"ton CO2",null,{"$f":"F45*F72*F69-F45*F53*F51","v":47.483938690326838},{"$f":"G45*F72*F69-G45*F53*F51","v":237.41969345163415}]
[null,"Maatschappelijke kost per ton CO2 reductie",null,"€/ton CO2",null,{"$f":"(F65-F81)/F24","v":-147.22909570272225}]
[]
[null,"Potentieel maatregel",null,"Eenheid","Jaar","Waarde",null,"Bron"]
[]
[null,"Activiteitsmeter: Warmtegebruik in landbouw sector",null,"MWh",null,{"$f":"IF(F89=J70,(K70/F72),IF(F89=J71,(K71/F72),(K72/F72)))","v":5809.7781447882953}]
[]
[null,"Bijkomend potentieel"]
[null,null,null,"% van #MWh komen in aanmerking",null,0.5]
[null,null,null,"#MWh",null,{"$f":"F29*F32","v":2904.8890723941477}]
[null,null,null,"% van potentieel reeds vervuld",null,0]
[null,null,"Bijkomend potentieel","#MWh",null,{"$f":"F33*(1-F34)","v":2904.8890723941477}]
[]
[null,"Implementatiegraad maatregel",null,null,null,"Min.","Max"]
[null,null,{"$f":"dropdowns!$R$4","v":"Niet"},null,null,1.0000000000000001E-17]
[null,null,{"$f":"dropdowns!$R$5","v":"Laag"},null,null,0,0.1,null,"aanpassen obv gemeente specifieke eigenschappen"]
[null,null,{"$f":"dropdowns!$R$6","v":"Medium"},null,null,0.1,0.2,null,"aanpassen obv gemeente specifieke eigenschappen"]
[null,null,{"$f":"dropdowns!$R$7","v":"Hoog"},null,null,0.2,0.3,null,"aanpassen obv gemeente specifieke eigenschappen"]
[]
[null,"Bijkomende implementatie",null,null,null,"Scenario1","Scenario2"]
[null,"Bijkomende invulling van potentieel",null,"% van de warmtevraag (2030)",null,{"$f":"IF('Scenario''s'!I37=C38,F38,IF('Scenario''s'!I37=C39,AVERAGE(F39,G39),IF('Scenario''s'!I37=C40,AVERAGE(F40,G40),AVERAGE(F41,G41))))","v":0.05},{"$f":"IF('Scenario''s'!M37=C38,F38,IF('Scenario''s'!M37=C39,AVERAGE(F39,G39),IF('Scenario''s'!M37=C40,AVERAGE(F40,G40),AVERAGE(F41,G41))))","v":0.25},null,"Keuze via scenario's"]
[null,"Bijkomende invulling van potentieel",null,"#MWh",null,{"$f":"F35*F44","v":145.2444536197074},{"$f":"F35*G44","v":726.22226809853692}]
[null,null,null,"#kW theoretisch vermogen",null,{"$f":"F45*1000/$F$55","v":33.517950835317095},{"$f":"G45*1000/$F$55","v":167.58975417658544}]
[]
[null,"Parameters"]
[null,"Kenmerken maatregel",null,"Eenheid","Jaar","Waarde",null,"Bron"]
[null,"Gemiddelde emissiefactoren (2030)"]
[null,null,"Gebruik vergister (elektrische)","ton CO2/MWh",null,0]
[null,"Installatie kenmerken"]
[null,null,"gem. rendement WKK th","Input/Output",null,1.1100000000000001,null,"[b] - p7"]
[null,null,"Technische levensduur","jaar",null,12,null,"[b] - p7"]
[null,null,"Gem. aantal draaiuren","uren",null,{"$f":"AVERAGE(3000,3000,7000)","v":4333.333333333333},null,"[b] - p7"]
[null,null,"gem. Installatiegrootte biomassaketel","kW",null,{"$f":"AVERAGE(300,750,10000)","v":3683.3333333333335},null,"[b] - p7"]
[]
[null,"Kosten"]
[null,null,"CAPEX","€/kWe",null,{"$f":"AVERAGE(480,510,580)","v":523.33333333333337},null,"[b] - p7"]
[null,null,null,"€/ totaal (exl. Taks, premies, etc.)",null,{"$f":"F59*F46","v":17541.060937149279}]
[null,null,"Vaste OPEX","€/kW/jaar",null,{"$f":"AVERAGE(34,34,62)","v":43.333333333333336},null,"[b] - p7"]
[null,null,null,"€/totaal/jaar",null,{"$f":"F61*F46","v":1452.4445361970743}]
[null,null,"Variable OPEX (brandstofkosten)","€/kWh/jaar",null,0]
[null,null,null,"€/totaal/jaar",null,{"$f":"F45*1000*F53*F63","v":0}]
[null,null,"Totale jaarlijkse kost (aflossing CAPEX+OPEX+brandstofkost)","€/totaal/jaar",null,{"$f":"(-PMT(F88,F54,F60))+F62+F64","v":3321.482690268846}]
[]
[null,"Kenmerken referentiesituatie"]
[null,"Gemiddelde emissiefactoren",null,null,null,null,null,null,null,null,"Brandstofgebruik (warmtevraag)","Verdeling van de fossiele industriële energievectoren voor verwarming (obv het gekozen referentiejaar)",null,null,null,null,null,null,null,null,null,"Emissiefactoren"]
[null,null,"Bestaande gebouwen - SWW en verwarming","ton CO2/MWh",null,{"$f":"IF($F$89=J70,V70,IF($F$89=J71,V71,V72))","v":0.26106442524742746},null,null,null,"Bron","MWh","Elektriciteit","Warmte/ Koude","Aardgas","Vloeibaar gas","Stookolie","Diesel","Benzine","Bruinkool","Steenkool","Rest","EF_verw","EF_ELE"]
[null,null,null,null,null,null,null,null,null,"BAU",{"$f":"SUM(BAU_LBO!I13:I28)","v":7275.4361143343467},null,{"$f":"BAU_LBO!I13/$K$70","v":0},{"$f":"BAU_LBO!I15/$K$70","v":0.1671163606542426},{"$f":"BAU_LBO!I16/$K$70","v":6.7678187916916264E-3},{"$f":"BAU_LBO!I17/$K$70","v":0.76637212582279113},{"$f":"BAU_LBO!I18/$K$70","v":0},{"$f":"BAU_LBO!G19/$K$70","v":0},{"$f":"BAU_LBO!I20/$K$70","v":0},{"$f":"BAU_LBO!I21/$K$70","v":5.9743694731274624E-2},{"$f":"100%-SUM(L70:T70)","v":0},{"$f":"SUMPRODUCT(M70:T70,$M$73:$T$73)/SUM(M70:T70)","v":0.26106442524742746},{"$f":"BAU_TOTAAL!$Q$14","v":0.17705584446860712}]
[null,"Installatie kenmerken",null,null,null,null,null,null,null,"INV",{"$f":"INV!S19-INV!D19","v":7275.4361143343467},null,{"$f":"INV!E19/$K71","v":0},{"$f":"INV!F19/$K71","v":0.1671163606542426},{"$f":"INV!G19/$K71","v":6.7678187916916264E-3},{"$f":"INV!H19/$K71","v":0.76637212582279113},{"$f":"INV!I19/$K71","v":0},{"$f":"INV!J19/$K71","v":0},{"$f":"INV!K19/$K71","v":0},{"$f":"INV!L19/$K71","v":5.9743694731274624E-2},{"$f":"100%-SUM(L71:T71)","v":0},{"$f":"SUMPRODUCT(M71:T71,$M$73:$T$73)/SUM(M71:T71)","v":0.26106442524742746},{"$f":"INV!$D$26","v":0.19750015989190264}]
[null,null,"gem. rendement fossiele installatie - SWW en verwarming","Input/Output",null,{"$f":"IF(F89=J70,(N70*'AA_Energieprijs&Discontovoet'!$F$43+O70*'AA_Energieprijs&Discontovoet'!$F$44+P70*'AA_Energieprijs&Discontovoet'!$F$45)/SUM(N70:P70),IF(F89=J71,(N71*'AA_Energieprijs&Discontovoet'!$F$43+O71*'AA_Energieprijs&Discontovoet'!$F$44+P71*'AA_Energieprijs&Discontovoet'!$F$45)/SUM(N71:P71),(N72*'AA_Energieprijs&Discontovoet'!$F$43+O72*'AA_Energieprijs&Discontovoet'!$F$44+P72*'AA_Energieprijs&Discontovoet'!$F$45)/SUM(N72:P72)))","v":1.2522743438767676},null,null,null,"EIG",{"$f":"SUM(EIG!E19:R19)","v":0},null,{"$f":"EIG!E19/$K$72","v":{"$error":"#DIV/0!"}},{"$f":"EIG!F19/$K$72","v":{"$error":"#DIV/0!"}},{"$f":"EIG!G19/$K$72","v":{"$error":"#DIV/0!"}},{"$f":"EIG!H19/$K$72","v":{"$error":"#DIV/0!"}},{"$f":"EIG!I19/$K$72","v":{"$error":"#DIV/0!"}},{"$f":"EIG!J19/$K$72","v":{"$error":"#DIV/0!"}},{"$f":"EIG!K19/$K$72","v":{"$error":"#DIV/0!"}},{"$f":"EIG!L19/$K$72","v":{"$error":"#DIV/0!"}},{"$f":"100%-SUM(L72:T72)","v":{"$error":"#DIV/0!"}},{"$f":"SUMPRODUCT(M72:T72,$M$73:$T$73)/SUM(M72:T72)","v":{"$error":"#DIV/0!"}},{"$f":"EIG!$D$26","v":0}]
[null,null,"gem. Technische levensduur","jaar",null,{"$f":"IF(F89=J70,(N70*'AA_Energieprijs&Discontovoet'!$F$51+O70*'AA_Energieprijs&Discontovoet'!$F$52+P70*'AA_Energieprijs&Discontovoet'!$F$53)/SUM(N70:P70),IF(F89=J71,(N71*'AA_Energieprijs&Discontovoet'!$F$51+O71*'AA_Energieprijs&Discontovoet'!$F$52+P71*'AA_Energieprijs&Discontovoet'!$F$53)/SUM(N71:P71),(N72*'AA_Energieprijs&Discontovoet'!$F$51+O72*'AA_Energieprijs&Discontovoet'!$F$52+P72*'AA_Energieprijs&Discontovoet'!$F$53)/SUM(N72:P72)))","v":19.999999999999996},null,null,null,"EF_vector",null,null,{"$f":"BAU_TOTAAL!$Q$15","v":0.23764705882352966},{"$f":"'AA_Energieprijs&Discontovoet'!$F$98","v":0.20200000000000001},{"$f":"'AA_Energieprijs&Discontovoet'!$F$99","v":0.22700000000000001},{"$f":"'AA_Energieprijs&Discontovoet'!$F$100","v":0.26700000000000002},{"$f":"'AA_Energieprijs&Discontovoet'!$F$101","v":0.26700000000000002},{"$f":"'AA_Energieprijs&Discontovoet'!$F$102","v":0.249},{"$f":"'AA_Energieprijs&Discontovoet'!$F$103","v":0.35099999999999998},{"$f":"'AA_Energieprijs&Discontovoet'!$F$104","v":0.35399999999999998}]
[null,"Kosten"]
[null,null,"CAPEX","€/kW",null,{"$f":"IF(F89=J70,(N70*'AA_Energieprijs&Discontovoet'!$F$26+O70*'AA_Energieprijs&Discontovoet'!$F$27+P70*'AA_Energieprijs&Discontovoet'!$F$28)/SUM(N70:P70),IF(F89=J71,(N71*'AA_Energieprijs&Discontovoet'!$F$26+O71*'AA_Energieprijs&Discontovoet'!$F$27+P71*'AA_Energieprijs&Discontovoet'!$F$28)/SUM(N71:P71),(N72*'AA_Energieprijs&Discontovoet'!$F$26+O72*'AA_Energieprijs&Discontovoet'!$F$27+P72*'AA_Energieprijs&Discontovoet'!$F$28)/SUM(N72:P72)))","v":204.89722187335838}]
[null,null,null,"€/ totaal (exl. Taks, premies, etc.)",null,{"$f":"F75*F46","v":6867.7350090442842}]
[null,null,"Vaste Opex","€/kW/jaar",null,{"$f":"IF(F89=J70,(N70*'AA_Energieprijs&Discontovoet'!$F$34+O70*'AA_Energieprijs&Discontovoet'!$F$35+P70*'AA_Energieprijs&Discontovoet'!$F$36)/SUM(N70:P70),IF(F89=J71,(N71*'AA_Energieprijs&Discontovoet'!$F$34+O71*'AA_Energieprijs&Discontovoet'!$F$35+P71*'AA_Energieprijs&Discontovoet'!$F$36)/SUM(N71:P71),(N72*'AA_Energieprijs&Discontovoet'!$F$34+O72*'AA_Energieprijs&Discontovoet'!$F$35+P72*'AA_Energieprijs&Discontovoet'!$F$36)/SUM(N72:P72)))","v":11.129598007825212}]
[null,null,null,"€/totaal/jaar",null,{"$f":"F77*F46","v":373.04131884312852}]
[null,null,"Variabele OPEX (Brandstofprijzen)","€/kWh/jaar",null,{"$f":"IF(F89=J70,(N70*'AA_Energieprijs&Discontovoet'!$F$64+O70*'AA_Energieprijs&Discontovoet'!$F$65+P70*'AA_Energieprijs&Discontovoet'!$F$66)/SUM(N70:P70),IF(F89=J71,(N71*'AA_Energieprijs&Discontovoet'!$F$64+O71*'AA_Energieprijs&Discontovoet'!$F$65+P71*'AA_Energieprijs&Discontovoet'!$F$66)/SUM(N71:P71),(N72*'AA_Energieprijs&Discontovoet'!$F$64+O72*'AA_Energieprijs&Discontovoet'!$F$65+P72*'AA_Energieprijs&Discontovoet'!$F$66)/SUM(N72:P72)))/1000","v":5.1868334017035181E-2}]
[null,null,null,"€/totaal/jaar",null,{"$f":"F79*1000*F45*F72","v":9434.1187624473623}]
[null,null,"Totale jaarlijkse kost (aflossing CAPEX+OPEX+brandstofkost)","€/totaal/jaar",null,{"$f":"(-PMT(F88,F73,F76))+F78+F80","v":10312.500044049171}]
[]
[null,"Algemene aannames"]
[null,"Graaddagen (15/15)"]
[null,null,"Referentiejaar",null,{"$f":"F90","v":2017},{"$f":"VLOOKUP(E85+0,'AA_Energieprijs&Discontovoet'!E8:F16,2,FALSE)","v":1776}]
[null,null,2030,null,2030,{"$f":"'AA_Energieprijs&Discontovoet'!F16","v":1870}]
[null,null,"Elasticiteit",null,null,0.46]
[null,"Discontovoet",null,"%",null,{"$f":"P_Discontovoet","v":0.04}]
[null,"Referentiesituatie",null,null,null,{"$f":"P_Maatregelen_Referentie","v":"BAU"},null,null,"Keuze via dashboard"]
[null,null,"jaar",null,null,{"$f":"P_Maatregelen_Jaar_Inventaris","v":2017}]
[null,"Andere"]
[]
[null,"Referenties"]
[null,"[a]","Departement Landbouw en Visserij, 2014. Energieke landbouw: Watt brengt het op?!",null,null,"http://www.enerpedia.be/websites/1/uploads/files/documents/energieke-landbouw-watt-brengt-het-op_27-7-2015_15_41_44.pdf",null,null," "]
[null,"[b]","Koppejan, 2016. Inventarisatie van markttoepassingen van biomassaketels en bio-wkk",null,null,"https://www.rvo.nl/sites/default/files/2017/04/Rapportage-Marktkansen-bioketels.pdf",null,null," "]

{"sheet":"LB_EE_ENS","index":63,"n_rows":93,"n_cols":23,"rows_kept":93,"cut":false,"hidden":false,"merged":[[19,1,19,7],[5,1,5,7],[14,1,14,7],[16,1,16,7],[17,1,17,7],[18,1,18,7]]}
[null,"<< Naar Scenario's",null,null,null,null,null,null,null,null,"Berekeningen + verwijzing andere cel"]
[null,null,null,null,null,null,null,null,null,null,"Verwijzing andere tab (nulmeting/data)"]
[null,"Plaatsen van energieschermen in serres",null,null,null,null,null,null,"Opmerkingen",null,"Overschrijfbaar: Vaste parameters uit externe bronnen, literatuur, rebus model"]
[null,null,null,"Landbouw",null,null,null,null,null,null,"Algemene aannames, overschrijfbaar vanuit centrale dashboard"]
[null,"Beschrijving van de maatregel"]
[null,"Maatregel: Het plaatsten van energieschermen in serres om het energiegebruik voor kasteelten te reduceren.\n\nIsoleren in de kas is belangrijk voor zowel energiebesparing als voor de temperatuurverdeling. Bij een goede temperatuurverdeling kan een lagere ruimtetemperatuur worden geaccepteerd zonder dat er gewasschade optreedt in bepaalde hoeken van de kas. Om daarnaast ook te besparen en toch optimaal van het licht gebruik te maken, kan gekozen worden voor een beweegbaar scherm [b]."]
[null,"Relatie met andere maatregelen"]
[null,"nr. maatregel",null,"maatregel"]
[null,"beschrijving (overlappend potentieel)"]
[null,"nr maatregel",null,"maatregel"]
[null,"beschrijving (overlappend potentieel)"]
[null,"nr maatregel",null,"maatregel"]
[null,"beschrijving (overlappend potentieel)"]
[null,"Betekenis lange termijn voor energie-/klimaattransitie"]
[null,"Elektriciteit dat niet gebruikt wordt moet ook niet duurzaam geproduceerd worden. "]
[null,"Aannames/onzekerheden/hypothesen"]
[null,"Aanname: Alle gedefinieerde kosten zijn bepaald vanuit een maatschappelijk standpunt (exl. taksen, subsidies, etc.) en zeggen niets over de kost vanuit een actor standpunt. De kosten dienen dus ook niet als dusdanig geïnterpreteerd te worden. De maatschappelijke kost wordt enkel gebruikt om een relatieve volgorde te kunnen opmaken om te bepalen welke maatregelen vanuit maatschappelijke standpunt goedkoper zijn dan andere."]
[null,"Aanname: Energieschermen zijn enkel relevant in serres, dus heeft enkel een invloed op het deel van de warmtevraag afkomstig van de sierteelt onder glas (6%) en groenten onder glas (40%) [a]. Energieschermen kunnen tot 20% van de energievraag besparen in serres."]
[null,"Aanname: De kostprijs wordt berekend op basis van de ingeschatte TVT. We berekenen de besparingskost die de maatregel realiseert op de brandstofkost (elektriciteitskost) en schatten de investeringskost van de technische maatregel in, door de besparingskost te vermenigvuldigen met de opgegeven terugverdientijd. Deze (ingeschatte) investeringskost wordt dan gebruikt om tot een maatschappelijke kost per ton CO2 reductie te komen."]
[]
[null,"Berekeningen"]
[null,"Resultaat",null,null,null,"Scenario1","Scenario2"]
[null,"totale besparing",null,"MWh",null,{"$f":"F46","v":53.449958932052326},{"$f":"G46","v":267.24979466026161}]
[null,"totale CO2 reductie",null,"ton CO2",null,{"$f":"F23*F68","v":13.953882808094843},{"$f":"G23*F68","v":69.769414040474203}]
[null,"Maatschappelijke kost per ton CO2 reductie",null,"€/ton CO2",null,{"$f":"(F64-F79)/F24","v":-95.426880559849778}]
[]
[null,"Potentieel maatregel",null,"Eenheid","Jaar","Waarde",null,"Bron"]
[]
[null,"Activiteitsmeter: Warmtegebruik in landbouw sector",null,"#MWh (th)",null,{"$f":"IF(F87=J69,(K69/F70),IF(F87=J70,(K70/F70),(K71/F70)))","v":5809.7781447882953}]
[]
[null,"Bijkomend potentieel"]
[null,null,null,"% van #MWh komen in aanmerking",null,0.46,null,"[a] - p9","Zie aanname"]
[null,null,null,"reductieaandeel door energieschermen",null,0.2,null,"[b]"]
[null,null,null,"#MWh(th)",null,{"$f":"F29*F32*F33","v":534.49958932052323}]
[null,null,null,"% van potentieel reeds vervuld",null,0,null,null,"enkel het fossiele verbruik is meegenomen."]
[null,null,"Bijkomend potentieel","#MWh",null,{"$f":"F34*(1-F35)","v":534.49958932052323}]
[]
[null,"Implementatiegraad maatregel",null,null,null,"Min.","Max"]
[null,null,{"$f":"dropdowns!$R$4","v":"Niet"},null,null,1.0000000000000001E-17]
[null,null,{"$f":"dropdowns!$R$5","v":"Laag"},null,null,0,0.2,null,"aanpassen obv gemeente specifieke eigenschappen"]
[null,null,{"$f":"dropdowns!$R$6","v":"Medium"},null,null,0.2,0.4,null,"aanpassen obv gemeente specifieke eigenschappen"]
[null,null,{"$f":"dropdowns!$R$7","v":"Hoog"},null,null,0.4,0.6,null,"aanpassen obv gemeente specifieke eigenschappen"]
[]
[null,"Bijkomende implementatie",null,null,null,"Scenario1","Scenario2"]
[null,"Bijkomende invulling van potentieel",null,"% van de warmtevraag (2030)",null,{"$f":"IF('Scenario''s'!I38=C39,F39,IF('Scenario''s'!I38=C40,AVERAGE(F40,G40),IF('Scenario''s'!I38=C41,AVERAGE(F41,G41),AVERAGE(F42,G42))))","v":0.1},{"$f":"IF('Scenario''s'!M38=C39,F39,IF('Scenario''s'!M38=C40,AVERAGE(F40,G40),IF('Scenario''s'!M38=C41,AVERAGE(F41,G41),AVERAGE(F42,G42))))","v":0.5},null,"Keuze via scenario's"]
[null,"Bijkomende invulling van potentieel",null,"#MWh",null,{"$f":"F36*F45","v":53.449958932052326},{"$f":"F36*G45","v":267.24979466026161}]
[]
[null,"Parameters"]
[null,"Kenmerken maatregel",null,"Eenheid","Jaar","Waarde",null,"Bron"]
[null,"Gemiddelde emissiefactoren (2030)"]
[null,null,"Gebruik energiescherm","ton CO2/MWh",null,"n.a."]
[null,"Installatie kenmerken"]
[null,null,"gem. Rendement","Input/Output",null,"n.a. "]
[null,null,"TVT","jaar",null,5,null,"[b]"]
[null,null,"Technische levensduur","jaar",null,10]
[]
[null,"Kosten"]
[null,null,"CAPEX","€/kWe"]
[null,null,null,"€/ totaal (exl. Taks, premies, etc.)",null,{"$f":"F79*F54","v":17358.778522903147}]
[null,null,"Vaste OPEX","€/kW/jaar",null,"n.a. "]
[null,null,null,"€/totaal/jaar",null,"n.a. "]
[null,null,"Variable OPEX (brandstofkosten)","€/kWh/jaar",null,"n.a. "]
[null,null,null,"€/totaal/jaar",null,"n.a. "]
[null,null,"Totale jaarlijkse kost (aflossing CAPEX+OPEX+brandstofkost)","€/totaal/jaar",null,{"$f":"(-PMT(F86,F55,F59))","v":2140.1801965064215}]
[]
[null,"Kenmerken referentiesituatie"]
[null,"Gemiddelde emissiefactoren",null,null,null,null,null,null,null,null,"Brandstofgebruik (warmtevraag)","Verdeling van de fossiele industriële energievectoren voor verwarming (obv het gekozen referentiejaar)",null,null,null,null,null,null,null,null,null,"Emissiefactoren"]
[null,null,"Bestaande gebouwen - SWW en verwarming","ton CO2/MWh",null,{"$f":"IF($F$87=J69,V69,IF($F$87=J70,V70,V71))","v":0.26106442524742746},null,null,null,"Bron","MWh","Elektriciteit","Warmte/ Koude","Aardgas","Vloeibaar gas","Stookolie","Diesel","Benzine","Bruinkool","Steenkool","Rest","EF_verw","EF_ELE"]
[null,"Installatie kenmerken",null,null,null,null,null,null,null,"BAU",{"$f":"SUM(BAU_LBO!I13:I28)","v":7275.4361143343467},null,{"$f":"BAU_LBO!I13/$K$69","v":0},{"$f":"BAU_LBO!I15/$K$69","v":0.1671163606542426},{"$f":"BAU_LBO!I16/$K$69","v":6.7678187916916264E-3},{"$f":"BAU_LBO!I17/$K$69","v":0.76637212582279113},{"$f":"BAU_LBO!I18/$K$69","v":0},{"$f":"BAU_LBO!G19/$K$69","v":0},{"$f":"BAU_LBO!I20/$K$69","v":0},{"$f":"BAU_LBO!I21/$K$69","v":5.9743694731274624E-2},{"$f":"100%-SUM(L69:T69)","v":0},{"$f":"SUMPRODUCT(M69:T69,$M$72:$T$72)/SUM(M69:T69)","v":0.26106442524742746},{"$f":"BAU_TOTAAL!$Q$14","v":0.17705584446860712}]
[null,null,"gem. rendement fossiele installatie - SWW en verwarming","Input/Output",null,{"$f":"IF(F87=J69,(N69*'AA_Energieprijs&Discontovoet'!$F$43+O69*'AA_Energieprijs&Discontovoet'!$F$44+P69*'AA_Energieprijs&Discontovoet'!$F$45)/SUM(N69:P69),IF(F87=J70,(N70*'AA_Energieprijs&Discontovoet'!$F$43+O70*'AA_Energieprijs&Discontovoet'!$F$44+P70*'AA_Energieprijs&Discontovoet'!$F$45)/SUM(N70:P70),(N71*'AA_Energieprijs&Discontovoet'!$F$43+O71*'AA_Energieprijs&Discontovoet'!$F$44+P71*'AA_Energieprijs&Discontovoet'!$F$45)/SUM(N71:P71)))","v":1.2522743438767676},null,null,null,"INV",{"$f":"INV!S19-INV!D19","v":7275.4361143343467},null,{"$f":"INV!E19/$K70","v":0},{"$f":"INV!F19/$K70","v":0.1671163606542426},{"$f":"INV!G19/$K70","v":6.7678187916916264E-3},{"$f":"INV!H19/$K70","v":0.76637212582279113},{"$f":"INV!I19/$K70","v":0},{"$f":"INV!J19/$K70","v":0},{"$f":"INV!K19/$K70","v":0},{"$f":"INV!L19/$K70","v":5.9743694731274624E-2},{"$f":"100%-SUM(L70:T70)","v":0},{"$f":"SUMPRODUCT(M70:T70,$M$72:$T$72)/SUM(M70:T70)","v":0.26106442524742746},{"$f":"INV!$D$26","v":0.19750015989190264}]
[null,null,"gem. Technische levensduur","jaar",null,{"$f":"IF(F87=J69,(N69*'AA_Energieprijs&Discontovoet'!$F$51+O69*'AA_Energieprijs&Discontovoet'!$F$52+P69*'AA_Energieprijs&Discontovoet'!$F$53)/SUM(N69:P69),IF(F87=J70,(N70*'AA_Energieprijs&Discontovoet'!$F$51+O70*'AA_Energieprijs&Discontovoet'!$F$52+P70*'AA_Energieprijs&Discontovoet'!$F$53)/SUM(N70:P70),(N71*'AA_Energieprijs&Discontovoet'!$F$51+O71*'AA_Energieprijs&Discontovoet'!$F$52+P71*'AA_Energieprijs&Discontovoet'!$F$53)/SUM(N71:P71)))","v":19.999999999999996},null,null,null,"EIG",{"$f":"SUM(EIG!E19:R19)","v":0},null,{"$f":"EIG!E19/$K$71","v":{"$error":"#DIV/0!"}},{"$f":"EIG!F19/$K$71","v":{"$error":"#DIV/0!"}},{"$f":"EIG!G19/$K$71","v":{"$error":"#DIV/0!"}},{"$f":"EIG!H19/$K$71","v":{"$error":"#DIV/0!"}},{"$f":"EIG!I19/$K$71","v":{"$error":"#DIV/0!"}},{"$f":"EIG!J19/$K$71","v":{"$error":"#DIV/0!"}},{"$f":"EIG!K19/$K$71","v":{"$error":"#DIV/0!"}},{"$f":"EIG!L19/$K$71","v":{"$error":"#DIV/0!"}},{"$f":"100%-SUM(L71:T71)","v":{"$error":"#DIV/0!"}},{"$f":"SUMPRODUCT(M71:T71,$M$72:$T$72)/SUM(M71:T71)","v":{"$error":"#DIV/0!"}},{"$f":"EIG!$D$26","v":0}]
[null,"Kosten",null,null,null,null,null,null,null,"EF_vector",null,null,{"$f":"BAU_TOTAAL!$Q$15","v":0.23764705882352966},{"$f":"'AA_Energieprijs&Discontovoet'!$F$98","v":0.20200000000000001},{"$f":"'AA_Energieprijs&Discontovoet'!$F$99","v":0.22700000000000001},{"$f":"'AA_Energieprijs&Discontovoet'!$F$100","v":0.26700000000000002},{"$f":"'AA_Energieprijs&Discontovoet'!$F$101","v":0.26700000000000002},{"$f":"'AA_Energieprijs&Discontovoet'!$F$102","v":0.249},{"$f":"'AA_Energieprijs&Discontovoet'!$F$103","v":0.35099999999999998},{"$f":"'AA_Energieprijs&Discontovoet'!$F$104","v":0.35399999999999998}]
[null,null,"CAPEX","€/kW",null,"n.a. "]
[null,null,null,"€/ totaal (exl. Taks, premies, etc.)",null,"n.a. "]
[null,null,"Vaste Opex","€/kW/jaar",null,"n.a. "]
[null,null,null,"€/totaal/jaar",null,"n.a. "]
[null,null,"Variabele OPEX (Brandstofprijzen)","€/kWh/jaar",null,{"$f":"IF(F87=J69,(N69*'AA_Energieprijs&Discontovoet'!$F$64+O69*'AA_Energieprijs&Discontovoet'!$F$65+P69*'AA_Energieprijs&Discontovoet'!$F$66)/SUM(N69:P69),IF(F87=J70,(N70*'AA_Energieprijs&Discontovoet'!$F$64+O70*'AA_Energieprijs&Discontovoet'!$F$65+P70*'AA_Energieprijs&Discontovoet'!$F$66)/SUM(N70:P70),(N71*'AA_Energieprijs&Discontovoet'!$F$64+O71*'AA_Energieprijs&Discontovoet'!$F$65+P71*'AA_Energieprijs&Discontovoet'!$F$66)/SUM(N71:P71)))/1000","v":5.1868334017035181E-2}]
[null,null,null,"€/totaal/jaar",null,{"$f":"F77*1000*F46*F70","v":3471.7557045806293}]
[null,null,"Totale jaarlijkse kost (aflossing CAPEX+OPEX+brandstofkost)","€/totaal/jaar",null,{"$f":"F78","v":3471.7557045806293}]
[]
[null,"Algemene aannames"]
[null,"Graaddagen (15/15)"]
[null,null,"Referentiejaar",null,{"$f":"F88","v":2017},{"$f":"VLOOKUP(E83+0,'AA_Energieprijs&Discontovoet'!E8:F16,2,FALSE)","v":1776}]
[null,null,2030,null,2030,{"$f":"'AA_Energieprijs&Discontovoet'!F16","v":1870}]
[null,null,"Elasticiteit",null,null,0.46]
[null,"Discontovoet",null,"%",null,{"$f":"P_Discontovoet","v":0.04}]
[null,"Referentiesituatie",null,null,null,{"$f":"P_Maatregelen_Referentie","v":"BAU"},null,null,"Keuze via dashboard"]
[null,null,"jaar",null,null,{"$f":"P_Maatregelen_Jaar_Inventaris","v":2017}]
[null,"Andere"]
[]
[null,"Referenties"]
[null,"[a]","Gysen, L., 2019. Klimaat en emissies, aanpak vanuit land- en tuinbouw",null,null,"http://docs.vlaamsparlement.be/pfile?id=1183721",null,null," "]
[null,"[b]","MFL, 2018. Gebruik het juiste energiescherm in de kas",null,null,"https://multifunctionelelandbouw.net/thema/gebruik-het-juiste-energiescherm-de-kas",null,null," "]

{"sheet":"Algemene aannames -->","index":64,"n_rows":22,"n_cols":4,"rows_kept":22,"cut":false,"hidden":false,"merged":[]}
[]
[null,null,"Algemene aannames"]
[]
[null,null,"Handleiding"]
[]
[]
[null,null,null,"De rekenbladen met Algemene aannames brengen alle datasets samen die nodig zijn om de berekeningen uit te voeren. Deze rekenbladen worden grotendeels automatisch gevuld na selectie in Dashboard."]
[null,null,null,"Let wel: indien de geselecteerde gemeente in het dashboard aangepast wordt, moeten de rekenbladen vernieuwd worden via \"Alles vernieuwen\" (cf. menubalk Gegevens)."]
[null,null,null,"Het merendeel van deze rekenbladen is verborgen. De verborgen rekenbladen kunnen opnieuw zichtbaar gemaakt worden. De gebruiker gaat in een rekenblad staan, klikt op rechter muisknop en selecteert vervolgens  \"zichtbaar maken\" ."]
[]
[null,null,null,"AA_Energieprijs&Discontovoet: graaddagen, prijzen elektriciteit, prijzen brandstoffen, levensduur en kostprijs installaties, emissiefactoren, conversiefactoren brandstoffen, discontovoeten."]
[null,null,null,"AA_Data_all_DOEL: inventaris Dept. Omgeving indien in dashboard gekozen wordt voor berekening doelstellingen obv inventaris Dept. Omgeving en dit voor geselecteerde referentiejaar."]
[null,null,null,"AA_Data_all_REF: energieverbruik en gerelateerde CO2-uitstoot voor de geselecteerde gemeente, per sector en energiedrager uit inventaris Dept. Omgeving voor het jaar 2017."]
[null,null,null,"AA_RES_HH evo: aantal huishoudens voor de geselecteerde gemeente in het jaar 2017 en het jaar 2030."]
[null,null,null,"AA_MOB_vkm_REF: aantal voertuigkilometers per wegtype, aantal bus- en tramkilometers voor de geselecteerde gemeente uit inventaris Dept. Omgeving voor het jaar 2017."]
[null,null,null,"AA_MOB_ECF_2030: energieconsumptiefactoren per voertuigtype, wegtype en brandstoftechnologie in 2030."]
[null,null,null,"AA_MOB_ECF_MTR: energieconsumptiefactoren per voertuigtype, wegtype en brandstoftechnologie uit inventaris Dept. Omgeving voor het jaar 2017."]
[null,null,null,"AA_LEN_PV: potentieel zonnekaart VEA (https://www.energiesparen.be/zonnekaart)."]
[null,null,null,"AA_LEN_EA_VL: bijkomend potentieel aan hernieuwbare energieproductie (in MWh) voor de geselecteerde gemeente uit Hernieuwbare Energie Atlas Vlaanderen (REV2030 scenario)"]
[null,null,null,"AA_LEN_PROD: lokale energieproductie (in MWh) voor PV, wind en waterkracht voor de geselecteerde gemeente uit inventaris Dept. Omgeving voor het jaar 2017."]
[]
[null,null,null,"Deze datasets kunnen als gegeven beschouwd worden. Indien gewenst, kunnen deze datasets overschreven worden door de gebruiker."]

{"sheet":"AA_Energieprijs&Discontovoet","index":65,"n_rows":142,"n_cols":11,"rows_kept":142,"cut":false,"hidden":false,"merged":[]}
[]
[null,"Algemene Aannames"]
[]
[null,"Parameters",null,"Eenheid","Jaar (van data)",null,null,null,"Bron","Pagina"]
[]
[null,"Algemeen"]
[null,null,"Graaddagen (15/15)",null,null,null,null,null,null," "]
[null,null,null,"#",2010,2308,null,null,"Energiebalans Vlaanderen 1990 - 2017 (januari 2019)"," "]
[null,null,null,"#",2011,1538,null,null,"Energiebalans Vlaanderen 1990 - 2017 (januari 2019)"," "]
[null,null,null,"#",2012,1919,null,null,"Energiebalans Vlaanderen 1990 - 2017 (januari 2019)"," "]
[null,null,null,"#",2013,2145,null,null,"Energiebalans Vlaanderen 1990 - 2017 (januari 2019)"," "]
[null,null,null,"#",2014,1441,null,null,"Energiebalans Vlaanderen 1990 - 2017 (januari 2019)"," "]
[null,null,null,"#",2015,1691,null,null,"Energiebalans Vlaanderen 1990 - 2017 (januari 2019)"," "]
[null,null,null,"#",2016,1949,null,null,"Energiebalans Vlaanderen 1990 - 2017 (januari 2019)"," "]
[null,null,null,"#",2017,1776,null,null,"Energiebalans Vlaanderen 1990 - 2017 (januari 2019)"," "]
[null,null,"Graaddagen (15/15)","#",2030,1870,null,null,"Nationaal Energie- en klimaatplan België (2021 - 2030)"," "]
[null,null,"gem. zonneschijnuren","Uren",2017,1559,null,null,"https://www.meteo.be/nl/klimaat/klimatologisch-overzicht/2017/2017"," "]
[]
[null,"CAPEX-prijzen"]
[null,null,"RES - Verwarming & SWW: Aardgas","€/kW",2010,{"$f":"(236.88+417.78)/2","v":327.33},null,null,"Simoes et al., 2013. The JRC-EU-TIMES model: Assessing the long-term role of the SET Plan Energy technologies","p-136"]
[null,null,"RES - Verwarming & SWW: Aardgas","€/HH",2008,{"$f":"(4150+3414)/2","v":3782},null,null,"Renders et al., 2011. Potentiële emissiereducties van de verwarmingssector tegen 2030","p-173"]
[null,null,"RES - Verwarming & SWW: Vloeibaar gas","€/kW",2010,182.05,null,null,"Simoes et al., 2013. The JRC-EU-TIMES model: Assessing the long-term role of the SET Plan Energy technologies","p-137"]
[null,null,"RES - Verwarming & SWW: Vloeibaar gas","€/HH",2008,{"$f":"(6868+4420)/2","v":5644},null,null,"Renders et al., 2011. Potentiële emissiereducties van de verwarmingssector tegen 2030","p-173"]
[null,null,"RES - Verwarming & SWW: Stookolie","€/kW",2010,{"$f":"(209+314.11)/2","v":261.55500000000001},null,null,"Simoes et al., 2013. The JRC-EU-TIMES model: Assessing the long-term role of the SET Plan Energy technologies","p-138"]
[null,null,"RES - Verwarming & SWW: Stookolie","€/HH",2008,{"$f":"(6868+4420)/2","v":5644},null,null,"Renders et al., 2011. Potentiële emissiereducties van de verwarmingssector tegen 2030","p-173"]
[null,null,"TER - Verwarming & SWW: Aardgas","€/kW",2010,{"$f":"(179.39+316.38)/2","v":247.88499999999999},null,null,"Simoes et al., 2013. The JRC-EU-TIMES model: Assessing the long-term role of the SET Plan Energy technologies","p-146"]
[null,null,"TER - Verwarming & SWW: Vloeibaar gas","€/kW",2010,182.05,null,null,"Simoes et al., 2013. The JRC-EU-TIMES model: Assessing the long-term role of the SET Plan Energy technologies","p-147"]
[null,null,"TER - Verwarming & SWW: Stookolie","€/kW",2010,{"$f":"(77.34+314.11)/2","v":195.72500000000002},null,null,"Simoes et al., 2013. The JRC-EU-TIMES model: Assessing the long-term role of the SET Plan Energy technologies","p-147"]
[]
[null,"FIXOM-prijzen (vaste OPEX)"]
[null,null,"RES - Verwarming & SWW: Aardgas","€/kW/jaar",2010,{"$f":"(11.84+20.89)/2","v":16.365000000000002},null,null,"Simoes et al., 2013. The JRC-EU-TIMES model: Assessing the long-term role of the SET Plan Energy technologies","p-136"]
[null,null,"RES - Verwarming & SWW: Vloeibaar gas","€/kW/jaar",2010,9.1,null,null,"Simoes et al., 2013. The JRC-EU-TIMES model: Assessing the long-term role of the SET Plan Energy technologies","p-137"]
[null,null,"RES - Verwarming & SWW: Stookolie","€/kW/jaar",2010,{"$f":"(10.45+15.71)/2","v":13.08},null,null,"Simoes et al., 2013. The JRC-EU-TIMES model: Assessing the long-term role of the SET Plan Energy technologies","p-138"]
[null,null,"TER - Verwarming & SWW: Aardgas","€/kW/jaar",2010,{"$f":"(12.56+22.15)/2","v":17.355},null,null,"Simoes et al., 2013. The JRC-EU-TIMES model: Assessing the long-term role of the SET Plan Energy technologies","p-146"]
[null,null,"TER - Verwarming & SWW: Vloeibaar gas","€/kW/jaar",2010,9.1,null,null,"Simoes et al., 2013. The JRC-EU-TIMES model: Assessing the long-term role of the SET Plan Energy technologies","p-147"]
[null,null,"TER - Verwarming & SWW: Stookolie","€/kW/jaar",2010,{"$f":"(3.87+15.71)/2","v":9.7900000000000009},null,null,"Simoes et al., 2013. The JRC-EU-TIMES model: Assessing the long-term role of the SET Plan Energy technologies","p-147"]
[]
[null,"Installatie kenmerken"]
[null,"Gemiddelde installatie rendementen (input/output)"]
[null,null,"RES - Verwarming & SWW: Aardgas","%",2010,1.2269938650306749,null,null,"Renders et al., 2011. Potentiële emissiereducties van de verwarmingssector tegen 2030","p-20"]
[null,null,"RES - Verwarming & SWW: Vloeibaar gas","%",2010,1.4285714285714286,null,null,"Renders et al., 2011. Potentiële emissiereducties van de verwarmingssector tegen 2030","p-20"]
[null,null,"RES - Verwarming & SWW: Stookolie","%",2010,1.25,null,null,"Renders et al., 2011. Potentiële emissiereducties van de verwarmingssector tegen 2030","p-20"]
[null,null,"TER - Verwarming & SWW: Aardgas","%",2010,1.2195121951219512,null,null,"Renders et al., 2011. Potentiële emissiereducties van de verwarmingssector tegen 2030","p-20"]
[null,null,"TER - Verwarming & SWW: Vloeibaar gas","%",2010,1.4285714285714286,null,null,"Renders et al., 2011. Potentiële emissiereducties van de verwarmingssector tegen 2030","p-20"]
[null,null,"TER - Verwarming & SWW: Stookolie","%",2010,1.257861635220126,null,null,"Renders et al., 2011. Potentiële emissiereducties van de verwarmingssector tegen 2030","p-20"]
[]
[null,"Gemiddelde technische levensduur"]
[null,null,"RES - Verwarming & SWW: Aardgas","jaar",2010,20,null,null,"Simoes et al., 2013. The JRC-EU-TIMES model: Assessing the long-term role of the SET Plan Energy technologies","p-136"]
[null,null,"RES - Verwarming & SWW: Vloeibaar gas","jaar",2010,20,null,null,"Simoes et al., 2013. The JRC-EU-TIMES model: Assessing the long-term role of the SET Plan Energy technologies","p-137"]
[null,null,"RES - Verwarming & SWW: Stookolie","jaar",2010,20,null,null,"Simoes et al., 2013. The JRC-EU-TIMES model: Assessing the long-term role of the SET Plan Energy technologies","p-138"]
[null,null,"TER - Verwarming & SWW: Aardgas","jaar",2010,20,null,null,"Simoes et al., 2013. The JRC-EU-TIMES model: Assessing the long-term role of the SET Plan Energy technologies","p-146"]
[null,null,"TER - Verwarming & SWW: Vloeibaar gas","jaar",2010,20,null,null,"Simoes et al., 2013. The JRC-EU-TIMES model: Assessing the long-term role of the SET Plan Energy technologies","p-147"]
[null,null,"TER - Verwarming & SWW: Stookolie","jaar",2010,20,null,null,"Simoes et al., 2013. The JRC-EU-TIMES model: Assessing the long-term role of the SET Plan Energy technologies","p-147"]
[]
[null,"Brandstofprijzen"]
[null,"Huishoudens",null,null,null,null,null,null,null,null," "]
[null,null,"Elektriciteit","€/kWh",2018,{"$f":"0.26*(G70+G71)","v":0.13574600000000001},null,null,"https://infogram.com/hoeveel-kost-1-kwh-elektriciteitaardgas-prijzen-voor-gezinnen-all-in-incl-btw-1h9j6qj8ovd54gz"," "]
[null,null,"Aardgas","€/kWh",2018,{"$f":"0.05*(F70+F71)","v":3.9215E-2},null,null,"https://infogram.com/hoeveel-kost-1-kwh-elektriciteitaardgas-prijzen-voor-gezinnen-all-in-incl-btw-1h9j6qj8ovd54gz"," "]
[null,null,"Vloeibaar gas (propaan)","€/kWh",2018,{"$f":"0.522/(G121*1000)","v":7.9927904662509791E-2},null,null,"https://carbu.com/belgie/index.php/lpg"," "]
[null,null,"Gasolie","€/kWh",2018,{"$f":"0.5966/(G115*1000)","v":5.8389978613807493E-2},null,null,"https://statbel.fgov.be/nl/themas/energie/aardolieprijzen#panel-12"," "]
[]
[null,"Tertiair"]
[null,null,"Elektriciteit","€/MWh",2018,{"$f":"0.22*1000*(G70+G71)","v":114.86199999999999},null,null,"https://infogram.com/hoeveel-kost-1-kwh-elektriciteitaardgas-prijzen-voor-kleine-professionele-afnemers-all-in-exl-btw-1hnq41nlj11p63z"," "]
[null,null,"Aardgas","€/MWh",2018,{"$f":"0.04*1000*(F70+F71)","v":31.372},null,null,"https://infogram.com/hoeveel-kost-1-kwh-elektriciteitaardgas-prijzen-voor-kleine-professionele-afnemers-all-in-exl-btw-1hnq41nlj11p63z"," "]
[null,null,"Vloeibaar gas (propaan)","€/MWh",2018,{"$f":"F59*1000","v":79.927904662509789},null,null,"https://carbu.com/belgie/index.php/lpg"," "]
[null,null,"Gasolie","€/MWh",2018,{"$f":"0.5731/G115","v":56.090004598680991},null,null,"https://statbel.fgov.be/nl/themas/energie/aardolieprijzen#panel-12"," "]
[null,null,null,null,null,null,null,null,null," "]
[null,null,"Bijdrage van de tariefcomponenten voor prijzen van VREG:",null,null,null,null,null,null," "]
[null,null,null,null,null,"Aardgas","Elekt.",null,null," "]
[null,null,"Energie","%",null,0.54620000000000002,0.23810000000000001,null,"http://www.creg.be/nl/consumenten/prijzen-en-tarieven/hoe-de-energieprijs-opgebouwd"," "," "]
[null,null,"Netkosten","%",null,0.23810000000000001,0.28399999999999997,null,"http://www.creg.be/nl/consumenten/prijzen-en-tarieven/hoe-de-energieprijs-opgebouwd"," "," "]
[null,null,"Openbare heffingen\n\n","%",null,4.3999999999999997E-2,0.30719999999999997,null,"http://www.creg.be/nl/consumenten/prijzen-en-tarieven/hoe-de-energieprijs-opgebouwd"," "," "]
[null,null,"Energietaks & BTW","%",null,0.17169999999999999,0.17069999999999999,null,"http://www.creg.be/nl/consumenten/prijzen-en-tarieven/hoe-de-energieprijs-opgebouwd"," "," "]
[null,null,null,null,null,null,null,null,null," "]
[null,"Transport",null,null,null,null,null,null,null," "," "]
[null,null,"Diesel","€/kWh",2018,{"$f":"1.2628/(G135*1000)","v":0.12482771620783585},null,null,"https://bestat.statbel.fgov.be/bestat/crosstable.xhtml?view=c42c9c16-9330-437b-9608-13781b795ec1"," "," "]
[null,null,"Benzine (super 95)","€/kWh",2018,{"$f":"1.2132/(G137*1000)","v":0.13215138442881058},null,null,"https://bestat.statbel.fgov.be/bestat/crosstable.xhtml?view=c42c9c16-9330-437b-9608-13781b795ec2"," "," "]
[null,null,"…",null,null,null,null,null,null," "," "]
[null,"Industrie",null,null,null,null,null,null,null," "," "]
[null,null,"Elektriciteit","€/MWh",2030,{"$f":"69*G86*G87*G88*G89*G90*G91*G92*G93","v":79.47655122914999},null,null,"Energyville, 2018. http://www.energyville.be/sites/default/files/gp_bbl_iew_report_-_v2018_03_06_final.pdf"," "," "]
[null,null,"Aardgas","€/MWh",2030,24.37766214036321,null,null,"WEO 2017"," "," "]
[null,null,"Vloeibaar gas (propaan)","€/MWh",2030,{"$f":"F65","v":79.927904662509789},null,null,"https://carbu.com/belgie/index.php/lpg"," "," "]
[null,null,"Stookolie/gas-","€/MWh",2030,47.960814709567202,null,null,"WEO 2017"]
[null,null,null,null,null,null,null,null,null," "," "]
[null,"Discontovoet volgens EU ",null,null,null,null,null,null,null," "," "]
[null,"om prijzen voor verschillende jaren om te rekenen naar één jaar",null,null,2010,2.2400000000000002,{"$f":"1+(F86/100)","v":1.0224},null,"http://ec.europa.eu/competition/state_aid/legislation/reference_rates.html"," "," "]
[null,null,null,null,2011,2.4900000000000002,{"$f":"1+(F87/100)","v":1.0248999999999999},null,"http://ec.europa.eu/competition/state_aid/legislation/reference_rates.html"," "," "]
[null,null,null,null,2012,3.07,{"$f":"1+(F88/100)","v":1.0306999999999999},null,"http://ec.europa.eu/competition/state_aid/legislation/reference_rates.html"," "," "]
[null,null,null,null,2013,1.56,{"$f":"1+(F89/100)","v":1.0156000000000001},null,"http://ec.europa.eu/competition/state_aid/legislation/reference_rates.html"," "," "]
[null,null,null,null,2014,1.53,{"$f":"1+(F90/100)","v":1.0153000000000001},null,"http://ec.europa.eu/competition/state_aid/legislation/reference_rates.html"," "," "]
[null,null,null,null,2015,1.34,1.0134000000000001,null,"http://ec.europa.eu/competition/state_aid/legislation/reference_rates.html"," "," "]
[null,null,null,null,2016,1.1200000000000001,1.0112000000000001,null,"http://ec.europa.eu/competition/state_aid/legislation/reference_rates.html"," "," "]
[null,null,null,null,2017,0.93,1.0093000000000001,null,"http://ec.europa.eu/competition/state_aid/legislation/reference_rates.html"," "," "]
[null,null,null,null,2018,0.82,1.0082,null,"http://ec.europa.eu/competition/state_aid/legislation/reference_rates.html"," "," "]
[null,null,null,null,null,null,null,null,null," "]
[null,"Emissiefactor",null,null,null,null,null,null,null," "]
[null,null,"Elektriciteit (België)","ton CO2/MWh",2016,0.221,null,null,"https://ec.europa.eu/jrc/en/publication/covenant-mayors-climate-and-energy-default-emission-factors-local-emission-inventories-version-2017"]
[null,null,"Aardgas","ton CO2/MWh",2006,0.20200000000000001,null,null,"2006 IPCC Guidelines for National Greenhouse Gas Inventories"," "]
[null,null,"Vloeibaar gas","ton CO2/MWh",2006,0.22700000000000001,null,null,"2006 IPCC Guidelines for National Greenhouse Gas Inventories"," "]
[null,null,"Stookolie","ton CO2/MWh",2006,0.26700000000000002,null,null,"2006 IPCC Guidelines for National Greenhouse Gas Inventories"," "]
[null,null,"Diesel","ton CO2/MWh",2006,0.26700000000000002,null,null,"2006 IPCC Guidelines for National Greenhouse Gas Inventories"," "]
[null,null,"Benzine","ton CO2/MWh",2006,0.249,null,null,"2006 IPCC Guidelines for National Greenhouse Gas Inventories"," "]
[null,null,"Bruinkool","ton CO2/MWh",2006,0.35099999999999998,null,null,"2006 IPCC Guidelines for National Greenhouse Gas Inventories"," "]
[null,null,"Steenkool","ton CO2/MWh",2006,0.35399999999999998,null,null,"2006 IPCC Guidelines for National Greenhouse Gas Inventories"," "]
[null,null,"Andere fossiele brandstoffen","ton CO2/MWh",2006,0.26400000000000001,null,null,"2006 IPCC Guidelines for National Greenhouse Gas Inventories"," "]
[null,null,"Planaardige oliën","ton CO2/MWh",2006,0,null,null,"2006 IPCC Guidelines for National Greenhouse Gas Inventories"," "]
[null,null,"Bio-brandstof","ton CO2/MWh",2006,0,null,null,"2006 IPCC Guidelines for National Greenhouse Gas Inventories"," "]
[null,null,"Overige Biomassa","ton CO2/MWh",2006,0,null,null,"2006 IPCC Guidelines for National Greenhouse Gas Inventories"," "]
[null,null,"Zonne-/ thermische energie","ton CO2/MWh",2006,0,null,null,"2006 IPCC Guidelines for National Greenhouse Gas Inventories"]
[null,null,"Geo-thermische energie","ton CO2/MWh",2006,0,null,null,"2006 IPCC Guidelines for National Greenhouse Gas Inventories"]
[null,null,"Huishoudelijk afval (niet-hernieuwbaar)","ton CO2/MWh",2006,0.33,null,null,"2006 IPCC Guidelines for National Greenhouse Gas Inventories"," "]
[]
[null,"Conversiefactoren brandstoffen verwarming",null,null,null,null,null,null,null," "]
[null,null,null,null,null,"naar GJ \n(OVW)","naar MWh \n(OVW)"," ",null," "]
[null,null,"Lichte stookolie","l",null,3.678273E-2,1.0217506739400001E-2,null,"VITO Energiebalans Vlaanderen (juni 2013)"," "]
[null,null,"Lichte stookolie","kg",null,4.2278999999999997E-2,1.174426062E-2,null,"VITO Energiebalans Vlaanderen (juni 2013)"," "]
[null,null,"Lichte stookolie","t",null,42.279000000000003,11.744260620000002,null,"VITO Energiebalans Vlaanderen (juni 2013)"," "]
[null,null,"Zware stookolie","l",null,3.8573799999999998E-2,1.0715030164E-2,null,"VITO Energiebalans Vlaanderen (juni 2013)"," "]
[null,null,"Zware stookolie","kg",null,4.0604000000000001E-2,1.1278979120000001E-2,null,"VITO Energiebalans Vlaanderen (juni 2013)"," "]
[null,null,"Zware stookolie","t",null,40.603999999999999,11.278979120000001,null,"VITO Energiebalans Vlaanderen (juni 2013)"," "]
[null,null,"Propaan (vloeibaar gas)","l",null,2.3511000000000001E-2,6.5308855800000004E-3,null,"VITO Energiebalans Vlaanderen (juni 2013)"," "]
[null,null,"Propaan (vloeibaar gas)","kg",null,4.6100000000000002E-2,1.2805658000000001E-2,null,"VITO Energiebalans Vlaanderen (juni 2013)"," "]
[null,null,"Propaan (vloeibaar gas)","t",null,46.1,12.805658000000001,null,"VITO Energiebalans Vlaanderen (juni 2013)"," "]
[null,null,"Butaan (vloeibaar gas)","l",null,2.6525139999999999E-2,7.3681533892000009E-3,null,"VITO Energiebalans Vlaanderen (juni 2013)"," "]
[null,null,"Butaan (vloeibaar gas)","kg",null,4.5733000000000003E-2,1.2703712740000001E-2,null,"VITO Energiebalans Vlaanderen (juni 2013)"," "]
[null,null,"Butaan (vloeibaar gas)","t",null,45.732999999999997,12.70371274,null,"VITO Energiebalans Vlaanderen (juni 2013)"," "]
[null,null,"Aardgas (laagcalorisch)","m³",null,3.2923000000000001E-2,9.1453509400000015E-3,null,"VITO Energiebalans Vlaanderen (juni 2013)"," "]
[null,null,"Aardgas (hoogcalorisch)","m³",null,3.8852400000000002E-2,1.0792419672000002E-2,null,"VITO Energiebalans Vlaanderen (juni 2013)"," "]
[null,null,"LPG (vloeibaar gas)","l",null,2.4812460000000001E-2,6.8924051388000009E-3,null,"VITO Energiebalans Vlaanderen (juni 2013)"," "]
[null,null,"LPG (vloeibaar gas)","kg",null,4.5948999999999997E-2,1.276371322E-2,null,"VITO Energiebalans Vlaanderen (juni 2013)"," "]
[null,null,"LPG (vloeibaar gas)","t",null,45.948999999999998,12.763713220000001,null,"VITO Energiebalans Vlaanderen (juni 2013)"," "]
[]
[null,"Conversiefactoren brandstoffen transport"]
[null,null,null,null,null,null,"naar MWh \n(OVW)"," "]
[null,null,"Diesel","l",null,null,1.0116343055555555E-2,null,"COPERT"]
[null,null,"Diesel","kg",null,null,1.1859722222222221E-2,null,"COPERT"]
[null,null,"Benzine","l",null,null,9.1803805555555566E-3,null,"COPERT"]
[null,null,"Benzine","kg",null,null,1.2159444444444445E-2,null,"COPERT"]
[null,null,"LPG (vloeibaar gas)","l",null,null,7.1139444444444453E-3,null,"COPERT"]
[null,null,"LPG (vloeibaar gas)","kg",null,null,1.2934444444444445E-2,null,"COPERT"]
[null,null,"CNG (aardgas)","l",null,null,9.3333333333333326E-6,null,"COPERT"]
[null,null,"CNG (aardgas)","kg",null,null,1.3333333333333332E-2,null,"COPERT"]

{"sheet":"AA_Data_all_DOEL","index":66,"n_rows":151,"n_cols":8,"rows_kept":151,"cut":false,"hidden":true,"merged":[]}
["sector","energiedrager","jaar","gemeente","parameter","value","subsector","value_final"]
["huishoudens","Elektriciteit",2012,"VITO","CO2",27776.755839600701,"totaal",{"$f":"IF(tbl_AA_Data_all_DOEL[[#This Row],[subsector]]=\"Snelwegen\",P_Snelwegen,1)*tbl_AA_Data_all_DOEL[[#This Row],[value]]","v":27776.755839600701}]
["huishoudens","Warmte/ Koude",2012,"VITO","CO2",0,"totaal",{"$f":"IF(tbl_AA_Data_all_DOEL[[#This Row],[subsector]]=\"Snelwegen\",P_Snelwegen,1)*tbl_AA_Data_all_DOEL[[#This Row],[value]]","v":0}]
["huishoudens","Aardgas",2012,"VITO","CO2",60365.520573116002,"totaal",{"$f":"IF(tbl_AA_Data_all_DOEL[[#This Row],[subsector]]=\"Snelwegen\",P_Snelwegen,1)*tbl_AA_Data_all_DOEL[[#This Row],[value]]","v":60365.520573116002}]
["huishoudens","Vloeibaar gas",2012,"VITO","CO2",2523.40923550357,"totaal",{"$f":"IF(tbl_AA_Data_all_DOEL[[#This Row],[subsector]]=\"Snelwegen\",P_Snelwegen,1)*tbl_AA_Data_all_DOEL[[#This Row],[value]]","v":2523.40923550357}]
["huishoudens","Stookolie",2012,"VITO","CO2",22801.4495394921,"totaal",{"$f":"IF(tbl_AA_Data_all_DOEL[[#This Row],[subsector]]=\"Snelwegen\",P_Snelwegen,1)*tbl_AA_Data_all_DOEL[[#This Row],[value]]","v":22801.4495394921}]
["huishoudens","Diesel",2012,"VITO","CO2",0,"totaal",{"$f":"IF(tbl_AA_Data_all_DOEL[[#This Row],[subsector]]=\"Snelwegen\",P_Snelwegen,1)*tbl_AA_Data_all_DOEL[[#This Row],[value]]","v":0}]
["huishoudens","Benzine",2012,"VITO","CO2",0,"totaal",{"$f":"IF(tbl_AA_Data_all_DOEL[[#This Row],[subsector]]=\"Snelwegen\",P_Snelwegen,1)*tbl_AA_Data_all_DOEL[[#This Row],[value]]","v":0}]
["huishoudens","Bruinkool",2012,"VITO","CO2",0,"totaal",{"$f":"IF(tbl_AA_Data_all_DOEL[[#This Row],[subsector]]=\"Snelwegen\",P_Snelwegen,1)*tbl_AA_Data_all_DOEL[[#This Row],[value]]","v":0}]
["huishoudens","Steenkool",2012,"VITO","CO2",0,"totaal",{"$f":"IF(tbl_AA_Data_all_DOEL[[#This Row],[subsector]]=\"Snelwegen\",P_Snelwegen,1)*tbl_AA_Data_all_DOEL[[#This Row],[value]]","v":0}]
["huishoudens","Andere fossiele brandstoffen",2012,"VITO","CO2",0,"totaal",{"$f":"IF(tbl_AA_Data_all_DOEL[[#This Row],[subsector]]=\"Snelwegen\",P_Snelwegen,1)*tbl_AA_Data_all_DOEL[[#This Row],[value]]","v":0}]
["huishoudens","Plantaardige oliën",2012,"VITO","CO2",0,"totaal",{"$f":"IF(tbl_AA_Data_all_DOEL[[#This Row],[subsector]]=\"Snelwegen\",P_Snelwegen,1)*tbl_AA_Data_all_DOEL[[#This Row],[value]]","v":0}]
["huishoudens","Bio-brandstof ",2012,"VITO","CO2",0,"totaal",{"$f":"IF(tbl_AA_Data_all_DOEL[[#This Row],[subsector]]=\"Snelwegen\",P_Snelwegen,1)*tbl_AA_Data_all_DOEL[[#This Row],[value]]","v":0}]
["huishoudens","Overige biomassa",2012,"VITO","CO2",0,"totaal",{"$f":"IF(tbl_AA_Data_all_DOEL[[#This Row],[subsector]]=\"Snelwegen\",P_Snelwegen,1)*tbl_AA_Data_all_DOEL[[#This Row],[value]]","v":0}]
["huishoudens","Zonne-/ thermische energie",2012,"VITO","CO2",0,"totaal",{"$f":"IF(tbl_AA_Data_all_DOEL[[#This Row],[subsector]]=\"Snelwegen\",P_Snelwegen,1)*tbl_AA_Data_all_DOEL[[#This Row],[value]]","v":0}]
["huishoudens","Geo-thermische energie",2012,"VITO","CO2",0,"totaal",{"$f":"IF(tbl_AA_Data_all_DOEL[[#This Row],[subsector]]=\"Snelwegen\",P_Snelwegen,1)*tbl_AA_Data_all_DOEL[[#This Row],[value]]","v":0}]
["industrie (niet-ETS)","Elektriciteit",2012,"VITO","CO2",14061.679281798601,"totaal",{"$f":"IF(tbl_AA_Data_all_DOEL[[#This Row],[subsector]]=\"Snelwegen\",P_Snelwegen,1)*tbl_AA_Data_all_DOEL[[#This Row],[value]]","v":14061.679281798601}]
["industrie (niet-ETS)","Warmte/ Koude",2012,"VITO","CO2",76.386554621848802,"totaal",{"$f":"IF(tbl_AA_Data_all_DOEL[[#This Row],[subsector]]=\"Snelwegen\",P_Snelwegen,1)*tbl_AA_Data_all_DOEL[[#This Row],[value]]","v":76.386554621848802}]
["industrie (niet-ETS)","Aardgas",2012,"VITO","CO2",19204.4154898509,"totaal",{"$f":"IF(tbl_AA_Data_all_DOEL[[#This Row],[subsector]]=\"Snelwegen\",P_Snelwegen,1)*tbl_AA_Data_all_DOEL[[#This Row],[value]]","v":19204.4154898509}]
["industrie (niet-ETS)","Vloeibaar gas",2012,"VITO","CO2",190.50365897230901,"totaal",{"$f":"IF(tbl_AA_Data_all_DOEL[[#This Row],[subsector]]=\"Snelwegen\",P_Snelwegen,1)*tbl_AA_Data_all_DOEL[[#This Row],[value]]","v":190.50365897230901}]
["industrie (niet-ETS)","Stookolie",2012,"VITO","CO2",9025.8201569308294,"totaal",{"$f":"IF(tbl_AA_Data_all_DOEL[[#This Row],[subsector]]=\"Snelwegen\",P_Snelwegen,1)*tbl_AA_Data_all_DOEL[[#This Row],[value]]","v":9025.8201569308294}]
["industrie (niet-ETS)","Diesel",2012,"VITO","CO2",0,"totaal",{"$f":"IF(tbl_AA_Data_all_DOEL[[#This Row],[subsector]]=\"Snelwegen\",P_Snelwegen,1)*tbl_AA_Data_all_DOEL[[#This Row],[value]]","v":0}]
["industrie (niet-ETS)","Benzine",2012,"VITO","CO2",0,"totaal",{"$f":"IF(tbl_AA_Data_all_DOEL[[#This Row],[subsector]]=\"Snelwegen\",P_Snelwegen,1)*tbl_AA_Data_all_DOEL[[#This Row],[value]]","v":0}]
["industrie (niet-ETS)","Bruinkool",2012,"VITO","CO2",0,"totaal",{"$f":"IF(tbl_AA_Data_all_DOEL[[#This Row],[subsector]]=\"Snelwegen\",P_Snelwegen,1)*tbl_AA_Data_all_DOEL[[#This Row],[value]]","v":0}]
["industrie (niet-ETS)","Steenkool",2012,"VITO","CO2",56.609188415928301,"totaal",{"$f":"IF(tbl_AA_Data_all_DOEL[[#This Row],[subsector]]=\"Snelwegen\",P_Snelwegen,1)*tbl_AA_Data_all_DOEL[[#This Row],[value]]","v":56.609188415928301}]
["industrie (niet-ETS)","Andere fossiele brandstoffen",2012,"VITO","CO2",0,"totaal",{"$f":"IF(tbl_AA_Data_all_DOEL[[#This Row],[subsector]]=\"Snelwegen\",P_Snelwegen,1)*tbl_AA_Data_all_DOEL[[#This Row],[value]]","v":0}]
["industrie (niet-ETS)","Plantaardige oliën",2012,"VITO","CO2",0,"totaal",{"$f":"IF(tbl_AA_Data_all_DOEL[[#This Row],[subsector]]=\"Snelwegen\",P_Snelwegen,1)*tbl_AA_Data_all_DOEL[[#This Row],[value]]","v":0}]
["industrie (niet-ETS)","Bio-brandstof ",2012,"VITO","CO2",0,"totaal",{"$f":"IF(tbl_AA_Data_all_DOEL[[#This Row],[subsector]]=\"Snelwegen\",P_Snelwegen,1)*tbl_AA_Data_all_DOEL[[#This Row],[value]]","v":0}]
["industrie (niet-ETS)","Overige biomassa",2012,"VITO","CO2",0,"totaal",{"$f":"IF(tbl_AA_Data_all_DOEL[[#This Row],[subsector]]=\"Snelwegen\",P_Snelwegen,1)*tbl_AA_Data_all_DOEL[[#This Row],[value]]","v":0}]
["industrie (niet-ETS)","Zonne-/ thermische energie",2012,"VITO","CO2",0,"totaal",{"$f":"IF(tbl_AA_Data_all_DOEL[[#This Row],[subsector]]=\"Snelwegen\",P_Snelwegen,1)*tbl_AA_Data_all_DOEL[[#This Row],[value]]","v":0}]
["industrie (niet-ETS)","Geo-thermische energie",2012,"VITO","CO2",0,"totaal",{"$f":"IF(tbl_AA_Data_all_DOEL[[#This Row],[subsector]]=\"Snelwegen\",P_Snelwegen,1)*tbl_AA_Data_all_DOEL[[#This Row],[value]]","v":0}]
["landbouw","Elektriciteit",2012,"VITO","CO2",685.313067539499,"totaal",{"$f":"IF(tbl_AA_Data_all_DOEL[[#This Row],[subsector]]=\"Snelwegen\",P_Snelwegen,1)*tbl_AA_Data_all_DOEL[[#This Row],[value]]","v":685.313067539499}]
["landbouw","Warmte/ Koude",2012,"VITO","CO2",0,"totaal",{"$f":"IF(tbl_AA_Data_all_DOEL[[#This Row],[subsector]]=\"Snelwegen\",P_Snelwegen,1)*tbl_AA_Data_all_DOEL[[#This Row],[value]]","v":0}]
["landbouw","Aardgas",2012,"VITO","CO2",468.11341508800001,"totaal",{"$f":"IF(tbl_AA_Data_all_DOEL[[#This Row],[subsector]]=\"Snelwegen\",P_Snelwegen,1)*tbl_AA_Data_all_DOEL[[#This Row],[value]]","v":468.11341508800001}]
["landbouw","Vloeibaar gas",2012,"VITO","CO2",7.2359836244334899,"totaal",{"$f":"IF(tbl_AA_Data_all_DOEL[[#This Row],[subsector]]=\"Snelwegen\",P_Snelwegen,1)*tbl_AA_Data_all_DOEL[[#This Row],[value]]","v":7.2359836244334899}]
["landbouw","Stookolie",2012,"VITO","CO2",2948.2372560819899,"totaal",{"$f":"IF(tbl_AA_Data_all_DOEL[[#This Row],[subsector]]=\"Snelwegen\",P_Snelwegen,1)*tbl_AA_Data_all_DOEL[[#This Row],[value]]","v":2948.2372560819899}]
["landbouw","Diesel",2012,"VITO","CO2",0,"totaal",{"$f":"IF(tbl_AA_Data_all_DOEL[[#This Row],[subsector]]=\"Snelwegen\",P_Snelwegen,1)*tbl_AA_Data_all_DOEL[[#This Row],[value]]","v":0}]
["landbouw","Benzine",2012,"VITO","CO2",0,"totaal",{"$f":"IF(tbl_AA_Data_all_DOEL[[#This Row],[subsector]]=\"Snelwegen\",P_Snelwegen,1)*tbl_AA_Data_all_DOEL[[#This Row],[value]]","v":0}]
["landbouw","Bruinkool",2012,"VITO","CO2",0,"totaal",{"$f":"IF(tbl_AA_Data_all_DOEL[[#This Row],[subsector]]=\"Snelwegen\",P_Snelwegen,1)*tbl_AA_Data_all_DOEL[[#This Row],[value]]","v":0}]
["landbouw","Steenkool",2012,"VITO","CO2",148.17671563019999,"totaal",{"$f":"IF(tbl_AA_Data_all_DOEL[[#This Row],[subsector]]=\"Snelwegen\",P_Snelwegen,1)*tbl_AA_Data_all_DOEL[[#This Row],[value]]","v":148.17671563019999}]
["landbouw","Andere fossiele brandstoffen",2012,"VITO","CO2",0,"totaal",{"$f":"IF(tbl_AA_Data_all_DOEL[[#This Row],[subsector]]=\"Snelwegen\",P_Snelwegen,1)*tbl_AA_Data_all_DOEL[[#This Row],[value]]","v":0}]
["landbouw","Plantaardige oliën",2012,"VITO","CO2",0,"totaal",{"$f":"IF(tbl_AA_Data_all_DOEL[[#This Row],[subsector]]=\"Snelwegen\",P_Snelwegen,1)*tbl_AA_Data_all_DOEL[[#This Row],[value]]","v":0}]
["landbouw","Bio-brandstof ",2012,"VITO","CO2",0,"totaal",{"$f":"IF(tbl_AA_Data_all_DOEL[[#This Row],[subsector]]=\"Snelwegen\",P_Snelwegen,1)*tbl_AA_Data_all_DOEL[[#This Row],[value]]","v":0}]
["landbouw","Overige biomassa",2012,"VITO","CO2",0,"totaal",{"$f":"IF(tbl_AA_Data_all_DOEL[[#This Row],[subsector]]=\"Snelwegen\",P_Snelwegen,1)*tbl_AA_Data_all_DOEL[[#This Row],[value]]","v":0}]
["landbouw","Zonne-/ thermische energie",2012,"VITO","CO2",0,"totaal",{"$f":"IF(tbl_AA_Data_all_DOEL[[#This Row],[subsector]]=\"Snelwegen\",P_Snelwegen,1)*tbl_AA_Data_all_DOEL[[#This Row],[value]]","v":0}]
["landbouw","Geo-thermische energie",2012,"VITO","CO2",0,"totaal",{"$f":"IF(tbl_AA_Data_all_DOEL[[#This Row],[subsector]]=\"Snelwegen\",P_Snelwegen,1)*tbl_AA_Data_all_DOEL[[#This Row],[value]]","v":0}]
["niet toegekend","Elektriciteit",2012,"VITO","CO2",1100.79220978751,"totaal",{"$f":"IF(tbl_AA_Data_all_DOEL[[#This Row],[subsector]]=\"Snelwegen\",P_Snelwegen,1)*tbl_AA_Data_all_DOEL[[#This Row],[value]]","v":1100.79220978751}]
["niet toegekend","Warmte/ Koude",2012,"VITO","CO2",0,"totaal",{"$f":"IF(tbl_AA_Data_all_DOEL[[#This Row],[subsector]]=\"Snelwegen\",P_Snelwegen,1)*tbl_AA_Data_all_DOEL[[#This Row],[value]]","v":0}]
["niet toegekend","Aardgas",2012,"VITO","CO2",5607.7442199999996,"totaal",{"$f":"IF(tbl_AA_Data_all_DOEL[[#This Row],[subsector]]=\"Snelwegen\",P_Snelwegen,1)*tbl_AA_Data_all_DOEL[[#This Row],[value]]","v":5607.7442199999996}]
["niet toegekend","Vloeibaar gas",2012,"VITO","CO2",0,"totaal",{"$f":"IF(tbl_AA_Data_all_DOEL[[#This Row],[subsector]]=\"Snelwegen\",P_Snelwegen,1)*tbl_AA_Data_all_DOEL[[#This Row],[value]]","v":0}]
["niet toegekend","Stookolie",2012,"VITO","CO2",0,"totaal",{"$f":"IF(tbl_AA_Data_all_DOEL[[#This Row],[subsector]]=\"Snelwegen\",P_Snelwegen,1)*tbl_AA_Data_all_DOEL[[#This Row],[value]]","v":0}]
["niet toegekend","Diesel",2012,"VITO","CO2",0,"totaal",{"$f":"IF(tbl_AA_Data_all_DOEL[[#This Row],[subsector]]=\"Snelwegen\",P_Snelwegen,1)*tbl_AA_Data_all_DOEL[[#This Row],[value]]","v":0}]
["niet toegekend","Benzine",2012,"VITO","CO2",0,"totaal",{"$f":"IF(tbl_AA_Data_all_DOEL[[#This Row],[subsector]]=\"Snelwegen\",P_Snelwegen,1)*tbl_AA_Data_all_DOEL[[#This Row],[value]]","v":0}]
["niet toegekend","Bruinkool",2012,"VITO","CO2",0,"totaal",{"$f":"IF(tbl_AA_Data_all_DOEL[[#This Row],[subsector]]=\"Snelwegen\",P_Snelwegen,1)*tbl_AA_Data_all_DOEL[[#This Row],[value]]","v":0}]
["niet toegekend","Steenkool",2012,"VITO","CO2",0,"totaal",{"$f":"IF(tbl_AA_Data_all_DOEL[[#This Row],[subsector]]=\"Snelwegen\",P_Snelwegen,1)*tbl_AA_Data_all_DOEL[[#This Row],[value]]","v":0}]
["niet toegekend","Andere fossiele brandstoffen",2012,"VITO","CO2",0,"totaal",{"$f":"IF(tbl_AA_Data_all_DOEL[[#This Row],[subsector]]=\"Snelwegen\",P_Snelwegen,1)*tbl_AA_Data_all_DOEL[[#This Row],[value]]","v":0}]
["niet toegekend","Plantaardige oliën",2012,"VITO","CO2",0,"totaal",{"$f":"IF(tbl_AA_Data_all_DOEL[[#This Row],[subsector]]=\"Snelwegen\",P_Snelwegen,1)*tbl_AA_Data_all_DOEL[[#This Row],[value]]","v":0}]
["niet toegekend","Bio-brandstof ",2012,"VITO","CO2",0,"totaal",{"$f":"IF(tbl_AA_Data_all_DOEL[[#This Row],[subsector]]=\"Snelwegen\",P_Snelwegen,1)*tbl_AA_Data_all_DOEL[[#This Row],[value]]","v":0}]
["niet toegekend","Overige biomassa",2012,"VITO","CO2",0,"totaal",{"$f":"IF(tbl_AA_Data_all_DOEL[[#This Row],[subsector]]=\"Snelwegen\",P_Snelwegen,1)*tbl_AA_Data_all_DOEL[[#This Row],[value]]","v":0}]
["niet toegekend","Zonne-/ thermische energie",2012,"VITO","CO2",0,"totaal",{"$f":"IF(tbl_AA_Data_all_DOEL[[#This Row],[subsector]]=\"Snelwegen\",P_Snelwegen,1)*tbl_AA_Data_all_DOEL[[#This Row],[value]]","v":0}]
["niet toegekend","Geo-thermische energie",2012,"VITO","CO2",0,"totaal",{"$f":"IF(tbl_AA_Data_all_DOEL[[#This Row],[subsector]]=\"Snelwegen\",P_Snelwegen,1)*tbl_AA_Data_all_DOEL[[#This Row],[value]]","v":0}]
["openbaar vervoer","Elektriciteit",2012,"VITO","CO2",0,"totaal",{"$f":"IF(tbl_AA_Data_all_DOEL[[#This Row],[subsector]]=\"Snelwegen\",P_Snelwegen,1)*tbl_AA_Data_all_DOEL[[#This Row],[value]]","v":0}]
["openbaar vervoer","Warmte/ Koude",2012,"VITO","CO2",0,"totaal",{"$f":"IF(tbl_AA_Data_all_DOEL[[#This Row],[subsector]]=\"Snelwegen\",P_Snelwegen,1)*tbl_AA_Data_all_DOEL[[#This Row],[value]]","v":0}]
["openbaar vervoer","Aardgas",2012,"VITO","CO2",0,"totaal",{"$f":"IF(tbl_AA_Data_all_DOEL[[#This Row],[subsector]]=\"Snelwegen\",P_Snelwegen,1)*tbl_AA_Data_all_DOEL[[#This Row],[value]]","v":0}]
["openbaar vervoer","Vloeibaar gas",2012,"VITO","CO2",0,"totaal",{"$f":"IF(tbl_AA_Data_all_DOEL[[#This Row],[subsector]]=\"Snelwegen\",P_Snelwegen,1)*tbl_AA_Data_all_DOEL[[#This Row],[value]]","v":0}]
["openbaar vervoer","Stookolie",2012,"VITO","CO2",0,"totaal",{"$f":"IF(tbl_AA_Data_all_DOEL[[#This Row],[subsector]]=\"Snelwegen\",P_Snelwegen,1)*tbl_AA_Data_all_DOEL[[#This Row],[value]]","v":0}]
["openbaar vervoer","Diesel",2012,"VITO","CO2",4893.6340421316299,"totaal",{"$f":"IF(tbl_AA_Data_all_DOEL[[#This Row],[subsector]]=\"Snelwegen\",P_Snelwegen,1)*tbl_AA_Data_all_DOEL[[#This Row],[value]]","v":4893.6340421316299}]
["openbaar vervoer","Benzine",2012,"VITO","CO2",0,"totaal",{"$f":"IF(tbl_AA_Data_all_DOEL[[#This Row],[subsector]]=\"Snelwegen\",P_Snelwegen,1)*tbl_AA_Data_all_DOEL[[#This Row],[value]]","v":0}]
["openbaar vervoer","Bruinkool",2012,"VITO","CO2",0,"totaal",{"$f":"IF(tbl_AA_Data_all_DOEL[[#This Row],[subsector]]=\"Snelwegen\",P_Snelwegen,1)*tbl_AA_Data_all_DOEL[[#This Row],[value]]","v":0}]
["openbaar vervoer","Steenkool",2012,"VITO","CO2",0,"totaal",{"$f":"IF(tbl_AA_Data_all_DOEL[[#This Row],[subsector]]=\"Snelwegen\",P_Snelwegen,1)*tbl_AA_Data_all_DOEL[[#This Row],[value]]","v":0}]
["openbaar vervoer","Andere fossiele brandstoffen",2012,"VITO","CO2",0,"totaal",{"$f":"IF(tbl_AA_Data_all_DOEL[[#This Row],[subsector]]=\"Snelwegen\",P_Snelwegen,1)*tbl_AA_Data_all_DOEL[[#This Row],[value]]","v":0}]
["openbaar vervoer","Plantaardige oliën",2012,"VITO","CO2",0,"totaal",{"$f":"IF(tbl_AA_Data_all_DOEL[[#This Row],[subsector]]=\"Snelwegen\",P_Snelwegen,1)*tbl_AA_Data_all_DOEL[[#This Row],[value]]","v":0}]
["openbaar vervoer","Bio-brandstof ",2012,"VITO","CO2",0,"totaal",{"$f":"IF(tbl_AA_Data_all_DOEL[[#This Row],[subsector]]=\"Snelwegen\",P_Snelwegen,1)*tbl_AA_Data_all_DOEL[[#This Row],[value]]","v":0}]
["openbaar vervoer","Overige biomassa",2012,"VITO","CO2",0,"totaal",{"$f":"IF(tbl_AA_Data_all_DOEL[[#This Row],[subsector]]=\"Snelwegen\",P_Snelwegen,1)*tbl_AA_Data_all_DOEL[[#This Row],[value]]","v":0}]
["openbaar vervoer","Zonne-/ thermische energie",2012,"VITO","CO2",0,"totaal",{"$f":"IF(tbl_AA_Data_all_DOEL[[#This Row],[subsector]]=\"Snelwegen\",P_Snelwegen,1)*tbl_AA_Data_all_DOEL[[#This Row],[value]]","v":0}]
["openbaar vervoer","Geo-thermische energie",2012,"VITO","CO2",0,"totaal",{"$f":"IF(tbl_AA_Data_all_DOEL[[#This Row],[subsector]]=\"Snelwegen\",P_Snelwegen,1)*tbl_AA_Data_all_DOEL[[#This Row],[value]]","v":0}]
["openbare verlichting","Elektriciteit",2012,"VITO","CO2",1003.23800799197,"totaal",{"$f":"IF(tbl_AA_Data_all_DOEL[[#This Row],[subsector]]=\"Snelwegen\",P_Snelwegen,1)*tbl_AA_Data_all_DOEL[[#This Row],[value]]","v":1003.23800799197}]
["openbare verlichting","Warmte/ Koude",2012,"VITO","CO2",0,"totaal",{"$f":"IF(tbl_AA_Data_all_DOEL[[#This Row],[subsector]]=\"Snelwegen\",P_Snelwegen,1)*tbl_AA_Data_all_DOEL[[#This Row],[value]]","v":0}]
["openbare verlichting","Aardgas",2012,"VITO","CO2",0,"totaal",{"$f":"IF(tbl_AA_Data_all_DOEL[[#This Row],[subsector]]=\"Snelwegen\",P_Snelwegen,1)*tbl_AA_Data_all_DOEL[[#This Row],[value]]","v":0}]
["openbare verlichting","Vloeibaar gas",2012,"VITO","CO2",0,"totaal",{"$f":"IF(tbl_AA_Data_all_DOEL[[#This Row],[subsector]]=\"Snelwegen\",P_Snelwegen,1)*tbl_AA_Data_all_DOEL[[#This Row],[value]]","v":0}]
["openbare verlichting","Stookolie",2012,"VITO","CO2",0,"totaal",{"$f":"IF(tbl_AA_Data_all_DOEL[[#This Row],[subsector]]=\"Snelwegen\",P_Snelwegen,1)*tbl_AA_Data_all_DOEL[[#This Row],[value]]","v":0}]
["openbare verlichting","Diesel",2012,"VITO","CO2",0,"totaal",{"$f":"IF(tbl_AA_Data_all_DOEL[[#This Row],[subsector]]=\"Snelwegen\",P_Snelwegen,1)*tbl_AA_Data_all_DOEL[[#This Row],[value]]","v":0}]
["openbare verlichting","Benzine",2012,"VITO","CO2",0,"totaal",{"$f":"IF(tbl_AA_Data_all_DOEL[[#This Row],[subsector]]=\"Snelwegen\",P_Snelwegen,1)*tbl_AA_Data_all_DOEL[[#This Row],[value]]","v":0}]
["openbare verlichting","Bruinkool",2012,"VITO","CO2",0,"totaal",{"$f":"IF(tbl_AA_Data_all_DOEL[[#This Row],[subsector]]=\"Snelwegen\",P_Snelwegen,1)*tbl_AA_Data_all_DOEL[[#This Row],[value]]","v":0}]
["openbare verlichting","Steenkool",2012,"VITO","CO2",0,"totaal",{"$f":"IF(tbl_AA_Data_all_DOEL[[#This Row],[subsector]]=\"Snelwegen\",P_Snelwegen,1)*tbl_AA_Data_all_DOEL[[#This Row],[value]]","v":0}]
["openbare verlichting","Andere fossiele brandstoffen",2012,"VITO","CO2",0,"totaal",{"$f":"IF(tbl_AA_Data_all_DOEL[[#This Row],[subsector]]=\"Snelwegen\",P_Snelwegen,1)*tbl_AA_Data_all_DOEL[[#This Row],[value]]","v":0}]
["openbare verlichting","Plantaardige oliën",2012,"VITO","CO2",0,"totaal",{"$f":"IF(tbl_AA_Data_all_DOEL[[#This Row],[subsector]]=\"Snelwegen\",P_Snelwegen,1)*tbl_AA_Data_all_DOEL[[#This Row],[value]]","v":0}]
["openbare verlichting","Bio-brandstof ",2012,"VITO","CO2",0,"totaal",{"$f":"IF(tbl_AA_Data_all_DOEL[[#This Row],[subsector]]=\"Snelwegen\",P_Snelwegen,1)*tbl_AA_Data_all_DOEL[[#This Row],[value]]","v":0}]
["openbare verlichting","Overige biomassa",2012,"VITO","CO2",0,"totaal",{"$f":"IF(tbl_AA_Data_all_DOEL[[#This Row],[subsector]]=\"Snelwegen\",P_Snelwegen,1)*tbl_AA_Data_all_DOEL[[#This Row],[value]]","v":0}]
["openbare verlichting","Zonne-/ thermische energie",2012,"VITO","CO2",0,"totaal",{"$f":"IF(tbl_AA_Data_all_DOEL[[#This Row],[subsector]]=\"Snelwegen\",P_Snelwegen,1)*tbl_AA_Data_all_DOEL[[#This Row],[value]]","v":0}]
["openbare verlichting","Geo-thermische energie",2012,"VITO","CO2",0,"totaal",{"$f":"IF(tbl_AA_Data_all_DOEL[[#This Row],[subsector]]=\"Snelwegen\",P_Snelwegen,1)*tbl_AA_Data_all_DOEL[[#This Row],[value]]","v":0}]
["particulier en commercieel vervoer","Elektriciteit",2012,"VITO","CO2",0.88879295068726305,"Snelwegen",{"$f":"IF(tbl_AA_Data_all_DOEL[[#This Row],[subsector]]=\"Snelwegen\",P_Snelwegen,1)*tbl_AA_Data_all_DOEL[[#This Row],[value]]","v":0}]
["particulier en commercieel vervoer","Elektriciteit",2012,"VITO","CO2",1.4675006558961099,"Genummerde wegen",{"$f":"IF(tbl_AA_Data_all_DOEL[[#This Row],[subsector]]=\"Snelwegen\",P_Snelwegen,1)*tbl_AA_Data_all_DOEL[[#This Row],[value]]","v":1.4675006558961099}]
["particulier en commercieel vervoer","Elektriciteit",2012,"VITO","CO2",0.40035294358645201,"Niet-genummerde wegen",{"$f":"IF(tbl_AA_Data_all_DOEL[[#This Row],[subsector]]=\"Snelwegen\",P_Snelwegen,1)*tbl_AA_Data_all_DOEL[[#This Row],[value]]","v":0.40035294358645201}]
["particulier en commercieel vervoer","Warmte/ Koude",2012,"VITO","CO2",0,"Genummerde wegen",{"$f":"IF(tbl_AA_Data_all_DOEL[[#This Row],[subsector]]=\"Snelwegen\",P_Snelwegen,1)*tbl_AA_Data_all_DOEL[[#This Row],[value]]","v":0}]
["particulier en commercieel vervoer","Warmte/ Koude",2012,"VITO","CO2",0,"Niet-genummerde wegen",{"$f":"IF(tbl_AA_Data_all_DOEL[[#This Row],[subsector]]=\"Snelwegen\",P_Snelwegen,1)*tbl_AA_Data_all_DOEL[[#This Row],[value]]","v":0}]
["particulier en commercieel vervoer","Warmte/ Koude",2012,"VITO","CO2",0,"Snelwegen",{"$f":"IF(tbl_AA_Data_all_DOEL[[#This Row],[subsector]]=\"Snelwegen\",P_Snelwegen,1)*tbl_AA_Data_all_DOEL[[#This Row],[value]]","v":0}]
["particulier en commercieel vervoer","Aardgas",2012,"VITO","CO2",1.74947408328973,"Niet-genummerde wegen",{"$f":"IF(tbl_AA_Data_all_DOEL[[#This Row],[subsector]]=\"Snelwegen\",P_Snelwegen,1)*tbl_AA_Data_all_DOEL[[#This Row],[value]]","v":1.74947408328973}]
["particulier en commercieel vervoer","Aardgas",2012,"VITO","CO2",3.5742030786262902,"Genummerde wegen",{"$f":"IF(tbl_AA_Data_all_DOEL[[#This Row],[subsector]]=\"Snelwegen\",P_Snelwegen,1)*tbl_AA_Data_all_DOEL[[#This Row],[value]]","v":3.5742030786262902}]
["particulier en commercieel vervoer","Aardgas",2012,"VITO","CO2",2.2403381127045598,"Snelwegen",{"$f":"IF(tbl_AA_Data_all_DOEL[[#This Row],[subsector]]=\"Snelwegen\",P_Snelwegen,1)*tbl_AA_Data_all_DOEL[[#This Row],[value]]","v":0}]
["particulier en commercieel vervoer","Vloeibaar gas",2012,"VITO","CO2",238.08062012958101,"Genummerde wegen",{"$f":"IF(tbl_AA_Data_all_DOEL[[#This Row],[subsector]]=\"Snelwegen\",P_Snelwegen,1)*tbl_AA_Data_all_DOEL[[#This Row],[value]]","v":238.08062012958101}]
["particulier en commercieel vervoer","Vloeibaar gas",2012,"VITO","CO2",106.90818015042601,"Niet-genummerde wegen",{"$f":"IF(tbl_AA_Data_all_DOEL[[#This Row],[subsector]]=\"Snelwegen\",P_Snelwegen,1)*tbl_AA_Data_all_DOEL[[#This Row],[value]]","v":106.90818015042601}]
["particulier en commercieel vervoer","Vloeibaar gas",2012,"VITO","CO2",186.726926155689,"Snelwegen",{"$f":"IF(tbl_AA_Data_all_DOEL[[#This Row],[subsector]]=\"Snelwegen\",P_Snelwegen,1)*tbl_AA_Data_all_DOEL[[#This Row],[value]]","v":0}]
["particulier en commercieel vervoer","Stookolie",2012,"VITO","CO2",0,"Genummerde wegen",{"$f":"IF(tbl_AA_Data_all_DOEL[[#This Row],[subsector]]=\"Snelwegen\",P_Snelwegen,1)*tbl_AA_Data_all_DOEL[[#This Row],[value]]","v":0}]
["particulier en commercieel vervoer","Stookolie",2012,"VITO","CO2",0,"Niet-genummerde wegen",{"$f":"IF(tbl_AA_Data_all_DOEL[[#This Row],[subsector]]=\"Snelwegen\",P_Snelwegen,1)*tbl_AA_Data_all_DOEL[[#This Row],[value]]","v":0}]
["particulier en commercieel vervoer","Stookolie",2012,"VITO","CO2",0,"Snelwegen",{"$f":"IF(tbl_AA_Data_all_DOEL[[#This Row],[subsector]]=\"Snelwegen\",P_Snelwegen,1)*tbl_AA_Data_all_DOEL[[#This Row],[value]]","v":0}]
["particulier en commercieel vervoer","Diesel",2012,"VITO","CO2",56786.1902182716,"Genummerde wegen",{"$f":"IF(tbl_AA_Data_all_DOEL[[#This Row],[subsector]]=\"Snelwegen\",P_Snelwegen,1)*tbl_AA_Data_all_DOEL[[#This Row],[value]]","v":56786.1902182716}]
["particulier en commercieel vervoer","Diesel",2012,"VITO","CO2",17400.487322791301,"Niet-genummerde wegen",{"$f":"IF(tbl_AA_Data_all_DOEL[[#This Row],[subsector]]=\"Snelwegen\",P_Snelwegen,1)*tbl_AA_Data_all_DOEL[[#This Row],[value]]","v":17400.487322791301}]
["particulier en commercieel vervoer","Diesel",2012,"VITO","CO2",44783.875383537597,"Snelwegen",{"$f":"IF(tbl_AA_Data_all_DOEL[[#This Row],[subsector]]=\"Snelwegen\",P_Snelwegen,1)*tbl_AA_Data_all_DOEL[[#This Row],[value]]","v":0}]
["particulier en commercieel vervoer","Benzine",2012,"VITO","CO2",9900.0999897749298,"Genummerde wegen",{"$f":"IF(tbl_AA_Data_all_DOEL[[#This Row],[subsector]]=\"Snelwegen\",P_Snelwegen,1)*tbl_AA_Data_all_DOEL[[#This Row],[value]]","v":9900.0999897749298}]
["particulier en commercieel vervoer","Benzine",2012,"VITO","CO2",4637.5490460212995,"Niet-genummerde wegen",{"$f":"IF(tbl_AA_Data_all_DOEL[[#This Row],[subsector]]=\"Snelwegen\",P_Snelwegen,1)*tbl_AA_Data_all_DOEL[[#This Row],[value]]","v":4637.5490460212995}]
["particulier en commercieel vervoer","Benzine",2012,"VITO","CO2",6557.9226776309897,"Snelwegen",{"$f":"IF(tbl_AA_Data_all_DOEL[[#This Row],[subsector]]=\"Snelwegen\",P_Snelwegen,1)*tbl_AA_Data_all_DOEL[[#This Row],[value]]","v":0}]
["particulier en commercieel vervoer","Bruinkool",2012,"VITO","CO2",0,"Snelwegen",{"$f":"IF(tbl_AA_Data_all_DOEL[[#This Row],[subsector]]=\"Snelwegen\",P_Snelwegen,1)*tbl_AA_Data_all_DOEL[[#This Row],[value]]","v":0}]
["particulier en commercieel vervoer","Bruinkool",2012,"VITO","CO2",0,"Niet-genummerde wegen",{"$f":"IF(tbl_AA_Data_all_DOEL[[#This Row],[subsector]]=\"Snelwegen\",P_Snelwegen,1)*tbl_AA_Data_all_DOEL[[#This Row],[value]]","v":0}]
["particulier en commercieel vervoer","Bruinkool",2012,"VITO","CO2",0,"Genummerde wegen",{"$f":"IF(tbl_AA_Data_all_DOEL[[#This Row],[subsector]]=\"Snelwegen\",P_Snelwegen,1)*tbl_AA_Data_all_DOEL[[#This Row],[value]]","v":0}]
["particulier en commercieel vervoer","Steenkool",2012,"VITO","CO2",0,"Genummerde wegen",{"$f":"IF(tbl_AA_Data_all_DOEL[[#This Row],[subsector]]=\"Snelwegen\",P_Snelwegen,1)*tbl_AA_Data_all_DOEL[[#This Row],[value]]","v":0}]
["particulier en commercieel vervoer","Steenkool",2012,"VITO","CO2",0,"Snelwegen",{"$f":"IF(tbl_AA_Data_all_DOEL[[#This Row],[subsector]]=\"Snelwegen\",P_Snelwegen,1)*tbl_AA_Data_all_DOEL[[#This Row],[value]]","v":0}]
["particulier en commercieel vervoer","Steenkool",2012,"VITO","CO2",0,"Niet-genummerde wegen",{"$f":"IF(tbl_AA_Data_all_DOEL[[#This Row],[subsector]]=\"Snelwegen\",P_Snelwegen,1)*tbl_AA_Data_all_DOEL[[#This Row],[value]]","v":0}]
["particulier en commercieel vervoer","Andere fossiele brandstoffen",2012,"VITO","CO2",0,"Genummerde wegen",{"$f":"IF(tbl_AA_Data_all_DOEL[[#This Row],[subsector]]=\"Snelwegen\",P_Snelwegen,1)*tbl_AA_Data_all_DOEL[[#This Row],[value]]","v":0}]
["particulier en commercieel vervoer","Andere fossiele brandstoffen",2012,"VITO","CO2",0,"Niet-genummerde wegen",{"$f":"IF(tbl_AA_Data_all_DOEL[[#This Row],[subsector]]=\"Snelwegen\",P_Snelwegen,1)*tbl_AA_Data_all_DOEL[[#This Row],[value]]","v":0}]
["particulier en commercieel vervoer","Andere fossiele brandstoffen",2012,"VITO","CO2",0,"Snelwegen",{"$f":"IF(tbl_AA_Data_all_DOEL[[#This Row],[subsector]]=\"Snelwegen\",P_Snelwegen,1)*tbl_AA_Data_all_DOEL[[#This Row],[value]]","v":0}]
["particulier en commercieel vervoer","Plantaardige oliën",2012,"VITO","CO2",0,"Niet-genummerde wegen",{"$f":"IF(tbl_AA_Data_all_DOEL[[#This Row],[subsector]]=\"Snelwegen\",P_Snelwegen,1)*tbl_AA_Data_all_DOEL[[#This Row],[value]]","v":0}]
["particulier en commercieel vervoer","Plantaardige oliën",2012,"VITO","CO2",0,"Genummerde wegen",{"$f":"IF(tbl_AA_Data_all_DOEL[[#This Row],[subsector]]=\"Snelwegen\",P_Snelwegen,1)*tbl_AA_Data_all_DOEL[[#This Row],[value]]","v":0}]
["particulier en commercieel vervoer","Plantaardige oliën",2012,"VITO","CO2",0,"Snelwegen",{"$f":"IF(tbl_AA_Data_all_DOEL[[#This Row],[subsector]]=\"Snelwegen\",P_Snelwegen,1)*tbl_AA_Data_all_DOEL[[#This Row],[value]]","v":0}]
["particulier en commercieel vervoer","Bio-brandstof ",2012,"VITO","CO2",0,"Niet-genummerde wegen",{"$f":"IF(tbl_AA_Data_all_DOEL[[#This Row],[subsector]]=\"Snelwegen\",P_Snelwegen,1)*tbl_AA_Data_all_DOEL[[#This Row],[value]]","v":0}]
["particulier en commercieel vervoer","Bio-brandstof ",2012,"VITO","CO2",0,"Snelwegen",{"$f":"IF(tbl_AA_Data_all_DOEL[[#This Row],[subsector]]=\"Snelwegen\",P_Snelwegen,1)*tbl_AA_Data_all_DOEL[[#This Row],[value]]","v":0}]
["particulier en commercieel vervoer","Bio-brandstof ",2012,"VITO","CO2",0,"Genummerde wegen",{"$f":"IF(tbl_AA_Data_all_DOEL[[#This Row],[subsector]]=\"Snelwegen\",P_Snelwegen,1)*tbl_AA_Data_all_DOEL[[#This Row],[value]]","v":0}]
["particulier en commercieel vervoer","Overige biomassa",2012,"VITO","CO2",0,"Genummerde wegen",{"$f":"IF(tbl_AA_Data_all_DOEL[[#This Row],[subsector]]=\"Snelwegen\",P_Snelwegen,1)*tbl_AA_Data_all_DOEL[[#This Row],[value]]","v":0}]
["particulier en commercieel vervoer","Overige biomassa",2012,"VITO","CO2",0,"Niet-genummerde wegen",{"$f":"IF(tbl_AA_Data_all_DOEL[[#This Row],[subsector]]=\"Snelwegen\",P_Snelwegen,1)*tbl_AA_Data_all_DOEL[[#This Row],[value]]","v":0}]
["particulier en commercieel vervoer","Overige biomassa",2012,"VITO","CO2",0,"Snelwegen",{"$f":"IF(tbl_AA_Data_all_DOEL[[#This Row],[subsector]]=\"Snelwegen\",P_Snelwegen,1)*tbl_AA_Data_all_DOEL[[#This Row],[value]]","v":0}]
["particulier en commercieel vervoer","Zonne-/ thermische energie",2012,"VITO","CO2",0,"Genummerde wegen",{"$f":"IF(tbl_AA_Data_all_DOEL[[#This Row],[subsector]]=\"Snelwegen\",P_Snelwegen,1)*tbl_AA_Data_all_DOEL[[#This Row],[value]]","v":0}]
["particulier en commercieel vervoer","Zonne-/ thermische energie",2012,"VITO","CO2",0,"Niet-genummerde wegen",{"$f":"IF(tbl_AA_Data_all_DOEL[[#This Row],[subsector]]=\"Snelwegen\",P_Snelwegen,1)*tbl_AA_Data_all_DOEL[[#This Row],[value]]","v":0}]
["particulier en commercieel vervoer","Zonne-/ thermische energie",2012,"VITO","CO2",0,"Snelwegen",{"$f":"IF(tbl_AA_Data_all_DOEL[[#This Row],[subsector]]=\"Snelwegen\",P_Snelwegen,1)*tbl_AA_Data_all_DOEL[[#This Row],[value]]","v":0}]
["particulier en commercieel vervoer","Geo-thermische energie",2012,"VITO","CO2",0,"Genummerde wegen",{"$f":"IF(tbl_AA_Data_all_DOEL[[#This Row],[subsector]]=\"Snelwegen\",P_Snelwegen,1)*tbl_AA_Data_all_DOEL[[#This Row],[value]]","v":0}]
["particulier en commercieel vervoer","Geo-thermische energie",2012,"VITO","CO2",0,"Snelwegen",{"$f":"IF(tbl_AA_Data_all_DOEL[[#This Row],[subsector]]=\"Snelwegen\",P_Snelwegen,1)*tbl_AA_Data_all_DOEL[[#This Row],[value]]","v":0}]
["particulier en commercieel vervoer","Geo-thermische energie",2012,"VITO","CO2",0,"Niet-genummerde wegen",{"$f":"IF(tbl_AA_Data_all_DOEL[[#This Row],[subsector]]=\"Snelwegen\",P_Snelwegen,1)*tbl_AA_Data_all_DOEL[[#This Row],[value]]","v":0}]
["tertiair","Elektriciteit",2012,"VITO","CO2",40471.601959171297,"totaal",{"$f":"IF(tbl_AA_Data_all_DOEL[[#This Row],[subsector]]=\"Snelwegen\",P_Snelwegen,1)*tbl_AA_Data_all_DOEL[[#This Row],[value]]","v":40471.601959171297}]
["tertiair","Warmte/ Koude",2012,"VITO","CO2",679.38201680672296,"totaal",{"$f":"IF(tbl_AA_Data_all_DOEL[[#This Row],[subsector]]=\"Snelwegen\",P_Snelwegen,1)*tbl_AA_Data_all_DOEL[[#This Row],[value]]","v":679.38201680672296}]
["tertiair","Aardgas",2012,"VITO","CO2",38004.033250420602,"totaal",{"$f":"IF(tbl_AA_Data_all_DOEL[[#This Row],[subsector]]=\"Snelwegen\",P_Snelwegen,1)*tbl_AA_Data_all_DOEL[[#This Row],[value]]","v":38004.033250420602}]
["tertiair","Vloeibaar gas",2012,"VITO","CO2",357.711171946212,"totaal",{"$f":"IF(tbl_AA_Data_all_DOEL[[#This Row],[subsector]]=\"Snelwegen\",P_Snelwegen,1)*tbl_AA_Data_all_DOEL[[#This Row],[value]]","v":357.711171946212}]
["tertiair","Stookolie",2012,"VITO","CO2",10718.1981729773,"totaal",{"$f":"IF(tbl_AA_Data_all_DOEL[[#This Row],[subsector]]=\"Snelwegen\",P_Snelwegen,1)*tbl_AA_Data_all_DOEL[[#This Row],[value]]","v":10718.1981729773}]
["tertiair","Diesel",2012,"VITO","CO2",0,"totaal",{"$f":"IF(tbl_AA_Data_all_DOEL[[#This Row],[subsector]]=\"Snelwegen\",P_Snelwegen,1)*tbl_AA_Data_all_DOEL[[#This Row],[value]]","v":0}]
["tertiair","Benzine",2012,"VITO","CO2",0,"totaal",{"$f":"IF(tbl_AA_Data_all_DOEL[[#This Row],[subsector]]=\"Snelwegen\",P_Snelwegen,1)*tbl_AA_Data_all_DOEL[[#This Row],[value]]","v":0}]
["tertiair","Bruinkool",2012,"VITO","CO2",0,"totaal",{"$f":"IF(tbl_AA_Data_all_DOEL[[#This Row],[subsector]]=\"Snelwegen\",P_Snelwegen,1)*tbl_AA_Data_all_DOEL[[#This Row],[value]]","v":0}]
["tertiair","Steenkool",2012,"VITO","CO2",0,"totaal",{"$f":"IF(tbl_AA_Data_all_DOEL[[#This Row],[subsector]]=\"Snelwegen\",P_Snelwegen,1)*tbl_AA_Data_all_DOEL[[#This Row],[value]]","v":0}]
["tertiair","Andere fossiele brandstoffen",2012,"VITO","CO2",0,"totaal",{"$f":"IF(tbl_AA_Data_all_DOEL[[#This Row],[subsector]]=\"Snelwegen\",P_Snelwegen,1)*tbl_AA_Data_all_DOEL[[#This Row],[value]]","v":0}]
["tertiair","Plantaardige oliën",2012,"VITO","CO2",0,"totaal",{"$f":"IF(tbl_AA_Data_all_DOEL[[#This Row],[subsector]]=\"Snelwegen\",P_Snelwegen,1)*tbl_AA_Data_all_DOEL[[#This Row],[value]]","v":0}]
["tertiair","Bio-brandstof ",2012,"VITO","CO2",0,"totaal",{"$f":"IF(tbl_AA_Data_all_DOEL[[#This Row],[subsector]]=\"Snelwegen\",P_Snelwegen,1)*tbl_AA_Data_all_DOEL[[#This Row],[value]]","v":0}]
["tertiair","Overige biomassa",2012,"VITO","CO2",0,"totaal",{"$f":"IF(tbl_AA_Data_all_DOEL[[#This Row],[subsector]]=\"Snelwegen\",P_Snelwegen,1)*tbl_AA_Data_all_DOEL[[#This Row],[value]]","v":0}]
["tertiair","Zonne-/ thermische energie",2012,"VITO","CO2",0,"totaal",{"$f":"IF(tbl_AA_Data_all_DOEL[[#This Row],[subsector]]=\"Snelwegen\",P_Snelwegen,1)*tbl_AA_Data_all_DOEL[[#This Row],[value]]","v":0}]
["tertiair","Geo-thermische energie",2012,"VITO","CO2",0,"totaal",{"$f":"IF(tbl_AA_Data_all_DOEL[[#This Row],[subsector]]=\"Snelwegen\",P_Snelwegen,1)*tbl_AA_Data_all_DOEL[[#This Row],[value]]","v":0}]

{"sheet":"AA_Data_all_REF","index":67,"n_rows":301,"n_cols":8,"rows_kept":301,"cut":false,"hidden":true,"merged":[]}
["sector","energiedrager","jaar","gemeente","parameter","value","subsector","value_final"]
["huishoudens","Elektriciteit",2017,"VITO","MWh",127526.537307762,"totaal",{"$f":"IF(tbl_AA_Data_all_REF[[#This Row],[subsector]]=\"Snelwegen\",P_Snelwegen,1)*tbl_AA_Data_all_REF[[#This Row],[value]]","v":127526.537307762}]
["huishoudens","Warmte/ Koude",2017,"VITO","MWh",0,"totaal",{"$f":"IF(tbl_AA_Data_all_REF[[#This Row],[subsector]]=\"Snelwegen\",P_Snelwegen,1)*tbl_AA_Data_all_REF[[#This Row],[value]]","v":0}]
["huishoudens","Aardgas",2017,"VITO","MWh",306032.476479401,"totaal",{"$f":"IF(tbl_AA_Data_all_REF[[#This Row],[subsector]]=\"Snelwegen\",P_Snelwegen,1)*tbl_AA_Data_all_REF[[#This Row],[value]]","v":306032.476479401}]
["huishoudens","Vloeibaar gas",2017,"VITO","MWh",22233.353669345001,"totaal",{"$f":"IF(tbl_AA_Data_all_REF[[#This Row],[subsector]]=\"Snelwegen\",P_Snelwegen,1)*tbl_AA_Data_all_REF[[#This Row],[value]]","v":22233.353669345001}]
["huishoudens","Stookolie",2017,"VITO","MWh",47771.738900874101,"totaal",{"$f":"IF(tbl_AA_Data_all_REF[[#This Row],[subsector]]=\"Snelwegen\",P_Snelwegen,1)*tbl_AA_Data_all_REF[[#This Row],[value]]","v":47771.738900874101}]
["huishoudens","Diesel",2017,"VITO","MWh",0,"totaal",{"$f":"IF(tbl_AA_Data_all_REF[[#This Row],[subsector]]=\"Snelwegen\",P_Snelwegen,1)*tbl_AA_Data_all_REF[[#This Row],[value]]","v":0}]
["huishoudens","Benzine",2017,"VITO","MWh",0,"totaal",{"$f":"IF(tbl_AA_Data_all_REF[[#This Row],[subsector]]=\"Snelwegen\",P_Snelwegen,1)*tbl_AA_Data_all_REF[[#This Row],[value]]","v":0}]
["huishoudens","Bruinkool",2017,"VITO","MWh",0,"totaal",{"$f":"IF(tbl_AA_Data_all_REF[[#This Row],[subsector]]=\"Snelwegen\",P_Snelwegen,1)*tbl_AA_Data_all_REF[[#This Row],[value]]","v":0}]
["huishoudens","Steenkool",2017,"VITO","MWh",0,"totaal",{"$f":"IF(tbl_AA_Data_all_REF[[#This Row],[subsector]]=\"Snelwegen\",P_Snelwegen,1)*tbl_AA_Data_all_REF[[#This Row],[value]]","v":0}]
["huishoudens","Andere fossiele brandstoffen",2017,"VITO","MWh",0,"totaal",{"$f":"IF(tbl_AA_Data_all_REF[[#This Row],[subsector]]=\"Snelwegen\",P_Snelwegen,1)*tbl_AA_Data_all_REF[[#This Row],[value]]","v":0}]
["huishoudens","Plantaardige oliën",2017,"VITO","MWh",0,"totaal",{"$f":"IF(tbl_AA_Data_all_REF[[#This Row],[subsector]]=\"Snelwegen\",P_Snelwegen,1)*tbl_AA_Data_all_REF[[#This Row],[value]]","v":0}]
["huishoudens","Bio-brandstof ",2017,"VITO","MWh",0,"totaal",{"$f":"IF(tbl_AA_Data_all_REF[[#This Row],[subsector]]=\"Snelwegen\",P_Snelwegen,1)*tbl_AA_Data_all_REF[[#This Row],[value]]","v":0}]
["huishoudens","Overige biomassa",2017,"VITO","MWh",37071.393579026102,"totaal",{"$f":"IF(tbl_AA_Data_all_REF[[#This Row],[subsector]]=\"Snelwegen\",P_Snelwegen,1)*tbl_AA_Data_all_REF[[#This Row],[value]]","v":37071.393579026102}]
["huishoudens","Zonne-/ thermische energie",2017,"VITO","MWh",1543.51949468311,"totaal",{"$f":"IF(tbl_AA_Data_all_REF[[#This Row],[subsector]]=\"Snelwegen\",P_Snelwegen,1)*tbl_AA_Data_all_REF[[#This Row],[value]]","v":1543.51949468311}]
["huishoudens","Geo-thermische energie",2017,"VITO","MWh",2833.6350537672702,"totaal",{"$f":"IF(tbl_AA_Data_all_REF[[#This Row],[subsector]]=\"Snelwegen\",P_Snelwegen,1)*tbl_AA_Data_all_REF[[#This Row],[value]]","v":2833.6350537672702}]
["industrie (niet-ETS)","Elektriciteit",2017,"VITO","MWh",54306.759841999999,"totaal",{"$f":"IF(tbl_AA_Data_all_REF[[#This Row],[subsector]]=\"Snelwegen\",P_Snelwegen,1)*tbl_AA_Data_all_REF[[#This Row],[value]]","v":54306.759841999999}]
["industrie (niet-ETS)","Warmte/ Koude",2017,"VITO","MWh",321.42857142857099,"totaal",{"$f":"IF(tbl_AA_Data_all_REF[[#This Row],[subsector]]=\"Snelwegen\",P_Snelwegen,1)*tbl_AA_Data_all_REF[[#This Row],[value]]","v":321.42857142857099}]
["industrie (niet-ETS)","Aardgas",2017,"VITO","MWh",73917.279179770805,"totaal",{"$f":"IF(tbl_AA_Data_all_REF[[#This Row],[subsector]]=\"Snelwegen\",P_Snelwegen,1)*tbl_AA_Data_all_REF[[#This Row],[value]]","v":73917.279179770805}]
["industrie (niet-ETS)","Vloeibaar gas",2017,"VITO","MWh",7698.60656769244,"totaal",{"$f":"IF(tbl_AA_Data_all_REF[[#This Row],[subsector]]=\"Snelwegen\",P_Snelwegen,1)*tbl_AA_Data_all_REF[[#This Row],[value]]","v":7698.60656769244}]
["industrie (niet-ETS)","Stookolie",2017,"VITO","MWh",26458.876770011,"totaal",{"$f":"IF(tbl_AA_Data_all_REF[[#This Row],[subsector]]=\"Snelwegen\",P_Snelwegen,1)*tbl_AA_Data_all_REF[[#This Row],[value]]","v":26458.876770011}]
["industrie (niet-ETS)","Diesel",2017,"VITO","MWh",0,"totaal",{"$f":"IF(tbl_AA_Data_all_REF[[#This Row],[subsector]]=\"Snelwegen\",P_Snelwegen,1)*tbl_AA_Data_all_REF[[#This Row],[value]]","v":0}]
["industrie (niet-ETS)","Benzine",2017,"VITO","MWh",0,"totaal",{"$f":"IF(tbl_AA_Data_all_REF[[#This Row],[subsector]]=\"Snelwegen\",P_Snelwegen,1)*tbl_AA_Data_all_REF[[#This Row],[value]]","v":0}]
["industrie (niet-ETS)","Bruinkool",2017,"VITO","MWh",0,"totaal",{"$f":"IF(tbl_AA_Data_all_REF[[#This Row],[subsector]]=\"Snelwegen\",P_Snelwegen,1)*tbl_AA_Data_all_REF[[#This Row],[value]]","v":0}]
["industrie (niet-ETS)","Steenkool",2017,"VITO","MWh",210.359564591218,"totaal",{"$f":"IF(tbl_AA_Data_all_REF[[#This Row],[subsector]]=\"Snelwegen\",P_Snelwegen,1)*tbl_AA_Data_all_REF[[#This Row],[value]]","v":210.359564591218}]
["industrie (niet-ETS)","Andere fossiele brandstoffen",2017,"VITO","MWh",0,"totaal",{"$f":"IF(tbl_AA_Data_all_REF[[#This Row],[subsector]]=\"Snelwegen\",P_Snelwegen,1)*tbl_AA_Data_all_REF[[#This Row],[value]]","v":0}]
["industrie (niet-ETS)","Plantaardige oliën",2017,"VITO","MWh",0,"totaal",{"$f":"IF(tbl_AA_Data_all_REF[[#This Row],[subsector]]=\"Snelwegen\",P_Snelwegen,1)*tbl_AA_Data_all_REF[[#This Row],[value]]","v":0}]
["industrie (niet-ETS)","Bio-brandstof ",2017,"VITO","MWh",0,"totaal",{"$f":"IF(tbl_AA_Data_all_REF[[#This Row],[subsector]]=\"Snelwegen\",P_Snelwegen,1)*tbl_AA_Data_all_REF[[#This Row],[value]]","v":0}]
["industrie (niet-ETS)","Overige biomassa",2017,"VITO","MWh",4975.3114207490698,"totaal",{"$f":"IF(tbl_AA_Data_all_REF[[#This Row],[subsector]]=\"Snelwegen\",P_Snelwegen,1)*tbl_AA_Data_all_REF[[#This Row],[value]]","v":4975.3114207490698}]
["industrie (niet-ETS)","Zonne-/ thermische energie",2017,"VITO","MWh",0,"totaal",{"$f":"IF(tbl_AA_Data_all_REF[[#This Row],[subsector]]=\"Snelwegen\",P_Snelwegen,1)*tbl_AA_Data_all_REF[[#This Row],[value]]","v":0}]
["industrie (niet-ETS)","Geo-thermische energie",2017,"VITO","MWh",0,"totaal",{"$f":"IF(tbl_AA_Data_all_REF[[#This Row],[subsector]]=\"Snelwegen\",P_Snelwegen,1)*tbl_AA_Data_all_REF[[#This Row],[value]]","v":0}]
["landbouw","Elektriciteit",2017,"VITO","MWh",1577.6787409999999,"totaal",{"$f":"IF(tbl_AA_Data_all_REF[[#This Row],[subsector]]=\"Snelwegen\",P_Snelwegen,1)*tbl_AA_Data_all_REF[[#This Row],[value]]","v":1577.6787409999999}]
["landbouw","Warmte/ Koude",2017,"VITO","MWh",0,"totaal",{"$f":"IF(tbl_AA_Data_all_REF[[#This Row],[subsector]]=\"Snelwegen\",P_Snelwegen,1)*tbl_AA_Data_all_REF[[#This Row],[value]]","v":0}]
["landbouw","Aardgas",2017,"VITO","MWh",1215.8444056000001,"totaal",{"$f":"IF(tbl_AA_Data_all_REF[[#This Row],[subsector]]=\"Snelwegen\",P_Snelwegen,1)*tbl_AA_Data_all_REF[[#This Row],[value]]","v":1215.8444056000001}]
["landbouw","Vloeibaar gas",2017,"VITO","MWh",49.238833252343902,"totaal",{"$f":"IF(tbl_AA_Data_all_REF[[#This Row],[subsector]]=\"Snelwegen\",P_Snelwegen,1)*tbl_AA_Data_all_REF[[#This Row],[value]]","v":49.238833252343902}]
["landbouw","Stookolie",2017,"VITO","MWh",5575.6914412303204,"totaal",{"$f":"IF(tbl_AA_Data_all_REF[[#This Row],[subsector]]=\"Snelwegen\",P_Snelwegen,1)*tbl_AA_Data_all_REF[[#This Row],[value]]","v":5575.6914412303204}]
["landbouw","Diesel",2017,"VITO","MWh",0,"totaal",{"$f":"IF(tbl_AA_Data_all_REF[[#This Row],[subsector]]=\"Snelwegen\",P_Snelwegen,1)*tbl_AA_Data_all_REF[[#This Row],[value]]","v":0}]
["landbouw","Benzine",2017,"VITO","MWh",0,"totaal",{"$f":"IF(tbl_AA_Data_all_REF[[#This Row],[subsector]]=\"Snelwegen\",P_Snelwegen,1)*tbl_AA_Data_all_REF[[#This Row],[value]]","v":0}]
["landbouw","Bruinkool",2017,"VITO","MWh",0,"totaal",{"$f":"IF(tbl_AA_Data_all_REF[[#This Row],[subsector]]=\"Snelwegen\",P_Snelwegen,1)*tbl_AA_Data_all_REF[[#This Row],[value]]","v":0}]
["landbouw","Steenkool",2017,"VITO","MWh",434.66143425168201,"totaal",{"$f":"IF(tbl_AA_Data_all_REF[[#This Row],[subsector]]=\"Snelwegen\",P_Snelwegen,1)*tbl_AA_Data_all_REF[[#This Row],[value]]","v":434.66143425168201}]
["landbouw","Andere fossiele brandstoffen",2017,"VITO","MWh",0,"totaal",{"$f":"IF(tbl_AA_Data_all_REF[[#This Row],[subsector]]=\"Snelwegen\",P_Snelwegen,1)*tbl_AA_Data_all_REF[[#This Row],[value]]","v":0}]
["landbouw","Plantaardige oliën",2017,"VITO","MWh",0,"totaal",{"$f":"IF(tbl_AA_Data_all_REF[[#This Row],[subsector]]=\"Snelwegen\",P_Snelwegen,1)*tbl_AA_Data_all_REF[[#This Row],[value]]","v":0}]
["landbouw","Bio-brandstof ",2017,"VITO","MWh",0,"totaal",{"$f":"IF(tbl_AA_Data_all_REF[[#This Row],[subsector]]=\"Snelwegen\",P_Snelwegen,1)*tbl_AA_Data_all_REF[[#This Row],[value]]","v":0}]
["landbouw","Overige biomassa",2017,"VITO","MWh",0,"totaal",{"$f":"IF(tbl_AA_Data_all_REF[[#This Row],[subsector]]=\"Snelwegen\",P_Snelwegen,1)*tbl_AA_Data_all_REF[[#This Row],[value]]","v":0}]
["landbouw","Zonne-/ thermische energie",2017,"VITO","MWh",0,"totaal",{"$f":"IF(tbl_AA_Data_all_REF[[#This Row],[subsector]]=\"Snelwegen\",P_Snelwegen,1)*tbl_AA_Data_all_REF[[#This Row],[value]]","v":0}]
["landbouw","Geo-thermische energie",2017,"VITO","MWh",0,"totaal",{"$f":"IF(tbl_AA_Data_all_REF[[#This Row],[subsector]]=\"Snelwegen\",P_Snelwegen,1)*tbl_AA_Data_all_REF[[#This Row],[value]]","v":0}]
["niet toegekend","Elektriciteit",2017,"VITO","MWh",9036.4562999999998,"totaal",{"$f":"IF(tbl_AA_Data_all_REF[[#This Row],[subsector]]=\"Snelwegen\",P_Snelwegen,1)*tbl_AA_Data_all_REF[[#This Row],[value]]","v":9036.4562999999998}]
["niet toegekend","Warmte/ Koude",2017,"VITO","MWh",null,"totaal",{"$f":"IF(tbl_AA_Data_all_REF[[#This Row],[subsector]]=\"Snelwegen\",P_Snelwegen,1)*tbl_AA_Data_all_REF[[#This Row],[value]]","v":0}]
["niet toegekend","Aardgas",2017,"VITO","MWh",20316.052577999999,"totaal",{"$f":"IF(tbl_AA_Data_all_REF[[#This Row],[subsector]]=\"Snelwegen\",P_Snelwegen,1)*tbl_AA_Data_all_REF[[#This Row],[value]]","v":20316.052577999999}]
["niet toegekend","Vloeibaar gas",2017,"VITO","MWh",null,"totaal",{"$f":"IF(tbl_AA_Data_all_REF[[#This Row],[subsector]]=\"Snelwegen\",P_Snelwegen,1)*tbl_AA_Data_all_REF[[#This Row],[value]]","v":0}]
["niet toegekend","Stookolie",2017,"VITO","MWh",null,"totaal",{"$f":"IF(tbl_AA_Data_all_REF[[#This Row],[subsector]]=\"Snelwegen\",P_Snelwegen,1)*tbl_AA_Data_all_REF[[#This Row],[value]]","v":0}]
["niet toegekend","Diesel",2017,"VITO","MWh",null,"totaal",{"$f":"IF(tbl_AA_Data_all_REF[[#This Row],[subsector]]=\"Snelwegen\",P_Snelwegen,1)*tbl_AA_Data_all_REF[[#This Row],[value]]","v":0}]
["niet toegekend","Benzine",2017,"VITO","MWh",null,"totaal",{"$f":"IF(tbl_AA_Data_all_REF[[#This Row],[subsector]]=\"Snelwegen\",P_Snelwegen,1)*tbl_AA_Data_all_REF[[#This Row],[value]]","v":0}]
["niet toegekend","Bruinkool",2017,"VITO","MWh",null,"totaal",{"$f":"IF(tbl_AA_Data_all_REF[[#This Row],[subsector]]=\"Snelwegen\",P_Snelwegen,1)*tbl_AA_Data_all_REF[[#This Row],[value]]","v":0}]
["niet toegekend","Steenkool",2017,"VITO","MWh",null,"totaal",{"$f":"IF(tbl_AA_Data_all_REF[[#This Row],[subsector]]=\"Snelwegen\",P_Snelwegen,1)*tbl_AA_Data_all_REF[[#This Row],[value]]","v":0}]
["niet toegekend","Andere fossiele brandstoffen",2017,"VITO","MWh",null,"totaal",{"$f":"IF(tbl_AA_Data_all_REF[[#This Row],[subsector]]=\"Snelwegen\",P_Snelwegen,1)*tbl_AA_Data_all_REF[[#This Row],[value]]","v":0}]
["niet toegekend","Plantaardige oliën",2017,"VITO","MWh",null,"totaal",{"$f":"IF(tbl_AA_Data_all_REF[[#This Row],[subsector]]=\"Snelwegen\",P_Snelwegen,1)*tbl_AA_Data_all_REF[[#This Row],[value]]","v":0}]
["niet toegekend","Bio-brandstof ",2017,"VITO","MWh",null,"totaal",{"$f":"IF(tbl_AA_Data_all_REF[[#This Row],[subsector]]=\"Snelwegen\",P_Snelwegen,1)*tbl_AA_Data_all_REF[[#This Row],[value]]","v":0}]
["niet toegekend","Overige biomassa",2017,"VITO","MWh",null,"totaal",{"$f":"IF(tbl_AA_Data_all_REF[[#This Row],[subsector]]=\"Snelwegen\",P_Snelwegen,1)*tbl_AA_Data_all_REF[[#This Row],[value]]","v":0}]
["niet toegekend","Zonne-/ thermische energie",2017,"VITO","MWh",null,"totaal",{"$f":"IF(tbl_AA_Data_all_REF[[#This Row],[subsector]]=\"Snelwegen\",P_Snelwegen,1)*tbl_AA_Data_all_REF[[#This Row],[value]]","v":0}]
["niet toegekend","Geo-thermische energie",2017,"VITO","MWh",null,"totaal",{"$f":"IF(tbl_AA_Data_all_REF[[#This Row],[subsector]]=\"Snelwegen\",P_Snelwegen,1)*tbl_AA_Data_all_REF[[#This Row],[value]]","v":0}]
["openbaar vervoer","Elektriciteit",2017,"VITO","MWh",0,"totaal",{"$f":"IF(tbl_AA_Data_all_REF[[#This Row],[subsector]]=\"Snelwegen\",P_Snelwegen,1)*tbl_AA_Data_all_REF[[#This Row],[value]]","v":0}]
["openbaar vervoer","Warmte/ Koude",2017,"VITO","MWh",0,"totaal",{"$f":"IF(tbl_AA_Data_all_REF[[#This Row],[subsector]]=\"Snelwegen\",P_Snelwegen,1)*tbl_AA_Data_all_REF[[#This Row],[value]]","v":0}]
["openbaar vervoer","Aardgas",2017,"VITO","MWh",0,"totaal",{"$f":"IF(tbl_AA_Data_all_REF[[#This Row],[subsector]]=\"Snelwegen\",P_Snelwegen,1)*tbl_AA_Data_all_REF[[#This Row],[value]]","v":0}]
["openbaar vervoer","Vloeibaar gas",2017,"VITO","MWh",0,"totaal",{"$f":"IF(tbl_AA_Data_all_REF[[#This Row],[subsector]]=\"Snelwegen\",P_Snelwegen,1)*tbl_AA_Data_all_REF[[#This Row],[value]]","v":0}]
["openbaar vervoer","Stookolie",2017,"VITO","MWh",0,"totaal",{"$f":"IF(tbl_AA_Data_all_REF[[#This Row],[subsector]]=\"Snelwegen\",P_Snelwegen,1)*tbl_AA_Data_all_REF[[#This Row],[value]]","v":0}]
["openbaar vervoer","Diesel",2017,"VITO","MWh",15542.8725799151,"totaal",{"$f":"IF(tbl_AA_Data_all_REF[[#This Row],[subsector]]=\"Snelwegen\",P_Snelwegen,1)*tbl_AA_Data_all_REF[[#This Row],[value]]","v":15542.8725799151}]
["openbaar vervoer","Benzine",2017,"VITO","MWh",0,"totaal",{"$f":"IF(tbl_AA_Data_all_REF[[#This Row],[subsector]]=\"Snelwegen\",P_Snelwegen,1)*tbl_AA_Data_all_REF[[#This Row],[value]]","v":0}]
["openbaar vervoer","Bruinkool",2017,"VITO","MWh",0,"totaal",{"$f":"IF(tbl_AA_Data_all_REF[[#This Row],[subsector]]=\"Snelwegen\",P_Snelwegen,1)*tbl_AA_Data_all_REF[[#This Row],[value]]","v":0}]
["openbaar vervoer","Steenkool",2017,"VITO","MWh",0,"totaal",{"$f":"IF(tbl_AA_Data_all_REF[[#This Row],[subsector]]=\"Snelwegen\",P_Snelwegen,1)*tbl_AA_Data_all_REF[[#This Row],[value]]","v":0}]
["openbaar vervoer","Andere fossiele brandstoffen",2017,"VITO","MWh",0,"totaal",{"$f":"IF(tbl_AA_Data_all_REF[[#This Row],[subsector]]=\"Snelwegen\",P_Snelwegen,1)*tbl_AA_Data_all_REF[[#This Row],[value]]","v":0}]
["openbaar vervoer","Plantaardige oliën",2017,"VITO","MWh",0,"totaal",{"$f":"IF(tbl_AA_Data_all_REF[[#This Row],[subsector]]=\"Snelwegen\",P_Snelwegen,1)*tbl_AA_Data_all_REF[[#This Row],[value]]","v":0}]
["openbaar vervoer","Bio-brandstof ",2017,"VITO","MWh",863.87457771605796,"totaal",{"$f":"IF(tbl_AA_Data_all_REF[[#This Row],[subsector]]=\"Snelwegen\",P_Snelwegen,1)*tbl_AA_Data_all_REF[[#This Row],[value]]","v":863.87457771605796}]
["openbaar vervoer","Overige biomassa",2017,"VITO","MWh",0,"totaal",{"$f":"IF(tbl_AA_Data_all_REF[[#This Row],[subsector]]=\"Snelwegen\",P_Snelwegen,1)*tbl_AA_Data_all_REF[[#This Row],[value]]","v":0}]
["openbaar vervoer","Zonne-/ thermische energie",2017,"VITO","MWh",0,"totaal",{"$f":"IF(tbl_AA_Data_all_REF[[#This Row],[subsector]]=\"Snelwegen\",P_Snelwegen,1)*tbl_AA_Data_all_REF[[#This Row],[value]]","v":0}]
["openbaar vervoer","Geo-thermische energie",2017,"VITO","MWh",0,"totaal",{"$f":"IF(tbl_AA_Data_all_REF[[#This Row],[subsector]]=\"Snelwegen\",P_Snelwegen,1)*tbl_AA_Data_all_REF[[#This Row],[value]]","v":0}]
["openbare verlichting","Elektriciteit",2017,"VITO","MWh",5050.3500000000004,"totaal",{"$f":"IF(tbl_AA_Data_all_REF[[#This Row],[subsector]]=\"Snelwegen\",P_Snelwegen,1)*tbl_AA_Data_all_REF[[#This Row],[value]]","v":5050.3500000000004}]
["openbare verlichting","Warmte/ Koude",2017,"VITO","MWh",null,"totaal",{"$f":"IF(tbl_AA_Data_all_REF[[#This Row],[subsector]]=\"Snelwegen\",P_Snelwegen,1)*tbl_AA_Data_all_REF[[#This Row],[value]]","v":0}]
["openbare verlichting","Aardgas",2017,"VITO","MWh",null,"totaal",{"$f":"IF(tbl_AA_Data_all_REF[[#This Row],[subsector]]=\"Snelwegen\",P_Snelwegen,1)*tbl_AA_Data_all_REF[[#This Row],[value]]","v":0}]
["openbare verlichting","Vloeibaar gas",2017,"VITO","MWh",null,"totaal",{"$f":"IF(tbl_AA_Data_all_REF[[#This Row],[subsector]]=\"Snelwegen\",P_Snelwegen,1)*tbl_AA_Data_all_REF[[#This Row],[value]]","v":0}]
["openbare verlichting","Stookolie",2017,"VITO","MWh",null,"totaal",{"$f":"IF(tbl_AA_Data_all_REF[[#This Row],[subsector]]=\"Snelwegen\",P_Snelwegen,1)*tbl_AA_Data_all_REF[[#This Row],[value]]","v":0}]
["openbare verlichting","Diesel",2017,"VITO","MWh",null,"totaal",{"$f":"IF(tbl_AA_Data_all_REF[[#This Row],[subsector]]=\"Snelwegen\",P_Snelwegen,1)*tbl_AA_Data_all_REF[[#This Row],[value]]","v":0}]
["openbare verlichting","Benzine",2017,"VITO","MWh",null,"totaal",{"$f":"IF(tbl_AA_Data_all_REF[[#This Row],[subsector]]=\"Snelwegen\",P_Snelwegen,1)*tbl_AA_Data_all_REF[[#This Row],[value]]","v":0}]
["openbare verlichting","Bruinkool",2017,"VITO","MWh",null,"totaal",{"$f":"IF(tbl_AA_Data_all_REF[[#This Row],[subsector]]=\"Snelwegen\",P_Snelwegen,1)*tbl_AA_Data_all_REF[[#This Row],[value]]","v":0}]
["openbare verlichting","Steenkool",2017,"VITO","MWh",null,"totaal",{"$f":"IF(tbl_AA_Data_all_REF[[#This Row],[subsector]]=\"Snelwegen\",P_Snelwegen,1)*tbl_AA_Data_all_REF[[#This Row],[value]]","v":0}]
["openbare verlichting","Andere fossiele brandstoffen",2017,"VITO","MWh",null,"totaal",{"$f":"IF(tbl_AA_Data_all_REF[[#This Row],[subsector]]=\"Snelwegen\",P_Snelwegen,1)*tbl_AA_Data_all_REF[[#This Row],[value]]","v":0}]
["openbare verlichting","Plantaardige oliën",2017,"VITO","MWh",null,"totaal",{"$f":"IF(tbl_AA_Data_all_REF[[#This Row],[subsector]]=\"Snelwegen\",P_Snelwegen,1)*tbl_AA_Data_all_REF[[#This Row],[value]]","v":0}]
["openbare verlichting","Bio-brandstof ",2017,"VITO","MWh",null,"totaal",{"$f":"IF(tbl_AA_Data_all_REF[[#This Row],[subsector]]=\"Snelwegen\",P_Snelwegen,1)*tbl_AA_Data_all_REF[[#This Row],[value]]","v":0}]
["openbare verlichting","Overige biomassa",2017,"VITO","MWh",null,"totaal",{"$f":"IF(tbl_AA_Data_all_REF[[#This Row],[subsector]]=\"Snelwegen\",P_Snelwegen,1)*tbl_AA_Data_all_REF[[#This Row],[value]]","v":0}]
["openbare verlichting","Zonne-/ thermische energie",2017,"VITO","MWh",null,"totaal",{"$f":"IF(tbl_AA_Data_all_REF[[#This Row],[subsector]]=\"Snelwegen\",P_Snelwegen,1)*tbl_AA_Data_all_REF[[#This Row],[value]]","v":0}]
["openbare verlichting","Geo-thermische energie",2017,"VITO","MWh",null,"totaal",{"$f":"IF(tbl_AA_Data_all_REF[[#This Row],[subsector]]=\"Snelwegen\",P_Snelwegen,1)*tbl_AA_Data_all_REF[[#This Row],[value]]","v":0}]
["particulier en commercieel vervoer","Elektriciteit",2017,"VITO","MWh",128.24001654027799,"Snelwegen",{"$f":"IF(tbl_AA_Data_all_REF[[#This Row],[subsector]]=\"Snelwegen\",P_Snelwegen,1)*tbl_AA_Data_all_REF[[#This Row],[value]]","v":0}]
["particulier en commercieel vervoer","Elektriciteit",2017,"VITO","MWh",209.867282509722,"Genummerde wegen",{"$f":"IF(tbl_AA_Data_all_REF[[#This Row],[subsector]]=\"Snelwegen\",P_Snelwegen,1)*tbl_AA_Data_all_REF[[#This Row],[value]]","v":209.867282509722}]
["particulier en commercieel vervoer","Elektriciteit",2017,"VITO","MWh",58.3841873388889,"Niet-genummerde wegen",{"$f":"IF(tbl_AA_Data_all_REF[[#This Row],[subsector]]=\"Snelwegen\",P_Snelwegen,1)*tbl_AA_Data_all_REF[[#This Row],[value]]","v":58.3841873388889}]
["particulier en commercieel vervoer","Warmte/ Koude",2017,"VITO","MWh",0,"Genummerde wegen",{"$f":"IF(tbl_AA_Data_all_REF[[#This Row],[subsector]]=\"Snelwegen\",P_Snelwegen,1)*tbl_AA_Data_all_REF[[#This Row],[value]]","v":0}]
["particulier en commercieel vervoer","Warmte/ Koude",2017,"VITO","MWh",0,"Niet-genummerde wegen",{"$f":"IF(tbl_AA_Data_all_REF[[#This Row],[subsector]]=\"Snelwegen\",P_Snelwegen,1)*tbl_AA_Data_all_REF[[#This Row],[value]]","v":0}]
["particulier en commercieel vervoer","Warmte/ Koude",2017,"VITO","MWh",0,"Snelwegen",{"$f":"IF(tbl_AA_Data_all_REF[[#This Row],[subsector]]=\"Snelwegen\",P_Snelwegen,1)*tbl_AA_Data_all_REF[[#This Row],[value]]","v":0}]
["particulier en commercieel vervoer","Aardgas",2017,"VITO","MWh",359.2786691032,"Niet-genummerde wegen",{"$f":"IF(tbl_AA_Data_all_REF[[#This Row],[subsector]]=\"Snelwegen\",P_Snelwegen,1)*tbl_AA_Data_all_REF[[#This Row],[value]]","v":359.2786691032}]
["particulier en commercieel vervoer","Aardgas",2017,"VITO","MWh",729.74428850117704,"Genummerde wegen",{"$f":"IF(tbl_AA_Data_all_REF[[#This Row],[subsector]]=\"Snelwegen\",P_Snelwegen,1)*tbl_AA_Data_all_REF[[#This Row],[value]]","v":729.74428850117704}]
["particulier en commercieel vervoer","Aardgas",2017,"VITO","MWh",465.86246057755397,"Snelwegen",{"$f":"IF(tbl_AA_Data_all_REF[[#This Row],[subsector]]=\"Snelwegen\",P_Snelwegen,1)*tbl_AA_Data_all_REF[[#This Row],[value]]","v":0}]
["particulier en commercieel vervoer","Vloeibaar gas",2017,"VITO","MWh",574.918270183667,"Genummerde wegen",{"$f":"IF(tbl_AA_Data_all_REF[[#This Row],[subsector]]=\"Snelwegen\",P_Snelwegen,1)*tbl_AA_Data_all_REF[[#This Row],[value]]","v":574.918270183667}]
["particulier en commercieel vervoer","Vloeibaar gas",2017,"VITO","MWh",262.40705805386102,"Niet-genummerde wegen",{"$f":"IF(tbl_AA_Data_all_REF[[#This Row],[subsector]]=\"Snelwegen\",P_Snelwegen,1)*tbl_AA_Data_all_REF[[#This Row],[value]]","v":262.40705805386102}]
["particulier en commercieel vervoer","Vloeibaar gas",2017,"VITO","MWh",456.890316729799,"Snelwegen",{"$f":"IF(tbl_AA_Data_all_REF[[#This Row],[subsector]]=\"Snelwegen\",P_Snelwegen,1)*tbl_AA_Data_all_REF[[#This Row],[value]]","v":0}]
["particulier en commercieel vervoer","Stookolie",2017,"VITO","MWh",0,"Genummerde wegen",{"$f":"IF(tbl_AA_Data_all_REF[[#This Row],[subsector]]=\"Snelwegen\",P_Snelwegen,1)*tbl_AA_Data_all_REF[[#This Row],[value]]","v":0}]
["particulier en commercieel vervoer","Stookolie",2017,"VITO","MWh",0,"Niet-genummerde wegen",{"$f":"IF(tbl_AA_Data_all_REF[[#This Row],[subsector]]=\"Snelwegen\",P_Snelwegen,1)*tbl_AA_Data_all_REF[[#This Row],[value]]","v":0}]
["particulier en commercieel vervoer","Stookolie",2017,"VITO","MWh",0,"Snelwegen",{"$f":"IF(tbl_AA_Data_all_REF[[#This Row],[subsector]]=\"Snelwegen\",P_Snelwegen,1)*tbl_AA_Data_all_REF[[#This Row],[value]]","v":0}]
["particulier en commercieel vervoer","Diesel",2017,"VITO","MWh",229012.95473191101,"Genummerde wegen",{"$f":"IF(tbl_AA_Data_all_REF[[#This Row],[subsector]]=\"Snelwegen\",P_Snelwegen,1)*tbl_AA_Data_all_REF[[#This Row],[value]]","v":229012.95473191101}]
["particulier en commercieel vervoer","Diesel",2017,"VITO","MWh",67939.966219340902,"Niet-genummerde wegen",{"$f":"IF(tbl_AA_Data_all_REF[[#This Row],[subsector]]=\"Snelwegen\",P_Snelwegen,1)*tbl_AA_Data_all_REF[[#This Row],[value]]","v":67939.966219340902}]
["particulier en commercieel vervoer","Diesel",2017,"VITO","MWh",171315.204117974,"Snelwegen",{"$f":"IF(tbl_AA_Data_all_REF[[#This Row],[subsector]]=\"Snelwegen\",P_Snelwegen,1)*tbl_AA_Data_all_REF[[#This Row],[value]]","v":0}]
["particulier en commercieel vervoer","Benzine",2017,"VITO","MWh",54782.677333473199,"Genummerde wegen",{"$f":"IF(tbl_AA_Data_all_REF[[#This Row],[subsector]]=\"Snelwegen\",P_Snelwegen,1)*tbl_AA_Data_all_REF[[#This Row],[value]]","v":54782.677333473199}]
["particulier en commercieel vervoer","Benzine",2017,"VITO","MWh",26272.8045258372,"Niet-genummerde wegen",{"$f":"IF(tbl_AA_Data_all_REF[[#This Row],[subsector]]=\"Snelwegen\",P_Snelwegen,1)*tbl_AA_Data_all_REF[[#This Row],[value]]","v":26272.8045258372}]
["particulier en commercieel vervoer","Benzine",2017,"VITO","MWh",36437.481452358901,"Snelwegen",{"$f":"IF(tbl_AA_Data_all_REF[[#This Row],[subsector]]=\"Snelwegen\",P_Snelwegen,1)*tbl_AA_Data_all_REF[[#This Row],[value]]","v":0}]
["particulier en commercieel vervoer","Bruinkool",2017,"VITO","MWh",0,"Snelwegen",{"$f":"IF(tbl_AA_Data_all_REF[[#This Row],[subsector]]=\"Snelwegen\",P_Snelwegen,1)*tbl_AA_Data_all_REF[[#This Row],[value]]","v":0}]
["particulier en commercieel vervoer","Bruinkool",2017,"VITO","MWh",0,"Niet-genummerde wegen",{"$f":"IF(tbl_AA_Data_all_REF[[#This Row],[subsector]]=\"Snelwegen\",P_Snelwegen,1)*tbl_AA_Data_all_REF[[#This Row],[value]]","v":0}]
["particulier en commercieel vervoer","Bruinkool",2017,"VITO","MWh",0,"Genummerde wegen",{"$f":"IF(tbl_AA_Data_all_REF[[#This Row],[subsector]]=\"Snelwegen\",P_Snelwegen,1)*tbl_AA_Data_all_REF[[#This Row],[value]]","v":0}]
["particulier en commercieel vervoer","Steenkool",2017,"VITO","MWh",0,"Genummerde wegen",{"$f":"IF(tbl_AA_Data_all_REF[[#This Row],[subsector]]=\"Snelwegen\",P_Snelwegen,1)*tbl_AA_Data_all_REF[[#This Row],[value]]","v":0}]
["particulier en commercieel vervoer","Steenkool",2017,"VITO","MWh",0,"Snelwegen",{"$f":"IF(tbl_AA_Data_all_REF[[#This Row],[subsector]]=\"Snelwegen\",P_Snelwegen,1)*tbl_AA_Data_all_REF[[#This Row],[value]]","v":0}]
["particulier en commercieel vervoer","Steenkool",2017,"VITO","MWh",0,"Niet-genummerde wegen",{"$f":"IF(tbl_AA_Data_all_REF[[#This Row],[subsector]]=\"Snelwegen\",P_Snelwegen,1)*tbl_AA_Data_all_REF[[#This Row],[value]]","v":0}]
["particulier en commercieel vervoer","Andere fossiele brandstoffen",2017,"VITO","MWh",0,"Genummerde wegen",{"$f":"IF(tbl_AA_Data_all_REF[[#This Row],[subsector]]=\"Snelwegen\",P_Snelwegen,1)*tbl_AA_Data_all_REF[[#This Row],[value]]","v":0}]
["particulier en commercieel vervoer","Andere fossiele brandstoffen",2017,"VITO","MWh",0,"Niet-genummerde wegen",{"$f":"IF(tbl_AA_Data_all_REF[[#This Row],[subsector]]=\"Snelwegen\",P_Snelwegen,1)*tbl_AA_Data_all_REF[[#This Row],[value]]","v":0}]
["particulier en commercieel vervoer","Andere fossiele brandstoffen",2017,"VITO","MWh",0,"Snelwegen",{"$f":"IF(tbl_AA_Data_all_REF[[#This Row],[subsector]]=\"Snelwegen\",P_Snelwegen,1)*tbl_AA_Data_all_REF[[#This Row],[value]]","v":0}]
["particulier en commercieel vervoer","Plantaardige oliën",2017,"VITO","MWh",0,"Niet-genummerde wegen",{"$f":"IF(tbl_AA_Data_all_REF[[#This Row],[subsector]]=\"Snelwegen\",P_Snelwegen,1)*tbl_AA_Data_all_REF[[#This Row],[value]]","v":0}]
["particulier en commercieel vervoer","Plantaardige oliën",2017,"VITO","MWh",0,"Genummerde wegen",{"$f":"IF(tbl_AA_Data_all_REF[[#This Row],[subsector]]=\"Snelwegen\",P_Snelwegen,1)*tbl_AA_Data_all_REF[[#This Row],[value]]","v":0}]
["particulier en commercieel vervoer","Plantaardige oliën",2017,"VITO","MWh",0,"Snelwegen",{"$f":"IF(tbl_AA_Data_all_REF[[#This Row],[subsector]]=\"Snelwegen\",P_Snelwegen,1)*tbl_AA_Data_all_REF[[#This Row],[value]]","v":0}]
["particulier en commercieel vervoer","Bio-brandstof ",2017,"VITO","MWh",5644.8675293492397,"Niet-genummerde wegen",{"$f":"IF(tbl_AA_Data_all_REF[[#This Row],[subsector]]=\"Snelwegen\",P_Snelwegen,1)*tbl_AA_Data_all_REF[[#This Row],[value]]","v":5644.8675293492397}]
["particulier en commercieel vervoer","Bio-brandstof ",2017,"VITO","MWh",12272.7791678999,"Snelwegen",{"$f":"IF(tbl_AA_Data_all_REF[[#This Row],[subsector]]=\"Snelwegen\",P_Snelwegen,1)*tbl_AA_Data_all_REF[[#This Row],[value]]","v":0}]
["particulier en commercieel vervoer","Bio-brandstof ",2017,"VITO","MWh",16805.6986383271,"Genummerde wegen",{"$f":"IF(tbl_AA_Data_all_REF[[#This Row],[subsector]]=\"Snelwegen\",P_Snelwegen,1)*tbl_AA_Data_all_REF[[#This Row],[value]]","v":16805.6986383271}]
["particulier en commercieel vervoer","Overige biomassa",2017,"VITO","MWh",0,"Genummerde wegen",{"$f":"IF(tbl_AA_Data_all_REF[[#This Row],[subsector]]=\"Snelwegen\",P_Snelwegen,1)*tbl_AA_Data_all_REF[[#This Row],[value]]","v":0}]
["particulier en commercieel vervoer","Overige biomassa",2017,"VITO","MWh",0,"Niet-genummerde wegen",{"$f":"IF(tbl_AA_Data_all_REF[[#This Row],[subsector]]=\"Snelwegen\",P_Snelwegen,1)*tbl_AA_Data_all_REF[[#This Row],[value]]","v":0}]
["particulier en commercieel vervoer","Overige biomassa",2017,"VITO","MWh",0,"Snelwegen",{"$f":"IF(tbl_AA_Data_all_REF[[#This Row],[subsector]]=\"Snelwegen\",P_Snelwegen,1)*tbl_AA_Data_all_REF[[#This Row],[value]]","v":0}]
["particulier en commercieel vervoer","Zonne-/ thermische energie",2017,"VITO","MWh",0,"Genummerde wegen",{"$f":"IF(tbl_AA_Data_all_REF[[#This Row],[subsector]]=\"Snelwegen\",P_Snelwegen,1)*tbl_AA_Data_all_REF[[#This Row],[value]]","v":0}]
["particulier en commercieel vervoer","Zonne-/ thermische energie",2017,"VITO","MWh",0,"Niet-genummerde wegen",{"$f":"IF(tbl_AA_Data_all_REF[[#This Row],[subsector]]=\"Snelwegen\",P_Snelwegen,1)*tbl_AA_Data_all_REF[[#This Row],[value]]","v":0}]
["particulier en commercieel vervoer","Zonne-/ thermische energie",2017,"VITO","MWh",0,"Snelwegen",{"$f":"IF(tbl_AA_Data_all_REF[[#This Row],[subsector]]=\"Snelwegen\",P_Snelwegen,1)*tbl_AA_Data_all_REF[[#This Row],[value]]","v":0}]
["particulier en commercieel vervoer","Geo-thermische energie",2017,"VITO","MWh",0,"Genummerde wegen",{"$f":"IF(tbl_AA_Data_all_REF[[#This Row],[subsector]]=\"Snelwegen\",P_Snelwegen,1)*tbl_AA_Data_all_REF[[#This Row],[value]]","v":0}]
["particulier en commercieel vervoer","Geo-thermische energie",2017,"VITO","MWh",0,"Snelwegen",{"$f":"IF(tbl_AA_Data_all_REF[[#This Row],[subsector]]=\"Snelwegen\",P_Snelwegen,1)*tbl_AA_Data_all_REF[[#This Row],[value]]","v":0}]
["particulier en commercieel vervoer","Geo-thermische energie",2017,"VITO","MWh",0,"Niet-genummerde wegen",{"$f":"IF(tbl_AA_Data_all_REF[[#This Row],[subsector]]=\"Snelwegen\",P_Snelwegen,1)*tbl_AA_Data_all_REF[[#This Row],[value]]","v":0}]
["tertiair","Elektriciteit",2017,"VITO","MWh",203063.715031,"totaal",{"$f":"IF(tbl_AA_Data_all_REF[[#This Row],[subsector]]=\"Snelwegen\",P_Snelwegen,1)*tbl_AA_Data_all_REF[[#This Row],[value]]","v":203063.715031}]
["tertiair","Warmte/ Koude",2017,"VITO","MWh",2948.7857142857101,"totaal",{"$f":"IF(tbl_AA_Data_all_REF[[#This Row],[subsector]]=\"Snelwegen\",P_Snelwegen,1)*tbl_AA_Data_all_REF[[#This Row],[value]]","v":2948.7857142857101}]
["tertiair","Aardgas",2017,"VITO","MWh",206863.29540823301,"totaal",{"$f":"IF(tbl_AA_Data_all_REF[[#This Row],[subsector]]=\"Snelwegen\",P_Snelwegen,1)*tbl_AA_Data_all_REF[[#This Row],[value]]","v":206863.29540823301}]
["tertiair","Vloeibaar gas",2017,"VITO","MWh",2810.9554106997398,"totaal",{"$f":"IF(tbl_AA_Data_all_REF[[#This Row],[subsector]]=\"Snelwegen\",P_Snelwegen,1)*tbl_AA_Data_all_REF[[#This Row],[value]]","v":2810.9554106997398}]
["tertiair","Stookolie",2017,"VITO","MWh",22454.524020404901,"totaal",{"$f":"IF(tbl_AA_Data_all_REF[[#This Row],[subsector]]=\"Snelwegen\",P_Snelwegen,1)*tbl_AA_Data_all_REF[[#This Row],[value]]","v":22454.524020404901}]
["tertiair","Diesel",2017,"VITO","MWh",0,"totaal",{"$f":"IF(tbl_AA_Data_all_REF[[#This Row],[subsector]]=\"Snelwegen\",P_Snelwegen,1)*tbl_AA_Data_all_REF[[#This Row],[value]]","v":0}]
["tertiair","Benzine",2017,"VITO","MWh",0,"totaal",{"$f":"IF(tbl_AA_Data_all_REF[[#This Row],[subsector]]=\"Snelwegen\",P_Snelwegen,1)*tbl_AA_Data_all_REF[[#This Row],[value]]","v":0}]
["tertiair","Bruinkool",2017,"VITO","MWh",0,"totaal",{"$f":"IF(tbl_AA_Data_all_REF[[#This Row],[subsector]]=\"Snelwegen\",P_Snelwegen,1)*tbl_AA_Data_all_REF[[#This Row],[value]]","v":0}]
["tertiair","Steenkool",2017,"VITO","MWh",0.288711636060209,"totaal",{"$f":"IF(tbl_AA_Data_all_REF[[#This Row],[subsector]]=\"Snelwegen\",P_Snelwegen,1)*tbl_AA_Data_all_REF[[#This Row],[value]]","v":0.288711636060209}]
["tertiair","Andere fossiele brandstoffen",2017,"VITO","MWh",0,"totaal",{"$f":"IF(tbl_AA_Data_all_REF[[#This Row],[subsector]]=\"Snelwegen\",P_Snelwegen,1)*tbl_AA_Data_all_REF[[#This Row],[value]]","v":0}]
["tertiair","Plantaardige oliën",2017,"VITO","MWh",0,"totaal",{"$f":"IF(tbl_AA_Data_all_REF[[#This Row],[subsector]]=\"Snelwegen\",P_Snelwegen,1)*tbl_AA_Data_all_REF[[#This Row],[value]]","v":0}]
["tertiair","Bio-brandstof ",2017,"VITO","MWh",0,"totaal",{"$f":"IF(tbl_AA_Data_all_REF[[#This Row],[subsector]]=\"Snelwegen\",P_Snelwegen,1)*tbl_AA_Data_all_REF[[#This Row],[value]]","v":0}]
["tertiair","Overige biomassa",2017,"VITO","MWh",7957.0281815387498,"totaal",{"$f":"IF(tbl_AA_Data_all_REF[[#This Row],[subsector]]=\"Snelwegen\",P_Snelwegen,1)*tbl_AA_Data_all_REF[[#This Row],[value]]","v":7957.0281815387498}]
["tertiair","Zonne-/ thermische energie",2017,"VITO","MWh",39.178086126729198,"totaal",{"$f":"IF(tbl_AA_Data_all_REF[[#This Row],[subsector]]=\"Snelwegen\",P_Snelwegen,1)*tbl_AA_Data_all_REF[[#This Row],[value]]","v":39.178086126729198}]
["tertiair","Geo-thermische energie",2017,"VITO","MWh",735.54793629093001,"totaal",{"$f":"IF(tbl_AA_Data_all_REF[[#This Row],[subsector]]=\"Snelwegen\",P_Snelwegen,1)*tbl_AA_Data_all_REF[[#This Row],[value]]","v":735.54793629093001}]
["huishoudens","Elektriciteit",2017,"VITO","CO2",25186.511508743701,"totaal",{"$f":"IF(tbl_AA_Data_all_REF[[#This Row],[subsector]]=\"Snelwegen\",P_Snelwegen,1)*tbl_AA_Data_all_REF[[#This Row],[value]]","v":25186.511508743701}]
["huishoudens","Warmte/ Koude",2017,"VITO","CO2",0,"totaal",{"$f":"IF(tbl_AA_Data_all_REF[[#This Row],[subsector]]=\"Snelwegen\",P_Snelwegen,1)*tbl_AA_Data_all_REF[[#This Row],[value]]","v":0}]
["huishoudens","Aardgas",2017,"VITO","CO2",61818.560248839,"totaal",{"$f":"IF(tbl_AA_Data_all_REF[[#This Row],[subsector]]=\"Snelwegen\",P_Snelwegen,1)*tbl_AA_Data_all_REF[[#This Row],[value]]","v":61818.560248839}]
["huishoudens","Vloeibaar gas",2017,"VITO","CO2",5046.9712829413102,"totaal",{"$f":"IF(tbl_AA_Data_all_REF[[#This Row],[subsector]]=\"Snelwegen\",P_Snelwegen,1)*tbl_AA_Data_all_REF[[#This Row],[value]]","v":5046.9712829413102}]
["huishoudens","Stookolie",2017,"VITO","CO2",12755.054286533399,"totaal",{"$f":"IF(tbl_AA_Data_all_REF[[#This Row],[subsector]]=\"Snelwegen\",P_Snelwegen,1)*tbl_AA_Data_all_REF[[#This Row],[value]]","v":12755.054286533399}]
["huishoudens","Diesel",2017,"VITO","CO2",0,"totaal",{"$f":"IF(tbl_AA_Data_all_REF[[#This Row],[subsector]]=\"Snelwegen\",P_Snelwegen,1)*tbl_AA_Data_all_REF[[#This Row],[value]]","v":0}]
["huishoudens","Benzine",2017,"VITO","CO2",0,"totaal",{"$f":"IF(tbl_AA_Data_all_REF[[#This Row],[subsector]]=\"Snelwegen\",P_Snelwegen,1)*tbl_AA_Data_all_REF[[#This Row],[value]]","v":0}]
["huishoudens","Bruinkool",2017,"VITO","CO2",0,"totaal",{"$f":"IF(tbl_AA_Data_all_REF[[#This Row],[subsector]]=\"Snelwegen\",P_Snelwegen,1)*tbl_AA_Data_all_REF[[#This Row],[value]]","v":0}]
["huishoudens","Steenkool",2017,"VITO","CO2",0,"totaal",{"$f":"IF(tbl_AA_Data_all_REF[[#This Row],[subsector]]=\"Snelwegen\",P_Snelwegen,1)*tbl_AA_Data_all_REF[[#This Row],[value]]","v":0}]
["huishoudens","Andere fossiele brandstoffen",2017,"VITO","CO2",0,"totaal",{"$f":"IF(tbl_AA_Data_all_REF[[#This Row],[subsector]]=\"Snelwegen\",P_Snelwegen,1)*tbl_AA_Data_all_REF[[#This Row],[value]]","v":0}]
["huishoudens","Plantaardige oliën",2017,"VITO","CO2",0,"totaal",{"$f":"IF(tbl_AA_Data_all_REF[[#This Row],[subsector]]=\"Snelwegen\",P_Snelwegen,1)*tbl_AA_Data_all_REF[[#This Row],[value]]","v":0}]
["huishoudens","Bio-brandstof ",2017,"VITO","CO2",0,"totaal",{"$f":"IF(tbl_AA_Data_all_REF[[#This Row],[subsector]]=\"Snelwegen\",P_Snelwegen,1)*tbl_AA_Data_all_REF[[#This Row],[value]]","v":0}]
["huishoudens","Overige biomassa",2017,"VITO","CO2",0,"totaal",{"$f":"IF(tbl_AA_Data_all_REF[[#This Row],[subsector]]=\"Snelwegen\",P_Snelwegen,1)*tbl_AA_Data_all_REF[[#This Row],[value]]","v":0}]
["huishoudens","Zonne-/ thermische energie",2017,"VITO","CO2",0,"totaal",{"$f":"IF(tbl_AA_Data_all_REF[[#This Row],[subsector]]=\"Snelwegen\",P_Snelwegen,1)*tbl_AA_Data_all_REF[[#This Row],[value]]","v":0}]
["huishoudens","Geo-thermische energie",2017,"VITO","CO2",0,"totaal",{"$f":"IF(tbl_AA_Data_all_REF[[#This Row],[subsector]]=\"Snelwegen\",P_Snelwegen,1)*tbl_AA_Data_all_REF[[#This Row],[value]]","v":0}]
["industrie (niet-ETS)","Elektriciteit",2017,"VITO","CO2",10725.5937520062,"totaal",{"$f":"IF(tbl_AA_Data_all_REF[[#This Row],[subsector]]=\"Snelwegen\",P_Snelwegen,1)*tbl_AA_Data_all_REF[[#This Row],[value]]","v":10725.5937520062}]
["industrie (niet-ETS)","Warmte/ Koude",2017,"VITO","CO2",76.386554621848802,"totaal",{"$f":"IF(tbl_AA_Data_all_REF[[#This Row],[subsector]]=\"Snelwegen\",P_Snelwegen,1)*tbl_AA_Data_all_REF[[#This Row],[value]]","v":76.386554621848802}]
["industrie (niet-ETS)","Aardgas",2017,"VITO","CO2",14931.290394313701,"totaal",{"$f":"IF(tbl_AA_Data_all_REF[[#This Row],[subsector]]=\"Snelwegen\",P_Snelwegen,1)*tbl_AA_Data_all_REF[[#This Row],[value]]","v":14931.290394313701}]
["industrie (niet-ETS)","Vloeibaar gas",2017,"VITO","CO2",1747.5836908661799,"totaal",{"$f":"IF(tbl_AA_Data_all_REF[[#This Row],[subsector]]=\"Snelwegen\",P_Snelwegen,1)*tbl_AA_Data_all_REF[[#This Row],[value]]","v":1747.5836908661799}]
["industrie (niet-ETS)","Stookolie",2017,"VITO","CO2",7064.5200975929301,"totaal",{"$f":"IF(tbl_AA_Data_all_REF[[#This Row],[subsector]]=\"Snelwegen\",P_Snelwegen,1)*tbl_AA_Data_all_REF[[#This Row],[value]]","v":7064.5200975929301}]
["industrie (niet-ETS)","Diesel",2017,"VITO","CO2",0,"totaal",{"$f":"IF(tbl_AA_Data_all_REF[[#This Row],[subsector]]=\"Snelwegen\",P_Snelwegen,1)*tbl_AA_Data_all_REF[[#This Row],[value]]","v":0}]
["industrie (niet-ETS)","Benzine",2017,"VITO","CO2",0,"totaal",{"$f":"IF(tbl_AA_Data_all_REF[[#This Row],[subsector]]=\"Snelwegen\",P_Snelwegen,1)*tbl_AA_Data_all_REF[[#This Row],[value]]","v":0}]
["industrie (niet-ETS)","Bruinkool",2017,"VITO","CO2",0,"totaal",{"$f":"IF(tbl_AA_Data_all_REF[[#This Row],[subsector]]=\"Snelwegen\",P_Snelwegen,1)*tbl_AA_Data_all_REF[[#This Row],[value]]","v":0}]
["industrie (niet-ETS)","Steenkool",2017,"VITO","CO2",74.467285865291203,"totaal",{"$f":"IF(tbl_AA_Data_all_REF[[#This Row],[subsector]]=\"Snelwegen\",P_Snelwegen,1)*tbl_AA_Data_all_REF[[#This Row],[value]]","v":74.467285865291203}]
["industrie (niet-ETS)","Andere fossiele brandstoffen",2017,"VITO","CO2",0,"totaal",{"$f":"IF(tbl_AA_Data_all_REF[[#This Row],[subsector]]=\"Snelwegen\",P_Snelwegen,1)*tbl_AA_Data_all_REF[[#This Row],[value]]","v":0}]
["industrie (niet-ETS)","Plantaardige oliën",2017,"VITO","CO2",0,"totaal",{"$f":"IF(tbl_AA_Data_all_REF[[#This Row],[subsector]]=\"Snelwegen\",P_Snelwegen,1)*tbl_AA_Data_all_REF[[#This Row],[value]]","v":0}]
["industrie (niet-ETS)","Bio-brandstof ",2017,"VITO","CO2",0,"totaal",{"$f":"IF(tbl_AA_Data_all_REF[[#This Row],[subsector]]=\"Snelwegen\",P_Snelwegen,1)*tbl_AA_Data_all_REF[[#This Row],[value]]","v":0}]
["industrie (niet-ETS)","Overige biomassa",2017,"VITO","CO2",0,"totaal",{"$f":"IF(tbl_AA_Data_all_REF[[#This Row],[subsector]]=\"Snelwegen\",P_Snelwegen,1)*tbl_AA_Data_all_REF[[#This Row],[value]]","v":0}]
["industrie (niet-ETS)","Zonne-/ thermische energie",2017,"VITO","CO2",0,"totaal",{"$f":"IF(tbl_AA_Data_all_REF[[#This Row],[subsector]]=\"Snelwegen\",P_Snelwegen,1)*tbl_AA_Data_all_REF[[#This Row],[value]]","v":0}]
["industrie (niet-ETS)","Geo-thermische energie",2017,"VITO","CO2",0,"totaal",{"$f":"IF(tbl_AA_Data_all_REF[[#This Row],[subsector]]=\"Snelwegen\",P_Snelwegen,1)*tbl_AA_Data_all_REF[[#This Row],[value]]","v":0}]
["landbouw","Elektriciteit",2017,"VITO","CO2",311.59180360555501,"totaal",{"$f":"IF(tbl_AA_Data_all_REF[[#This Row],[subsector]]=\"Snelwegen\",P_Snelwegen,1)*tbl_AA_Data_all_REF[[#This Row],[value]]","v":311.59180360555501}]
["landbouw","Warmte/ Koude",2017,"VITO","CO2",0,"totaal",{"$f":"IF(tbl_AA_Data_all_REF[[#This Row],[subsector]]=\"Snelwegen\",P_Snelwegen,1)*tbl_AA_Data_all_REF[[#This Row],[value]]","v":0}]
["landbouw","Aardgas",2017,"VITO","CO2",245.6005699312,"totaal",{"$f":"IF(tbl_AA_Data_all_REF[[#This Row],[subsector]]=\"Snelwegen\",P_Snelwegen,1)*tbl_AA_Data_all_REF[[#This Row],[value]]","v":245.6005699312}]
["landbouw","Vloeibaar gas",2017,"VITO","CO2",11.1772151482821,"totaal",{"$f":"IF(tbl_AA_Data_all_REF[[#This Row],[subsector]]=\"Snelwegen\",P_Snelwegen,1)*tbl_AA_Data_all_REF[[#This Row],[value]]","v":11.1772151482821}]
["landbouw","Stookolie",2017,"VITO","CO2",1488.7096148085,"totaal",{"$f":"IF(tbl_AA_Data_all_REF[[#This Row],[subsector]]=\"Snelwegen\",P_Snelwegen,1)*tbl_AA_Data_all_REF[[#This Row],[value]]","v":1488.7096148085}]
["landbouw","Diesel",2017,"VITO","CO2",0,"totaal",{"$f":"IF(tbl_AA_Data_all_REF[[#This Row],[subsector]]=\"Snelwegen\",P_Snelwegen,1)*tbl_AA_Data_all_REF[[#This Row],[value]]","v":0}]
["landbouw","Benzine",2017,"VITO","CO2",0,"totaal",{"$f":"IF(tbl_AA_Data_all_REF[[#This Row],[subsector]]=\"Snelwegen\",P_Snelwegen,1)*tbl_AA_Data_all_REF[[#This Row],[value]]","v":0}]
["landbouw","Bruinkool",2017,"VITO","CO2",0,"totaal",{"$f":"IF(tbl_AA_Data_all_REF[[#This Row],[subsector]]=\"Snelwegen\",P_Snelwegen,1)*tbl_AA_Data_all_REF[[#This Row],[value]]","v":0}]
["landbouw","Steenkool",2017,"VITO","CO2",153.87014772509499,"totaal",{"$f":"IF(tbl_AA_Data_all_REF[[#This Row],[subsector]]=\"Snelwegen\",P_Snelwegen,1)*tbl_AA_Data_all_REF[[#This Row],[value]]","v":153.87014772509499}]
["landbouw","Andere fossiele brandstoffen",2017,"VITO","CO2",0,"totaal",{"$f":"IF(tbl_AA_Data_all_REF[[#This Row],[subsector]]=\"Snelwegen\",P_Snelwegen,1)*tbl_AA_Data_all_REF[[#This Row],[value]]","v":0}]
["landbouw","Plantaardige oliën",2017,"VITO","CO2",0,"totaal",{"$f":"IF(tbl_AA_Data_all_REF[[#This Row],[subsector]]=\"Snelwegen\",P_Snelwegen,1)*tbl_AA_Data_all_REF[[#This Row],[value]]","v":0}]
["landbouw","Bio-brandstof ",2017,"VITO","CO2",0,"totaal",{"$f":"IF(tbl_AA_Data_all_REF[[#This Row],[subsector]]=\"Snelwegen\",P_Snelwegen,1)*tbl_AA_Data_all_REF[[#This Row],[value]]","v":0}]
["landbouw","Overige biomassa",2017,"VITO","CO2",0,"totaal",{"$f":"IF(tbl_AA_Data_all_REF[[#This Row],[subsector]]=\"Snelwegen\",P_Snelwegen,1)*tbl_AA_Data_all_REF[[#This Row],[value]]","v":0}]
["landbouw","Zonne-/ thermische energie",2017,"VITO","CO2",0,"totaal",{"$f":"IF(tbl_AA_Data_all_REF[[#This Row],[subsector]]=\"Snelwegen\",P_Snelwegen,1)*tbl_AA_Data_all_REF[[#This Row],[value]]","v":0}]
["landbouw","Geo-thermische energie",2017,"VITO","CO2",0,"totaal",{"$f":"IF(tbl_AA_Data_all_REF[[#This Row],[subsector]]=\"Snelwegen\",P_Snelwegen,1)*tbl_AA_Data_all_REF[[#This Row],[value]]","v":0}]
["niet toegekend","Elektriciteit",2017,"VITO","CO2",1784.7015641061901,"totaal",{"$f":"IF(tbl_AA_Data_all_REF[[#This Row],[subsector]]=\"Snelwegen\",P_Snelwegen,1)*tbl_AA_Data_all_REF[[#This Row],[value]]","v":1784.7015641061901}]
["niet toegekend","Warmte/ Koude",2017,"VITO","CO2",0,"totaal",{"$f":"IF(tbl_AA_Data_all_REF[[#This Row],[subsector]]=\"Snelwegen\",P_Snelwegen,1)*tbl_AA_Data_all_REF[[#This Row],[value]]","v":0}]
["niet toegekend","Aardgas",2017,"VITO","CO2",4103.8426207559996,"totaal",{"$f":"IF(tbl_AA_Data_all_REF[[#This Row],[subsector]]=\"Snelwegen\",P_Snelwegen,1)*tbl_AA_Data_all_REF[[#This Row],[value]]","v":4103.8426207559996}]
["niet toegekend","Vloeibaar gas",2017,"VITO","CO2",0,"totaal",{"$f":"IF(tbl_AA_Data_all_REF[[#This Row],[subsector]]=\"Snelwegen\",P_Snelwegen,1)*tbl_AA_Data_all_REF[[#This Row],[value]]","v":0}]
["niet toegekend","Stookolie",2017,"VITO","CO2",0,"totaal",{"$f":"IF(tbl_AA_Data_all_REF[[#This Row],[subsector]]=\"Snelwegen\",P_Snelwegen,1)*tbl_AA_Data_all_REF[[#This Row],[value]]","v":0}]
["niet toegekend","Diesel",2017,"VITO","CO2",0,"totaal",{"$f":"IF(tbl_AA_Data_all_REF[[#This Row],[subsector]]=\"Snelwegen\",P_Snelwegen,1)*tbl_AA_Data_all_REF[[#This Row],[value]]","v":0}]
["niet toegekend","Benzine",2017,"VITO","CO2",0,"totaal",{"$f":"IF(tbl_AA_Data_all_REF[[#This Row],[subsector]]=\"Snelwegen\",P_Snelwegen,1)*tbl_AA_Data_all_REF[[#This Row],[value]]","v":0}]
["niet toegekend","Bruinkool",2017,"VITO","CO2",0,"totaal",{"$f":"IF(tbl_AA_Data_all_REF[[#This Row],[subsector]]=\"Snelwegen\",P_Snelwegen,1)*tbl_AA_Data_all_REF[[#This Row],[value]]","v":0}]
["niet toegekend","Steenkool",2017,"VITO","CO2",0,"totaal",{"$f":"IF(tbl_AA_Data_all_REF[[#This Row],[subsector]]=\"Snelwegen\",P_Snelwegen,1)*tbl_AA_Data_all_REF[[#This Row],[value]]","v":0}]
["niet toegekend","Andere fossiele brandstoffen",2017,"VITO","CO2",0,"totaal",{"$f":"IF(tbl_AA_Data_all_REF[[#This Row],[subsector]]=\"Snelwegen\",P_Snelwegen,1)*tbl_AA_Data_all_REF[[#This Row],[value]]","v":0}]
["niet toegekend","Plantaardige oliën",2017,"VITO","CO2",0,"totaal",{"$f":"IF(tbl_AA_Data_all_REF[[#This Row],[subsector]]=\"Snelwegen\",P_Snelwegen,1)*tbl_AA_Data_all_REF[[#This Row],[value]]","v":0}]
["niet toegekend","Bio-brandstof ",2017,"VITO","CO2",0,"totaal",{"$f":"IF(tbl_AA_Data_all_REF[[#This Row],[subsector]]=\"Snelwegen\",P_Snelwegen,1)*tbl_AA_Data_all_REF[[#This Row],[value]]","v":0}]
["niet toegekend","Overige biomassa",2017,"VITO","CO2",0,"totaal",{"$f":"IF(tbl_AA_Data_all_REF[[#This Row],[subsector]]=\"Snelwegen\",P_Snelwegen,1)*tbl_AA_Data_all_REF[[#This Row],[value]]","v":0}]
["niet toegekend","Zonne-/ thermische energie",2017,"VITO","CO2",0,"totaal",{"$f":"IF(tbl_AA_Data_all_REF[[#This Row],[subsector]]=\"Snelwegen\",P_Snelwegen,1)*tbl_AA_Data_all_REF[[#This Row],[value]]","v":0}]
["niet toegekend","Geo-thermische energie",2017,"VITO","CO2",0,"totaal",{"$f":"IF(tbl_AA_Data_all_REF[[#This Row],[subsector]]=\"Snelwegen\",P_Snelwegen,1)*tbl_AA_Data_all_REF[[#This Row],[value]]","v":0}]
["openbaar vervoer","Elektriciteit",2017,"VITO","CO2",0,"totaal",{"$f":"IF(tbl_AA_Data_all_REF[[#This Row],[subsector]]=\"Snelwegen\",P_Snelwegen,1)*tbl_AA_Data_all_REF[[#This Row],[value]]","v":0}]
["openbaar vervoer","Warmte/ Koude",2017,"VITO","CO2",0,"totaal",{"$f":"IF(tbl_AA_Data_all_REF[[#This Row],[subsector]]=\"Snelwegen\",P_Snelwegen,1)*tbl_AA_Data_all_REF[[#This Row],[value]]","v":0}]
["openbaar vervoer","Aardgas",2017,"VITO","CO2",0,"totaal",{"$f":"IF(tbl_AA_Data_all_REF[[#This Row],[subsector]]=\"Snelwegen\",P_Snelwegen,1)*tbl_AA_Data_all_REF[[#This Row],[value]]","v":0}]
["openbaar vervoer","Vloeibaar gas",2017,"VITO","CO2",0,"totaal",{"$f":"IF(tbl_AA_Data_all_REF[[#This Row],[subsector]]=\"Snelwegen\",P_Snelwegen,1)*tbl_AA_Data_all_REF[[#This Row],[value]]","v":0}]
["openbaar vervoer","Stookolie",2017,"VITO","CO2",0,"totaal",{"$f":"IF(tbl_AA_Data_all_REF[[#This Row],[subsector]]=\"Snelwegen\",P_Snelwegen,1)*tbl_AA_Data_all_REF[[#This Row],[value]]","v":0}]
["openbaar vervoer","Diesel",2017,"VITO","CO2",4149.9469788373299,"totaal",{"$f":"IF(tbl_AA_Data_all_REF[[#This Row],[subsector]]=\"Snelwegen\",P_Snelwegen,1)*tbl_AA_Data_all_REF[[#This Row],[value]]","v":4149.9469788373299}]
["openbaar vervoer","Benzine",2017,"VITO","CO2",0,"totaal",{"$f":"IF(tbl_AA_Data_all_REF[[#This Row],[subsector]]=\"Snelwegen\",P_Snelwegen,1)*tbl_AA_Data_all_REF[[#This Row],[value]]","v":0}]
["openbaar vervoer","Bruinkool",2017,"VITO","CO2",0,"totaal",{"$f":"IF(tbl_AA_Data_all_REF[[#This Row],[subsector]]=\"Snelwegen\",P_Snelwegen,1)*tbl_AA_Data_all_REF[[#This Row],[value]]","v":0}]
["openbaar vervoer","Steenkool",2017,"VITO","CO2",0,"totaal",{"$f":"IF(tbl_AA_Data_all_REF[[#This Row],[subsector]]=\"Snelwegen\",P_Snelwegen,1)*tbl_AA_Data_all_REF[[#This Row],[value]]","v":0}]
["openbaar vervoer","Andere fossiele brandstoffen",2017,"VITO","CO2",0,"totaal",{"$f":"IF(tbl_AA_Data_all_REF[[#This Row],[subsector]]=\"Snelwegen\",P_Snelwegen,1)*tbl_AA_Data_all_REF[[#This Row],[value]]","v":0}]
["openbaar vervoer","Plantaardige oliën",2017,"VITO","CO2",0,"totaal",{"$f":"IF(tbl_AA_Data_all_REF[[#This Row],[subsector]]=\"Snelwegen\",P_Snelwegen,1)*tbl_AA_Data_all_REF[[#This Row],[value]]","v":0}]
["openbaar vervoer","Bio-brandstof ",2017,"VITO","CO2",0,"totaal",{"$f":"IF(tbl_AA_Data_all_REF[[#This Row],[subsector]]=\"Snelwegen\",P_Snelwegen,1)*tbl_AA_Data_all_REF[[#This Row],[value]]","v":0}]
["openbaar vervoer","Overige biomassa",2017,"VITO","CO2",0,"totaal",{"$f":"IF(tbl_AA_Data_all_REF[[#This Row],[subsector]]=\"Snelwegen\",P_Snelwegen,1)*tbl_AA_Data_all_REF[[#This Row],[value]]","v":0}]
["openbaar vervoer","Zonne-/ thermische energie",2017,"VITO","CO2",0,"totaal",{"$f":"IF(tbl_AA_Data_all_REF[[#This Row],[subsector]]=\"Snelwegen\",P_Snelwegen,1)*tbl_AA_Data_all_REF[[#This Row],[value]]","v":0}]
["openbaar vervoer","Geo-thermische energie",2017,"VITO","CO2",0,"totaal",{"$f":"IF(tbl_AA_Data_all_REF[[#This Row],[subsector]]=\"Snelwegen\",P_Snelwegen,1)*tbl_AA_Data_all_REF[[#This Row],[value]]","v":0}]
["openbare verlichting","Elektriciteit",2017,"VITO","CO2",997.44493251006998,"totaal",{"$f":"IF(tbl_AA_Data_all_REF[[#This Row],[subsector]]=\"Snelwegen\",P_Snelwegen,1)*tbl_AA_Data_all_REF[[#This Row],[value]]","v":997.44493251006998}]
["openbare verlichting","Warmte/ Koude",2017,"VITO","CO2",0,"totaal",{"$f":"IF(tbl_AA_Data_all_REF[[#This Row],[subsector]]=\"Snelwegen\",P_Snelwegen,1)*tbl_AA_Data_all_REF[[#This Row],[value]]","v":0}]
["openbare verlichting","Aardgas",2017,"VITO","CO2",0,"totaal",{"$f":"IF(tbl_AA_Data_all_REF[[#This Row],[subsector]]=\"Snelwegen\",P_Snelwegen,1)*tbl_AA_Data_all_REF[[#This Row],[value]]","v":0}]
["openbare verlichting","Vloeibaar gas",2017,"VITO","CO2",0,"totaal",{"$f":"IF(tbl_AA_Data_all_REF[[#This Row],[subsector]]=\"Snelwegen\",P_Snelwegen,1)*tbl_AA_Data_all_REF[[#This Row],[value]]","v":0}]
["openbare verlichting","Stookolie",2017,"VITO","CO2",0,"totaal",{"$f":"IF(tbl_AA_Data_all_REF[[#This Row],[subsector]]=\"Snelwegen\",P_Snelwegen,1)*tbl_AA_Data_all_REF[[#This Row],[value]]","v":0}]
["openbare verlichting","Diesel",2017,"VITO","CO2",0,"totaal",{"$f":"IF(tbl_AA_Data_all_REF[[#This Row],[subsector]]=\"Snelwegen\",P_Snelwegen,1)*tbl_AA_Data_all_REF[[#This Row],[value]]","v":0}]
["openbare verlichting","Benzine",2017,"VITO","CO2",0,"totaal",{"$f":"IF(tbl_AA_Data_all_REF[[#This Row],[subsector]]=\"Snelwegen\",P_Snelwegen,1)*tbl_AA_Data_all_REF[[#This Row],[value]]","v":0}]
["openbare verlichting","Bruinkool",2017,"VITO","CO2",0,"totaal",{"$f":"IF(tbl_AA_Data_all_REF[[#This Row],[subsector]]=\"Snelwegen\",P_Snelwegen,1)*tbl_AA_Data_all_REF[[#This Row],[value]]","v":0}]
["openbare verlichting","Steenkool",2017,"VITO","CO2",0,"totaal",{"$f":"IF(tbl_AA_Data_all_REF[[#This Row],[subsector]]=\"Snelwegen\",P_Snelwegen,1)*tbl_AA_Data_all_REF[[#This Row],[value]]","v":0}]
["openbare verlichting","Andere fossiele brandstoffen",2017,"VITO","CO2",0,"totaal",{"$f":"IF(tbl_AA_Data_all_REF[[#This Row],[subsector]]=\"Snelwegen\",P_Snelwegen,1)*tbl_AA_Data_all_REF[[#This Row],[value]]","v":0}]
["openbare verlichting","Plantaardige oliën",2017,"VITO","CO2",0,"totaal",{"$f":"IF(tbl_AA_Data_all_REF[[#This Row],[subsector]]=\"Snelwegen\",P_Snelwegen,1)*tbl_AA_Data_all_REF[[#This Row],[value]]","v":0}]
["openbare verlichting","Bio-brandstof ",2017,"VITO","CO2",0,"totaal",{"$f":"IF(tbl_AA_Data_all_REF[[#This Row],[subsector]]=\"Snelwegen\",P_Snelwegen,1)*tbl_AA_Data_all_REF[[#This Row],[value]]","v":0}]
["openbare verlichting","Overige biomassa",2017,"VITO","CO2",0,"totaal",{"$f":"IF(tbl_AA_Data_all_REF[[#This Row],[subsector]]=\"Snelwegen\",P_Snelwegen,1)*tbl_AA_Data_all_REF[[#This Row],[value]]","v":0}]
["openbare verlichting","Zonne-/ thermische energie",2017,"VITO","CO2",0,"totaal",{"$f":"IF(tbl_AA_Data_all_REF[[#This Row],[subsector]]=\"Snelwegen\",P_Snelwegen,1)*tbl_AA_Data_all_REF[[#This Row],[value]]","v":0}]
["openbare verlichting","Geo-thermische energie",2017,"VITO","CO2",0,"totaal",{"$f":"IF(tbl_AA_Data_all_REF[[#This Row],[subsector]]=\"Snelwegen\",P_Snelwegen,1)*tbl_AA_Data_all_REF[[#This Row],[value]]","v":0}]
["particulier en commercieel vervoer","Elektriciteit",2017,"VITO","CO2",25.327423771245101,"Snelwegen",{"$f":"IF(tbl_AA_Data_all_REF[[#This Row],[subsector]]=\"Snelwegen\",P_Snelwegen,1)*tbl_AA_Data_all_REF[[#This Row],[value]]","v":0}]
["particulier en commercieel vervoer","Elektriciteit",2017,"VITO","CO2",41.448821851749202,"Genummerde wegen",{"$f":"IF(tbl_AA_Data_all_REF[[#This Row],[subsector]]=\"Snelwegen\",P_Snelwegen,1)*tbl_AA_Data_all_REF[[#This Row],[value]]","v":41.448821851749202}]
["particulier en commercieel vervoer","Elektriciteit",2017,"VITO","CO2",11.530886334589299,"Niet-genummerde wegen",{"$f":"IF(tbl_AA_Data_all_REF[[#This Row],[subsector]]=\"Snelwegen\",P_Snelwegen,1)*tbl_AA_Data_all_REF[[#This Row],[value]]","v":11.530886334589299}]
["particulier en commercieel vervoer","Warmte/ Koude",2017,"VITO","CO2",0,"Genummerde wegen",{"$f":"IF(tbl_AA_Data_all_REF[[#This Row],[subsector]]=\"Snelwegen\",P_Snelwegen,1)*tbl_AA_Data_all_REF[[#This Row],[value]]","v":0}]
["particulier en commercieel vervoer","Warmte/ Koude",2017,"VITO","CO2",0,"Niet-genummerde wegen",{"$f":"IF(tbl_AA_Data_all_REF[[#This Row],[subsector]]=\"Snelwegen\",P_Snelwegen,1)*tbl_AA_Data_all_REF[[#This Row],[value]]","v":0}]
["particulier en commercieel vervoer","Warmte/ Koude",2017,"VITO","CO2",0,"Snelwegen",{"$f":"IF(tbl_AA_Data_all_REF[[#This Row],[subsector]]=\"Snelwegen\",P_Snelwegen,1)*tbl_AA_Data_all_REF[[#This Row],[value]]","v":0}]
["particulier en commercieel vervoer","Aardgas",2017,"VITO","CO2",72.574291158846407,"Niet-genummerde wegen",{"$f":"IF(tbl_AA_Data_all_REF[[#This Row],[subsector]]=\"Snelwegen\",P_Snelwegen,1)*tbl_AA_Data_all_REF[[#This Row],[value]]","v":72.574291158846407}]
["particulier en commercieel vervoer","Aardgas",2017,"VITO","CO2",147.408346277238,"Genummerde wegen",{"$f":"IF(tbl_AA_Data_all_REF[[#This Row],[subsector]]=\"Snelwegen\",P_Snelwegen,1)*tbl_AA_Data_all_REF[[#This Row],[value]]","v":147.408346277238}]
["particulier en commercieel vervoer","Aardgas",2017,"VITO","CO2",94.104217036666,"Snelwegen",{"$f":"IF(tbl_AA_Data_all_REF[[#This Row],[subsector]]=\"Snelwegen\",P_Snelwegen,1)*tbl_AA_Data_all_REF[[#This Row],[value]]","v":0}]
["particulier en commercieel vervoer","Vloeibaar gas",2017,"VITO","CO2",130.50644733169199,"Genummerde wegen",{"$f":"IF(tbl_AA_Data_all_REF[[#This Row],[subsector]]=\"Snelwegen\",P_Snelwegen,1)*tbl_AA_Data_all_REF[[#This Row],[value]]","v":130.50644733169199}]
["particulier en commercieel vervoer","Vloeibaar gas",2017,"VITO","CO2",59.566402178226497,"Niet-genummerde wegen",{"$f":"IF(tbl_AA_Data_all_REF[[#This Row],[subsector]]=\"Snelwegen\",P_Snelwegen,1)*tbl_AA_Data_all_REF[[#This Row],[value]]","v":59.566402178226497}]
["particulier en commercieel vervoer","Vloeibaar gas",2017,"VITO","CO2",103.71410189766399,"Snelwegen",{"$f":"IF(tbl_AA_Data_all_REF[[#This Row],[subsector]]=\"Snelwegen\",P_Snelwegen,1)*tbl_AA_Data_all_REF[[#This Row],[value]]","v":0}]
["particulier en commercieel vervoer","Stookolie",2017,"VITO","CO2",0,"Genummerde wegen",{"$f":"IF(tbl_AA_Data_all_REF[[#This Row],[subsector]]=\"Snelwegen\",P_Snelwegen,1)*tbl_AA_Data_all_REF[[#This Row],[value]]","v":0}]
["particulier en commercieel vervoer","Stookolie",2017,"VITO","CO2",0,"Niet-genummerde wegen",{"$f":"IF(tbl_AA_Data_all_REF[[#This Row],[subsector]]=\"Snelwegen\",P_Snelwegen,1)*tbl_AA_Data_all_REF[[#This Row],[value]]","v":0}]
["particulier en commercieel vervoer","Stookolie",2017,"VITO","CO2",0,"Snelwegen",{"$f":"IF(tbl_AA_Data_all_REF[[#This Row],[subsector]]=\"Snelwegen\",P_Snelwegen,1)*tbl_AA_Data_all_REF[[#This Row],[value]]","v":0}]
["particulier en commercieel vervoer","Diesel",2017,"VITO","CO2",61146.458913420203,"Genummerde wegen",{"$f":"IF(tbl_AA_Data_all_REF[[#This Row],[subsector]]=\"Snelwegen\",P_Snelwegen,1)*tbl_AA_Data_all_REF[[#This Row],[value]]","v":61146.458913420203}]
["particulier en commercieel vervoer","Diesel",2017,"VITO","CO2",18139.970980564001,"Niet-genummerde wegen",{"$f":"IF(tbl_AA_Data_all_REF[[#This Row],[subsector]]=\"Snelwegen\",P_Snelwegen,1)*tbl_AA_Data_all_REF[[#This Row],[value]]","v":18139.970980564001}]
["particulier en commercieel vervoer","Diesel",2017,"VITO","CO2",45741.159499499103,"Snelwegen",{"$f":"IF(tbl_AA_Data_all_REF[[#This Row],[subsector]]=\"Snelwegen\",P_Snelwegen,1)*tbl_AA_Data_all_REF[[#This Row],[value]]","v":0}]
["particulier en commercieel vervoer","Benzine",2017,"VITO","CO2",13640.8866560348,"Genummerde wegen",{"$f":"IF(tbl_AA_Data_all_REF[[#This Row],[subsector]]=\"Snelwegen\",P_Snelwegen,1)*tbl_AA_Data_all_REF[[#This Row],[value]]","v":13640.8866560348}]
["particulier en commercieel vervoer","Benzine",2017,"VITO","CO2",6541.9283269334601,"Niet-genummerde wegen",{"$f":"IF(tbl_AA_Data_all_REF[[#This Row],[subsector]]=\"Snelwegen\",P_Snelwegen,1)*tbl_AA_Data_all_REF[[#This Row],[value]]","v":6541.9283269334601}]
["particulier en commercieel vervoer","Benzine",2017,"VITO","CO2",9072.9328816373709,"Snelwegen",{"$f":"IF(tbl_AA_Data_all_REF[[#This Row],[subsector]]=\"Snelwegen\",P_Snelwegen,1)*tbl_AA_Data_all_REF[[#This Row],[value]]","v":0}]
["particulier en commercieel vervoer","Bruinkool",2017,"VITO","CO2",0,"Snelwegen",{"$f":"IF(tbl_AA_Data_all_REF[[#This Row],[subsector]]=\"Snelwegen\",P_Snelwegen,1)*tbl_AA_Data_all_REF[[#This Row],[value]]","v":0}]
["particulier en commercieel vervoer","Bruinkool",2017,"VITO","CO2",0,"Niet-genummerde wegen",{"$f":"IF(tbl_AA_Data_all_REF[[#This Row],[subsector]]=\"Snelwegen\",P_Snelwegen,1)*tbl_AA_Data_all_REF[[#This Row],[value]]","v":0}]
["particulier en commercieel vervoer","Bruinkool",2017,"VITO","CO2",0,"Genummerde wegen",{"$f":"IF(tbl_AA_Data_all_REF[[#This Row],[subsector]]=\"Snelwegen\",P_Snelwegen,1)*tbl_AA_Data_all_REF[[#This Row],[value]]","v":0}]
["particulier en commercieel vervoer","Steenkool",2017,"VITO","CO2",0,"Genummerde wegen",{"$f":"IF(tbl_AA_Data_all_REF[[#This Row],[subsector]]=\"Snelwegen\",P_Snelwegen,1)*tbl_AA_Data_all_REF[[#This Row],[value]]","v":0}]
["particulier en commercieel vervoer","Steenkool",2017,"VITO","CO2",0,"Snelwegen",{"$f":"IF(tbl_AA_Data_all_REF[[#This Row],[subsector]]=\"Snelwegen\",P_Snelwegen,1)*tbl_AA_Data_all_REF[[#This Row],[value]]","v":0}]
["particulier en commercieel vervoer","Steenkool",2017,"VITO","CO2",0,"Niet-genummerde wegen",{"$f":"IF(tbl_AA_Data_all_REF[[#This Row],[subsector]]=\"Snelwegen\",P_Snelwegen,1)*tbl_AA_Data_all_REF[[#This Row],[value]]","v":0}]
["particulier en commercieel vervoer","Andere fossiele brandstoffen",2017,"VITO","CO2",0,"Genummerde wegen",{"$f":"IF(tbl_AA_Data_all_REF[[#This Row],[subsector]]=\"Snelwegen\",P_Snelwegen,1)*tbl_AA_Data_all_REF[[#This Row],[value]]","v":0}]
["particulier en commercieel vervoer","Andere fossiele brandstoffen",2017,"VITO","CO2",0,"Niet-genummerde wegen",{"$f":"IF(tbl_AA_Data_all_REF[[#This Row],[subsector]]=\"Snelwegen\",P_Snelwegen,1)*tbl_AA_Data_all_REF[[#This Row],[value]]","v":0}]
["particulier en commercieel vervoer","Andere fossiele brandstoffen",2017,"VITO","CO2",0,"Snelwegen",{"$f":"IF(tbl_AA_Data_all_REF[[#This Row],[subsector]]=\"Snelwegen\",P_Snelwegen,1)*tbl_AA_Data_all_REF[[#This Row],[value]]","v":0}]
["particulier en commercieel vervoer","Plantaardige oliën",2017,"VITO","CO2",0,"Niet-genummerde wegen",{"$f":"IF(tbl_AA_Data_all_REF[[#This Row],[subsector]]=\"Snelwegen\",P_Snelwegen,1)*tbl_AA_Data_all_REF[[#This Row],[value]]","v":0}]
["particulier en commercieel vervoer","Plantaardige oliën",2017,"VITO","CO2",0,"Genummerde wegen",{"$f":"IF(tbl_AA_Data_all_REF[[#This Row],[subsector]]=\"Snelwegen\",P_Snelwegen,1)*tbl_AA_Data_all_REF[[#This Row],[value]]","v":0}]
["particulier en commercieel vervoer","Plantaardige oliën",2017,"VITO","CO2",0,"Snelwegen",{"$f":"IF(tbl_AA_Data_all_REF[[#This Row],[subsector]]=\"Snelwegen\",P_Snelwegen,1)*tbl_AA_Data_all_REF[[#This Row],[value]]","v":0}]
["particulier en commercieel vervoer","Bio-brandstof ",2017,"VITO","CO2",0,"Niet-genummerde wegen",{"$f":"IF(tbl_AA_Data_all_REF[[#This Row],[subsector]]=\"Snelwegen\",P_Snelwegen,1)*tbl_AA_Data_all_REF[[#This Row],[value]]","v":0}]
["particulier en commercieel vervoer","Bio-brandstof ",2017,"VITO","CO2",0,"Snelwegen",{"$f":"IF(tbl_AA_Data_all_REF[[#This Row],[subsector]]=\"Snelwegen\",P_Snelwegen,1)*tbl_AA_Data_all_REF[[#This Row],[value]]","v":0}]
["particulier en commercieel vervoer","Bio-brandstof ",2017,"VITO","CO2",0,"Genummerde wegen",{"$f":"IF(tbl_AA_Data_all_REF[[#This Row],[subsector]]=\"Snelwegen\",P_Snelwegen,1)*tbl_AA_Data_all_REF[[#This Row],[value]]","v":0}]
["particulier en commercieel vervoer","Overige biomassa",2017,"VITO","CO2",0,"Genummerde wegen",{"$f":"IF(tbl_AA_Data_all_REF[[#This Row],[subsector]]=\"Snelwegen\",P_Snelwegen,1)*tbl_AA_Data_all_REF[[#This Row],[value]]","v":0}]
["particulier en commercieel vervoer","Overige biomassa",2017,"VITO","CO2",0,"Niet-genummerde wegen",{"$f":"IF(tbl_AA_Data_all_REF[[#This Row],[subsector]]=\"Snelwegen\",P_Snelwegen,1)*tbl_AA_Data_all_REF[[#This Row],[value]]","v":0}]
["particulier en commercieel vervoer","Overige biomassa",2017,"VITO","CO2",0,"Snelwegen",{"$f":"IF(tbl_AA_Data_all_REF[[#This Row],[subsector]]=\"Snelwegen\",P_Snelwegen,1)*tbl_AA_Data_all_REF[[#This Row],[value]]","v":0}]
["particulier en commercieel vervoer","Zonne-/ thermische energie",2017,"VITO","CO2",0,"Genummerde wegen",{"$f":"IF(tbl_AA_Data_all_REF[[#This Row],[subsector]]=\"Snelwegen\",P_Snelwegen,1)*tbl_AA_Data_all_REF[[#This Row],[value]]","v":0}]
["particulier en commercieel vervoer","Zonne-/ thermische energie",2017,"VITO","CO2",0,"Niet-genummerde wegen",{"$f":"IF(tbl_AA_Data_all_REF[[#This Row],[subsector]]=\"Snelwegen\",P_Snelwegen,1)*tbl_AA_Data_all_REF[[#This Row],[value]]","v":0}]
["particulier en commercieel vervoer","Zonne-/ thermische energie",2017,"VITO","CO2",0,"Snelwegen",{"$f":"IF(tbl_AA_Data_all_REF[[#This Row],[subsector]]=\"Snelwegen\",P_Snelwegen,1)*tbl_AA_Data_all_REF[[#This Row],[value]]","v":0}]
["particulier en commercieel vervoer","Geo-thermische energie",2017,"VITO","CO2",0,"Genummerde wegen",{"$f":"IF(tbl_AA_Data_all_REF[[#This Row],[subsector]]=\"Snelwegen\",P_Snelwegen,1)*tbl_AA_Data_all_REF[[#This Row],[value]]","v":0}]
["particulier en commercieel vervoer","Geo-thermische energie",2017,"VITO","CO2",0,"Snelwegen",{"$f":"IF(tbl_AA_Data_all_REF[[#This Row],[subsector]]=\"Snelwegen\",P_Snelwegen,1)*tbl_AA_Data_all_REF[[#This Row],[value]]","v":0}]
["particulier en commercieel vervoer","Geo-thermische energie",2017,"VITO","CO2",0,"Niet-genummerde wegen",{"$f":"IF(tbl_AA_Data_all_REF[[#This Row],[subsector]]=\"Snelwegen\",P_Snelwegen,1)*tbl_AA_Data_all_REF[[#This Row],[value]]","v":0}]
["tertiair","Elektriciteit",2017,"VITO","CO2",40105.116186866202,"totaal",{"$f":"IF(tbl_AA_Data_all_REF[[#This Row],[subsector]]=\"Snelwegen\",P_Snelwegen,1)*tbl_AA_Data_all_REF[[#This Row],[value]]","v":40105.116186866202}]
["tertiair","Warmte/ Koude",2017,"VITO","CO2",700.77025210084003,"totaal",{"$f":"IF(tbl_AA_Data_all_REF[[#This Row],[subsector]]=\"Snelwegen\",P_Snelwegen,1)*tbl_AA_Data_all_REF[[#This Row],[value]]","v":700.77025210084003}]
["tertiair","Aardgas",2017,"VITO","CO2",41786.385672463002,"totaal",{"$f":"IF(tbl_AA_Data_all_REF[[#This Row],[subsector]]=\"Snelwegen\",P_Snelwegen,1)*tbl_AA_Data_all_REF[[#This Row],[value]]","v":41786.385672463002}]
["tertiair","Vloeibaar gas",2017,"VITO","CO2",638.08687822884099,"totaal",{"$f":"IF(tbl_AA_Data_all_REF[[#This Row],[subsector]]=\"Snelwegen\",P_Snelwegen,1)*tbl_AA_Data_all_REF[[#This Row],[value]]","v":638.08687822884099}]
["tertiair","Stookolie",2017,"VITO","CO2",5995.3579134481097,"totaal",{"$f":"IF(tbl_AA_Data_all_REF[[#This Row],[subsector]]=\"Snelwegen\",P_Snelwegen,1)*tbl_AA_Data_all_REF[[#This Row],[value]]","v":5995.3579134481097}]
["tertiair","Diesel",2017,"VITO","CO2",0,"totaal",{"$f":"IF(tbl_AA_Data_all_REF[[#This Row],[subsector]]=\"Snelwegen\",P_Snelwegen,1)*tbl_AA_Data_all_REF[[#This Row],[value]]","v":0}]
["tertiair","Benzine",2017,"VITO","CO2",0,"totaal",{"$f":"IF(tbl_AA_Data_all_REF[[#This Row],[subsector]]=\"Snelwegen\",P_Snelwegen,1)*tbl_AA_Data_all_REF[[#This Row],[value]]","v":0}]
["tertiair","Bruinkool",2017,"VITO","CO2",0,"totaal",{"$f":"IF(tbl_AA_Data_all_REF[[#This Row],[subsector]]=\"Snelwegen\",P_Snelwegen,1)*tbl_AA_Data_all_REF[[#This Row],[value]]","v":0}]
["tertiair","Steenkool",2017,"VITO","CO2",0.102203919165314,"totaal",{"$f":"IF(tbl_AA_Data_all_REF[[#This Row],[subsector]]=\"Snelwegen\",P_Snelwegen,1)*tbl_AA_Data_all_REF[[#This Row],[value]]","v":0.102203919165314}]
["tertiair","Andere fossiele brandstoffen",2017,"VITO","CO2",0,"totaal",{"$f":"IF(tbl_AA_Data_all_REF[[#This Row],[subsector]]=\"Snelwegen\",P_Snelwegen,1)*tbl_AA_Data_all_REF[[#This Row],[value]]","v":0}]
["tertiair","Plantaardige oliën",2017,"VITO","CO2",0,"totaal",{"$f":"IF(tbl_AA_Data_all_REF[[#This Row],[subsector]]=\"Snelwegen\",P_Snelwegen,1)*tbl_AA_Data_all_REF[[#This Row],[value]]","v":0}]
["tertiair","Bio-brandstof ",2017,"VITO","CO2",0,"totaal",{"$f":"IF(tbl_AA_Data_all_REF[[#This Row],[subsector]]=\"Snelwegen\",P_Snelwegen,1)*tbl_AA_Data_all_REF[[#This Row],[value]]","v":0}]
["tertiair","Overige biomassa",2017,"VITO","CO2",0,"totaal",{"$f":"IF(tbl_AA_Data_all_REF[[#This Row],[subsector]]=\"Snelwegen\",P_Snelwegen,1)*tbl_AA_Data_all_REF[[#This Row],[value]]","v":0}]
["tertiair","Zonne-/ thermische energie",2017,"VITO","CO2",0,"totaal",{"$f":"IF(tbl_AA_Data_all_REF[[#This Row],[subsector]]=\"Snelwegen\",P_Snelwegen,1)*tbl_AA_Data_all_REF[[#This Row],[value]]","v":0}]
["tertiair","Geo-thermische energie",2017,"VITO","CO2",0,"totaal",{"$f":"IF(tbl_AA_Data_all_REF[[#This Row],[subsector]]=\"Snelwegen\",P_Snelwegen,1)*tbl_AA_Data_all_REF[[#This Row],[value]]","v":0}]

{"sheet":"AA_RES_HH evo","index":68,"n_rows":4,"n_cols":3,"rows_kept":4,"cut":false,"hidden":true,"merged":[]}
["Gemeente","Jaar","# Huishoudens"]
["Vito",2017,35124]
["Gemeente","Jaar","# Huishoudens"]
["Vito",2030,38266]

{"sheet":"AA_MOB_vkm_REF","index":69,"n_rows":2,"n_cols":10,"rows_kept":2,"cut":false,"hidden":true,"merged":[]}
["Jaar","Gemeente","LV_GENUM","ZV_GENUM","LV_NIETGENUM","ZV_NIETGENUM","LV_SNEL","ZV_SNEL","OV-bus","tram"]
[2017,"VITO",386456377,27594555,107510524,492248,236145299,24363427,4558004,0]

{"sheet":"AA_MOB_ECF_2030","index":70,"n_rows":65,"n_cols":7,"rows_kept":65,"cut":false,"hidden":true,"merged":[]}
["Jaar","Index","Voertuigtype","Wegtype","Brandstoftechnologie","Brandstof","EnergieConsumptieFactor (PJ per km)"]
[2030,"BUS_snelweg_DIESEL_DIESEL","BUS","snelweg","DIESEL","DIESEL",7.7679810206638727E-9]
[2030,"BUS_genummerd_DIESEL_DIESEL","BUS","genummerd","DIESEL","DIESEL",7.7664758249642225E-9]
[2030,"BUS_niet-genummerd_DIESEL_DIESEL","BUS","niet-genummerd","DIESEL","DIESEL",1.3510887311036202E-8]
[2030,"BUS_snelweg_DIESEL HYBRID CS_DIESEL","BUS","snelweg","DIESEL HYBRID CS","DIESEL",5.9130683491554643E-9]
[2030,"BUS_genummerd_DIESEL HYBRID CS_DIESEL","BUS","genummerd","DIESEL HYBRID CS","DIESEL",5.6975276748187907E-9]
[2030,"BUS_niet-genummerd_DIESEL HYBRID CS_DIESEL","BUS","niet-genummerd","DIESEL HYBRID CS","DIESEL",9.825096907124819E-9]
[2030,"BUS_snelweg_ELECTRIC_ELECTRIC","BUS","snelweg","ELECTRIC","ELECTRIC",4.6799999999999962E-9]
[2030,"BUS_genummerd_ELECTRIC_ELECTRIC","BUS","genummerd","ELECTRIC","ELECTRIC",4.6799999999999929E-9]
[2030,"BUS_niet-genummerd_ELECTRIC_ELECTRIC","BUS","niet-genummerd","ELECTRIC","ELECTRIC",4.6800000000000004E-9]
[2030,"Lichte voertuigen_genummerd_CNG_CNG","Lichte voertuigen","genummerd","CNG","CNG",2.1171396360276575E-9]
[2030,"Lichte voertuigen_niet-genummerd_CNG_CNG","Lichte voertuigen","niet-genummerd","CNG","CNG",3.899208414680307E-9]
[2030,"Lichte voertuigen_snelweg_CNG_CNG","Lichte voertuigen","snelweg","CNG","CNG",2.2937347762134268E-9]
[2030,"Lichte voertuigen_genummerd_DIESEL_DIESEL","Lichte voertuigen","genummerd","DIESEL","DIESEL",2.0006644669440601E-9]
[2030,"Lichte voertuigen_niet-genummerd_DIESEL_DIESEL","Lichte voertuigen","niet-genummerd","DIESEL","DIESEL",3.0186506750845655E-9]
[2030,"Lichte voertuigen_snelweg_DIESEL_DIESEL","Lichte voertuigen","snelweg","DIESEL","DIESEL",2.2447155163004467E-9]
[2030,"Lichte voertuigen_genummerd_DIESEL HYBRID CS_DIESEL","Lichte voertuigen","genummerd","DIESEL HYBRID CS","DIESEL",2.275378188959023E-9]
[2030,"Lichte voertuigen_niet-genummerd_DIESEL HYBRID CS_DIESEL","Lichte voertuigen","niet-genummerd","DIESEL HYBRID CS","DIESEL",3.5221934242662805E-9]
[2030,"Lichte voertuigen_snelweg_DIESEL HYBRID CS_DIESEL","Lichte voertuigen","snelweg","DIESEL HYBRID CS","DIESEL",2.5847926681589832E-9]
[2030,"Lichte voertuigen_genummerd_DIESEL HYBRID PHEV_DIESEL","Lichte voertuigen","genummerd","DIESEL HYBRID PHEV","DIESEL",1.5614361526074213E-9]
[2030,"Lichte voertuigen_niet-genummerd_DIESEL HYBRID PHEV_DIESEL","Lichte voertuigen","niet-genummerd","DIESEL HYBRID PHEV","DIESEL",2.4213103583852133E-9]
[2030,"Lichte voertuigen_snelweg_DIESEL HYBRID PHEV_DIESEL","Lichte voertuigen","snelweg","DIESEL HYBRID PHEV","DIESEL",1.784752134259334E-9]
[2030,"Lichte voertuigen_genummerd_DIESEL HYBRID PHEV_ELECTRIC","Lichte voertuigen","genummerd","DIESEL HYBRID PHEV","ELECTRIC",1.9483725651783615E-10]
[2030,"Lichte voertuigen_niet-genummerd_DIESEL HYBRID PHEV_ELECTRIC","Lichte voertuigen","niet-genummerd","DIESEL HYBRID PHEV","ELECTRIC",1.948372565178362E-10]
[2030,"Lichte voertuigen_snelweg_DIESEL HYBRID PHEV_ELECTRIC","Lichte voertuigen","snelweg","DIESEL HYBRID PHEV","ELECTRIC",1.9483725651783615E-10]
[2030,"Lichte voertuigen_genummerd_E85_E85","Lichte voertuigen","genummerd","E85","E85",2.228020519550717E-9]
[2030,"Lichte voertuigen_niet-genummerd_E85_E85","Lichte voertuigen","niet-genummerd","E85","E85",3.6789372375973172E-9]
[2030,"Lichte voertuigen_snelweg_E85_E85","Lichte voertuigen","snelweg","E85","E85",2.3324660190063439E-9]
[2030,"Lichte voertuigen_genummerd_ELECTRIC_ELECTRIC","Lichte voertuigen","genummerd","ELECTRIC","ELECTRIC",6.5824216087225193E-10]
[2030,"Lichte voertuigen_niet-genummerd_ELECTRIC_ELECTRIC","Lichte voertuigen","niet-genummerd","ELECTRIC","ELECTRIC",6.5824216087225131E-10]
[2030,"Lichte voertuigen_snelweg_ELECTRIC_ELECTRIC","Lichte voertuigen","snelweg","ELECTRIC","ELECTRIC",6.5824216087225244E-10]
[2030,"Lichte voertuigen_genummerd_LPG_LPG","Lichte voertuigen","genummerd","LPG","LPG",2.1212010651620924E-9]
[2030,"Lichte voertuigen_niet-genummerd_LPG_LPG","Lichte voertuigen","niet-genummerd","LPG","LPG",3.5493702500045323E-9]
[2030,"Lichte voertuigen_snelweg_LPG_LPG","Lichte voertuigen","snelweg","LPG","LPG",2.7462538443991622E-9]
[2030,"Lichte voertuigen_genummerd_PETROL_PETROL","Lichte voertuigen","genummerd","PETROL","PETROL",1.9439299899533289E-9]
[2030,"Lichte voertuigen_niet-genummerd_PETROL_PETROL","Lichte voertuigen","niet-genummerd","PETROL","PETROL",3.3968703390226745E-9]
[2030,"Lichte voertuigen_snelweg_PETROL_PETROL","Lichte voertuigen","snelweg","PETROL","PETROL",2.1181267068613306E-9]
[2030,"Lichte voertuigen_genummerd_PETROL HYBRID CS_PETROL","Lichte voertuigen","genummerd","PETROL HYBRID CS","PETROL",1.2292363943362667E-9]
[2030,"Lichte voertuigen_niet-genummerd_PETROL HYBRID CS_PETROL","Lichte voertuigen","niet-genummerd","PETROL HYBRID CS","PETROL",1.2741363222968627E-9]
[2030,"Lichte voertuigen_snelweg_PETROL HYBRID CS_PETROL","Lichte voertuigen","snelweg","PETROL HYBRID CS","PETROL",1.6621348850947333E-9]
[2030,"Lichte voertuigen_genummerd_PETROL HYBRID PHEV_ELECTRIC","Lichte voertuigen","genummerd","PETROL HYBRID PHEV","ELECTRIC",1.9490205895299911E-10]
[2030,"Lichte voertuigen_niet-genummerd_PETROL HYBRID PHEV_ELECTRIC","Lichte voertuigen","niet-genummerd","PETROL HYBRID PHEV","ELECTRIC",1.9490205895299908E-10]
[2030,"Lichte voertuigen_snelweg_PETROL HYBRID PHEV_ELECTRIC","Lichte voertuigen","snelweg","PETROL HYBRID PHEV","ELECTRIC",1.9490205895299921E-10]
[2030,"Lichte voertuigen_genummerd_PETROL HYBRID PHEV_PETROL","Lichte voertuigen","genummerd","PETROL HYBRID PHEV","PETROL",1.6287928323529948E-9]
[2030,"Lichte voertuigen_niet-genummerd_PETROL HYBRID PHEV_PETROL","Lichte voertuigen","niet-genummerd","PETROL HYBRID PHEV","PETROL",2.864323170719177E-9]
[2030,"Lichte voertuigen_snelweg_PETROL HYBRID PHEV_PETROL","Lichte voertuigen","snelweg","PETROL HYBRID PHEV","PETROL",1.6535388476789218E-9]
[2030,"Tram_gemiddeld_ELECTRIC_Electric","Tram","gemiddeld","ELECTRIC","Electric",1.269E-8]
[2030,"Zware voertuigen_genummerd_CNG_CNG","Zware voertuigen","genummerd","CNG","CNG",9.9079813236991058E-9]
[2030,"Zware voertuigen_niet-genummerd_CNG_CNG","Zware voertuigen","niet-genummerd","CNG","CNG",1.2943522192848426E-8]
[2030,"Zware voertuigen_snelweg_CNG_CNG","Zware voertuigen","snelweg","CNG","CNG",8.9708189212109407E-9]
[2030,"Zware voertuigen_genummerd_DIESEL_DIESEL","Zware voertuigen","genummerd","DIESEL","DIESEL",1.0075633595928463E-8]
[2030,"Zware voertuigen_niet-genummerd_DIESEL_DIESEL","Zware voertuigen","niet-genummerd","DIESEL","DIESEL",1.3091204688238069E-8]
[2030,"Zware voertuigen_snelweg_DIESEL_DIESEL","Zware voertuigen","snelweg","DIESEL","DIESEL",9.36593114662032E-9]
[2030,"Zware voertuigen_genummerd_DIESEL HYBRID CS_DIESEL","Zware voertuigen","genummerd","DIESEL HYBRID CS","DIESEL",5.2842494584699999E-9]
[2030,"Zware voertuigen_niet-genummerd_DIESEL HYBRID CS_DIESEL","Zware voertuigen","niet-genummerd","DIESEL HYBRID CS","DIESEL",8.816479744306262E-9]
[2030,"Zware voertuigen_snelweg_DIESEL HYBRID CS_DIESEL","Zware voertuigen","snelweg","DIESEL HYBRID CS","DIESEL",6.6463893879611948E-9]
[2030,"Zware voertuigen_genummerd_ELECTRIC_ELECTRIC","Zware voertuigen","genummerd","ELECTRIC","ELECTRIC",4.5572432939130563E-9]
[2030,"Zware voertuigen_niet-genummerd_ELECTRIC_ELECTRIC","Zware voertuigen","niet-genummerd","ELECTRIC","ELECTRIC",4.6066859961622826E-9]
[2030,"Zware voertuigen_snelweg_ELECTRIC_ELECTRIC","Zware voertuigen","snelweg","ELECTRIC","ELECTRIC",4.6178045034665519E-9]
[2030,"Zware voertuigen_genummerd_LNG_LNG","Zware voertuigen","genummerd","LNG","LNG",1.3700687941918868E-8]
[2030,"Zware voertuigen_niet-genummerd_LNG_LNG","Zware voertuigen","niet-genummerd","LNG","LNG",1.8939718105585677E-8]
[2030,"Zware voertuigen_snelweg_LNG_LNG","Zware voertuigen","snelweg","LNG","LNG",1.1705668918848049E-8]
[2030,"Zware voertuigen_genummerd_PETROL_PETROL","Zware voertuigen","genummerd","PETROL","PETROL",6.3185391623482627E-9]
[2030,"Zware voertuigen_niet-genummerd_PETROL_PETROL","Zware voertuigen","niet-genummerd","PETROL","PETROL",7.6272451759593353E-9]
[2030,"Zware voertuigen_snelweg_PETROL_PETROL","Zware voertuigen","snelweg","PETROL","PETROL",6.5029251369355885E-9]

{"sheet":"AA_MOB_ECF_MTR","index":71,"n_rows":65,"n_cols":7,"rows_kept":65,"cut":false,"hidden":true,"merged":[]}
["Jaar","Index","Voertuigtype","Wegtype","Brandstoftechnologie","Brandstof","EnergieConsumptieFactor (PJ per km)"]
[2030,"Tram_gemiddeld_ELECTRIC_Electric","Tram","gemiddeld","ELECTRIC","Electric",1.269E-8]
[2030,"Lichte voertuigen_genummerd_CNG_CNG","Lichte voertuigen","genummerd","CNG","CNG",2.1171396360276575E-9]
[2030,"Lichte voertuigen_niet-genummerd_CNG_CNG","Lichte voertuigen","niet-genummerd","CNG","CNG",3.899208414680307E-9]
[2030,"Lichte voertuigen_snelweg_CNG_CNG","Lichte voertuigen","snelweg","CNG","CNG",2.2937347762134268E-9]
[2030,"Lichte voertuigen_genummerd_DIESEL_DIESEL","Lichte voertuigen","genummerd","DIESEL","DIESEL",2.0006644669440601E-9]
[2030,"Lichte voertuigen_niet-genummerd_DIESEL_DIESEL","Lichte voertuigen","niet-genummerd","DIESEL","DIESEL",3.0186506750845655E-9]
[2030,"Lichte voertuigen_snelweg_DIESEL_DIESEL","Lichte voertuigen","snelweg","DIESEL","DIESEL",2.2447155163004467E-9]
[2030,"Lichte voertuigen_genummerd_DIESEL HYBRID CS_DIESEL","Lichte voertuigen","genummerd","DIESEL HYBRID CS","DIESEL",2.275378188959023E-9]
[2030,"Lichte voertuigen_niet-genummerd_DIESEL HYBRID CS_DIESEL","Lichte voertuigen","niet-genummerd","DIESEL HYBRID CS","DIESEL",3.5221934242662805E-9]
[2030,"Lichte voertuigen_snelweg_DIESEL HYBRID CS_DIESEL","Lichte voertuigen","snelweg","DIESEL HYBRID CS","DIESEL",2.5847926681589832E-9]
[2030,"Lichte voertuigen_genummerd_DIESEL HYBRID PHEV_DIESEL","Lichte voertuigen","genummerd","DIESEL HYBRID PHEV","DIESEL",1.5614361526074213E-9]
[2030,"Lichte voertuigen_niet-genummerd_DIESEL HYBRID PHEV_DIESEL","Lichte voertuigen","niet-genummerd","DIESEL HYBRID PHEV","DIESEL",2.4213103583852133E-9]
[2030,"Lichte voertuigen_snelweg_DIESEL HYBRID PHEV_DIESEL","Lichte voertuigen","snelweg","DIESEL HYBRID PHEV","DIESEL",1.784752134259334E-9]
[2030,"Lichte voertuigen_genummerd_DIESEL HYBRID PHEV_ELECTRIC","Lichte voertuigen","genummerd","DIESEL HYBRID PHEV","ELECTRIC",1.9483725651783615E-10]
[2030,"Lichte voertuigen_niet-genummerd_DIESEL HYBRID PHEV_ELECTRIC","Lichte voertuigen","niet-genummerd","DIESEL HYBRID PHEV","ELECTRIC",1.948372565178362E-10]
[2030,"Lichte voertuigen_snelweg_DIESEL HYBRID PHEV_ELECTRIC","Lichte voertuigen","snelweg","DIESEL HYBRID PHEV","ELECTRIC",1.9483725651783615E-10]
[2030,"Lichte voertuigen_genummerd_E85_E85","Lichte voertuigen","genummerd","E85","E85",2.228020519550717E-9]
[2030,"Lichte voertuigen_niet-genummerd_E85_E85","Lichte voertuigen","niet-genummerd","E85","E85",3.6789372375973172E-9]
[2030,"Lichte voertuigen_snelweg_E85_E85","Lichte voertuigen","snelweg","E85","E85",2.3324660190063439E-9]
[2030,"Lichte voertuigen_genummerd_ELECTRIC_ELECTRIC","Lichte voertuigen","genummerd","ELECTRIC","ELECTRIC",6.5824216087225193E-10]
[2030,"Lichte voertuigen_niet-genummerd_ELECTRIC_ELECTRIC","Lichte voertuigen","niet-genummerd","ELECTRIC","ELECTRIC",6.5824216087225131E-10]
[2030,"Lichte voertuigen_snelweg_ELECTRIC_ELECTRIC","Lichte voertuigen","snelweg","ELECTRIC","ELECTRIC",6.5824216087225244E-10]
[2030,"Lichte voertuigen_genummerd_LPG_LPG","Lichte voertuigen","genummerd","LPG","LPG",2.1212010651620924E-9]
[2030,"Lichte voertuigen_niet-genummerd_LPG_LPG","Lichte voertuigen","niet-genummerd","LPG","LPG",3.5493702500045323E-9]
[2030,"Lichte voertuigen_snelweg_LPG_LPG","Lichte voertuigen","snelweg","LPG","LPG",2.7462538443991622E-9]
[2030,"Lichte voertuigen_genummerd_PETROL_PETROL","Lichte voertuigen","genummerd","PETROL","PETROL",1.9439299899533289E-9]
[2030,"Lichte voertuigen_niet-genummerd_PETROL_PETROL","Lichte voertuigen","niet-genummerd","PETROL","PETROL",3.3968703390226745E-9]
[2030,"Lichte voertuigen_snelweg_PETROL_PETROL","Lichte voertuigen","snelweg","PETROL","PETROL",2.1181267068613306E-9]
[2030,"Lichte voertuigen_genummerd_PETROL HYBRID CS_PETROL","Lichte voertuigen","genummerd","PETROL HYBRID CS","PETROL",1.2292363943362667E-9]
[2030,"Lichte voertuigen_niet-genummerd_PETROL HYBRID CS_PETROL","Lichte voertuigen","niet-genummerd","PETROL HYBRID CS","PETROL",1.2741363222968627E-9]
[2030,"Lichte voertuigen_snelweg_PETROL HYBRID CS_PETROL","Lichte voertuigen","snelweg","PETROL HYBRID CS","PETROL",1.6621348850947333E-9]
[2030,"Lichte voertuigen_genummerd_PETROL HYBRID PHEV_ELECTRIC","Lichte voertuigen","genummerd","PETROL HYBRID PHEV","ELECTRIC",1.9490205895299911E-10]
[2030,"Lichte voertuigen_niet-genummerd_PETROL HYBRID PHEV_ELECTRIC","Lichte voertuigen","niet-genummerd","PETROL HYBRID PHEV","ELECTRIC",1.9490205895299908E-10]
[2030,"Lichte voertuigen_snelweg_PETROL HYBRID PHEV_ELECTRIC","Lichte voertuigen","snelweg","PETROL HYBRID PHEV","ELECTRIC",1.9490205895299921E-10]
[2030,"Lichte voertuigen_genummerd_PETROL HYBRID PHEV_PETROL","Lichte voertuigen","genummerd","PETROL HYBRID PHEV","PETROL",1.6287928323529948E-9]
[2030,"Lichte voertuigen_niet-genummerd_PETROL HYBRID PHEV_PETROL","Lichte voertuigen","niet-genummerd","PETROL HYBRID PHEV","PETROL",2.864323170719177E-9]
[2030,"Lichte voertuigen_snelweg_PETROL HYBRID PHEV_PETROL","Lichte voertuigen","snelweg","PETROL HYBRID PHEV","PETROL",1.6535388476789218E-9]
[2030,"Zware voertuigen_genummerd_CNG_CNG","Zware voertuigen","genummerd","CNG","CNG",9.9079813236991058E-9]
[2030,"Zware voertuigen_niet-genummerd_CNG_CNG","Zware voertuigen","niet-genummerd","CNG","CNG",1.2943522192848426E-8]
[2030,"Zware voertuigen_snelweg_CNG_CNG","Zware voertuigen","snelweg","CNG","CNG",8.9708189212109407E-9]
[2030,"Zware voertuigen_genummerd_DIESEL_DIESEL","Zware voertuigen","genummerd","DIESEL","DIESEL",1.0075633595928463E-8]
[2030,"Zware voertuigen_niet-genummerd_DIESEL_DIESEL","Zware voertuigen","niet-genummerd","DIESEL","DIESEL",1.3091204688238069E-8]
[2030,"Zware voertuigen_snelweg_DIESEL_DIESEL","Zware voertuigen","snelweg","DIESEL","DIESEL",9.36593114662032E-9]
[2030,"Zware voertuigen_genummerd_DIESEL HYBRID CS_DIESEL","Zware voertuigen","genummerd","DIESEL HYBRID CS","DIESEL",5.2842494584699999E-9]
[2030,"Zware voertuigen_niet-genummerd_DIESEL HYBRID CS_DIESEL","Zware voertuigen","niet-genummerd","DIESEL HYBRID CS","DIESEL",8.816479744306262E-9]
[2030,"Zware voertuigen_snelweg_DIESEL HYBRID CS_DIESEL","Zware voertuigen","snelweg","DIESEL HYBRID CS","DIESEL",6.6463893879611948E-9]
[2030,"Zware voertuigen_genummerd_ELECTRIC_ELECTRIC","Zware voertuigen","genummerd","ELECTRIC","ELECTRIC",4.5572432939130563E-9]
[2030,"Zware voertuigen_niet-genummerd_ELECTRIC_ELECTRIC","Zware voertuigen","niet-genummerd","ELECTRIC","ELECTRIC",4.6066859961622826E-9]
[2030,"Zware voertuigen_snelweg_ELECTRIC_ELECTRIC","Zware voertuigen","snelweg","ELECTRIC","ELECTRIC",4.6178045034665519E-9]
[2030,"Zware voertuigen_genummerd_LNG_LNG","Zware voertuigen","genummerd","LNG","LNG",1.3700687941918868E-8]
[2030,"Zware voertuigen_niet-genummerd_LNG_LNG","Zware voertuigen","niet-genummerd","LNG","LNG",1.8939718105585677E-8]
[2030,"Zware voertuigen_snelweg_LNG_LNG","Zware voertuigen","snelweg","LNG","LNG",1.1705668918848049E-8]
[2030,"Zware voertuigen_genummerd_PETROL_PETROL","Zware voertuigen","genummerd","PETROL","PETROL",6.3185391623482627E-9]
[2030,"Zware voertuigen_niet-genummerd_PETROL_PETROL","Zware voertuigen","niet-genummerd","PETROL","PETROL",7.6272451759593353E-9]
[2030,"Zware voertuigen_snelweg_PETROL_PETROL","Zware voertuigen","snelweg","PETROL","PETROL",6.5029251369355885E-9]
[2030,"BUS_snelweg_DIESEL_DIESEL","BUS","snelweg","DIESEL","DIESEL",7.7679810206638727E-9]
[2030,"BUS_genummerd_DIESEL_DIESEL","BUS","genummerd","DIESEL","DIESEL",7.7664758249642225E-9]
[2030,"BUS_niet-genummerd_DIESEL_DIESEL","BUS","niet-genummerd","DIESEL","DIESEL",1.3510887311036202E-8]
[2030,"BUS_snelweg_DIESEL HYBRID CS_DIESEL","BUS","snelweg","DIESEL HYBRID CS","DIESEL",5.9130683491554643E-9]
[2030,"BUS_genummerd_DIESEL HYBRID CS_DIESEL","BUS","genummerd","DIESEL HYBRID CS","DIESEL",5.6975276748187907E-9]
[2030,"BUS_niet-genummerd_DIESEL HYBRID CS_DIESEL","BUS","niet-genummerd","DIESEL HYBRID CS","DIESEL",9.825096907124819E-9]
[2030,"BUS_snelweg_ELECTRIC_ELECTRIC","BUS","snelweg","ELECTRIC","ELECTRIC",4.6799999999999962E-9]
[2030,"BUS_genummerd_ELECTRIC_ELECTRIC","BUS","genummerd","ELECTRIC","ELECTRIC",4.6799999999999929E-9]
[2030,"BUS_niet-genummerd_ELECTRIC_ELECTRIC","BUS","niet-genummerd","ELECTRIC","ELECTRIC",4.6800000000000004E-9]

{"sheet":"AA_LEN_PV","index":72,"n_rows":2,"n_cols":9,"rows_kept":2,"cut":false,"hidden":true,"merged":[]}
["gemeente","potentieel vermogen (in kW)","potentieel vermogen (in MW)*","geplaatst vermogen (in MW)","gecorrigeerd geplaatst vermogen (in MW)**","benuttingsgraad (in%)*","aantal installaties","aantal/1000 inwoners","vermogen/inwoner (in W)"]
["Vito",532064.05629922601,532.06405629922597,29.332470000000004,29.332470000000004,5.5129583840002529E-2,4099,53.148176961775839,380.32869145791193]

{"sheet":"AA_LEN_EA_VL","index":73,"n_rows":2,"n_cols":10,"rows_kept":2,"cut":false,"hidden":true,"merged":[]}
["jaar","gemeente","Electriciteit_pocketvergister","Electriciteit_sluizen","Electriciteit_wind_grootschalig","Electriciteit_PV","Warmte_pocketvergister","Warmte_warmtepompen_residentieel","Warmte_zonneboiler_residentieel","Eenheid"]
[2030,"Vito",13.8497,1520.53,298247.90840000001,15110.0263,19.7866,1097.9359999999999,2877.9992000000002,"MWh"]

{"sheet":"AA_LEN_PROD","index":74,"n_rows":2,"n_cols":6,"rows_kept":2,"cut":false,"hidden":true,"merged":[]}
["Jaar","Gemeente","waterkracht (MWh)","windenergie op land (MWh)","zonne-energie <= 10kW (MWh)","zonne-energie > 10kW (MWh)"]
[2017,"Vito",0,15091.702589576033,16494.212864762037,9984.5313303306411]

{"sheet":"dropdowns","index":75,"n_rows":311,"n_cols":20,"rows_kept":311,"cut":false,"hidden":true,"merged":[]}
["Drop down menu"]
[null,null,null,"Doelstelling",null,"BAU/MEI"]
[null,"Gemeente",null,"Jaar",null,"Jaar",null,"Referentiesituatie","Afkorting",null,"SectorID","Sectoren","Afkorting",null,"Doelstelling_refdata","Code",null,"Implementatiegraad_maatregelen",null,"Implementatiegraad_BLANCO"]
[null,"AALST",null,null,null,null,null,"",null,null,1,"Huishoudens","RES",null,null,null,null,"Niet",null,"Niet"]
[null,"AALTER",null,1990,null,2011,null,"Business-as-usual-scenario 2030 (BAU)","BAU",null,2,"Tertiair","TER",null,"Inventaris Dept. Omgeving","doel_INV",null,"Laag",null,"Ja"]
[null,"AARSCHOT",null,1991,null,2012,null,"Inventaris Dept. Omgeving 2017 (INV)","INV",null,3,"Industrie (niet-ETS)","IND",null,"Eigen inventaris","doel_EIG",null,"Medium"]
[null,"AARTSELAAR",null,1992,null,2013,null,"Eigen inventaris 2017 (EIG)","EIG",null,4,"Particulier en commercieel vervoer","MOB",null,null,null,null,"Hoog"]
[null,"AFFLIGEM",null,1993,null,2014,null,null,null,null,5,"Landbouw","LB"]
[null,"ALKEN",null,1994,null,2015,null,null,null,null,6,"Openbare verlichting","OV"]
[null,"ALVERINGEM",null,1995,null,2016,null,null,null,null,7,"Openbaar vervoer"]
[null,"ANTWERPEN",null,1996,null,2017,null,null,null,null,8,"Lokale energieproductie","LEN"]
[null,"ANZEGEM",null,1997]
[null,"ARDOOIE",null,1998]
[null,"ARENDONK",null,1999]
[null,"AS",null,2000]
[null,"ASSE",null,2001]
[null,"ASSENEDE",null,2002]
[null,"AVELGEM",null,2003]
[null,"BAARLE-HERTOG",null,2004]
[null,"BALEN",null,2005]
[null,"BEERNEM",null,2006]
[null,"BEERSE",null,2007]
[null,"BEERSEL",null,2008]
[null,"BEGIJNENDIJK",null,2009]
[null,"BEKKEVOORT",null,2010]
[null,"BERINGEN",null,2011]
[null,"BERLAAR",null,2012]
[null,"BERLARE",null,2013]
[null,"BERTEM",null,2014]
[null,"BEVER",null,2015]
[null,"BEVEREN",null,2016]
[null,"BIERBEEK",null,2017]
[null,"BILZEN"]
[null,"BLANKENBERGE"]
[null,"BOCHOLT"]
[null,"BOECHOUT"]
[null,"BONHEIDEN"]
[null,"BOOM"]
[null,"BOORTMEERBEEK"]
[null,"BORGLOON"]
[null,"BORNEM"]
[null,"BORSBEEK"]
[null,"BOUTERSEM"]
[null,"BRAKEL"]
[null,"BRASSCHAAT"]
[null,"BRECHT"]
[null,"BREDENE"]
[null,"BREE"]
[null,"BRUGGE"]
[null,"BUGGENHOUT"]
[null,"DAMME"]
[null,"DE_HAAN"]
[null,"DE_PANNE"]
[null,"DE_PINTE"]
[null,"DEERLIJK"]
[null,"DEINZE"]
[null,"DENDERLEEUW"]
[null,"DENDERMONDE"]
[null,"DENTERGEM"]
[null,"DESSEL"]
[null,"DESTELBERGEN"]
[null,"DIEPENBEEK"]
[null,"DIEST"]
[null,"DIKSMUIDE"]
[null,"DILBEEK"]
[null,"DILSEN-STOKKEM"]
[null,"DROGENBOS"]
[null,"DUFFEL"]
[null,"EDEGEM"]
[null,"EEKLO"]
[null,"ERPE-MERE"]
[null,"ESSEN"]
[null,"EVERGEM"]
[null,"GALMAARDEN"]
[null,"GAVERE"]
[null,"GEEL"]
[null,"GEETBETS"]
[null,"GENK"]
[null,"GENT"]
[null,"GERAARDSBERGEN"]
[null,"GINGELOM"]
[null,"GISTEL"]
[null,"GLABBEEK"]
[null,"GOOIK"]
[null,"GRIMBERGEN"]
[null,"GROBBENDONK"]
[null,"HAACHT"]
[null,"HAALTERT"]
[null,"HALEN"]
[null,"HALLE"]
[null,"HAM"]
[null,"HAMME"]
[null,"HAMONT-ACHEL"]
[null,"HARELBEKE"]
[null,"HASSELT"]
[null,"HECHTEL-EKSEL"]
[null,"HEERS"]
[null,"HEIST-OP-DEN-BERG"]
[null,"HEMIKSEM"]
[null,"HERENT"]
[null,"HERENTALS"]
[null,"HERENTHOUT"]
[null,"HERK-DE-STAD"]
[null,"HERNE"]
[null,"HERSELT"]
[null,"HERSTAPPE"]
[null,"HERZELE"]
[null,"HEUSDEN-ZOLDER"]
[null,"HEUVELLAND"]
[null,"HOEGAARDEN"]
[null,"HOEILAART"]
[null,"HOESELT"]
[null,"HOLSBEEK"]
[null,"HOOGLEDE"]
[null,"HOOGSTRATEN"]
[null,"HOREBEKE"]
[null,"HOUTHALEN-HELCHTEREN"]
[null,"HOUTHULST"]
[null,"HOVE"]
[null,"HULDENBERG"]
[null,"HULSHOUT"]
[null,"ICHTEGEM"]
[null,"IEPER"]
[null,"INGELMUNSTER"]
[null,"IZEGEM"]
[null,"JABBEKE"]
[null,"KALMTHOUT"]
[null,"KAMPENHOUT"]
[null,"KAPELLEN"]
[null,"KAPELLE-OP-DEN-BOS"]
[null,"KAPRIJKE"]
[null,"KASTERLEE"]
[null,"KEERBERGEN"]
[null,"KINROOI"]
[null,"KLUISBERGEN"]
[null,"KNESSELARE"]
[null,"KNOKKE-HEIST"]
[null,"KOEKELARE"]
[null,"KOKSIJDE"]
[null,"KONTICH"]
[null,"KORTEMARK"]
[null,"KORTENAKEN"]
[null,"KORTENBERG"]
[null,"KORTESSEM"]
[null,"KORTRIJK"]
[null,"KRAAINEM"]
[null,"KRUIBEKE"]
[null,"KRUISHOUTEM"]
[null,"KUURNE"]
[null,"LAAKDAL"]
[null,"LAARNE"]
[null,"LANAKEN"]
[null,"LANDEN"]
[null,"LANGEMARK-POELKAPELLE"]
[null,"LEBBEKE"]
[null,"LEDE"]
[null,"LEDEGEM"]
[null,"LENDELEDE"]
[null,"LENNIK"]
[null,"LEOPOLDSBURG"]
[null,"LEUVEN"]
[null,"LICHTERVELDE"]
[null,"LIEDEKERKE"]
[null,"LIER"]
[null,"LIERDE"]
[null,"LILLE"]
[null,"LINKEBEEK"]
[null,"LINT"]
[null,"LINTER"]
[null,"LOCHRISTI"]
[null,"LOKEREN"]
[null,"LOMMEL"]
[null,"LONDERZEEL"]
[null,"LO-RENINGE"]
[null,"LOVENDEGEM"]
[null,"LUBBEEK"]
[null,"LUMMEN"]
[null,"MAARKEDAL"]
[null,"MAASEIK"]
[null,"MAASMECHELEN"]
[null,"MACHELEN"]
[null,"MALDEGEM"]
[null,"MALLE"]
[null,"MECHELEN"]
[null,"MEERHOUT"]
[null,"MEEUWEN-GRUITRODE"]
[null,"MEISE"]
[null,"MELLE"]
[null,"MENEN"]
[null,"MERCHTEM"]
[null,"MERELBEKE"]
[null,"MERKSPLAS"]
[null,"MESEN"]
[null,"MEULEBEKE"]
[null,"MIDDELKERKE"]
[null,"MOERBEKE"]
[null,"MOL"]
[null,"MOORSLEDE"]
[null,"MORTSEL"]
[null,"NAZARETH"]
[null,"NEERPELT"]
[null,"NEVELE"]
[null,"NIEL"]
[null,"NIEUWERKERKEN"]
[null,"NIEUWPOORT"]
[null,"NIJLEN"]
[null,"NINOVE"]
[null,"OLEN"]
[null,"OOSTENDE"]
[null,"OOSTERZELE"]
[null,"OOSTKAMP"]
[null,"OOSTROZEBEKE"]
[null,"OPGLABBEEK"]
[null,"OPWIJK"]
[null,"OUDENAARDE"]
[null,"OUDENBURG"]
[null,"OUD-HEVERLEE"]
[null,"OUD-TURNHOUT"]
[null,"OVERIJSE"]
[null,"OVERPELT"]
[null,"PEER"]
[null,"PEPINGEN"]
[null,"PITTEM"]
[null,"POPERINGE"]
[null,"PUTTE"]
[null,"PUURS"]
[null,"RANST"]
[null,"RAVELS"]
[null,"RETIE"]
[null,"RIEMST"]
[null,"RIJKEVORSEL"]
[null,"ROESELARE"]
[null,"RONSE"]
[null,"ROOSDAAL"]
[null,"ROTSELAAR"]
[null,"RUISELEDE"]
[null,"RUMST"]
[null,"SCHELLE"]
[null,"SCHERPENHEUVEL-ZICHEM"]
[null,"SCHILDE"]
[null,"SCHOTEN"]
[null,"SINT-AMANDS"]
[null,"SINT-GENESIUS-RODE"]
[null,"SINT-GILLIS-WAAS"]
[null,"SINT-KATELIJNE-WAVER"]
[null,"SINT-LAUREINS"]
[null,"SINT-LIEVENS-HOUTEM"]
[null,"SINT-MARTENS-LATEM"]
[null,"SINT-NIKLAAS"]
[null,"SINT-PIETERS-LEEUW"]
[null,"SINT-TRUIDEN"]
[null,"SPIERE-HELKIJN"]
[null,"STABROEK"]
[null,"STADEN"]
[null,"STEENOKKERZEEL"]
[null,"STEKENE"]
[null,"TEMSE"]
[null,"TERNAT"]
[null,"TERVUREN"]
[null,"TESSENDERLO"]
[null,"TIELT"]
[null,"TIELT-WINGE"]
[null,"TIENEN"]
[null,"TONGEREN"]
[null,"TORHOUT"]
[null,"TREMELO"]
[null,"TURNHOUT"]
[null,"VEURNE"]
[null,"VILVOORDE"]
[null,"VLETEREN"]
[null,"VOEREN"]
[null,"VORSELAAR"]
[null,"VOSSELAAR"]
[null,"WAARSCHOOT"]
[null,"WAASMUNSTER"]
[null,"WACHTEBEKE"]
[null,"WAREGEM"]
[null,"WELLEN"]
[null,"WEMMEL"]
[null,"WERVIK"]
[null,"WESTERLO"]
[null,"WETTEREN"]
[null,"WEVELGEM"]
[null,"WEZEMBEEK-OPPEM"]
[null,"WICHELEN"]
[null,"WIELSBEKE"]
[null,"WIJNEGEM"]
[null,"WILLEBROEK"]
[null,"WINGENE"]
[null,"WOMMELGEM"]
[null,"WORTEGEM-PETEGEM"]
[null,"WUUSTWEZEL"]
[null,"ZANDHOVEN"]
[null,"ZAVENTEM"]
[null,"ZEDELGEM"]
[null,"ZELE"]
[null,"ZELZATE"]
[null,"ZEMST"]
[null,"ZINGEM"]
[null,"ZOERSEL"]
[null,"ZOMERGEM"]
[null,"ZONHOVEN"]
[null,"ZONNEBEKE"]
[null,"ZOTTEGEM"]
[null,"ZOUTLEEUW"]
[null,"ZUIENKERKE"]
[null,"ZULTE"]
[null,"ZUTENDAAL"]
[null,"ZWALM"]
[null,"ZWEVEGEM"]
[null,"ZWIJNDRECHT"]